{"text_format":"1","workbook":"xlsx","n_sheets":9,"sheets":["Voorblad","Gegevens ","Gegevens vergelijking","Standaard simulatie","Simulatie vergelijking","Simulatie","simvgl","Parameters","Lijsten"],"not_rendered":{"charts":18,"images":15,"macros":1,"external_links":0,"defined_names":7,"comments":0,"pivot_tables":20},"unopened":[],"bounds":{"document_bytes":16777216,"sheet_cells":100000,"rows_first":2000,"rows_last":500,"rows_between":2000,"halvings":0,"cell_chars":16384,"cell_head_chars":4096},"cells_cut":0,"cells_raw":0,"read":"whole","date_system":"1900"}

{"sheet":"Voorblad","index":0,"n_rows":0,"n_cols":0,"rows_kept":0,"cut":false,"hidden":false,"merged":[]}

{"sheet":"Gegevens ","index":1,"n_rows":77,"n_cols":14,"rows_kept":77,"cut":false,"hidden":false,"merged":[[21,0,21,7]]}
["1. Gegevens oppervlakten waarvan water wordt opgevangen in de wateropslag"]
["Serre",null,null,"m²"]
["Teeltoppervlakte",null,null,"m²"]
["Bedrijfsgebouwen",null,null,"m²"]
[]
[]
["2. Gegevens waterbassin"]
["2.1 Afmetingen waterbassin"]
["Lengte (buitenmaat): ",null,null,"m","(gemeten vanaf de voet van de talud)",null,null,null,null,"Binnenlengte",null,{"$f":"C9-(2*C11+2*C12)","v":0},"m","(lengte binnenkant talluds) "]
["Breedte (buitenmaat): ",null,null,"m","(gemeten vanaf de voet van de talud)",null,null,null,null,"Binnenbreedte",null,{"$f":"C10-(2*C11+2*C12)","v":0},"m","(breedte binnenkant talluds) "]
["Hoogte talud:",null,null,"m","(gemeten van maaiveld tot bovenkant talud) "]
["Breedte bovenkant talud:",null,null,"m"]
["Totale diepte",null,null,"m","(bovenkant tallud tot bodem bassin)"]
["Diepte Overloop",null,0.75,"m","(bovenkant tallud tot onderkant buis overloop)"]
["Hoogte dode zone",null,0.5,"m","(onderkant bassin tot minimaal aanzuigniveau in bassin)"]
[null,null,null,null,null,null,null,null,null,null,null,null,{"$f":"SUM(C2/10000)","v":0},"zit in berekeningen (mag niet weg)"]
["3. Teeltgegevens"]
["Voor welke teelt wenst u de benodigde opslagcapaciteit te berekenen? ",null,null,null,null,null,"Tomaat"]
[]
["Welke gegevens wenst u te gebruiken voor de vers waterbehoefte van de teelt? ",null,null,null,null,null,"Standaard waarden "]
[]
[{"$f":"IF(G20=\"Eigen waarden\",\"4. Overzicht wekelijks vers waterverbruik (dit is gietwater min drainwater)\",\"\")","v":""}]
[{"$f":"IF(G20=\"Eigen waarden\",\"Verbruik\",\"\")","v":""},{"$f":"IF(G20=\"Eigen waarden\", \"Teelt\",\"\")","v":""}]
[{"$f":"IF(G20=\"Eigen waarden\",\"Week\",\"\")","v":""},{"$f":"IF(G20=\"Eigen waarden\", \"l/m² en week\", \"\")","v":""}]
[{"$f":"IF(G20=\"Eigen waarden\",1,\"\")","v":""},{"$f":"IF($G$20=\"Eigen waarden\",0,\"\")","v":""},{"$f":"IF(B25=\"\",\"\",B25*10/7)","v":""}]
[{"$f":"IF(A25=1,A25+1,\"\")","v":""},"",{"$f":"IF(B26=\"\",\"\",B26*10/7)","v":""}]
[{"$f":"IF(A26=\"\",\"\",A26+1)","v":""},"",""]
[{"$f":"IF(A27=\"\",\"\",A27+1)","v":""},"",""]
["","",""]
["","",""]
["","",""]
["","",""]
["","",""]
["","",""]
["","",""]
["","",""]
["","",""]
["","",""]
["","",""]
["","",""]
["","",""]
["","",""]
["","",""]
["","",""]
["","",""]
["","",""]
["","",""]
["","",""]
["","",""]
["","",""]
["","",""]
["","",""]
["","",""]
["","",""]
["","",""]
["","",""]
["","",""]
["","",""]
["","",""]
["","",""]
["","",""]
["","",""]
["","",""]
["","",""]
["","",""]
["","",""]
["","",""]
["","",""]
["","",""]
["","",""]
["","",""]
["","",""]
["","",""]
["","",""]
["","",""]
["","",""]
["","",""]

{"sheet":"Gegevens vergelijking","index":2,"n_rows":70,"n_cols":17,"rows_kept":70,"cut":false,"hidden":true,"merged":[[12,8,12,12],[12,13,12,16]]}
["1. Gegevens oppervlakten waarvan water wordt opgevangen in de wateropslag",null,null,null,null,null,null,null,"3. Gegevens hemelwaterverbruik"]
[null,"Situatie 1","Situatie 2",null,null,null,null,null,"3.1 Hemelwaterbehoefte teelt",null,null,null,null,"Situatie 1","Situatie 2"]
["Serre",{"$f":"'Gegevens '!C2","v":0},22000,"m²",null,null,null,null,"Voor welke teelt wenst u de benodigde opslagcapaciteit te berekenen? ",null,null,null,null,{"$f":"'Gegevens '!G18","v":"Tomaat"},"Paprika (jaarrond) "]
["Teeltoppervlakte",{"$f":"'Gegevens '!C3","v":0},21500,"m²",null,null,null,null,"Wenst u de berekening uit te voeren met eigen wekelijkse waterverbuiken? ",null,null,null,null,{"$f":"'Gegevens '!G20","v":"Standaard waarden "},"Standaard waarden "]
["Bedrijfsgebouwen",{"$f":"'Gegevens '!C4","v":0},1250,"m²"]
[]
["2. Afmetingen waterbassin"]
[null,"Situatie 1","Situatie 2"]
["Lengte",{"$f":"'Gegevens '!L9","v":0},70,"m","(lengte binnenkant talluds) ",null,null,null,"3.2 Spoelwater filters",null,null,null,null,"Situatie 1","Situatie 2"]
["Breedte",{"$f":"'Gegevens '!L10","v":0},40,"m","(breedte binnenkant talluds) "]
["Totale diepte",{"$f":"'Gegevens '!C13","v":0},6,"m","(bovenkant tallud tot bodem bassin)",null,null,null,"Wenst u in de berekening spoelwater voor filterinstallaties op te nemen? ",null,null,null,null,"nee","nee"]
["Diepte Overloop",{"$f":"'Gegevens '!C14","v":0.75},0.3,"m","(bovenkant tallud tot onderkant buis overloop)"]
["Hoogte dode zone",{"$f":"'Gegevens '!C15","v":0.5},1,"m","(onderkant bassin tot minimaal aanzuigniveau in bassin)",null,null,null,"Situatie 1",null,null,null,null,"Situatie 2"]
["Diepte Waterniveau",{"$f":"'Gegevens '!#REF!","v":{"$error":"#REF!"}},3,"m",null,null,null,null,"Verbruik","Teelt","Spoelwater","Andere","Totaal verbruik","Teelt","Spoelwater","Andere","Totaal verbruik"]
[null,null,null,null,null,null,null,null,"Week","l/m² en week","m³/week en ha","m³/week en ha ","m³/dag en ha","l/m² en week en ha","m³/week en ha","m³/week en ha ","m³/dag en ha"]
[null,null,null,null,null,null,null,null,1,{"$f":"'Gegevens '!B25","v":""},{"$f":"'Gegevens '!#REF!","v":{"$error":"#REF!"}},{"$f":"'Gegevens '!#REF!","v":{"$error":"#REF!"}},{"$f":"'Gegevens '!C25","v":""},{"$f":"IF($O$4=\"Eigen waarden\",\"\",Lijsten!C19)","v":2.1626327390679996},null,null,{"$f":"(N16*10/7)+O16/7+P16/7","v":3.0894753415257137}]
[null,null,null,null,null,null,null,null,2,{"$f":"'Gegevens '!B26","v":""},{"$f":"'Gegevens '!#REF!","v":{"$error":"#REF!"}},{"$f":"'Gegevens '!#REF!","v":{"$error":"#REF!"}},{"$f":"'Gegevens '!C26","v":""},{"$f":"IF($O$4=\"Eigen waarden\",\"\",Lijsten!C20)","v":3.0108422998959998},null,null,{"$f":"(N17*10/7)+O17/7+P17/7","v":4.3012032855657143}]
[null,{"$f":"SUM(B3/10000)","v":0},"zit in berekeningen (mag niet weg)",null,null,null,null,null,3,{"$f":"'Gegevens '!B27","v":""},{"$f":"'Gegevens '!#REF!","v":{"$error":"#REF!"}},{"$f":"'Gegevens '!#REF!","v":{"$error":"#REF!"}},{"$f":"'Gegevens '!C27","v":""},{"$f":"IF($O$4=\"Eigen waarden\",\"\",Lijsten!C21)","v":3.7720637043479996},null,null,5.3886624347828569]
[null,{"$f":"SUM(B4/10000)","v":0},"zit in berekeningen (mag niet weg)",null,null,null,null,null,4,{"$f":"'Gegevens '!B28","v":""},{"$f":"'Gegevens '!#REF!","v":{"$error":"#REF!"}},{"$f":"'Gegevens '!#REF!","v":{"$error":"#REF!"}},{"$f":"'Gegevens '!C28","v":""},{"$f":"IF($O$4=\"Eigen waarden\",\"\",Lijsten!C22)","v":4.3710638855680006},null,null,6.2443769793828574]
[null,null,null,null,null,null,null,null,5,{"$f":"'Gegevens '!B29","v":""},{"$f":"'Gegevens '!#REF!","v":{"$error":"#REF!"}},{"$f":"'Gegevens '!#REF!","v":{"$error":"#REF!"}},{"$f":"'Gegevens '!C29","v":""},{"$f":"IF($O$4=\"Eigen waarden\",\"\",Lijsten!C23)","v":5.7770425513240005},null,null,8.2529179304628588]
[null,null,null,null,null,null,null,null,6,{"$f":"'Gegevens '!B30","v":""},{"$f":"'Gegevens '!#REF!","v":{"$error":"#REF!"}},{"$f":"'Gegevens '!#REF!","v":{"$error":"#REF!"}},{"$f":"'Gegevens '!C30","v":""},{"$f":"IF($O$4=\"Eigen waarden\",\"\",Lijsten!C24)","v":6.4001300841039992},null,null,9.1430429772914277]
[null,null,null,null,null,null,null,null,7,{"$f":"'Gegevens '!B31","v":""},{"$f":"'Gegevens '!#REF!","v":{"$error":"#REF!"}},{"$f":"'Gegevens '!#REF!","v":{"$error":"#REF!"}},{"$f":"'Gegevens '!C31","v":""},{"$f":"IF($O$4=\"Eigen waarden\",\"\",Lijsten!C25)","v":7.6843414780399986},null,null,10.977630682914283]
[null,null,null,null,null,null,null,null,8,{"$f":"'Gegevens '!B32","v":""},{"$f":"'Gegevens '!#REF!","v":{"$error":"#REF!"}},{"$f":"'Gegevens '!#REF!","v":{"$error":"#REF!"}},{"$f":"'Gegevens '!C32","v":""},{"$f":"IF($O$4=\"Eigen waarden\",\"\",Lijsten!C26)","v":9.2617161032239999},null,null,13.231023004605715]
[null,null,null,null,null,null,null,null,9,{"$f":"'Gegevens '!B33","v":""},{"$f":"'Gegevens '!#REF!","v":{"$error":"#REF!"}},{"$f":"'Gegevens '!#REF!","v":{"$error":"#REF!"}},{"$f":"'Gegevens '!C33","v":""},{"$f":"IF($O$4=\"Eigen waarden\",\"\",Lijsten!C27)","v":10.406186868232},null,null,14.865981240331427]
[null,null,null,null,null,null,null,null,10,{"$f":"'Gegevens '!B34","v":""},{"$f":"'Gegevens '!#REF!","v":{"$error":"#REF!"}},{"$f":"'Gegevens '!#REF!","v":{"$error":"#REF!"}},{"$f":"'Gegevens '!C34","v":""},{"$f":"IF($O$4=\"Eigen waarden\",\"\",Lijsten!C28)","v":11.865701588924001},null,null,16.951002269891429]
[null,null,null,null,null,null,null,null,11,{"$f":"'Gegevens '!B35","v":""},{"$f":"'Gegevens '!#REF!","v":{"$error":"#REF!"}},{"$f":"'Gegevens '!#REF!","v":{"$error":"#REF!"}},{"$f":"'Gegevens '!C35","v":""},{"$f":"IF($O$4=\"Eigen waarden\",\"\",Lijsten!C29)","v":13.656348765639995},null,null,19.509069665199995]
[null,null,null,null,null,null,null,null,12,{"$f":"'Gegevens '!B36","v":""},{"$f":"'Gegevens '!#REF!","v":{"$error":"#REF!"}},{"$f":"'Gegevens '!#REF!","v":{"$error":"#REF!"}},{"$f":"'Gegevens '!C36","v":""},{"$f":"IF($O$4=\"Eigen waarden\",\"\",Lijsten!C30)","v":15.788549517895994},null,null,22.555070739851423]
[null,null,null,null,null,null,null,null,13,{"$f":"'Gegevens '!B37","v":""},{"$f":"'Gegevens '!#REF!","v":{"$error":"#REF!"}},{"$f":"'Gegevens '!#REF!","v":{"$error":"#REF!"}},{"$f":"'Gegevens '!C37","v":""},{"$f":"IF($O$4=\"Eigen waarden\",\"\",Lijsten!C31)","v":16.422239538936001},null,null,23.460342198479999]
[null,null,null,null,null,null,null,null,14,{"$f":"'Gegevens '!B38","v":""},{"$f":"'Gegevens '!#REF!","v":{"$error":"#REF!"}},{"$f":"'Gegevens '!#REF!","v":{"$error":"#REF!"}},{"$f":"'Gegevens '!C38","v":""},{"$f":"IF($O$4=\"Eigen waarden\",\"\",Lijsten!C32)","v":18.913956443223999},null,null,27.019937776034283]
[null,null,null,null,null,null,null,null,15,{"$f":"'Gegevens '!B39","v":""},{"$f":"'Gegevens '!#REF!","v":{"$error":"#REF!"}},{"$f":"'Gegevens '!#REF!","v":{"$error":"#REF!"}},{"$f":"'Gegevens '!C39","v":""},{"$f":"IF($O$4=\"Eigen waarden\",\"\",Lijsten!C33)","v":20.247754285352002},null,null,28.925363264788576]
[null,null,null,null,null,null,null,null,16,{"$f":"'Gegevens '!B40","v":""},{"$f":"'Gegevens '!#REF!","v":{"$error":"#REF!"}},{"$f":"'Gegevens '!#REF!","v":{"$error":"#REF!"}},{"$f":"'Gegevens '!C40","v":""},{"$f":"IF($O$4=\"Eigen waarden\",\"\",Lijsten!C34)","v":22.903823372552004},null,null,32.719747675074295]
[null,null,null,null,null,null,null,null,17,{"$f":"'Gegevens '!B41","v":""},{"$f":"'Gegevens '!#REF!","v":{"$error":"#REF!"}},{"$f":"'Gegevens '!#REF!","v":{"$error":"#REF!"}},{"$f":"'Gegevens '!C41","v":""},{"$f":"IF($O$4=\"Eigen waarden\",\"\",Lijsten!C35)","v":23.806890863619998},null,null,34.009844090885714]
[null,null,null,null,null,null,null,null,18,{"$f":"'Gegevens '!B42","v":""},{"$f":"'Gegevens '!#REF!","v":{"$error":"#REF!"}},{"$f":"'Gegevens '!#REF!","v":{"$error":"#REF!"}},{"$f":"'Gegevens '!C42","v":""},{"$f":"IF($O$4=\"Eigen waarden\",\"\",Lijsten!C36)","v":23.338136520208},null,null,33.340195028868571]
[null,null,null,null,null,null,null,null,19,{"$f":"'Gegevens '!B43","v":""},{"$f":"'Gegevens '!#REF!","v":{"$error":"#REF!"}},{"$f":"'Gegevens '!#REF!","v":{"$error":"#REF!"}},{"$f":"'Gegevens '!C43","v":""},{"$f":"IF($O$4=\"Eigen waarden\",\"\",Lijsten!C37)","v":25.304688508715998},null,null,36.149555012451422]
[null,null,null,null,null,null,null,null,20,{"$f":"'Gegevens '!B44","v":""},{"$f":"'Gegevens '!#REF!","v":{"$error":"#REF!"}},{"$f":"'Gegevens '!#REF!","v":{"$error":"#REF!"}},{"$f":"'Gegevens '!C44","v":""},{"$f":"IF($O$4=\"Eigen waarden\",\"\",Lijsten!C38)","v":25.835773234411999},null,null,36.908247477731429]
[null,null,null,null,null,null,null,null,21,{"$f":"'Gegevens '!B45","v":""},{"$f":"'Gegevens '!#REF!","v":{"$error":"#REF!"}},{"$f":"'Gegevens '!#REF!","v":{"$error":"#REF!"}},{"$f":"'Gegevens '!C45","v":""},{"$f":"IF($O$4=\"Eigen waarden\",\"\",Lijsten!C39)","v":26.998458477671992},null,null,38.569226396674274]
[null,null,null,null,null,null,null,null,22,{"$f":"'Gegevens '!B46","v":""},{"$f":"'Gegevens '!#REF!","v":{"$error":"#REF!"}},{"$f":"'Gegevens '!#REF!","v":{"$error":"#REF!"}},{"$f":"'Gegevens '!C46","v":""},{"$f":"IF($O$4=\"Eigen waarden\",\"\",Lijsten!C40)","v":27.845707689920001},null,null,39.779582414171429]
[null,null,null,null,null,null,null,null,23,{"$f":"'Gegevens '!B47","v":""},{"$f":"'Gegevens '!#REF!","v":{"$error":"#REF!"}},{"$f":"'Gegevens '!#REF!","v":{"$error":"#REF!"}},{"$f":"'Gegevens '!C47","v":""},{"$f":"IF($O$4=\"Eigen waarden\",\"\",Lijsten!C41)","v":28.204267480256004},null,null,40.291810686080005]
[null,null,null,null,null,null,null,null,24,{"$f":"'Gegevens '!B48","v":""},{"$f":"'Gegevens '!#REF!","v":{"$error":"#REF!"}},{"$f":"'Gegevens '!#REF!","v":{"$error":"#REF!"}},{"$f":"'Gegevens '!C48","v":""},{"$f":"IF($O$4=\"Eigen waarden\",\"\",Lijsten!C42)","v":30.765813658448007},null,null,43.951162369211438]
[null,null,null,null,null,null,null,null,25,{"$f":"'Gegevens '!B49","v":""},{"$f":"'Gegevens '!#REF!","v":{"$error":"#REF!"}},{"$f":"'Gegevens '!#REF!","v":{"$error":"#REF!"}},{"$f":"'Gegevens '!C49","v":""},{"$f":"IF($O$4=\"Eigen waarden\",\"\",Lijsten!C43)","v":29.261334828259997},null,null,41.801906897514286]
[null,null,null,null,null,null,null,null,26,{"$f":"'Gegevens '!B50","v":""},{"$f":"'Gegevens '!#REF!","v":{"$error":"#REF!"}},{"$f":"'Gegevens '!#REF!","v":{"$error":"#REF!"}},{"$f":"'Gegevens '!C50","v":""},{"$f":"IF($O$4=\"Eigen waarden\",\"\",Lijsten!C44)","v":30.510637347044007},null,null,43.586624781491437]
[null,null,null,null,null,null,null,null,27,{"$f":"'Gegevens '!B51","v":""},{"$f":"'Gegevens '!#REF!","v":{"$error":"#REF!"}},{"$f":"'Gegevens '!#REF!","v":{"$error":"#REF!"}},{"$f":"'Gegevens '!C51","v":""},{"$f":"IF($O$4=\"Eigen waarden\",\"\",Lijsten!C45)","v":30.941422847432005},null,null,44.20203263918858]
[null,null,null,null,null,null,null,null,28,{"$f":"'Gegevens '!B52","v":""},{"$f":"'Gegevens '!#REF!","v":{"$error":"#REF!"}},{"$f":"'Gegevens '!#REF!","v":{"$error":"#REF!"}},{"$f":"'Gegevens '!C52","v":""},{"$f":"IF($O$4=\"Eigen waarden\",\"\",Lijsten!C46)","v":26.552510593251995},null,null,37.932157990359997]
[null,null,null,null,null,null,null,null,29,{"$f":"'Gegevens '!B53","v":""},{"$f":"'Gegevens '!#REF!","v":{"$error":"#REF!"}},{"$f":"'Gegevens '!#REF!","v":{"$error":"#REF!"}},{"$f":"'Gegevens '!C53","v":""},{"$f":"IF($O$4=\"Eigen waarden\",\"\",Lijsten!C47)","v":28.981706122819997},null,null,41.402437318314284]
[null,null,null,null,null,null,null,null,30,{"$f":"'Gegevens '!B54","v":""},{"$f":"'Gegevens '!#REF!","v":{"$error":"#REF!"}},{"$f":"'Gegevens '!#REF!","v":{"$error":"#REF!"}},{"$f":"'Gegevens '!C54","v":""},{"$f":"IF($O$4=\"Eigen waarden\",\"\",Lijsten!C48)","v":26.922676534507996},null,null,38.460966477868567]
[null,null,null,null,null,null,null,null,31,{"$f":"'Gegevens '!B55","v":""},{"$f":"'Gegevens '!#REF!","v":{"$error":"#REF!"}},{"$f":"'Gegevens '!#REF!","v":{"$error":"#REF!"}},{"$f":"'Gegevens '!C55","v":""},{"$f":"IF($O$4=\"Eigen waarden\",\"\",Lijsten!C49)","v":25.580187697471999},null,null,36.543125282102856]
[null,null,null,null,null,null,null,null,32,{"$f":"'Gegevens '!B56","v":""},{"$f":"'Gegevens '!#REF!","v":{"$error":"#REF!"}},{"$f":"'Gegevens '!#REF!","v":{"$error":"#REF!"}},{"$f":"'Gegevens '!C56","v":""},{"$f":"IF($O$4=\"Eigen waarden\",\"\",Lijsten!C50)","v":24.664894900243997},null,null,35.235564143205707]
[null,null,null,null,null,null,null,null,33,{"$f":"'Gegevens '!B57","v":""},{"$f":"'Gegevens '!#REF!","v":{"$error":"#REF!"}},{"$f":"'Gegevens '!#REF!","v":{"$error":"#REF!"}},{"$f":"'Gegevens '!C57","v":""},{"$f":"IF($O$4=\"Eigen waarden\",\"\",Lijsten!C51)","v":25.465344771164006},null,null,36.379063958805723]
[null,null,null,null,null,null,null,null,34,{"$f":"'Gegevens '!B58","v":""},{"$f":"'Gegevens '!#REF!","v":{"$error":"#REF!"}},{"$f":"'Gegevens '!#REF!","v":{"$error":"#REF!"}},{"$f":"'Gegevens '!C58","v":""},{"$f":"IF($O$4=\"Eigen waarden\",\"\",Lijsten!C52)","v":22.605057822066669},null,null,32.292939745809527]
[null,null,null,null,null,null,null,null,35,{"$f":"'Gegevens '!B59","v":""},{"$f":"'Gegevens '!#REF!","v":{"$error":"#REF!"}},{"$f":"'Gegevens '!#REF!","v":{"$error":"#REF!"}},{"$f":"'Gegevens '!C59","v":""},{"$f":"IF($O$4=\"Eigen waarden\",\"\",Lijsten!C53)","v":22.276125728071992},null,null,31.823036754388561]
[null,null,null,null,null,null,null,null,36,{"$f":"'Gegevens '!B60","v":""},{"$f":"'Gegevens '!#REF!","v":{"$error":"#REF!"}},{"$f":"'Gegevens '!#REF!","v":{"$error":"#REF!"}},{"$f":"'Gegevens '!C60","v":""},{"$f":"IF($O$4=\"Eigen waarden\",\"\",Lijsten!C54)","v":21.018649327104168},null,null,30.026641895863097]
[null,null,null,null,null,null,null,null,37,{"$f":"'Gegevens '!B61","v":""},{"$f":"'Gegevens '!#REF!","v":{"$error":"#REF!"}},{"$f":"'Gegevens '!#REF!","v":{"$error":"#REF!"}},{"$f":"'Gegevens '!C61","v":""},{"$f":"IF($O$4=\"Eigen waarden\",\"\",Lijsten!C55)","v":20.521444726641665},null,null,29.316349609488093]
[null,null,null,null,null,null,null,null,38,{"$f":"'Gegevens '!B62","v":""},{"$f":"'Gegevens '!#REF!","v":{"$error":"#REF!"}},{"$f":"'Gegevens '!#REF!","v":{"$error":"#REF!"}},{"$f":"'Gegevens '!C62","v":""},{"$f":"IF($O$4=\"Eigen waarden\",\"\",Lijsten!C56)","v":18.254033462949998},null,null,26.07719066135714]
[null,null,null,null,null,null,null,null,39,{"$f":"'Gegevens '!B63","v":""},{"$f":"'Gegevens '!#REF!","v":{"$error":"#REF!"}},{"$f":"'Gegevens '!#REF!","v":{"$error":"#REF!"}},{"$f":"'Gegevens '!C63","v":""},{"$f":"IF($O$4=\"Eigen waarden\",\"\",Lijsten!C57)","v":16.190087395530433},null,null,23.128696279329194]
[null,null,null,null,null,null,null,null,40,{"$f":"'Gegevens '!B64","v":""},{"$f":"'Gegevens '!#REF!","v":{"$error":"#REF!"}},{"$f":"'Gegevens '!#REF!","v":{"$error":"#REF!"}},{"$f":"'Gegevens '!C64","v":""},{"$f":"IF($O$4=\"Eigen waarden\",\"\",Lijsten!C58)","v":13.413023174733334},null,null,19.161461678190477]
[null,null,null,null,null,null,null,null,41,{"$f":"'Gegevens '!B65","v":""},{"$f":"'Gegevens '!#REF!","v":{"$error":"#REF!"}},{"$f":"'Gegevens '!#REF!","v":{"$error":"#REF!"}},{"$f":"'Gegevens '!C65","v":""},{"$f":"IF($O$4=\"Eigen waarden\",\"\",Lijsten!C59)","v":12.06623378622},null,null,17.237476837457141]
[null,null,null,null,null,null,null,null,42,{"$f":"'Gegevens '!B66","v":""},{"$f":"'Gegevens '!#REF!","v":{"$error":"#REF!"}},{"$f":"'Gegevens '!#REF!","v":{"$error":"#REF!"}},{"$f":"'Gegevens '!C66","v":""},{"$f":"IF($O$4=\"Eigen waarden\",\"\",Lijsten!C60)","v":10.497915313717648},null,null,14.997021876739497]
[null,null,null,null,null,null,null,null,43,{"$f":"'Gegevens '!B67","v":""},{"$f":"'Gegevens '!#REF!","v":{"$error":"#REF!"}},{"$f":"'Gegevens '!#REF!","v":{"$error":"#REF!"}},{"$f":"'Gegevens '!C67","v":""},{"$f":"IF($O$4=\"Eigen waarden\",\"\",Lijsten!C61)","v":10.53927011170714},null,null,15.056100159581629]
[null,null,null,null,null,null,null,null,44,{"$f":"'Gegevens '!B68","v":""},{"$f":"'Gegevens '!#REF!","v":{"$error":"#REF!"}},{"$f":"'Gegevens '!#REF!","v":{"$error":"#REF!"}},{"$f":"'Gegevens '!C68","v":""},{"$f":"IF($O$4=\"Eigen waarden\",\"\",Lijsten!C62)","v":7.7242258638416672},null,null,11.034608376916667]
[null,null,null,null,null,null,null,null,45,{"$f":"'Gegevens '!B69","v":""},{"$f":"'Gegevens '!#REF!","v":{"$error":"#REF!"}},{"$f":"'Gegevens '!#REF!","v":{"$error":"#REF!"}},{"$f":"'Gegevens '!C69","v":""},{"$f":"IF($O$4=\"Eigen waarden\",\"\",Lijsten!C63)","v":7.7352507886363639},null,null,11.050358269480521]
[null,null,null,null,null,null,null,null,46,{"$f":"'Gegevens '!B70","v":""},{"$f":"'Gegevens '!#REF!","v":{"$error":"#REF!"}},{"$f":"'Gegevens '!#REF!","v":{"$error":"#REF!"}},{"$f":"'Gegevens '!C70","v":""},{"$f":"IF($O$4=\"Eigen waarden\",\"\",Lijsten!C64)","v":6.9163721666666671},null,null,9.880531666666668]
[null,null,null,null,null,null,null,null,47,{"$f":"'Gegevens '!B71","v":""},{"$f":"'Gegevens '!#REF!","v":{"$error":"#REF!"}},{"$f":"'Gegevens '!#REF!","v":{"$error":"#REF!"}},{"$f":"'Gegevens '!C71","v":""},{"$f":"IF($O$4=\"Eigen waarden\",\"\",Lijsten!C65)","v":5.028945966666666},null,null,7.1842085238095228]
[null,null,null,null,null,null,null,null,48,{"$f":"'Gegevens '!B72","v":""},{"$f":"'Gegevens '!#REF!","v":{"$error":"#REF!"}},{"$f":"'Gegevens '!#REF!","v":{"$error":"#REF!"}},{"$f":"'Gegevens '!C72","v":""},{"$f":"IF($O$4=\"Eigen waarden\",\"\",Lijsten!C66)","v":6.0745500000000003},null,null,8.6779285714285717]
[null,null,null,null,null,null,null,null,49,{"$f":"'Gegevens '!B73","v":""},{"$f":"'Gegevens '!#REF!","v":{"$error":"#REF!"}},{"$f":"'Gegevens '!#REF!","v":{"$error":"#REF!"}},{"$f":"'Gegevens '!C73","v":""},{"$f":"IF($O$4=\"Eigen waarden\",\"\",Lijsten!C67)","v":2.2915714285714288},null,null,3.2736734693877554]
[null,null,null,null,null,null,null,null,50,{"$f":"'Gegevens '!B74","v":""},{"$f":"'Gegevens '!#REF!","v":{"$error":"#REF!"}},{"$f":"'Gegevens '!#REF!","v":{"$error":"#REF!"}},{"$f":"'Gegevens '!C74","v":""},{"$f":"IF($O$4=\"Eigen waarden\",\"\",Lijsten!C68)","v":4.3303571428571423},null,null,6.1862244897959178]
[null,null,null,null,null,null,null,null,51,{"$f":"'Gegevens '!B75","v":""},{"$f":"'Gegevens '!#REF!","v":{"$error":"#REF!"}},{"$f":"'Gegevens '!#REF!","v":{"$error":"#REF!"}},{"$f":"'Gegevens '!C75","v":""},{"$f":"IF($O$4=\"Eigen waarden\",\"\",Lijsten!C69)","v":4.6116071428571432},null,null,6.5880102040816331]
[null,null,null,null,null,null,null,null,52,{"$f":"'Gegevens '!B76","v":""},{"$f":"'Gegevens '!#REF!","v":{"$error":"#REF!"}},{"$f":"'Gegevens '!#REF!","v":{"$error":"#REF!"}},{"$f":"'Gegevens '!C76","v":""},{"$f":"IF($O$4=\"Eigen waarden\",\"\",Lijsten!C70)","v":0},null,null,0]
[null,null,null,null,null,null,null,null,53,{"$f":"'Gegevens '!B77","v":""},{"$f":"'Gegevens '!#REF!","v":{"$error":"#REF!"}},{"$f":"'Gegevens '!#REF!","v":{"$error":"#REF!"}},{"$f":"'Gegevens '!C77","v":""},{"$f":"IF($O$4=\"Eigen waarden\",\"\",Lijsten!C71)","v":0},null,null,0]
[]
[null,null,null,null,null,null,null,null,"Jaartotaal",{"$f":"SUM(J16:J68)","v":0},{"$f":"SUM(K16:K68)","v":{"$error":"#REF!"}},{"$error":"#REF!"},0,845.719566650616,0,0,1208.1708095008805]

{"sheet":"Standaard simulatie","index":3,"n_rows":67,"n_cols":16,"rows_kept":67,"cut":false,"hidden":true,"merged":[[24,5,25,5],[24,6,25,6],[11,3,11,4],[24,1,24,2],[24,0,25,0],[24,3,25,3],[24,4,25,4]]}
["1. Gegevens simulatie"]
["Teeltgegevens"]
["Teelt: ",null,{"$f":"'Gegevens '!G18","v":"Tomaat"},null,"Jaarlijks vers waterverbruik:",null,{"$f":"Lijsten!C73","v":845.719566650616},"l/m²"]
["Waterverbruik teelt: ",null,{"$f":"'Gegevens '!G20","v":"Standaard waarden "},null,"(dit is waterverbruik zonder drainwater) "]
[]
["Waterafvoerende oppervlaktes: "]
[{"$f":"'Gegevens '!A2","v":"Serre"},null,{"$f":"'Gegevens '!C2","v":0},{"$f":"'Gegevens '!D2","v":"m²"}]
[{"$f":"'Gegevens '!A3","v":"Teeltoppervlakte"},null,{"$f":"'Gegevens '!C3","v":0},{"$f":"'Gegevens '!D3","v":"m²"}]
[{"$f":"'Gegevens '!A4","v":"Bedrijfsgebouwen"},null,{"$f":"'Gegevens '!C4","v":0},{"$f":"'Gegevens '!D4","v":"m²"}]
[]
["Waterbassin"]
["Buitenafmetingen:",null,null,"Binnenafmetingen: "]
[null,"lengte: ",{"$f":"'Gegevens '!C9","v":0},"m","lengte: ",{"$f":"'Gegevens '!L9","v":0},{"$f":"'Gegevens '!M9","v":"m"}]
[null,"breedte: ",{"$f":"'Gegevens '!C10","v":0},"m","breedte: ",{"$f":"'Gegevens '!L10","v":0},{"$f":"'Gegevens '!M10","v":"m"}]
[]
["Hoogte tallud: ",null,{"$f":"'Gegevens '!C11","v":0},"m"]
["Breedte tallud: ",null,{"$f":"'Gegevens '!C12","v":0},"m"]
[{"$f":"'Gegevens '!A13","v":"Totale diepte"},null,{"$f":"'Gegevens '!C13","v":0},{"$f":"'Gegevens '!D13","v":"m"}]
[{"$f":"'Gegevens '!A14","v":"Diepte Overloop"},null,{"$f":"'Gegevens '!C14","v":0.75},{"$f":"'Gegevens '!D14","v":"m"}]
[{"$f":"'Gegevens '!A15","v":"Hoogte dode zone"},null,{"$f":"'Gegevens '!C15","v":0.5},{"$f":"'Gegevens '!D15","v":"m"}]
[]
["2. Resultaat "]
[]
["Tabel 1. Resultaten van de simulatie bekomen op basis van bovenvermelde parameters. "]
["Bruto volume bassin (m³)","Nuttig volume bassin (m³)",null,"Bruto oppervlakte bassin (m²)                                         ","Aandeel hemelwater in verbruik %","Benuttings-percentage hemelwater %","Frequentie watertekort (elke … jaar)"]
[null,"m³","m³ per ha teeltoppervlak",null,null,null,null,"Bruto volume m³/ha T"]
[{"$f":"H27*C8/10000","v":{"$error":"#DIV/0!"}},{"$f":"C27*$C$8/10000","v":{"$error":"#DIV/0!"}},{"$f":"Simulatie!L5","v":{"$error":"#DIV/0!"}},{"$f":"C13*C14","v":0},{"$f":"Simulatie!O5","v":{"$error":"#DIV/0!"}},{"$f":"Simulatie!P5","v":{"$error":"#DIV/0!"}},{"$f":"Simulatie!AG5","v":"> 46jaar"},{"$f":"Simulatie!M5","v":{"$error":"#DIV/0!"}}]
[]
["Kolom 1: ","Bruto volume (m³): deze kolom geeft het bruto-volume weer van de waterbassin. Dit is de som van het nuttige volume, "]
[null,null,"   het volume van de \"dode-zone\" en het buffervolume (d.i. volume boven de overloop). "]
["Kolom 2:","Nuttig volume (m³): deze kolom geeft het totale nuttige volume dat aangewend kan worden voor de teelt. Het gaat hier om het bruto volume "]
[null,null,"zonder het volume van de \"dode zone\" en het buffervolume boven de overloop. "]
["Kolom 3:","Nuttig volume (m³ per ha teeltoppervlak): deze kolom geeft het beschikbare volume weer per hectare teeltoppervlak. "]
[null,null,"Deze waarde maakt het mogelijk de bedrijfssituatie te vergelijken met onderstaande standaardtabel. "]
["Kolom 4: ","Bruto oppervlakte bassin (m²): Hier wordt de oppervlakte gegeven die het bassin in beslag zal nemen, genomen "]
[null,null,"vanaf de basis van de taluds uitgaande van een talud aangelegd onder een hoek van 45°. "]
["Kolom 5: ","Aandeel hemelwater in verbruik (%): Dit percentage geeft aan hoeveel percent van de waterbehoefte van de teelt ingevuld kan worden "]
[null,null,"met het opgevangen hemelwater. 100% duidt op een volledige invulling met hemelwater. "]
["Kolom 6: ","Benuttingspercentage hemelwater (%): Dit percentage geeft aan hoeveel van het hemelwater dat op de opvangbare oppervlaktes terechtkomt, "]
[null,null,"daadwerkelijk in het bassin terechtkomt en aanwezig blijft (dit is het hemelwater min de opvang- en opslagverliezen, de verdampingsverliezen "]
[null,null,"vanuit het bassin) . "]
["Kolom 7:","Frequentie watertekort: deze kolom geeft weer hoe frequent een watertekort zal optreden uitgaande van de klimaatsgegevens van de "]
[null,null,"laatste 45 jaar. 1 duidt op een jaarlijks watertekort, >46 duidt erop dat er in de 46 jaar geen watertekort zou optreden "]
[]
["De waarde voor het nuttige volume per ha teeltoppervlak (kolom 3)  kan gebruikt worden om de bedrijfssituatie te vergelijken."]
["met de standaardtabel (Tabel 2). Deze tabel biedt nagenoeg dezelfde informatie als Tabel 1 maar gaat uit van een standaard bassin"]
[]
["Tabel 2. Aandeel hemelwater in teeltbehoefte  en de frequentie van watertekort voor de overeentsemmende nuttige volumes per ha teeltoppervlak "]
["De gegevens zijn gebasseerd op een standaard bassin met vierkante afmetingen, een overloop op 0,75 m en een dode zone van 0,5m, het bassin is standaard 4,5m diep. "]
["De waarden voor het aandeel hemelwater en de frequentie van watertekort kunnen verschillen met de waarden voor de simulatie naargelang de specifieke "]
["eigenschappen van de waterbassins. "]
[]
[null,null,"Nuttig volume m³ per ha teeltoppervlakte","Netto Oppervlakte m²/ha teeltoppervlakte","Aandeel hemelwater in verbruik %","Benuttings-percentage hemelwater %","Frequentie watertekort (elke … jaar)"]
[null,null,500,{"$f":"VLOOKUP($P54,Lijsten!$P$2:$Y$55,4)","v":253.66291233467814},{"$f":"VLOOKUP($P54,Lijsten!$P$2:$Y$55,5)","v":0.68033926517507737},{"$f":"VLOOKUP($P54,Lijsten!$P$2:$Y$55,6)","v":0.64483182591908994},{"$f":"VLOOKUP($P54,Lijsten!$P$2:$Y$55,10)","v":1},null,null,null,null,null,null,{"$f":"$C$3","v":"Tomaat"},500,{"$f":"N54&O54","v":"Tomaat500"}]
[null,null,1000,{"$f":"VLOOKUP($P55,Lijsten!$P$2:$Y$55,4)","v":463.16784535225185},{"$f":"VLOOKUP($P55,Lijsten!$P$2:$Y$55,5)","v":0.75128885173107229},{"$f":"VLOOKUP($P55,Lijsten!$P$2:$Y$55,6)","v":0.69848126682530365},{"$f":"VLOOKUP($P55,Lijsten!$P$2:$Y$55,10)","v":1},null,null,null,null,null,null,{"$f":"$C$3","v":"Tomaat"},1000,{"$f":"N55&O55","v":"Tomaat1000"}]
[null,null,2000,{"$f":"VLOOKUP($P56,Lijsten!$P$2:$Y$55,4)","v":865.92666609952528},{"$f":"VLOOKUP($P56,Lijsten!$P$2:$Y$55,5)","v":0.8684411495282216},{"$f":"VLOOKUP($P56,Lijsten!$P$2:$Y$55,6)","v":0.77880962948905452},{"$f":"VLOOKUP($P56,Lijsten!$P$2:$Y$55,10)","v":1.069767441860465},null,null,null,null,null,null,"Tomaat",2000,"Tomaat2000"]
[null,null,3000,{"$f":"VLOOKUP($P57,Lijsten!$P$2:$Y$55,4)","v":1259.5722188673219},{"$f":"VLOOKUP($P57,Lijsten!$P$2:$Y$55,5)","v":0.94452092885684513},{"$f":"VLOOKUP($P57,Lijsten!$P$2:$Y$55,6)","v":0.81870352879879349},{"$f":"VLOOKUP($P57,Lijsten!$P$2:$Y$55,10)","v":1.7692307692307694},null,null,null,null,null,null,"Tomaat",3000,"Tomaat3000"]
[null,null,4000,{"$f":"VLOOKUP($P58,Lijsten!$P$2:$Y$55,4)","v":1648.5039510076181},{"$f":"VLOOKUP($P58,Lijsten!$P$2:$Y$55,5)","v":0.9721918740926786},{"$f":"VLOOKUP($P58,Lijsten!$P$2:$Y$55,6)","v":0.81572880918983059},{"$f":"VLOOKUP($P58,Lijsten!$P$2:$Y$55,10)","v":5.1111111111111107},null,null,null,null,null,null,"Tomaat",4000,"Tomaat4000"]
[null,null,5000,{"$f":"VLOOKUP($P59,Lijsten!$P$2:$Y$55,4)","v":2034.4242811519582},{"$f":"VLOOKUP($P59,Lijsten!$P$2:$Y$55,5)","v":0.98608961324439026},{"$f":"VLOOKUP($P59,Lijsten!$P$2:$Y$55,6)","v":0.80193270855288945},{"$f":"VLOOKUP($P59,Lijsten!$P$2:$Y$55,10)","v":5.75},null,null,null,null,null,null,"Tomaat",5000,"Tomaat5000"]
[null,null,6000,{"$f":"VLOOKUP($P60,Lijsten!$P$2:$Y$55,4)","v":2418.2059211559367},{"$f":"VLOOKUP($P60,Lijsten!$P$2:$Y$55,5)","v":0.99590641743788211},{"$f":"VLOOKUP($P60,Lijsten!$P$2:$Y$55,6)","v":0.78587048752718636},{"$f":"VLOOKUP($P60,Lijsten!$P$2:$Y$55,10)","v":23},null,null,null,null,null,null,"Tomaat",6000,"Tomaat6000"]
[null,null,7000,{"$f":"VLOOKUP($P61,Lijsten!$P$2:$Y$55,4)","v":2800.3671642678614},{"$f":"VLOOKUP($P61,Lijsten!$P$2:$Y$55,5)","v":1},{"$f":"VLOOKUP($P61,Lijsten!$P$2:$Y$55,6)","v":0.76644183621875084},{"$f":"VLOOKUP($P61,Lijsten!$P$2:$Y$55,10)","v":"> 46jaar"},null,null,null,null,null,null,"Tomaat",7000,"Tomaat7000"]
[null,null,8000,{"$f":"VLOOKUP($P62,Lijsten!$P$2:$Y$55,4)","v":3181.2456473994584},{"$f":"VLOOKUP($P62,Lijsten!$P$2:$Y$55,5)","v":1},{"$f":"VLOOKUP($P62,Lijsten!$P$2:$Y$55,6)","v":0.74511771861677578},{"$f":"VLOOKUP($P62,Lijsten!$P$2:$Y$55,10)","v":"> 46jaar"},null,null,null,null,null,null,"Tomaat",8000,"Tomaat8000"]
[]
[]
[]
["Deze berekeningen werden bekomen via het rekenmodel: \"Dimensioneren van hemelwateropslag voor teelten onder glas\" (versie1.0). "]
["Dit model werd ontwikkeld in het kader van het ADLO-project \"Telen zonder spui\" dat gefinancieerd werd vanuit de Vlaamse Overheid. "]

{"sheet":"Simulatie vergelijking","index":4,"n_rows":52,"n_cols":49,"rows_kept":52,"cut":false,"hidden":true,"merged":[[0,0,0,9],[0,25,0,34]]}
["Situatie 1",null,null,null,null,null,null,null,null,null,null,null,null,null,null,null,null,null,null,null,null,null,null,null,null,"Situatie 1"]
[]
["Teelt: ",null,{"$f":"'Gegevens '!G18","v":"Tomaat"},null,null,"Waterbassin",null,null,null,null,null,null,null,null,null,null,null,null,null,null,null,null,null,null,null,"Teelt: ",null,{"$f":"'Gegevens vergelijking'!O3","v":"Paprika (jaarrond) "},null,null,"Waterbassin"]
[null,null,null,null,null,{"$f":"'Gegevens '!J9","v":"Binnenlengte"},null,{"$f":"'Gegevens '!L9","v":0},{"$f":"'Gegevens '!M9","v":"m"},null,null,null,null,null,null,null,null,null,null,null,null,null,null,null,null,null,null,null,null,null,{"$f":"F4","v":"Binnenlengte"},null,{"$f":"'Gegevens vergelijking'!C9","v":70},{"$f":"I4","v":"m"}]
["Waterafvoerende oppervlaktes: ",null,null,null,null,{"$f":"'Gegevens '!J10","v":"Binnenbreedte"},null,{"$f":"'Gegevens '!L10","v":0},{"$f":"'Gegevens '!M10","v":"m"},null,null,null,null,null,null,null,null,null,null,null,null,null,null,null,null,"Waterafvoerende oppervlaktes: ",null,null,null,null,{"$f":"F5","v":"Binnenbreedte"},null,{"$f":"'Gegevens vergelijking'!C10","v":40},{"$f":"I5","v":"m"}]
[{"$f":"'Gegevens '!A2","v":"Serre"},null,{"$f":"'Gegevens '!C2","v":0},{"$f":"'Gegevens '!D2","v":"m²"},null,{"$f":"'Gegevens '!A13","v":"Totale diepte"},null,{"$f":"'Gegevens '!C13","v":0},{"$f":"'Gegevens '!D13","v":"m"},null,null,null,null,null,null,null,null,null,null,null,null,null,null,null,null,{"$f":"A6","v":"Serre"},null,{"$f":"'Gegevens vergelijking'!C3","v":22000},{"$f":"D6","v":"m²"},null,{"$f":"F6","v":"Totale diepte"},null,{"$f":"'Gegevens vergelijking'!C11","v":6},{"$f":"I6","v":"m"}]
[{"$f":"'Gegevens '!A3","v":"Teeltoppervlakte"},null,{"$f":"'Gegevens '!C3","v":0},{"$f":"'Gegevens '!D3","v":"m²"},null,{"$f":"'Gegevens '!A14","v":"Diepte Overloop"},null,{"$f":"'Gegevens '!C14","v":0.75},{"$f":"'Gegevens '!D14","v":"m"},null,null,null,null,null,null,null,null,null,null,null,null,null,null,null,null,{"$f":"A7","v":"Teeltoppervlakte"},null,{"$f":"'Gegevens vergelijking'!C4","v":21500},{"$f":"D7","v":"m²"},null,{"$f":"F7","v":"Diepte Overloop"},null,{"$f":"'Gegevens vergelijking'!C12","v":0.3},{"$f":"I7","v":"m"}]
[{"$f":"'Gegevens '!A4","v":"Bedrijfsgebouwen"},null,{"$f":"'Gegevens '!C4","v":0},{"$f":"'Gegevens '!D4","v":"m²"},null,{"$f":"'Gegevens '!A15","v":"Hoogte dode zone"},null,{"$f":"'Gegevens '!C15","v":0.5},{"$f":"'Gegevens '!D15","v":"m"},null,null,null,null,null,null,null,null,null,null,null,null,null,null,null,null,{"$f":"A8","v":"Bedrijfsgebouwen"},null,{"$f":"'Gegevens vergelijking'!C5","v":1250},{"$f":"D8","v":"m²"},null,{"$f":"F8","v":"Hoogte dode zone"},null,{"$f":"'Gegevens vergelijking'!C13","v":1},{"$f":"I8","v":"m"}]
[]
["Waterstromen: ",null,null,null,null,null,null,null,null,null,null,null,null,null,null,null,null,null,null,null,null,null,null,null,null,"Waterstromen: "]
["Waterverbruik teelt: ",null,{"$f":"IF('Gegevens '!G20=\"nee\", \"standaard waterverbruik\", \"eigen  gegevens\")","v":"eigen  gegevens"},null,null,null,null,null,null,null,null,null,null,null,null,null,null,null,null,null,null,null,null,null,null,"Waterverbruik teelt: ",null,{"$f":"IF('Gegevens vergelijking'!O4=\"nee\", \"standaard waterverbruik\", \"eigen  gegevens\")","v":"eigen  gegevens"}]
["Spoelwater filters: ",null,{"$f":"'Gegevens '!#REF!","v":{"$error":"#REF!"}},null,null,null,null,null,null,null,null,null,null,null,null,null,null,null,null,null,null,null,null,null,null,"Spoelwater filters: ",null,{"$f":"'Gegevens vergelijking'!O11","v":"nee"}]
[]
["Bruto volume bedrijf (m³)","Nuttig volume m³/ha T","Bruto volume m³/ha T","Netto Oppervlakte m²/ha T","Aandeel hemelwater in verbruik %","Benuttings-percentage %","Gemiddelde Overloop m³/jaar/ha T","Maximaal watertekort m³/jaar per ha T","Gemiddeld Watertekort m³/jaar/ ha T","Terugkeer-periode:   #jaar","Aantal watertekorten","Bruto neerslag mm","Opvang-verlies    mm","Opgevangen  neerslag       mm","Overloop-verlies       mm","Evaporatie-verlies     mm","Nuttige neerslag mm","Water-verbruik (mm)","Buffer-opbouw mm","Aandeel hemelwater in het verbruik","Bufferopbouw","Opvang-verlies","Overloop-verlies","Evaporatie-verlies",null,"Bruto volume bedrijf (m³)","Nuttig volume m³/ha T","Bruto volume m³/ha T","Netto Oppervlakte m²/ha T","Aandeel hemelwater in verbruik %","Benuttings-percentage %","Gemiddelde Overloop m³/jaar/ha T","Maximaal watertekort m³/jaar per ha T","Gemiddeld Watertekort m³/jaar/ ha T","Terugkeer-periode:   #jaar","Aantal watertekorten","Bruto neerslag mm","Opvang-verlies    mm","Opgevangen  neerslag       mm","Overloop-verlies       mm","Evaporatie-verlies     mm","Nuttige neerslag mm","Water-verbruik (mm)","Buffer-opbouw mm","Aandeel hemelwater in het verbruik","Bufferopbouw","Opvang-verlies","Overloop-verlies","Evaporatie-verlies"]
[{"$f":"B15*$C$7/10000","v":{"$error":"#DIV/0!"}},{"$f":"Simulatie!L5","v":{"$error":"#DIV/0!"}},{"$f":"Simulatie!M5","v":{"$error":"#DIV/0!"}},{"$f":"Simulatie!N5","v":{"$error":"#DIV/0!"}},{"$f":"Simulatie!O5","v":{"$error":"#DIV/0!"}},{"$f":"Simulatie!P5","v":{"$error":"#DIV/0!"}},{"$f":"Simulatie!AH5","v":{"$error":"#DIV/0!"}},{"$f":"Simulatie!AF5","v":{"$error":"#DIV/0!"}},{"$f":"Simulatie!AI5","v":0},{"$f":"Simulatie!AG5","v":"> 46jaar"},{"$f":"IF(ISNUMBER(J15),1/J15*46,0)","v":0},{"$f":"Simulatie!S5","v":{"$error":"#DIV/0!"}},{"$f":"Simulatie!T5","v":{"$error":"#DIV/0!"}},{"$f":"Simulatie!U5","v":{"$error":"#DIV/0!"}},{"$f":"Simulatie!V5","v":{"$error":"#DIV/0!"}},{"$f":"Simulatie!W5","v":{"$error":"#DIV/0!"}},{"$f":"Simulatie!X5","v":{"$error":"#DIV/0!"}},{"$f":"Simulatie!Y5","v":{"$error":"#DIV/0!"}},{"$f":"Simulatie!Z5","v":{"$error":"#DIV/0!"}},{"$f":"Simulatie!AD5","v":{"$error":"#DIV/0!"}},{"$f":"Simulatie!AE5","v":{"$error":"#DIV/0!"}},{"$f":"Simulatie!AA5","v":{"$error":"#DIV/0!"}},{"$f":"Simulatie!AB5","v":{"$error":"#DIV/0!"}},{"$f":"Simulatie!AC5","v":{"$error":"#DIV/0!"}},null,{"$f":"AA15*$AB$7/10000","v":10586.530666666669},{"$f":"simvgl!L5","v":4923.9677519379857},{"$f":"simvgl!M5","v":6106.0465116279083},{"$f":"simvgl!N5","v":1302.325581395349},{"$f":"simvgl!O5","v":1},{"$f":"simvgl!P5","v":0.60415932761722979},{"$f":"simvgl!AH5","v":2678.1817836488817},{"$f":"simvgl!AF5","v":0},{"$f":"simvgl!AI5","v":0},{"$f":"simvgl!AG5","v":"> 46jaar"},{"$f":"IF(ISNUMBER(AI15),1/AI15*46,0)","v":0},{"$f":"simvgl!S5","v":1004.5606976743979},{"$f":"simvgl!T5","v":85.386033872600692},{"$f":"simvgl!U5","v":919.17466380181588},{"$f":"simvgl!V5","v":267.81817836488807},{"$f":"simvgl!W3","v":34.627514993410784},{"$f":"simvgl!X5","v":606.91471565771349},{"$f":"simvgl!Y5","v":606.91471565771349},{"$f":"simvgl!Z5","v":5.5844460887389005},{"$f":"simvgl!AD5","v":0.60415932761728353},{"$f":"simvgl!AE5","v":5.5590927473741884E-3},{"$f":"simvgl!AA5","v":8.4998381949715041E-2},{"$f":"simvgl!AB5","v":0.26660228593941498},{"$f":"simvgl!AC5","v":3.8680911746212319E-2}]
[{"$f":"B16*$C$7/10000","v":0},{"$f":"Simulatie!L6","v":500.00587482344622},{"$f":"Simulatie!M6","v":746.84410288112838},{"$f":"Simulatie!N6","v":253.66291233467814},{"$f":"Simulatie!O6","v":0.83395535427298795},{"$f":"Simulatie!P6","v":0.73928830110853161},{"$f":"Simulatie!AH6","v":1486.6007426589674},{"$f":"Simulatie!AF6","v":3079.1665131463469},{"$f":"Simulatie!AI6","v":1313.4131477006358},{"$f":"Simulatie!AG6","v":1},{"$f":"IF(ISNUMBER(J16),1/J16*46,0)","v":46},{"$f":"Simulatie!S6","v":892.28881918030436},{"$f":"Simulatie!T6","v":79.338341930731957},{"$f":"Simulatie!U6","v":812.95047724956191},{"$f":"Simulatie!V6","v":148.66007426589692},{"$f":"Simulatie!W6","v":4.0942688051777489},{"$f":"Simulatie!X6","v":659.65868522994731},{"$f":"Simulatie!Y6","v":659.65868522994731},{"$f":"Simulatie!Z6","v":0.53744894855037728},{"$f":"Simulatie!AD6","v":0.73928830110853427},{"$f":"Simulatie!AE6","v":6.0232621657649082E-4},{"$f":"Simulatie!AA6","v":8.891553970564782E-2},{"$f":"Simulatie!AB6","v":0.16660533122275653},{"$f":"Simulatie!AC6","v":4.5885017464848696E-3},null,{"$f":"AA16*$AB$7/10000","v":1075.0865191666667},{"$f":"simvgl!L6","v":500.04024147286822},{"$f":"simvgl!M6","v":594.52512319210928},{"$f":"simvgl!N6","v":189.38776017911457},{"$f":"simvgl!O6","v":0.76574690474951979},{"$f":"simvgl!P6","v":0.50942636833264732},{"$f":"simvgl!AH6","v":3583.9416577229863},{"$f":"simvgl!AF6","v":2937.2968493395024},{"$f":"simvgl!AI6","v":1421.7165069587707},{"$f":"simvgl!AG6","v":1},{"$f":"IF(ISNUMBER(AI16),1/AI16*46,0)","v":46},{"$f":"simvgl!S6","v":912.2870229174049},{"$f":"simvgl!T6","v":85.386033872600706},{"$f":"simvgl!U6","v":826.90098904478953},{"$f":"simvgl!V6","v":358.39416577229878},{"$f":"simvgl!W4","v":0},{"$f":"simvgl!X6","v":464.7430649618255},{"$f":"simvgl!Y6","v":464.7430649618255},{"$f":"simvgl!Z6","v":0.47725475610064905},{"$f":"simvgl!AD6","v":0.50942636833265753},{"$f":"simvgl!AE6","v":5.2314101166805473E-4},{"$f":"simvgl!AA6","v":9.3595580916567792E-2},{"$f":"simvgl!AB6","v":0.39285242118888108},{"$f":"simvgl!AC6","v":3.6024885502254846E-3}]
[0,{"$f":"Simulatie!L7","v":1000.0058748234464},{"$f":"Simulatie!M7","v":1480.6313598478305},{"$f":"Simulatie!N7","v":463.16784535225185},{"$f":"Simulatie!O7","v":0.90744780549115545},{"$f":"Simulatie!P7","v":0.78907735120172784},{"$f":"Simulatie!AH7","v":1030.012067277085},{"$f":"Simulatie!AF7","v":2473.7205332426952},{"$f":"Simulatie!AI7","v":863.48824343557703},{"$f":"Simulatie!AG7","v":1.1794871794871795},39,{"$f":"Simulatie!S7","v":909.65887317683064},{"$f":"Simulatie!T7","v":79.338341930732028},{"$f":"Simulatie!U7","v":830.32053124607694},{"$f":"Simulatie!V7","v":103.00120672770863},{"$f":"Simulatie!W7","v":8.4241237496981505},{"$f":"Simulatie!X7","v":717.79121414351164},{"$f":"Simulatie!Y7","v":717.79121414351164},{"$f":"Simulatie!Z7","v":1.1039866251801413},{"$f":"Simulatie!AD7","v":0.7890773512017164},{"$f":"Simulatie!AE7","v":1.2136270614550855E-3},{"$f":"Simulatie!AA7","v":8.7217685959195018E-2},{"$f":"Simulatie!AB7","v":0.11323058540394845},{"$f":"Simulatie!AC7","v":9.2607503736849336E-3},null,2150.0865191666676,{"$f":"simvgl!L7","v":1000.0402414728685},{"$f":"simvgl!M7","v":1208.0652192746543},{"$f":"simvgl!N7","v":327.01269465651131},{"$f":"simvgl!O7","v":0.85640161336449394},{"$f":"simvgl!P7","v":0.56269800249055757},{"$f":"simvgl!AH7","v":3106.7572892488515},{"$f":"simvgl!AF7","v":2401.3694391712997},{"$f":"simvgl!AI7","v":911.13427357144292},{"$f":"simvgl!AG7","v":1.0454545454545454},44,{"$f":"simvgl!S7","v":923.69750623486846},{"$f":"simvgl!T7","v":85.386033872600734},{"$f":"simvgl!U7","v":838.31147236232005},{"$f":"simvgl!V7","v":310.67572892488545},{"$f":"simvgl!W5","v":38.857323690456859},{"$f":"simvgl!X7","v":519.76274166391329},{"$f":"simvgl!Y7","v":519.76274166391329},{"$f":"simvgl!Z7","v":1.027056246085067},{"$f":"simvgl!AD7","v":0.56269800249060464},{"$f":"simvgl!AE7","v":1.1118967401693054E-3},{"$f":"simvgl!AA7","v":9.2439389839480246E-2},{"$f":"simvgl!AB7","v":0.33633925265344383},{"$f":"simvgl!AC7","v":7.4114582763019961E-3}]
[0,{"$f":"Simulatie!L8","v":1500.0121115819209},{"$f":"Simulatie!M8","v":2090.3329653125879},{"$f":"Simulatie!N8","v":542.35859221942405},{"$f":"Simulatie!O8","v":0.9714342519725957},{"$f":"Simulatie!P8","v":0.59755918716975964},{"$f":"Simulatie!AH8","v":2803.1255141085117},{"$f":"Simulatie!AF8","v":1274.7333286797493},{"$f":"Simulatie!AI8","v":401.73621089430384},{"$f":"Simulatie!AG8","v":2.4210526315789473},19,{"$f":"Simulatie!S8","v":944.32966274529622},{"$f":"Simulatie!T8","v":87.175210022106469},{"$f":"Simulatie!U8","v":857.1544527232096},{"$f":"Simulatie!V8","v":280.31255141085188},{"$f":"Simulatie!W8","v":10.667025901007609},{"$f":"Simulatie!X8","v":564.29286569044086},{"$f":"Simulatie!Y8","v":564.29286569044086},{"$f":"Simulatie!Z8","v":1.8820097208893003},{"$f":"Simulatie!AD8","v":0.59755918716983203},{"$f":"Simulatie!AE8","v":1.9929583863944706E-3},{"$f":"Simulatie!AA8","v":9.2314382848756593E-2},{"$f":"Simulatie!AB8","v":0.29683760075474569},{"$f":"Simulatie!AC8","v":1.1295870840271073E-2},null,3225.0865191666676,{"$f":"simvgl!L8","v":1500.0402414728685},{"$f":"simvgl!M8","v":1827.4585161985217},{"$f":"simvgl!N8","v":457.2514471198578},{"$f":"simvgl!O8","v":0.92675666332369155},{"$f":"simvgl!P8","v":0.60188860823068857},{"$f":"simvgl!AH8","v":2742.5889633469233},{"$f":"simvgl!AF8","v":1901.6669871380113},{"$f":"simvgl!AI8","v":659.61713136296714},{"$f":"simvgl!AG8","v":1.4838709677419355},31,{"$f":"simvgl!S8","v":934.49560120160891},{"$f":"simvgl!T8","v":85.386033872600706},{"$f":"simvgl!U8","v":849.10956732905174},{"$f":"simvgl!V8","v":274.25889633469143},{"$f":"simvgl!W6","v":3.2865035545792454},{"$f":"simvgl!X8","v":562.46225680498628},{"$f":"simvgl!Y8","v":562.46225680498628},{"$f":"simvgl!Z8","v":1.5942646998601049},{"$f":"simvgl!AD8","v":0.60188860823074131},{"$f":"simvgl!AE8","v":1.7060162699643964E-3},{"$f":"simvgl!AA8","v":9.1371252858556198E-2},{"$f":"simvgl!AB8","v":0.29348334650483021},{"$f":"simvgl!AC8","v":1.1550776135907803E-2}]
[0,{"$f":"Simulatie!L9","v":2000.0058748234464},{"$f":"Simulatie!M9","v":2944.3820984193812},{"$f":"Simulatie!N9","v":865.92666609952528},{"$f":"Simulatie!O9","v":0.96921197628295441},{"$f":"Simulatie!P9","v":0.81294243872254601},{"$f":"Simulatie!AH9","v":774.12015498239714},{"$f":"Simulatie!AF9","v":2200.1746605716921},{"$f":"Simulatie!AI9","v":700.15814435524646},{"$f":"Simulatie!AG9","v":2.875},16,{"$f":"Simulatie!S9","v":943.05160700494957},{"$f":"Simulatie!T9","v":79.338341930732028},{"$f":"Simulatie!U9","v":863.71326507421395},{"$f":"Simulatie!V9","v":77.412015498239512},{"$f":"Simulatie!W9","v":17.406558918351969},{"$f":"Simulatie!X9","v":766.64667323981041},{"$f":"Simulatie!Y9","v":766.64667323981041},{"$f":"Simulatie!Z9","v":2.2480174178157313},{"$f":"Simulatie!AD9","v":0.81294243872253613},{"$f":"Simulatie!AE9","v":2.3837692456251044E-3},{"$f":"Simulatie!AA9","v":8.4129374618960404E-2},{"$f":"Simulatie!AB9","v":8.2086722426669076E-2},{"$f":"Simulatie!AC9","v":1.8457694986209392E-2},null,4300.0865191666671,{"$f":"simvgl!L9","v":2000.0402414728685},{"$f":"simvgl!M9","v":2449.8500195328993},{"$f":"simvgl!N9","v":583.70674863660815},{"$f":"simvgl!O9","v":0.97227321098624908},{"$f":"simvgl!P9","v":0.62444381149495265},{"$f":"simvgl!AH9","v":2524.0333133603858},{"$f":"simvgl!AF9","v":1405.3978822419613},{"$f":"simvgl!AI9","v":387.039314218767},{"$f":"simvgl!AG9","v":2.3000000000000003},19.999999999999996,{"$f":"simvgl!S9","v":944.98001025036331},{"$f":"simvgl!T9","v":85.386033872600692},{"$f":"simvgl!U9","v":859.59397637779057},{"$f":"simvgl!V9","v":252.40333133603841},{"$f":"simvgl!W7","v":6.8459455273839307},{"$f":"simvgl!X9","v":590.08691938733102},{"$f":"simvgl!Y9","v":590.08691938733102},{"$f":"simvgl!Z9","v":2.1696732750265255},{"$f":"simvgl!AD9","v":0.6244438114950106},{"$f":"simvgl!AE9","v":2.2959991232530852E-3},{"$f":"simvgl!AA9","v":9.0357502747575036E-2},{"$f":"simvgl!AB9","v":0.26709912230753602},{"$f":"simvgl!AC9","v":1.5803564326625306E-2}]
[0,{"$f":"Simulatie!L10","v":2500.0121115819202},{"$f":"Simulatie!M10","v":3501.3454698883402},{"$f":"Simulatie!N10","v":859.67894112592501},{"$f":"Simulatie!O10","v":0.99896373672032124},{"$f":"Simulatie!P10","v":0.59783766192233156},{"$f":"Simulatie!AH10","v":2816.8991624330524},{"$f":"Simulatie!AF10","v":276.8975340077161},{"$f":"Simulatie!AI10","v":276.8975340077161},{"$f":"Simulatie!AG10","v":46},1,{"$f":"Simulatie!S10","v":970.63869287317402},{"$f":"Simulatie!T10","v":87.175210022106668},{"$f":"Simulatie!U10","v":883.46348285105432},{"$f":"Simulatie!V10","v":281.6899162433055},{"$f":"Simulatie!W10","v":18.272235874619746},{"$f":"Simulatie!X10","v":580.28436671866916},{"$f":"Simulatie!Y10","v":580.28436671866916},{"$f":"Simulatie!Z10","v":3.216964014473092},{"$f":"Simulatie!AD10","v":0.59783766192235499},{"$f":"Simulatie!AE10","v":3.3142754745852979E-3},{"$f":"Simulatie!AA10","v":8.9812214021739181E-2},{"$f":"Simulatie!AB10","v":0.2902108872349598},{"$f":"Simulatie!AC10","v":1.8824961346360875E-2},null,5375.0865191666699,{"$f":"simvgl!L10","v":2500.0402414728696},{"$f":"simvgl!M10","v":3074.148856199794},{"$f":"simvgl!N10","v":707.75517713851798},{"$f":"simvgl!O10","v":0.99170478828768083},{"$f":"simvgl!P10","v":0.6300663317201709},{"$f":"simvgl!AH10","v":2461.3531097980836},{"$f":"simvgl!AF10","v":911.28711799645919},{"$f":"simvgl!AI10","v":463.17271730862683},{"$f":"simvgl!AG10","v":9.2000000000000011},4.9999999999999991,{"$f":"simvgl!S10","v":955.26486545750549},{"$f":"simvgl!T10","v":85.386033872600763},{"$f":"simvgl!U10","v":869.8788315848841},{"$f":"simvgl!V10","v":246.13531097980831},{"$f":"simvgl!W8","v":10.794149489470358},{"$f":"simvgl!X10","v":601.88022960001024},{"$f":"simvgl!Y10","v":601.88022960001024},{"$f":"simvgl!Z10","v":2.7502287583063207},{"$f":"simvgl!AD10","v":0.63006633172020976},{"$f":"simvgl!AE10","v":2.8790222039508928E-3},{"$f":"simvgl!AA10","v":8.9384669069459369E-2},{"$f":"simvgl!AB10","v":0.25766184843606343},{"$f":"simvgl!AC10","v":2.0008128570316416E-2}]
[0,{"$f":"Simulatie!L11","v":3000.005874823446},{"$f":"Simulatie!M11","v":4405.9885386428195},{"$f":"Simulatie!N11","v":1259.5722188673219},{"$f":"Simulatie!O11","v":0.98656800089330832},{"$f":"Simulatie!P11","v":0.79981990248467405},{"$f":"Simulatie!AH11","v":860.95550431078289},{"$f":"Simulatie!AF11","v":1841.240856204229},{"$f":"Simulatie!AI11","v":814.56119916012028},{"$f":"Simulatie!AG11","v":7.666666666666667},6,{"$f":"Simulatie!S11","v":975.68875978492429},{"$f":"Simulatie!T11","v":79.338341930731985},{"$f":"Simulatie!U11","v":896.35041785421458},{"$f":"Simulatie!V11","v":86.095550431078252},{"$f":"Simulatie!W11","v":26.479343802545547},{"$f":"Simulatie!X11","v":780.37528870660151},{"$f":"Simulatie!Y11","v":780.37528870660151},{"$f":"Simulatie!Z11","v":3.4002349139669832},{"$f":"Simulatie!AD11","v":0.79981990248470558},{"$f":"Simulatie!AE11","v":3.4849585791236473E-3},{"$f":"Simulatie!AA11","v":8.131521567207653E-2},{"$f":"Simulatie!AB11","v":8.824079356008642E-2},{"$f":"Simulatie!AC11","v":2.7139129704007777E-2},null,6450.086519166668,{"$f":"simvgl!L11","v":3000.0402414728687},{"$f":"simvgl!M11","v":3699.7990236735068},{"$f":"simvgl!N11","v":830.09835486039049},{"$f":"simvgl!O11","v":0.99805495358660679},{"$f":"simvgl!P11","v":0.62743837433529337},{"$f":"simvgl!AH11","v":2477.0155269273087},{"$f":"simvgl!AF11","v":419.3229287762544},{"$f":"simvgl!AI11","v":181.00651794191617},{"$f":"simvgl!AG11","v":15.333333333333334},3,{"$f":"simvgl!S11","v":965.40833832239196},{"$f":"simvgl!T11","v":85.386033872600763},{"$f":"simvgl!U11","v":880.02230444980444},{"$f":"simvgl!V11","v":247.7015526927311},{"$f":"simvgl!W9","v":14.934052379366657},{"$f":"simvgl!X11","v":605.73423836678671},{"$f":"simvgl!Y11","v":605.73423836678671},{"$f":"simvgl!Z11","v":3.3353395690637626},{"$f":"simvgl!AD11","v":0.62743837433534333},{"$f":"simvgl!AE11","v":3.4548485202226908E-3},{"$f":"simvgl!AA11","v":8.8445511068381347E-2},{"$f":"simvgl!AB11","v":0.25657697666374696},{"$f":"simvgl!AC11","v":2.4084289412305612E-2}]
[0,{"$f":"Simulatie!L12","v":3500.0121115819211},{"$f":"Simulatie!M12","v":4915.6505338713678},{"$f":"Simulatie!N12","v":1171.0726830993362},{"$f":"Simulatie!O12","v":1},{"$f":"Simulatie!P12","v":0.582952097233011},{"$f":"Simulatie!AH12","v":2981.2663990354763},{"$f":"Simulatie!AF12","v":0},{"$f":"Simulatie!AI12","v":0},{"$f":"Simulatie!AG12","v":"> 46jaar"},0,{"$f":"Simulatie!S12","v":996.4563480201557},{"$f":"Simulatie!T12","v":87.175210022106597},{"$f":"Simulatie!U12","v":909.28113799803805},{"$f":"Simulatie!V12","v":298.12663990354713},{"$f":"Simulatie!W12","v":25.703378262739761},{"$f":"Simulatie!X12","v":580.88631787955615},{"$f":"Simulatie!Y12","v":580.88631787955615},{"$f":"Simulatie!Z12","v":4.5648019522060395},{"$f":"Simulatie!AD12","v":0.58295209723307051},{"$f":"Simulatie!AE12","v":4.5810355478950746E-3},{"$f":"Simulatie!AA12","v":8.7485227220754552E-2},{"$f":"Simulatie!AB12","v":0.29918685399103584},{"$f":"Simulatie!AC12","v":2.579478600724399E-2},null,7525.0865191666644,{"$f":"simvgl!L12","v":3500.0402414728674},{"$f":"simvgl!M12","v":4326.4714382587408},{"$f":"simvgl!N12","v":951.15155408439159},{"$f":"simvgl!O12","v":1},{"$f":"simvgl!P12","v":0.62219274622685372},{"$f":"simvgl!AH12","v":2518.9080745408096},{"$f":"simvgl!AF12","v":0},{"$f":"simvgl!AI12","v":0},{"$f":"simvgl!AG12","v":"> 46jaar"},0,{"$f":"simvgl!S12","v":975.44485907005208},{"$f":"simvgl!T12","v":85.386033872600663},{"$f":"simvgl!U12","v":890.05882519746683},{"$f":"simvgl!V12","v":251.89080745408049},{"$f":"simvgl!W10","v":19.113062246779783},{"$f":"simvgl!X12","v":606.91471565771349},{"$f":"simvgl!Y12","v":606.91471565771349},{"$f":"simvgl!Z12","v":3.9235798081382427},{"$f":"simvgl!AD12","v":0.62219274622690646},{"$f":"simvgl!AE12","v":4.022349158597051E-3},{"$f":"simvgl!AA12","v":8.7535479918366785E-2},{"$f":"simvgl!AB12","v":0.25823172382519144},{"$f":"simvgl!AC12","v":2.8017700870938193E-2}]
[0,{"$f":"Simulatie!L13","v":4000.005874823446},{"$f":"Simulatie!M13","v":5866.4858446009648},{"$f":"Simulatie!N13","v":1648.5039510076181},{"$f":"Simulatie!O13","v":0.99804534661605293},{"$f":"Simulatie!P13","v":0.78323879904890503},{"$f":"Simulatie!AH13","v":990.13774836920402},{"$f":"Simulatie!AF13","v":567.06184474669624},{"$f":"Simulatie!AI13","v":237.07339342765621},{"$f":"Simulatie!AG13","v":15.333333333333334},3,{"$f":"Simulatie!S13","v":1007.9350896966835},{"$f":"Simulatie!T13","v":79.338341930731971},{"$f":"Simulatie!U13","v":928.59674776596717},{"$f":"Simulatie!V13","v":99.013774836920405},{"$f":"Simulatie!W13","v":35.572111459978679},{"$f":"Simulatie!X13","v":789.45386917328392},{"$f":"Simulatie!Y13","v":789.45386917328392},{"$f":"Simulatie!Z13","v":4.5569922957683957},{"$f":"Simulatie!AD13","v":0.78323879904890825},{"$f":"Simulatie!AE13","v":4.521116828207385E-3},{"$f":"Simulatie!AA13","v":7.8713741332893911E-2},{"$f":"Simulatie!AB13","v":9.8234277037340251E-2},{"$f":"Simulatie!AC13","v":3.5292065752650148E-2},null,8600.0865191666671,{"$f":"simvgl!L13","v":4000.0402414728678},{"$f":"simvgl!M13","v":4953.9522062266424},{"$f":"simvgl!N13","v":1071.1846883255059},{"$f":"simvgl!O13","v":1},{"$f":"simvgl!P13","v":0.61590895344956786},{"$f":"simvgl!AH13","v":2572.3403232374535},{"$f":"simvgl!AF13","v":0},{"$f":"simvgl!AI13","v":0},{"$f":"simvgl!AG13","v":"> 46jaar"},0,{"$f":"simvgl!S13","v":985.39680623003244},{"$f":"simvgl!T13","v":85.386033872600692},{"$f":"simvgl!U13","v":900.01077235741741},{"$f":"simvgl!V13","v":257.23403232374483},{"$f":"simvgl!W11","v":23.251173821209537},{"$f":"simvgl!X13","v":606.91471565771349},{"$f":"simvgl!Y13","v":606.91471565771349},{"$f":"simvgl!Z13","v":4.5142049080000106},{"$f":"simvgl!AD13","v":0.61590895344959584},{"$f":"simvgl!AE13","v":4.5811036523150739E-3},{"$f":"simvgl!AA13","v":8.665142136929968E-2},{"$f":"simvgl!AB13","v":0.261046139684459},{"$f":"simvgl!AC13","v":3.1812381844330363E-2}]
[0,{"$f":"Simulatie!L14","v":5000.0058748234469},{"$f":"Simulatie!M14","v":7326.2745853835913},{"$f":"Simulatie!N14","v":2034.4242811519582},{"$f":"Simulatie!O14","v":1},{"$f":"Simulatie!P14","v":0.76062684340503184},{"$f":"Simulatie!AH14","v":1190.263999905138},{"$f":"Simulatie!AF14","v":0},{"$f":"Simulatie!AI14","v":0},{"$f":"Simulatie!AG14","v":"> 46jaar"},0,{"$f":"Simulatie!S14","v":1039.9317442689562},{"$f":"Simulatie!T14","v":79.338341930732085},{"$f":"Simulatie!U14","v":960.59340233822547},{"$f":"Simulatie!V14","v":119.02639999051361},{"$f":"Simulatie!W14","v":44.850749611198978},{"$f":"Simulatie!X14","v":790.99999999998738},{"$f":"Simulatie!Y14","v":790.99999999998738},{"$f":"Simulatie!Z14","v":5.7162527365240976},{"$f":"Simulatie!AD14","v":0.76062684340503417},{"$f":"Simulatie!AE14","v":5.496757617051558E-3},{"$f":"Simulatie!AA14","v":7.6291874315755973E-2},{"$f":"Simulatie!AB14","v":0.11445597333331327},{"$f":"Simulatie!AC14","v":4.3128551328844987E-2},null,9675.0865191666689,{"$f":"simvgl!L14","v":4500.0402414728696},{"$f":"simvgl!M14","v":5582.0930162301447},{"$f":"simvgl!N14","v":1190.38491237884},{"$f":"simvgl!O14","v":1},{"$f":"simvgl!P14","v":0.60979312408883257},{"$f":"simvgl!AH14","v":2625.6035955949014},{"$f":"simvgl!AF14","v":0},{"$f":"simvgl!AI14","v":0},{"$f":"simvgl!AG14","v":"> 46jaar"},0,{"$f":"simvgl!S14","v":995.27969680625176},{"$f":"simvgl!T14","v":85.386033872600706},{"$f":"simvgl!U14","v":909.89366293366163},{"$f":"simvgl!V14","v":262.56035955949011},{"$f":"simvgl!W12","v":27.329722277519181},{"$f":"simvgl!X14","v":606.91471565771349},{"$f":"simvgl!Y14","v":606.91471565771349},{"$f":"simvgl!Z14","v":5.1067773090679793},{"$f":"simvgl!AD14","v":0.60979312408887587},{"$f":"simvgl!AE14","v":5.1309971714032674E-3},{"$f":"simvgl!AA14","v":8.5790993372612284E-2},{"$f":"simvgl!AB14","v":0.26380560198506892},{"$f":"simvgl!AC14","v":3.5479283382039678E-2}]
[0,{"$f":"Simulatie!L15","v":5000.0121115819202},{"$f":"Simulatie!M15","v":7040.5250366726104},{"$f":"Simulatie!N15","v":1632.0128637713808},{"$f":"Simulatie!O15","v":1},{"$f":"Simulatie!P15","v":0.56142025057188227},{"$f":"Simulatie!AH15","v":3233.9437182411248},{"$f":"Simulatie!AF15","v":0},{"$f":"Simulatie!AI15","v":0},{"$f":"Simulatie!AG15","v":"> 46jaar"},0,{"$f":"Simulatie!S15","v":1034.6728983997025},{"$f":"Simulatie!T15","v":87.175210022106626},{"$f":"Simulatie!U15","v":947.49768837755744},{"$f":"Simulatie!V15","v":323.39437182411223},{"$f":"Simulatie!W15","v":36.617069612708178},{"$f":"Simulatie!X15","v":580.88631787955615},{"$f":"Simulatie!Y15","v":580.88631787955615},{"$f":"Simulatie!Z15","v":6.5999290612193136},{"$f":"Simulatie!AD15","v":0.56142025057193978},{"$f":"Simulatie!AE15","v":6.3787589985465224E-3},{"$f":"Simulatie!AA15","v":8.42538836737078E-2},{"$f":"Simulatie!AB15","v":0.31255711087465093},{"$f":"Simulatie!AC15","v":3.5389995881155004E-2},null,10750.086519166663,{"$f":"simvgl!L15","v":5000.0402414728669},{"$f":"simvgl!M15","v":6210.7860260475836},{"$f":"simvgl!N15","v":1308.8883128574373},{"$f":"simvgl!O15","v":1},{"$f":"simvgl!P15","v":0.60383226441766846},{"$f":"simvgl!AH15","v":2678.69255977189},{"$f":"simvgl!AF15","v":0},{"$f":"simvgl!AI15","v":0},{"$f":"simvgl!AG15","v":"> 46jaar"},0,{"$f":"simvgl!S15","v":1005.1048137399366},{"$f":"simvgl!T15","v":85.386033872600692},{"$f":"simvgl!U15","v":919.71877986732954},{"$f":"simvgl!V15","v":267.86925597718874},{"$f":"simvgl!W13","v":31.347819467973412},{"$f":"simvgl!X15","v":606.91471565771349},{"$f":"simvgl!Y15","v":606.91471565771349},{"$f":"simvgl!Z15","v":5.7009788473731078},{"$f":"simvgl!AD15","v":0.603832264417697},{"$f":"simvgl!AE15","v":5.6720242202005743E-3},{"$f":"simvgl!AA15","v":8.4952367857919431E-2},{"$f":"simvgl!AB15","v":0.2665087783038893},{"$f":"simvgl!AC15","v":3.9034565200293615E-2}]
[0,{"$f":"Simulatie!L16","v":5500.0121115819175},{"$f":"Simulatie!M16","v":7749.4378512451494},{"$f":"Simulatie!N16","v":1784.5412261122333},{"$f":"Simulatie!O16","v":1},{"$f":"Simulatie!P16","v":0.55464123543742461},{"$f":"Simulatie!AH16","v":3317.5986251507798},{"$f":"Simulatie!AF16","v":0},{"$f":"Simulatie!AI16","v":0},{"$f":"Simulatie!AG16","v":"> 46jaar"},0,{"$f":"Simulatie!S16","v":1047.3190249213642},{"$f":"Simulatie!T16","v":87.175210022106597},{"$f":"Simulatie!U16","v":960.14381489925984},{"$f":"Simulatie!V16","v":331.759862515078},{"$f":"Simulatie!W16","v":40.216898568848315},{"$f":"Simulatie!X16","v":580.88631787955615},{"$f":"Simulatie!Y16","v":580.88631787955615},{"$f":"Simulatie!Z16","v":7.2807359357750556},{"$f":"Simulatie!AD16","v":0.55464123543747412},{"$f":"Simulatie!AE16","v":6.9517842820832126E-3},{"$f":"Simulatie!AA16","v":8.3236538196803947E-2},{"$f":"Simulatie!AB16","v":0.31677058720477985},{"$f":"Simulatie!AC16","v":3.8399854878858823E-2},null,11825.086519166663,{"$f":"simvgl!L16","v":5500.0402414728669},{"$f":"simvgl!M16","v":6839.9499074524047},{"$f":"simvgl!N16","v":1426.7975182376754},{"$f":"simvgl!O16","v":1},{"$f":"simvgl!P16","v":0.59801584168005906},{"$f":"simvgl!AH16","v":2731.6158288535926},{"$f":"simvgl!AF16","v":0},{"$f":"simvgl!AI16","v":0},{"$f":"simvgl!AG16","v":"> 46jaar"},0,{"$f":"simvgl!S16","v":1014.8806659580255},{"$f":"simvgl!T16","v":85.38603387260072},{"$f":"simvgl!U16","v":929.49463208540521},{"$f":"simvgl!V16","v":273.16158288535911},{"$f":"simvgl!W14","v":35.311810407379539},{"$f":"simvgl!X16","v":606.91471565771349},{"$f":"simvgl!Y16","v":606.91471565771349},{"$f":"simvgl!Z16","v":6.2965695824515251},{"$f":"simvgl!AD16","v":0.59801584168006494},{"$f":"simvgl!AE16","v":6.2042462662422471E-3},{"$f":"simvgl!AA16","v":8.4134062985620234E-2},{"$f":"simvgl!AB16","v":0.26915635704568325},{"$f":"simvgl!AC16","v":4.248949202238933E-2}]
[0,{"$f":"Simulatie!L17","v":6000.0058748234469},{"$f":"Simulatie!M17","v":8785.5601049567194},{"$f":"Simulatie!N17","v":2418.2059211559367},{"$f":"Simulatie!O17","v":1},{"$f":"Simulatie!P17","v":0.73804450933627086},{"$f":"Simulatie!AH17","v":1405.2121254350534},{"$f":"Simulatie!AF17","v":0},{"$f":"Simulatie!AI17","v":0},{"$f":"Simulatie!AG17","v":"> 46jaar"},0,{"$f":"Simulatie!S17","v":1071.7510800417015},{"$f":"Simulatie!T17","v":79.338341930732071},{"$f":"Simulatie!U17","v":992.41273811097403},{"$f":"Simulatie!V17","v":140.52121254350527},{"$f":"Simulatie!W17","v":54.014234725857023},{"$f":"Simulatie!X17","v":790.99999999998738},{"$f":"Simulatie!Y17","v":790.99999999998738},{"$f":"Simulatie!Z17","v":6.8772908416196969},{"$f":"Simulatie!AD17","v":0.73804450933626287},{"$f":"Simulatie!AE17","v":6.416873255077199E-3},{"$f":"Simulatie!AA17","v":7.4026836462478804E-2},{"$f":"Simulatie!AB17","v":0.13111366543996172},{"$f":"Simulatie!AC17","v":5.0398115506219358E-2},null,12900.086519166667,{"$f":"simvgl!L17","v":6000.0402414728687},{"$f":"simvgl!M17","v":7469.5215288859072},{"$f":"simvgl!N17","v":1544.1921945341051},{"$f":"simvgl!O17","v":1},{"$f":"simvgl!P17","v":0.59233506416247339},{"$f":"simvgl!AH17","v":2784.3828213419947},{"$f":"simvgl!AF17","v":0},{"$f":"simvgl!AI17","v":0},{"$f":"simvgl!AG17","v":"> 46jaar"},0,{"$f":"simvgl!S17","v":1024.6138585697593},{"$f":"simvgl!T17","v":85.386033872600692},{"$f":"simvgl!U17","v":939.22782469716617},{"$f":"simvgl!V17","v":278.4382821341988},{"$f":"simvgl!W15","v":39.233829385060524},{"$f":"simvgl!X17","v":606.91471565771349},{"$f":"simvgl!Y17","v":606.91471565771349},{"$f":"simvgl!Z17","v":6.8933632590659499},{"$f":"simvgl!AD17","v":0.59233506416250825},{"$f":"simvgl!AE17","v":6.7277669547513991E-3},{"$f":"simvgl!AA17","v":8.3334841861098366E-2},{"$f":"simvgl!AB17","v":0.27174947889428896},{"$f":"simvgl!AC17","v":4.5852848127352984E-2}]
[0,{"$f":"Simulatie!L18","v":6500.0121115819211},{"$f":"Simulatie!M18","v":9167.9521766067446},{"$f":"Simulatie!N18","v":2088.3582976042285},{"$f":"Simulatie!O18","v":1},{"$f":"Simulatie!P18","v":0.5416146527417306},{"$f":"Simulatie!AH18","v":3484.2400934843363},{"$f":"Simulatie!AF18","v":0},{"$f":"Simulatie!AI18","v":0},{"$f":"Simulatie!AG18","v":"> 46jaar"},0,{"$f":"Simulatie!S18","v":1072.5084983187085},{"$f":"Simulatie!T18","v":87.175210022106668},{"$f":"Simulatie!U18","v":985.33328829669495},{"$f":"Simulatie!V18","v":348.42400934843374},{"$f":"Simulatie!W18","v":47.377916547709802},{"$f":"Simulatie!X18","v":580.88631787955615},{"$f":"Simulatie!Y18","v":580.88631787955615},{"$f":"Simulatie!Z18","v":8.6450445209021609},{"$f":"Simulatie!AD18","v":0.54161465274183684},{"$f":"Simulatie!AE18","v":8.0605837011588737E-3},{"$f":"Simulatie!AA18","v":8.1281603044418518E-2},{"$f":"Simulatie!AB18","v":0.32486829698285102},{"$f":"Simulatie!AC18","v":4.4174863529734848E-2},null,13975.086519166667,{"$f":"simvgl!L18","v":6500.0402414728678},{"$f":"simvgl!M18","v":8099.4507193477129},{"$f":"simvgl!N18","v":1661.1356527710047},{"$f":"simvgl!O18","v":1},{"$f":"simvgl!P18","v":0.58678242160783634},{"$f":"simvgl!AH18","v":2837.045341974338},{"$f":"simvgl!AF18","v":0},{"$f":"simvgl!AI18","v":0},{"$f":"simvgl!AG18","v":"> 46jaar"},0,{"$f":"simvgl!S18","v":1034.3096406921657},{"$f":"simvgl!T18","v":85.386033872600692},{"$f":"simvgl!U18","v":948.92360681958246},{"$f":"simvgl!V18","v":283.70453419743347},{"$f":"simvgl!W16","v":43.121763959900697},{"$f":"simvgl!X18","v":606.91471565771349},{"$f":"simvgl!Y18","v":606.91471565771349},{"$f":"simvgl!Z18","v":7.4912118592185379},{"$f":"simvgl!AD18","v":0.58678242160786864},{"$f":"simvgl!AE18","v":7.242716846577373E-3},{"$f":"simvgl!AA18","v":8.2553647876142666E-2},{"$f":"simvgl!AB18","v":0.2742936186958258},{"$f":"simvgl!AC18","v":4.9127594973585507E-2}]
[0,{"$f":"Simulatie!L19","v":7000.005874823446},{"$f":"Simulatie!M19","v":10244.464354672893},{"$f":"Simulatie!N19","v":2800.3671642678614},{"$f":"Simulatie!O19","v":1},{"$f":"Simulatie!P19","v":0.71685168033893243},{"$f":"Simulatie!AH19","v":1619.6714688394302},{"$f":"Simulatie!AF19","v":0},{"$f":"Simulatie!AI19","v":0},{"$f":"Simulatie!AG19","v":"> 46jaar"},0,{"$f":"Simulatie!S19","v":1103.4360687080894},{"$f":"Simulatie!T19","v":79.338341930732099},{"$f":"Simulatie!U19","v":1024.097726777391},{"$f":"Simulatie!V19","v":161.96714688394314},{"$f":"Simulatie!W19","v":63.090904085074961},{"$f":"Simulatie!X19","v":790.99999999998738},{"$f":"Simulatie!Y19","v":790.99999999998738},{"$f":"Simulatie!Z19","v":8.0396758083519444},{"$f":"Simulatie!AD19","v":0.71685168033893953},{"$f":"Simulatie!AE19","v":7.2860368048008918E-3},{"$f":"Simulatie!AA19","v":7.1901167798168839E-2},{"$f":"Simulatie!AB19","v":0.146784350699697},{"$f":"Simulatie!AC19","v":5.7176764358393896E-2},null,15050.086519166669,{"$f":"simvgl!L19","v":7000.0402414728696},{"$f":"simvgl!M19","v":8729.696823582166},{"$f":"simvgl!N19","v":1777.6791960090914},{"$f":"simvgl!O19","v":1},{"$f":"simvgl!P19","v":0.58135137829216177},{"$f":"simvgl!AH19","v":2889.6117538794092},{"$f":"simvgl!AF19","v":0},{"$f":"simvgl!AI19","v":0},{"$f":"simvgl!AG19","v":"> 46jaar"},0,{"$f":"simvgl!S19","v":1043.9722658620369},{"$f":"simvgl!T19","v":85.386033872600706},{"$f":"simvgl!U19","v":958.5862319894369},{"$f":"simvgl!V19","v":288.96117538794107},{"$f":"simvgl!W17","v":46.981463646180302},{"$f":"simvgl!X19","v":606.91471565771349},{"$f":"simvgl!Y19","v":606.91471565771349},{"$f":"simvgl!Z19","v":8.0899954389927871},{"$f":"simvgl!AD19","v":0.58135137829218786},{"$f":"simvgl!AE19","v":7.7492436375334673E-3},{"$f":"simvgl!AA19","v":8.1789561528337232E-2},{"$f":"simvgl!AB19","v":0.27679008804830441},{"$f":"simvgl!AC19","v":5.231972849363703E-2}]
[0,{"$f":"Simulatie!L20","v":7500.0121115819211},{"$f":"Simulatie!M20","v":10587.215231502001},{"$f":"Simulatie!N20","v":2390.8276559356232},{"$f":"Simulatie!O20","v":1},{"$f":"Simulatie!P20","v":0.52923979958103096},{"$f":"Simulatie!AH20","v":3650.2025925526787},{"$f":"Simulatie!AF20","v":0},{"$f":"Simulatie!AI20","v":0},{"$f":"Simulatie!AG20","v":"> 46jaar"},0,{"$f":"Simulatie!S20","v":1097.5862328180042},{"$f":"Simulatie!T20","v":87.175210022106668},{"$f":"Simulatie!U20","v":1010.4110227959325},{"$f":"Simulatie!V20","v":365.02025925526794},{"$f":"Simulatie!W20","v":54.492162811614918},{"$f":"Simulatie!X20","v":580.88631787955615},{"$f":"Simulatie!Y20","v":580.88631787955615},{"$f":"Simulatie!Z20","v":10.012282849458643},{"$f":"Simulatie!AD20","v":0.52923979958108269},{"$f":"Simulatie!AE20","v":9.1220922330198587E-3},{"$f":"Simulatie!AA20","v":7.9424474738798573E-2},{"$f":"Simulatie!AB20","v":0.33256636093010616},{"$f":"Simulatie!AC20","v":4.964727251699276E-2},null,16125.086519166667,{"$f":"simvgl!L20","v":7500.0402414728678},{"$f":"simvgl!M20","v":9360.226352058844},{"$f":"simvgl!N20","v":1893.8650848462685},{"$f":"simvgl!O20","v":1},{"$f":"simvgl!P20","v":0.57603616024552962},{"$f":"simvgl!AH20","v":2942.0443442441815},{"$f":"simvgl!AF20","v":0},{"$f":"simvgl!AI20","v":0},{"$f":"simvgl!AG20","v":"> 46jaar"},0,{"$f":"simvgl!S20","v":1053.6052379055227},{"$f":"simvgl!T20","v":85.38603387260072},{"$f":"simvgl!U20","v":968.21920403294803},{"$f":"simvgl!V20","v":294.20443442441854},{"$f":"simvgl!W18","v":50.813145105199467},{"$f":"simvgl!X20","v":606.91471565771349},{"$f":"simvgl!Y20","v":606.91471565771349},{"$f":"simvgl!Z20","v":8.6896151952614673},{"$f":"simvgl!AD20","v":0.57603616024556614},{"$f":"simvgl!AE20","v":8.2475056905902261E-3},{"$f":"simvgl!AA20","v":8.104177048544374E-2},{"$f":"simvgl!AB20","v":0.27923592617029108},{"$f":"simvgl!AC20","v":5.5438637408108796E-2}]
[0,{"$f":"Simulatie!L21","v":8000.005874823446},{"$f":"Simulatie!M21","v":11703.066778511344},{"$f":"Simulatie!N21","v":3181.2456473994584},{"$f":"Simulatie!O21","v":1},{"$f":"Simulatie!P21","v":0.69690727123655927},{"$f":"Simulatie!AH21","v":1834.0024226857001},{"$f":"Simulatie!AF21","v":0},{"$f":"Simulatie!AI21","v":0},{"$f":"Simulatie!AG21","v":"> 46jaar"},0,{"$f":"Simulatie!S21","v":1135.0147037445424},{"$f":"Simulatie!T21","v":79.338341930732028},{"$f":"Simulatie!U21","v":1055.6763618137852},{"$f":"Simulatie!V21","v":183.40024226857022},{"$f":"Simulatie!W21","v":72.072992550229714},{"$f":"Simulatie!X21","v":790.99999999998738},{"$f":"Simulatie!Y21","v":790.99999999998738},{"$f":"Simulatie!Z21","v":9.2031269950231263},{"$f":"Simulatie!AD21","v":0.69690727123656504},{"$f":"Simulatie!AE21","v":8.1083768912076342E-3},{"$f":"Simulatie!AA21","v":6.9900717293781153E-2},{"$f":"Simulatie!AB21","v":0.16158402324085494},{"$f":"Simulatie!AC21","v":6.3499611337591244E-2},null,17200.086519166671,{"$f":"simvgl!L21","v":8000.0402414728705},{"$f":"simvgl!M21","v":9991.0113283305618},{"$f":"simvgl!N21","v":2009.7286228944731},{"$f":"simvgl!O21","v":1},{"$f":"simvgl!P21","v":0.57083160300596647},{"$f":"simvgl!AH21","v":2994.3513602278754},{"$f":"simvgl!AF21","v":0},{"$f":"simvgl!AI21","v":0},{"$f":"simvgl!AG21","v":"> 46jaar"},0,{"$f":"simvgl!S21","v":1063.2114838451164},{"$f":"simvgl!T21","v":85.386033872600649},{"$f":"simvgl!U21","v":977.82544997252592},{"$f":"simvgl!V21","v":299.43513602278688},{"$f":"simvgl!W19","v":54.620345504788823},{"$f":"simvgl!X21","v":606.91471565771349},{"$f":"simvgl!Y21","v":606.91471565771349},{"$f":"simvgl!Z21","v":9.2899885900457093},{"$f":"simvgl!AD21","v":0.57083160300601676},{"$f":"simvgl!AE21","v":8.7376676523925039E-3},{"$f":"simvgl!AA21","v":8.0309548166091177E-2},{"$f":"simvgl!AB21","v":0.28163271425537684},{"$f":"simvgl!AC21","v":5.84884669201228E-2}]
[0,{"$f":"Simulatie!L22","v":8500.012111581922},{"$f":"Simulatie!M22","v":12007.081158024568},{"$f":"Simulatie!N22","v":2692.2118453378607},{"$f":"Simulatie!O22","v":1},{"$f":"Simulatie!P22","v":0.51745926769133366},{"$f":"Simulatie!AH22","v":3815.5469537383265},{"$f":"Simulatie!AF22","v":0},{"$f":"Simulatie!AI22","v":0},{"$f":"Simulatie!AG22","v":"> 46jaar"},0,{"$f":"Simulatie!S22","v":1122.573995961387},{"$f":"Simulatie!T22","v":87.175210022106597},{"$f":"Simulatie!U22","v":1035.3987859392464},{"$f":"Simulatie!V22","v":381.55469537383271},{"$f":"Simulatie!W22","v":61.57589249984504},{"$f":"Simulatie!X22","v":580.88631787955615},{"$f":"Simulatie!Y22","v":580.88631787955615},{"$f":"Simulatie!Z22","v":11.381880186046601},{"$f":"Simulatie!AD22","v":0.51745926769137163},{"$f":"Simulatie!AE22","v":1.0139091255449054E-2},{"$f":"Simulatie!AA22","v":7.7656537863634204E-2},{"$f":"Simulatie!AB22","v":0.33989269014472789},{"$f":"Simulatie!AC22","v":5.4852413044817271E-2},null,18275.086519166671,{"$f":"simvgl!L22","v":8500.0402414728705},{"$f":"simvgl!M22","v":10622.028096366092},{"$f":"simvgl!N22","v":2125.2996618121515},{"$f":"simvgl!O22","v":1},{"$f":"simvgl!P22","v":0.56573303969318511},{"$f":"simvgl!AH22","v":3046.5414354103732},{"$f":"simvgl!AF22","v":0},{"$f":"simvgl!AI22","v":0},{"$f":"simvgl!AG22","v":"> 46jaar"},0,{"$f":"simvgl!S22","v":1072.7934786817732},{"$f":"simvgl!T22","v":85.386033872600706},{"$f":"simvgl!U22","v":987.40744480916499},{"$f":"simvgl!V22","v":304.6541435410382},{"$f":"simvgl!W20","v":58.410438755528475},{"$f":"simvgl!X22","v":606.91471565771349},{"$f":"simvgl!Y22","v":606.91471565771349},{"$f":"simvgl!Z22","v":9.8910458316818222},{"$f":"simvgl!AD22","v":0.56573303969322963},{"$f":"simvgl!AE22","v":9.2198974250251205E-3},{"$f":"simvgl!AA22","v":7.9592237993021106E-2},{"$f":"simvgl!AB22","v":0.28398209869376817},{"$f":"simvgl!AC22","v":6.1472726194955911E-2}]
[0,{"$f":"Simulatie!L23","v":9000.0121115819202},{"$f":"Simulatie!M23","v":12717.206566113789},{"$f":"Simulatie!N23","v":2842.5575393486884},{"$f":"Simulatie!O23","v":1},{"$f":"Simulatie!P23","v":0.51177645640314362},{"$f":"Simulatie!AH23","v":3898.0145439209564},{"$f":"Simulatie!AF23","v":0},{"$f":"Simulatie!AI23","v":0},{"$f":"Simulatie!AG23","v":"> 46jaar"},0,{"$f":"Simulatie!S23","v":1135.0391574518376},{"$f":"Simulatie!T23","v":87.175210022106469},{"$f":"Simulatie!U23","v":1047.8639474297313},{"$f":"Simulatie!V23","v":389.80145439209667},{"$f":"Simulatie!W23","v":65.108743276323281},{"$f":"Simulatie!X23","v":580.88631787955615},{"$f":"Simulatie!Y23","v":580.88631787955615},{"$f":"Simulatie!Z23","v":12.067431881754942},{"$f":"Simulatie!AD23","v":0.51177645640318314},{"$f":"Simulatie!AE23","v":1.0631731779938166E-2},{"$f":"Simulatie!AA23","v":7.6803702717899866E-2},{"$f":"Simulatie!AB23","v":0.34342555658361668},{"$f":"Simulatie!AC23","v":5.7362552515362007E-2},null,19350.086519166671,{"$f":"simvgl!L23","v":9000.0402414728687},{"$f":"simvgl!M23","v":11253.256440436868},{"$f":"simvgl!N23","v":2240.6037119234447},{"$f":"simvgl!O23","v":1},{"$f":"simvgl!P23","v":0.56073621676327923},{"$f":"simvgl!AH23","v":3098.6212404075368},{"$f":"simvgl!AF23","v":0},{"$f":"simvgl!AI23","v":0},{"$f":"simvgl!AG23","v":"> 46jaar"},0,{"$f":"simvgl!S23","v":1082.353337476485},{"$f":"simvgl!T23","v":85.386033872600692},{"$f":"simvgl!U23","v":996.96730360387858},{"$f":"simvgl!V23","v":309.8621240407532},{"$f":"simvgl!W21","v":62.185609701969767},{"$f":"simvgl!X23","v":606.91471565771349},{"$f":"simvgl!Y23","v":606.91471565771349},{"$f":"simvgl!Z23","v":10.492727278399002},{"$f":"simvgl!AD23","v":0.56073621676331664},{"$f":"simvgl!AE23","v":9.6943640446130793E-3},{"$f":"simvgl!AA23","v":7.8889241540732791E-2},{"$f":"simvgl!AB23","v":0.28628555325860511},{"$f":"simvgl!AC23","v":6.43946243927324E-2}]
[]
["Waar gaat het opgevangen hemelwater naartoe bij … m³ nuttig volume? ",null,null,null,null,null,null,null,null,null,null,null,null,null,null,null,null,null,null,null,null,null,null,null,null,"Waar gaat het opgevangen hemelwater naartoe bij … m³ nuttig volume? "]
[]
["Gewenste nuttig volume:",null,null,10586.530666666669,null,"Selecteer hier het gewenste nuttige volume",null,null,null,null,null,null,null,null,null,null,null,null,null,null,null,null,null,null,null,"Gewenste nuttig volume:",null,null,10586.530666666669,null,"Selecteer hier het gewenste nuttige volume"]
[]
[]
[]
[]
[]
[]
[]
[]
[]
[]
[]
[]
[null,"Invulling waterbehoefte","bufferopbouw","opvangverlies","overloopverlies","evaporatieverlies",null,null,null,null,null,null,null,null,null,null,null,null,null,null,null,null,null,null,null,null,"Invulling waterbehoefte","bufferopbouw","opvangverlies","overloopverlies","evaporatieverlies"]
[null,{"$f":"VLOOKUP($D$37,$A$15:$X$33,18,)","v":{"$error":"#N/A"}},{"$f":"VLOOKUP($D$37,$A$15:$X$33,19,)","v":{"$error":"#N/A"}},{"$f":"VLOOKUP($D$37,$A$15:$X$33,13,)","v":{"$error":"#N/A"}},{"$f":"VLOOKUP($D$37,$A$15:$X$33,15,)","v":{"$error":"#N/A"}},{"$f":"VLOOKUP($D$37,$A$15:$X$33,16,)","v":{"$error":"#N/A"}},null,null,null,null,null,null,null,null,null,null,null,null,null,null,null,null,null,null,null,null,{"$f":"VLOOKUP($AC$37,$Z$14:$AW$33,18,)","v":606.91471565771349},{"$f":"VLOOKUP($AC$37,$Z$14:$AW$33,19,)","v":5.5844460887389005},{"$f":"VLOOKUP($AC$37,$Z$14:$AW$33,13,)","v":85.386033872600692},{"$f":"VLOOKUP($AC$37,$Z$14:$AW$33,15,)","v":267.81817836488807},{"$f":"VLOOKUP($AC$37,$Z$14:$AW$33,16,)","v":34.627514993410784}]
[null,{"$f":"B51/SUM($B$51:$F$51)","v":{"$error":"#N/A"}},{"$f":"C51/SUM($B$51:$F$51)","v":{"$error":"#N/A"}},{"$f":"D51/SUM($B$51:$F$51)","v":{"$error":"#N/A"}},{"$f":"E51/SUM($B$51:$F$51)","v":{"$error":"#N/A"}},{"$f":"F51/SUM($B$51:$F$51)","v":{"$error":"#N/A"}},null,null,null,null,null,null,null,null,null,null,null,null,null,null,null,null,null,null,null,null,{"$f":"AA51/SUM($B$51:$F$51)","v":{"$error":"#N/A"}},{"$f":"AB51/SUM($B$51:$F$51)","v":{"$error":"#N/A"}},{"$f":"AC51/SUM($B$51:$F$51)","v":{"$error":"#N/A"}},{"$f":"AD51/SUM($B$51:$F$51)","v":{"$error":"#N/A"}},{"$f":"AE51/SUM($B$51:$F$51)","v":{"$error":"#N/A"}}]

{"sheet":"Simulatie","index":5,"n_rows":16836,"n_cols":122,"rows_kept":562,"cut":true,"hidden":true,"merged":[[2,111,3,112],[2,113,3,114],[2,116,3,117],[2,118,3,119],[2,120,3,121],[2,101,3,102],[2,103,3,104],[2,105,3,106],[2,107,3,108],[2,109,3,110],[2,90,3,91],[2,92,3,93],[2,95,3,96],[2,97,3,98],[2,99,3,100],[4,116,4,117],[4,118,4,119],[4,120,4,121],[2,67,3,68],[2,63,3,64],[2,65,3,66],[2,69,3,70],[2,71,3,72],[2,73,3,74],[2,75,3,76],[2,77,3,78],[2,80,3,81],[2,82,3,83],[2,84,3,85],[2,86,3,87],[2,88,3,89],[4,105,4,106],[4,107,4,108],[4,109,4,110],[4,111,4,112],[4,113,4,114],[4,95,4,96],[4,97,4,98],[4,99,4,100],[4,101,4,102],[4,103,4,104],[1,63,1,117],[4,63,4,64],[4,65,4,66],[4,67,4,68],[4,69,4,70],[4,71,4,72],[4,73,4,74],[4,75,4,76],[4,77,4,78],[4,80,4,81],[4,82,4,83],[4,84,4,85],[4,86,4,87],[4,88,4,89],[4,90,4,91],[4,92,4,93],[32,64,32,66],[32,68,32,70],[32,72,32,78],[32,80,32,86],[32,88,32,94],[26,9,26,13],[26,14,26,15],[10,0,10,3],[31,3,31,5],[28,3,28,5],[29,3,29,5],[30,3,30,5],[16,0,16,3],[26,0,26,2],[26,3,26,8],[32,18,32,19],[32,20,32,22],[26,18,26,19],[26,20,26,22],[26,23,26,25],[32,0,32,2],[0,31,0,32],[0,26,0,30],[0,21,0,23],[3,36,3,61],[0,36,0,61],[0,1,0,9],[3,5,3,9],[5,1,5,4],[0,16,0,17],[0,18,0,20],[0,11,0,13],[0,14,0,15],[3,1,3,4],[0,24,0,25],[32,14,32,15]],"bounds":{"rows_first":250,"rows_last":62,"rows_between":250,"halvings":3}}
[null,"In de gele cellen kunnen afmetingen geplakt worden voor simulatie",null,null,null,null,null,null,null,null,null,"Uitkomst Simulatie Ronde Volumes",null,null,"Efficiëntie",null,"Opvangverhouding",null,"Opvangverliezen",null,null,"Waar blijft de opgevangen neerslag?",null,null,"Wat gebeurt er met nuttige neerslag?",null,"Bruto neerslag - Verlies/gebruikspercentages",null,null,null,null,"Terugkeerperiode watertekort",null,null,null,null,"Volumeberekeningen"]
[null,"Serre","Bedrijfsgebouwen","Bassin","Teeltoppervlakte","Lengte","Breedte","Totale diepte","Diepte Overloop","Hoogte dode zone",null,"Nuttig volume               per ha teeltopp.","Bruto volume Water  per ha teeltopp.","Netto Oppervlakte per ha teeltopp.","Hemelwater-percentage","Benuttings-percentage","Neerslag mm","Opvang-verhouding","Bruto neerslag mm","Opvang-verlies    mm","Opgevangen  neerslag       mm","Overloop-verlies       mm","Evaporatie-verlies     mm","Nuttige neerslag mm","Hemelwater-benutting     mm","Buffer-opbouw mm","Opvang-verlies-percentage","Overloop-percentage","Evaporatie-percentage","Hemelwater-benuttings percentage","Bufferopbouw","Maximaal watertekort m³/jaar per ha teeltopp.","Terugkeer-periode #jaar","Gemiddelde Overloop m³/jaar per ha teeltopp.","Gemiddeld Watertekort m³/jaar               per ha teeltopp.",null,"Nuttig volume","Bruto volume Water","%Nuttig?","Volume Dode Zone","Volume Overloop","Totaal Volume-verlies (Dode zone+Overloop)","Volume Waterniveau","Netto Oppervlakte","Bruto Oppervlakte","Oppervlakte Wal","%Nuttig?","Netto hoogte","Nuttige Lengte boven","Nuttige Lengte onder","Lengte onder","Lengte Startniveau","Nuttige Breedte boven","Nuttige Breedte onder","Breedte onder","Breedte Startniveau","Bruto volume (-aarden wallen)","%Nuttig?","Totaal Volume-verlies (aarden Wallen)","Oppervlakte bij               maximale berging","Oppervlakte bij waterniveau Dode Zone","Diepte startniveau",null,"Berekening naar ronde nuttige volumes"]
[null,{"$f":"B5","v":0},{"$f":"C5","v":0},{"$f":"AR3*D12","v":{"$error":"#DIV/0!"}},{"$f":"E5","v":0},0,0,0,0.75,0.5,null,{"$f":"AK3","v":{"$error":"#DIV/0!"}},{"$f":"AL3","v":{"$error":"#DIV/0!"}},{"$f":"AR3","v":{"$error":"#DIV/0!"}},{"$f":"Y29","v":{"$error":"#DIV/0!"}},{"$f":"Z29","v":{"$error":"#DIV/0!"}},{"$f":"B29","v":829.09999999999764},{"$f":"K29","v":{"$error":"#DIV/0!"}},{"$f":"AB29","v":{"$error":"#DIV/0!"}},{"$f":"AE29","v":{"$error":"#DIV/0!"}},{"$f":"AC29","v":{"$error":"#DIV/0!"}},{"$f":"AF29","v":{"$error":"#DIV/0!"}},{"$f":"AG29","v":{"$error":"#DIV/0!"}},{"$f":"AD29","v":{"$error":"#DIV/0!"}},{"$f":"AH29","v":{"$error":"#DIV/0!"}},{"$error":"#DIV/0!"},{"$error":"#DIV/0!"},{"$error":"#DIV/0!"},{"$error":"#DIV/0!"},{"$error":"#DIV/0!"},{"$error":"#DIV/0!"},{"$f":"$C$21","v":{"$error":"#DIV/0!"}},{"$f":"C20","v":"> 46jaar"},{"$f":"V29","v":{"$error":"#DIV/0!"}},{"$f":"$C$22","v":0},null,{"$f":"((AX3*BB3*AV3)+(AV3^2*((AX3+BB3)))+(AV3^3/3)*4)/$D$12","v":{"$error":"#DIV/0!"}},{"$f":"SUM(AK3+AO3+AN3)","v":{"$error":"#DIV/0!"}},{"$f":"AK3/BE3","v":{"$error":"#DIV/0!"}},{"$f":"((AY3*BC3*J3)+(J3^2*((AY3+BC3)))+(J3^3/3)*4)/$D$12","v":{"$error":"#DIV/0!"}},{"$f":"((AW3*BA3*I3)+(I3^2*(AW3+BA3))+(I3^3/3)*4)/$D$12","v":{"$error":"#DIV/0!"}},{"$f":"AN3+AO3","v":{"$error":"#DIV/0!"}},{"$f":"((AY3*BC3*(H3-BJ3))+((H3-BJ3)^2*((AY3+BC3)))+((H3-BJ3)^3/3)*4)/$D$12","v":{"$error":"#DIV/0!"}},{"$f":"G3*F3/$D$12","v":{"$error":"#DIV/0!"}},{"$f":"SUM((F3+(2*(Parameters!$D$5)))*(G3+2*(Parameters!$D$5)))/$D$12","v":{"$error":"#DIV/0!"}},{"$f":"2*(((2*Parameters!$D$5+G3)*Parameters!$D$5+(Parameters!$D$5*F3)))/$D$12","v":{"$error":"#DIV/0!"}},{"$f":"SUM(AR3/AS3)","v":{"$error":"#DIV/0!"}},{"$f":"H3-J3-I3","v":-1.25},{"$f":"F3-2*I3","v":-1.5},{"$f":"AW3-2*AV3","v":1},{"$f":"F3-2*H3","v":0},{"$f":"F3-2*BJ3","v":0},{"$f":"G3-(2*I3)","v":-1.5},{"$f":"BA3-2*AV3","v":1},{"$f":"G3-2*H3","v":0},{"$f":"G3-2*BJ3","v":0},{"$f":"((AY3*BC3*H3)+(H3^2*((AY3+BC3)))+(H3^3/3)*4)/$D$12","v":{"$error":"#DIV/0!"}},{"$f":"AK3/BE3","v":{"$error":"#DIV/0!"}},{"$f":"(BE3-AK3)","v":{"$error":"#DIV/0!"}},{"$f":"AW3*BA3/$D$12","v":{"$error":"#DIV/0!"}},{"$f":"SUM(AX3*BB3)/$D$12","v":{"$error":"#DIV/0!"}},0,null,"Lengte",null,"Breedte",null,"Totale diepte",null,"Diepte Overloop",null,"Hoogte dode zone",null,"Diepte Waterniveau",null,"Netto volume",null,"Bruto volume Water",null,"%Nuttig?","Volume Dode Zone",null,"Volume Overloop",null,"Totaal Volume-verlies (Dode zone+Overloop)",null,"Volume Waterniveau",null,"Netto Oppervlakte",null,"Bruto Oppervlakte",null,"Oppervlakte Wal",null,"%Nuttig?","Netto hoogte",null,"Nuttige Lengte boven",null,"Nuttige Lengte onder",null,"Lengte onder",null,"Lengte Startniveau",null,"Nuttige Breedte boven",null,"Nuttige Breedte onder",null,"Breedte onder",null,"Breedte Startniveau",null,"Bruto volume (-aarden wallen)",null,"%Nuttig?","Totaal Volume-verlies (aarden Wallen)",null,"Oppervlakte bij               maximale berging",null,"Oppervlakte bij waterniveau Dode Zone"]
[null,"Afmetingen bedrijfsgebouwen en teelt",null,null,null,"Afmetingen voor ronde nuttige volumes per ha",null,null,null,null,null,null,null,null,null,null,null,null,null,null,null,null,null,null,null,null,null,null,null,null,null,null,null,null,null,null,"Totale volumes en oppervlakken (niet per ha teeltopp.)"]
["Invulblad: AFBLIJVEN!",{"$f":"'Gegevens '!C2","v":0},{"$f":"'Gegevens '!C4","v":0},{"$f":"AR5","v":0},{"$f":"'Gegevens '!C3","v":0},{"$f":"'Gegevens '!L9","v":0},{"$f":"'Gegevens '!L10","v":0},{"$f":"'Gegevens '!$C$13","v":0},{"$f":"'Gegevens '!$C$14","v":0.75},{"$f":"'Gegevens '!$C$15","v":0.5},null,{"$error":"#DIV/0!"},{"$error":"#DIV/0!"},{"$error":"#DIV/0!"},{"$error":"#DIV/0!"},{"$error":"#DIV/0!"},829.09999999999764,{"$error":"#DIV/0!"},{"$error":"#DIV/0!"},{"$error":"#DIV/0!"},{"$error":"#DIV/0!"},{"$error":"#DIV/0!"},{"$error":"#DIV/0!"},{"$error":"#DIV/0!"},{"$error":"#DIV/0!"},{"$error":"#DIV/0!"},{"$error":"#DIV/0!"},{"$error":"#DIV/0!"},{"$error":"#DIV/0!"},{"$error":"#DIV/0!"},{"$error":"#DIV/0!"},{"$error":"#DIV/0!"},"> 46jaar",{"$error":"#DIV/0!"},0,null,{"$f":"((AX5*BB5*AV5)+(AV5^2*((AX5+BB5)))+(AV5^3/3)*4)","v":-0.72916666666666652},{"$f":"SUM(AK5+AO5+AN5)","v":1.3877787807814457E-16},{"$f":"AK5/BE5","v":{"$error":"#DIV/0!"}},{"$f":"((AY5*BC5*J5)+(J5^2*((AY5+BC5)))+(J5^3/3)*4)","v":0.16666666666666666},{"$f":"((AW5*BA5*I5)+(I5^2*(AW5+BA5))+(I5^3/3)*4)","v":0.5625},{"$f":"AN5+AO5","v":0.72916666666666663},{"$f":"((AY5*BC5*(H5-BJ5))+((H5-BJ5)^2*((AY5+BC5)))+((H5-BJ5)^3/3)*4)","v":0},{"$f":"G5*F5","v":0},{"$f":"SUM((F5+(2*(Parameters!$D$5)))*(G5+2*(Parameters!$D$5)))","v":49},{"$f":"2*(((2*Parameters!$D$5+G5)*Parameters!$D$5+(Parameters!$D$5*F5)))/$D$12","v":{"$error":"#DIV/0!"}},{"$f":"SUM(AR5/AS5)","v":0},{"$f":"H5-J5-I5","v":-1.25},{"$f":"F5-2*I5","v":-1.5},{"$f":"AW5-2*AV5","v":1},{"$f":"F5-2*H5","v":0},{"$f":"F5-2*BJ5","v":0},{"$f":"G5-(2*I5)","v":-1.5},{"$f":"BA5-2*AV5","v":1},{"$f":"G5-2*H5","v":0},{"$f":"G5-2*BJ5","v":0},{"$f":"((AY5*BC5*H5)+(H5^2*((AY5+BC5)))+(H5^3/3)*4)","v":0},{"$f":"AK5/BE5","v":{"$error":"#DIV/0!"}},{"$f":"(BE5-AK5)","v":0.72916666666666652},{"$f":"AW5*BA5","v":2.25},{"$f":"SUM(AX5*BB5)","v":1},0,null,"Lb",null,"Bb",null,"H",null,"Ho",null,"Hs",null,"Hd",null,"Vn",null,"Vb",null,null,"Vd",null,"Vo",null,"Vv",null,"Vs",null,"An",null,"Ab",null,"Av",null,"A%","Hn",null,"Lnb",null,"Lno",null,"Lo",null,"Ls",null,"Bnb",null,"Bno",null,"Bo",null,"Bs",null,null,null,null,null,null,"Am",null,"Ad"]
[null,"Bedrijfstypes",null,null,null,{"$f":"BL6","v":{"$error":"#NUM!"}},{"$f":"F6","v":{"$error":"#NUM!"}},{"$f":"'Gegevens '!$C$13","v":0},{"$f":"'Gegevens '!$C$14","v":0.75},{"$f":"'Gegevens '!$C$15","v":0.5},null,500.00587482344622,746.84410288112838,253.66291233467814,0.83395535427298795,0.73928830110853161,829.09999999999764,1.0762137488605865,892.28881918030436,79.338341930731957,812.95047724956191,148.66007426589692,4.0942688051777489,659.65868522994731,659.65868522994731,0.53744894855037728,8.891553970564782E-2,0.16660533122275653,4.5885017464848696E-3,0.73928830110853427,6.0232621657649082E-4,3079.1665131463469,1,1486.6007426589674,1313.4131477006358,null,{"$f":"L6*$E$3/10000","v":0},{"$f":"SUM(AK6+AO6+AN6)","v":{"$error":"#NUM!"}},{"$f":"AK6/BE6","v":{"$error":"#NUM!"}},{"$f":"((AY6*BC6*J6)+(J6^2*((AY6+BC6)))+(J6^3/3)*4)","v":{"$error":"#NUM!"}},{"$f":"((AW6*BA6*I6)+(I6^2*(AW6+BA6))+(I6^3/3)*4)","v":{"$error":"#NUM!"}},{"$f":"AN6+AO6","v":{"$error":"#NUM!"}},{"$f":"((AY6*BC6*(H6-BJ6))+((H6-BJ6)^2*((AY6+BC6)))+((H6-BJ6)^3/3)*4)","v":{"$error":"#NUM!"}},{"$f":"G6*F6","v":{"$error":"#NUM!"}},{"$f":"SUM((F6+(2*(Parameters!$D$5)))*(G6+2*(Parameters!$D$5)))","v":{"$error":"#NUM!"}},{"$f":"2*(((2*Parameters!$D$5+G6)*Parameters!$D$5+(Parameters!$D$5*F6)))","v":{"$error":"#NUM!"}},{"$f":"SUM(AR6/AS6)","v":{"$error":"#NUM!"}},{"$f":"H6-J6-I6","v":-1.25},{"$f":"F6-2*I6","v":{"$error":"#NUM!"}},{"$f":"AW6-2*AV6","v":{"$error":"#NUM!"}},{"$f":"F6-2*H6","v":{"$error":"#NUM!"}},{"$error":"#NUM!"},{"$f":"G6-(2*I6)","v":{"$error":"#NUM!"}},{"$f":"BA6-2*AV6","v":{"$error":"#NUM!"}},{"$f":"G6-2*H6","v":{"$error":"#NUM!"}},{"$error":"#NUM!"},{"$f":"((AY6*BC6*H6)+(H6^2*((AY6+BC6)))+(H6^3/3)*4)","v":{"$error":"#NUM!"}},{"$f":"AK6/BE6","v":{"$error":"#NUM!"}},{"$error":"#NUM!"},{"$error":"#NUM!"},{"$error":"#NUM!"},{"$f":"E6","v":0},500,{"$f":"CT6+2*BR6","v":{"$error":"#NUM!"}},"m",{"$f":"DD6+2*BR6+2*CR6","v":{"$error":"#NUM!"}},"m",{"$f":"$H$5","v":0},"m",{"$f":"$I$5","v":0.75},"m",{"$f":"$J$5","v":0.5},"m",{"$f":"$D$13*$H$5","v":0},"m",{"$f":"BK6*$E$3/10000","v":0},"m³",{"$f":"SUM(BX6+CE6+CC6)","v":{"$error":"#NUM!"}},"m³",{"$f":"BX6/BZ6","v":{"$error":"#NUM!"}},{"$f":"(CX6*DF6*BT6)+(BT6^2*((CX6+DF6)))+(BT6^3/3)*4","v":{"$error":"#NUM!"}},"m³",{"$f":"(CT6*DB6*BR6)+(BR6^2*(CT6+DB6))+(BR6^3/3)*4","v":{"$error":"#NUM!"}},"m³",{"$f":"CC6+CE6","v":{"$error":"#NUM!"}},"m³",{"$f":"(CX6*DF6*(BP6-BT6))+((BP6-BT6)^2*((CX6+DF6)))+((BP6-BT6)^3/3)*4","v":{"$error":"#NUM!"}},"m³",{"$f":"BN6*BL6","v":{"$error":"#NUM!"}},"m²",{"$f":"SUM((BL6+(2*(Parameters!$D$5)))*(BN6+2*(Parameters!$D$5)))","v":{"$error":"#NUM!"}},"m²",{"$f":"2*(((2*Parameters!$D$5+BN6)*Parameters!$D$5+(Parameters!$D$5*BL6)))","v":{"$error":"#NUM!"}},"m²",{"$f":"SUM(CK6/CM6)","v":{"$error":"#NUM!"}},{"$f":"BP6-BT6-BR6","v":-1.25},"m",{"$f":"CV6+2*CR6","v":{"$error":"#NUM!"}},"m",{"$f":"-CR6+((-1.33*(CR6^4)+4*CR6*BX6)^(1/2))/(2*CR6)","v":{"$error":"#NUM!"}},"m",{"$f":"CV6-2*BT6","v":{"$error":"#NUM!"}},"m",{"$f":"BL6-2*BV6","v":{"$error":"#NUM!"}},"m",{"$f":"DD6+2*CR6","v":{"$error":"#NUM!"}},"m",{"$f":"CV6","v":{"$error":"#NUM!"}},"m",{"$f":"DD6-2*BT6","v":{"$error":"#NUM!"}},"m",{"$f":"BN6-2*BV6","v":{"$error":"#NUM!"}},"m",{"$f":"(CX6*DF6*BP6)+(BP6^2*((CX6+DF6)))+(BP6^3/3)*4","v":{"$error":"#NUM!"}},"m³",{"$f":"BX6/DJ6","v":{"$error":"#NUM!"}},{"$f":"DJ6-BX6","v":{"$error":"#NUM!"}},"m³",{"$f":"CT6*DB6","v":{"$error":"#NUM!"}},"m²",{"$f":"SUM(CV6*DD6)","v":{"$error":"#NUM!"}},"m²"]
["Bedrijf/Situatie 1",31000,1000,{"$f":"D5","v":0},30000,{"$f":"BL7","v":{"$error":"#NUM!"}},{"$error":"#NUM!"},{"$f":"'Gegevens '!$C$13","v":0},{"$f":"'Gegevens '!$C$14","v":0.75},{"$f":"'Gegevens '!$C$15","v":0.5},null,1000.0058748234464,1480.6313598478305,463.16784535225185,0.90744780549115545,0.78907735120172784,829.09999999999764,1.0971642421623438,909.65887317683064,79.338341930732028,830.32053124607694,103.00120672770863,8.4241237496981505,717.79121414351164,717.79121414351164,1.1039866251801413,8.7217685959195018E-2,0.11323058540394845,9.2607503736849336E-3,0.7890773512017164,1.2136270614550855E-3,2473.7205332426952,1.1794871794871795,1030.012067277085,863.48824343557703,null,{"$f":"L7*$E$3/10000","v":0},{"$error":"#NUM!"},{"$error":"#NUM!"},{"$f":"((AY7*BC7*J7)+(J7^2*((AY7+BC7)))+(J7^3/3)*4)","v":{"$error":"#NUM!"}},{"$f":"((AW7*BA7*I7)+(I7^2*(AW7+BA7))+(I7^3/3)*4)","v":{"$error":"#NUM!"}},{"$f":"AN7+AO7","v":{"$error":"#NUM!"}},{"$f":"((AY7*BC7*(H7-BJ7))+((H7-BJ7)^2*((AY7+BC7)))+((H7-BJ7)^3/3)*4)","v":{"$error":"#NUM!"}},{"$f":"G7*F7","v":{"$error":"#NUM!"}},{"$f":"SUM((F7+(2*(Parameters!$D$5)))*(G7+2*(Parameters!$D$5)))","v":{"$error":"#NUM!"}},{"$f":"2*(((2*Parameters!$D$5+G7)*Parameters!$D$5+(Parameters!$D$5*F7)))","v":{"$error":"#NUM!"}},{"$error":"#NUM!"},-1.25,{"$error":"#NUM!"},{"$error":"#NUM!"},{"$error":"#NUM!"},{"$error":"#NUM!"},{"$error":"#NUM!"},{"$error":"#NUM!"},{"$error":"#NUM!"},{"$error":"#NUM!"},{"$f":"((AY7*BC7*H7)+(H7^2*((AY7+BC7)))+(H7^3/3)*4)","v":{"$error":"#NUM!"}},{"$error":"#NUM!"},{"$error":"#NUM!"},{"$error":"#NUM!"},{"$error":"#NUM!"},0,1000,{"$f":"CT7+2*BR7","v":{"$error":"#NUM!"}},"m",{"$f":"DD7+2*BR7+2*CR7","v":{"$error":"#NUM!"}},"m",{"$f":"$H$5","v":0},"m",{"$f":"$I$5","v":0.75},"m",{"$f":"$J$5","v":0.5},"m",{"$f":"$D$13*$H$5","v":0},"m",{"$f":"BK7*$E$3/10000","v":0},"m³",{"$f":"SUM(BX7+CE7+CC7)","v":{"$error":"#NUM!"}},"m³",{"$f":"BX7/BZ7","v":{"$error":"#NUM!"}},{"$f":"(CX7*DF7*BT7)+(BT7^2*((CX7+DF7)))+(BT7^3/3)*4","v":{"$error":"#NUM!"}},"m³",{"$f":"(CT7*DB7*BR7)+(BR7^2*(CT7+DB7))+(BR7^3/3)*4","v":{"$error":"#NUM!"}},"m³",{"$f":"CC7+CE7","v":{"$error":"#NUM!"}},"m³",{"$f":"(CX7*DF7*(BP7-BT7))+((BP7-BT7)^2*((CX7+DF7)))+((BP7-BT7)^3/3)*4","v":{"$error":"#NUM!"}},"m³",{"$f":"BN7*BL7","v":{"$error":"#NUM!"}},"m131",{"$f":"SUM((BL7+(2*(Parameters!$D$5)))*(BN7+2*(Parameters!$D$5)))","v":{"$error":"#NUM!"}},"m131",{"$f":"2*(((2*Parameters!$D$5+BN7)*Parameters!$D$5+(Parameters!$D$5*BL7)))","v":{"$error":"#NUM!"}},"m131",{"$f":"SUM(CK7/CM7)","v":{"$error":"#NUM!"}},{"$f":"BP7-BT7-BR7","v":-1.25},"m",{"$f":"CV7+2*CR7","v":{"$error":"#NUM!"}},"m",{"$f":"-CR7+((-1.33*(CR7^4)+4*CR7*BX7)^(1/2))/(2*CR7)","v":{"$error":"#NUM!"}},"m",{"$f":"CV7-2*BT7","v":{"$error":"#NUM!"}},"m",{"$f":"BL7-2*BV7","v":{"$error":"#NUM!"}},"m",{"$f":"DD7+2*CR7","v":{"$error":"#NUM!"}},"m",{"$f":"CV7","v":{"$error":"#NUM!"}},"m",{"$f":"DD7-2*BT7","v":{"$error":"#NUM!"}},"m",{"$f":"BN7-2*BV7","v":{"$error":"#NUM!"}},"m",{"$f":"(CX7*DF7*BP7)+(BP7^2*((CX7+DF7)))+(BP7^3/3)*4","v":{"$error":"#NUM!"}},"m132",{"$f":"BX7/DJ7","v":{"$error":"#NUM!"}},{"$f":"DJ7-BX7","v":{"$error":"#NUM!"}},"m132",{"$f":"CT7*DB7","v":{"$error":"#NUM!"}},"m131",{"$f":"SUM(CV7*DD7)","v":{"$error":"#NUM!"}},"m131"]
["Bedrijf/Situatie 2",31000,1500,{"$f":"D5","v":0},30000,{"$error":"#NUM!"},{"$error":"#NUM!"},{"$f":"'Gegevens '!$C$13","v":0},{"$f":"'Gegevens '!$C$14","v":0.75},{"$f":"'Gegevens '!$C$15","v":0.5},null,1500.0121115819209,2090.3329653125879,542.35859221942405,0.9714342519725957,0.59755918716975964,829.09999999999764,1.1389816219338067,944.32966274529622,87.175210022106469,857.1544527232096,280.31255141085188,10.667025901007609,564.29286569044086,564.29286569044086,1.8820097208893003,9.2314382848756593E-2,0.29683760075474569,1.1295870840271073E-2,0.59755918716983203,1.9929583863944706E-3,1274.7333286797493,2.4210526315789473,2803.1255141085117,401.73621089430384,null,0,{"$error":"#NUM!"},{"$error":"#NUM!"},{"$error":"#NUM!"},{"$error":"#NUM!"},{"$error":"#NUM!"},{"$error":"#NUM!"},{"$error":"#NUM!"},{"$f":"SUM((F8+(2*(Parameters!$D$5)))*(G8+2*(Parameters!$D$5)))","v":{"$error":"#NUM!"}},{"$f":"2*(((2*Parameters!$D$5+G8)*Parameters!$D$5+(Parameters!$D$5*F8)))","v":{"$error":"#NUM!"}},{"$error":"#NUM!"},-1.25,{"$error":"#NUM!"},{"$error":"#NUM!"},{"$error":"#NUM!"},{"$error":"#NUM!"},{"$error":"#NUM!"},{"$error":"#NUM!"},{"$error":"#NUM!"},{"$error":"#NUM!"},{"$error":"#NUM!"},{"$error":"#NUM!"},{"$error":"#NUM!"},{"$error":"#NUM!"},{"$error":"#NUM!"},0,1500,{"$error":"#NUM!"},"m",{"$error":"#NUM!"},"m",0,"m",0.75,"m",0.5,"m",0,"m",0,"m³",{"$error":"#NUM!"},"m³",{"$error":"#NUM!"},{"$error":"#NUM!"},"m³",{"$error":"#NUM!"},"m³",{"$error":"#NUM!"},"m³",{"$error":"#NUM!"},"m³",{"$error":"#NUM!"},"m132",{"$f":"SUM((BL8+(2*(Parameters!$D$5)))*(BN8+2*(Parameters!$D$5)))","v":{"$error":"#NUM!"}},"m132",{"$f":"2*(((2*Parameters!$D$5+BN8)*Parameters!$D$5+(Parameters!$D$5*BL8)))","v":{"$error":"#NUM!"}},"m132",{"$error":"#NUM!"},-1.25,"m",{"$error":"#NUM!"},"m",{"$error":"#NUM!"},"m",{"$error":"#NUM!"},"m",{"$error":"#NUM!"},"m",{"$error":"#NUM!"},"m",{"$error":"#NUM!"},"m",{"$error":"#NUM!"},"m",{"$error":"#NUM!"},"m",{"$error":"#NUM!"},"m133",{"$error":"#NUM!"},{"$error":"#NUM!"},"m133",{"$error":"#NUM!"},"m132",{"$error":"#NUM!"},"m132"]
["Bedrijf/Situatie 3",31000,2000,{"$f":"D5","v":0},30000,{"$error":"#NUM!"},{"$error":"#NUM!"},{"$f":"'Gegevens '!$C$13","v":0},{"$f":"'Gegevens '!$C$14","v":0.75},{"$f":"'Gegevens '!$C$15","v":0.5},null,2000.0058748234464,2944.3820984193812,865.92666609952528,0.96921197628295441,0.81294243872254601,829.09999999999764,1.1374401242370711,943.05160700494957,79.338341930732028,863.71326507421395,77.412015498239512,17.406558918351969,766.64667323981041,766.64667323981041,2.2480174178157313,8.4129374618960404E-2,8.2086722426669076E-2,1.8457694986209392E-2,0.81294243872253613,2.3837692456251044E-3,2200.1746605716921,2.875,774.12015498239714,700.15814435524646,null,0,{"$error":"#NUM!"},{"$error":"#NUM!"},{"$error":"#NUM!"},{"$error":"#NUM!"},{"$error":"#NUM!"},{"$error":"#NUM!"},{"$error":"#NUM!"},{"$f":"SUM((F9+(2*(Parameters!$D$5)))*(G9+2*(Parameters!$D$5)))","v":{"$error":"#NUM!"}},{"$f":"2*(((2*Parameters!$D$5+G9)*Parameters!$D$5+(Parameters!$D$5*F9)))","v":{"$error":"#NUM!"}},{"$error":"#NUM!"},-1.25,{"$error":"#NUM!"},{"$error":"#NUM!"},{"$error":"#NUM!"},{"$error":"#NUM!"},{"$error":"#NUM!"},{"$error":"#NUM!"},{"$error":"#NUM!"},{"$error":"#NUM!"},{"$error":"#NUM!"},{"$error":"#NUM!"},{"$error":"#NUM!"},{"$error":"#NUM!"},{"$error":"#NUM!"},0,2000,{"$error":"#NUM!"},"m",{"$error":"#NUM!"},"m",0,"m",0.75,"m",0.5,"m",0,"m",0,"m³",{"$error":"#NUM!"},"m³",{"$error":"#NUM!"},{"$error":"#NUM!"},"m³",{"$error":"#NUM!"},"m³",{"$error":"#NUM!"},"m³",{"$error":"#NUM!"},"m³",{"$error":"#NUM!"},"m133",{"$f":"SUM((BL9+(2*(Parameters!$D$5)))*(BN9+2*(Parameters!$D$5)))","v":{"$error":"#NUM!"}},"m133",{"$f":"2*(((2*Parameters!$D$5+BN9)*Parameters!$D$5+(Parameters!$D$5*BL9)))","v":{"$error":"#NUM!"}},"m133",{"$error":"#NUM!"},-1.25,"m",{"$error":"#NUM!"},"m",{"$error":"#NUM!"},"m",{"$error":"#NUM!"},"m",{"$error":"#NUM!"},"m",{"$error":"#NUM!"},"m",{"$error":"#NUM!"},"m",{"$error":"#NUM!"},"m",{"$error":"#NUM!"},"m",{"$error":"#NUM!"},"m134",{"$error":"#NUM!"},{"$error":"#NUM!"},"m134",{"$error":"#NUM!"},"m133",{"$error":"#NUM!"},"m133"]
[null,null,null,null,null,{"$error":"#NUM!"},{"$error":"#NUM!"},{"$f":"'Gegevens '!$C$13","v":0},{"$f":"'Gegevens '!$C$14","v":0.75},{"$f":"'Gegevens '!$C$15","v":0.5},null,2500.0121115819202,3501.3454698883402,859.67894112592501,0.99896373672032124,0.59783766192233156,829.09999999999764,1.1707136568244569,970.63869287317402,87.175210022106668,883.46348285105432,281.6899162433055,18.272235874619746,580.28436671866916,580.28436671866916,3.216964014473092,8.9812214021739181E-2,0.2902108872349598,1.8824961346360875E-2,0.59783766192235499,3.3142754745852979E-3,276.8975340077161,46,2816.8991624330524,276.8975340077161,null,0,{"$error":"#NUM!"},{"$error":"#NUM!"},{"$error":"#NUM!"},{"$error":"#NUM!"},{"$error":"#NUM!"},{"$error":"#NUM!"},{"$error":"#NUM!"},{"$f":"SUM((F10+(2*(Parameters!$D$5)))*(G10+2*(Parameters!$D$5)))","v":{"$error":"#NUM!"}},{"$f":"2*(((2*Parameters!$D$5+G10)*Parameters!$D$5+(Parameters!$D$5*F10)))","v":{"$error":"#NUM!"}},{"$error":"#NUM!"},-1.25,{"$error":"#NUM!"},{"$error":"#NUM!"},{"$error":"#NUM!"},{"$error":"#NUM!"},{"$error":"#NUM!"},{"$error":"#NUM!"},{"$error":"#NUM!"},{"$error":"#NUM!"},{"$error":"#NUM!"},{"$error":"#NUM!"},{"$error":"#NUM!"},{"$error":"#NUM!"},{"$error":"#NUM!"},{"$f":"E10","v":0},2500,{"$error":"#NUM!"},"m",{"$error":"#NUM!"},"m",0,"m",0.75,"m",0.5,"m",0,"m",0,"m³",{"$error":"#NUM!"},"m³",{"$error":"#NUM!"},{"$error":"#NUM!"},"m³",{"$error":"#NUM!"},"m³",{"$error":"#NUM!"},"m³",{"$error":"#NUM!"},"m³",{"$error":"#NUM!"},"m134",{"$f":"SUM((BL10+(2*(Parameters!$D$5)))*(BN10+2*(Parameters!$D$5)))","v":{"$error":"#NUM!"}},"m134",{"$f":"2*(((2*Parameters!$D$5+BN10)*Parameters!$D$5+(Parameters!$D$5*BL10)))","v":{"$error":"#NUM!"}},"m134",{"$error":"#NUM!"},-1.25,"m",{"$error":"#NUM!"},"m",{"$error":"#NUM!"},"m",{"$error":"#NUM!"},"m",{"$error":"#NUM!"},"m",{"$error":"#NUM!"},"m",{"$error":"#NUM!"},"m",{"$error":"#NUM!"},"m",{"$error":"#NUM!"},"m",{"$error":"#NUM!"},"m135",{"$error":"#NUM!"},{"$error":"#NUM!"},"m135",{"$error":"#NUM!"},"m134",{"$error":"#NUM!"},"m134"]
["Parameters voor de simulatie (afblijven)",null,null,null,null,{"$error":"#NUM!"},{"$error":"#NUM!"},{"$f":"'Gegevens '!$C$13","v":0},{"$f":"'Gegevens '!$C$14","v":0.75},{"$f":"'Gegevens '!$C$15","v":0.5},null,3000.005874823446,4405.9885386428195,1259.5722188673219,0.98656800089330832,0.79981990248467405,829.09999999999764,1.1768046795138507,975.68875978492429,79.338341930731985,896.35041785421458,86.095550431078252,26.479343802545547,780.37528870660151,780.37528870660151,3.4002349139669832,8.131521567207653E-2,8.824079356008642E-2,2.7139129704007777E-2,0.79981990248470558,3.4849585791236473E-3,1841.240856204229,7.666666666666667,860.95550431078289,814.56119916012028,null,0,{"$error":"#NUM!"},{"$error":"#NUM!"},{"$error":"#NUM!"},{"$error":"#NUM!"},{"$error":"#NUM!"},{"$error":"#NUM!"},{"$error":"#NUM!"},{"$f":"SUM((F11+(2*(Parameters!$D$5)))*(G11+2*(Parameters!$D$5)))","v":{"$error":"#NUM!"}},{"$f":"2*(((2*Parameters!$D$5+G11)*Parameters!$D$5+(Parameters!$D$5*F11)))","v":{"$error":"#NUM!"}},{"$error":"#NUM!"},-1.25,{"$error":"#NUM!"},{"$error":"#NUM!"},{"$error":"#NUM!"},{"$error":"#NUM!"},{"$error":"#NUM!"},{"$error":"#NUM!"},{"$error":"#NUM!"},{"$error":"#NUM!"},{"$error":"#NUM!"},{"$error":"#NUM!"},{"$error":"#NUM!"},{"$error":"#NUM!"},{"$error":"#NUM!"},0,3000,{"$error":"#NUM!"},"m",{"$error":"#NUM!"},"m",0,"m",0.75,"m",0.5,"m",0,"m",0,"m³",{"$error":"#NUM!"},"m³",{"$error":"#NUM!"},{"$error":"#NUM!"},"m³",{"$error":"#NUM!"},"m³",{"$error":"#NUM!"},"m³",{"$error":"#NUM!"},"m³",{"$error":"#NUM!"},"m135",{"$f":"SUM((BL11+(2*(Parameters!$D$5)))*(BN11+2*(Parameters!$D$5)))","v":{"$error":"#NUM!"}},"m135",{"$f":"2*(((2*Parameters!$D$5+BN11)*Parameters!$D$5+(Parameters!$D$5*BL11)))","v":{"$error":"#NUM!"}},"m135",{"$error":"#NUM!"},-1.25,"m",{"$error":"#NUM!"},"m",{"$error":"#NUM!"},"m",{"$error":"#NUM!"},"m",{"$error":"#NUM!"},"m",{"$error":"#NUM!"},"m",{"$error":"#NUM!"},"m",{"$error":"#NUM!"},"m",{"$error":"#NUM!"},"m",{"$error":"#NUM!"},"m136",{"$error":"#NUM!"},{"$error":"#NUM!"},"m136",{"$error":"#NUM!"},"m135",{"$error":"#NUM!"},"m135"]
["#ha teeltoppervlak",null,null,{"$f":"E3/10000","v":0},null,{"$error":"#NUM!"},{"$error":"#NUM!"},{"$f":"'Gegevens '!$C$13","v":0},{"$f":"'Gegevens '!$C$14","v":0.75},{"$f":"'Gegevens '!$C$15","v":0.5},null,3500.0121115819211,4915.6505338713678,1171.0726830993362,1,0.582952097233011,829.09999999999764,1.2018530310217981,996.4563480201557,87.175210022106597,909.28113799803805,298.12663990354713,25.703378262739761,580.88631787955615,580.88631787955615,4.5648019522060395,8.7485227220754552E-2,0.29918685399103584,2.579478600724399E-2,0.58295209723307051,4.5810355478950746E-3,0,"> 46jaar",2981.2663990354763,0,null,0,{"$error":"#NUM!"},{"$error":"#NUM!"},{"$error":"#NUM!"},{"$error":"#NUM!"},{"$error":"#NUM!"},{"$error":"#NUM!"},{"$error":"#NUM!"},{"$f":"SUM((F12+(2*(Parameters!$D$5)))*(G12+2*(Parameters!$D$5)))","v":{"$error":"#NUM!"}},{"$f":"2*(((2*Parameters!$D$5+G12)*Parameters!$D$5+(Parameters!$D$5*F12)))","v":{"$error":"#NUM!"}},{"$error":"#NUM!"},-1.25,{"$error":"#NUM!"},{"$error":"#NUM!"},{"$error":"#NUM!"},{"$error":"#NUM!"},{"$error":"#NUM!"},{"$error":"#NUM!"},{"$error":"#NUM!"},{"$error":"#NUM!"},{"$error":"#NUM!"},{"$error":"#NUM!"},{"$error":"#NUM!"},{"$error":"#NUM!"},{"$error":"#NUM!"},0,3500,{"$error":"#NUM!"},"m",{"$error":"#NUM!"},"m",0,"m",0.75,"m",0.5,"m",0,"m",0,"m³",{"$error":"#NUM!"},"m³",{"$error":"#NUM!"},{"$error":"#NUM!"},"m³",{"$error":"#NUM!"},"m³",{"$error":"#NUM!"},"m³",{"$error":"#NUM!"},"m³",{"$error":"#NUM!"},"m136",{"$f":"SUM((BL12+(2*(Parameters!$D$5)))*(BN12+2*(Parameters!$D$5)))","v":{"$error":"#NUM!"}},"m136",{"$f":"2*(((2*Parameters!$D$5+BN12)*Parameters!$D$5+(Parameters!$D$5*BL12)))","v":{"$error":"#NUM!"}},"m136",{"$error":"#NUM!"},-1.25,"m",{"$error":"#NUM!"},"m",{"$error":"#NUM!"},"m",{"$error":"#NUM!"},"m",{"$error":"#NUM!"},"m",{"$error":"#NUM!"},"m",{"$error":"#NUM!"},"m",{"$error":"#NUM!"},"m",{"$error":"#NUM!"},"m",{"$error":"#NUM!"},"m137",{"$error":"#NUM!"},{"$error":"#NUM!"},"m137",{"$error":"#NUM!"},"m136",{"$error":"#NUM!"},"m136"]
["Gemiddelde waterstand W1",null,null,0.64,null,{"$error":"#NUM!"},{"$error":"#NUM!"},{"$f":"'Gegevens '!$C$13","v":0},{"$f":"'Gegevens '!$C$14","v":0.75},{"$f":"'Gegevens '!$C$15","v":0.5},null,4000.005874823446,5866.4858446009648,1648.5039510076181,0.99804534661605293,0.78323879904890503,829.09999999999764,1.2156978527278803,1007.9350896966835,79.338341930731971,928.59674776596717,99.013774836920405,35.572111459978679,789.45386917328392,789.45386917328392,4.5569922957683957,7.8713741332893911E-2,9.8234277037340251E-2,3.5292065752650148E-2,0.78323879904890825,4.521116828207385E-3,567.06184474669624,15.333333333333334,990.13774836920402,237.07339342765621,null,0,{"$error":"#NUM!"},{"$error":"#NUM!"},{"$error":"#NUM!"},{"$error":"#NUM!"},{"$error":"#NUM!"},{"$error":"#NUM!"},{"$error":"#NUM!"},{"$f":"SUM((F13+(2*(Parameters!$D$5)))*(G13+2*(Parameters!$D$5)))","v":{"$error":"#NUM!"}},{"$f":"2*(((2*Parameters!$D$5+G13)*Parameters!$D$5+(Parameters!$D$5*F13)))","v":{"$error":"#NUM!"}},{"$error":"#NUM!"},-1.25,{"$error":"#NUM!"},{"$error":"#NUM!"},{"$error":"#NUM!"},{"$error":"#NUM!"},{"$error":"#NUM!"},{"$error":"#NUM!"},{"$error":"#NUM!"},{"$error":"#NUM!"},{"$error":"#NUM!"},{"$error":"#NUM!"},{"$error":"#NUM!"},{"$error":"#NUM!"},{"$error":"#NUM!"},0,4000,{"$error":"#NUM!"},"m",{"$error":"#NUM!"},"m",0,"m",0.75,"m",0.5,"m",0,"m",0,"m³",{"$error":"#NUM!"},"m³",{"$error":"#NUM!"},{"$error":"#NUM!"},"m³",{"$error":"#NUM!"},"m³",{"$error":"#NUM!"},"m³",{"$error":"#NUM!"},"m³",{"$error":"#NUM!"},"m137",{"$f":"SUM((BL13+(2*(Parameters!$D$5)))*(BN13+2*(Parameters!$D$5)))","v":{"$error":"#NUM!"}},"m137",{"$f":"2*(((2*Parameters!$D$5+BN13)*Parameters!$D$5+(Parameters!$D$5*BL13)))","v":{"$error":"#NUM!"}},"m137",{"$error":"#NUM!"},-1.25,"m",{"$error":"#NUM!"},"m",{"$error":"#NUM!"},"m",{"$error":"#NUM!"},"m",{"$error":"#NUM!"},"m",{"$error":"#NUM!"},"m",{"$error":"#NUM!"},"m",{"$error":"#NUM!"},"m",{"$error":"#NUM!"},"m",{"$error":"#NUM!"},"m138",{"$error":"#NUM!"},{"$error":"#NUM!"},"m138",{"$error":"#NUM!"},"m137",{"$error":"#NUM!"},"m137"]
["Aantal jaren simulatie",null,null,46,null,{"$error":"#NUM!"},{"$error":"#NUM!"},{"$f":"'Gegevens '!$C$13","v":0},{"$f":"'Gegevens '!$C$14","v":0.75},{"$f":"'Gegevens '!$C$15","v":0.5},null,5000.0058748234469,7326.2745853835913,2034.4242811519582,1,0.76062684340503184,829.09999999999764,1.2542898857423146,1039.9317442689562,79.338341930732085,960.59340233822547,119.02639999051361,44.850749611198978,790.99999999998738,790.99999999998738,5.7162527365240976,7.6291874315755973E-2,0.11445597333331327,4.3128551328844987E-2,0.76062684340503417,5.496757617051558E-3,0,"> 46jaar",1190.263999905138,0,null,0,{"$error":"#NUM!"},{"$error":"#NUM!"},{"$error":"#NUM!"},{"$error":"#NUM!"},{"$error":"#NUM!"},{"$error":"#NUM!"},{"$error":"#NUM!"},{"$f":"SUM((F14+(2*(Parameters!$D$5)))*(G14+2*(Parameters!$D$5)))","v":{"$error":"#NUM!"}},{"$f":"2*(((2*Parameters!$D$5+G14)*Parameters!$D$5+(Parameters!$D$5*F14)))","v":{"$error":"#NUM!"}},{"$error":"#NUM!"},-1.25,{"$error":"#NUM!"},{"$error":"#NUM!"},{"$error":"#NUM!"},{"$error":"#NUM!"},{"$error":"#NUM!"},{"$error":"#NUM!"},{"$error":"#NUM!"},{"$error":"#NUM!"},{"$error":"#NUM!"},{"$error":"#NUM!"},{"$error":"#NUM!"},{"$error":"#NUM!"},{"$error":"#NUM!"},0,4500,{"$error":"#NUM!"},"m",{"$error":"#NUM!"},"m",0,"m",0.75,"m",0.5,"m",0,"m",0,"m³",{"$error":"#NUM!"},"m³",{"$error":"#NUM!"},{"$error":"#NUM!"},"m³",{"$error":"#NUM!"},"m³",{"$error":"#NUM!"},"m³",{"$error":"#NUM!"},"m³",{"$error":"#NUM!"},"m138",{"$f":"SUM((BL14+(2*(Parameters!$D$5)))*(BN14+2*(Parameters!$D$5)))","v":{"$error":"#NUM!"}},"m138",{"$f":"2*(((2*Parameters!$D$5+BN14)*Parameters!$D$5+(Parameters!$D$5*BL14)))","v":{"$error":"#NUM!"}},"m138",{"$error":"#NUM!"},-1.25,"m",{"$error":"#NUM!"},"m",{"$error":"#NUM!"},"m",{"$error":"#NUM!"},"m",{"$error":"#NUM!"},"m",{"$error":"#NUM!"},"m",{"$error":"#NUM!"},"m",{"$error":"#NUM!"},"m",{"$error":"#NUM!"},"m",{"$error":"#NUM!"},"m139",{"$error":"#NUM!"},{"$error":"#NUM!"},"m139",{"$error":"#NUM!"},"m138",{"$error":"#NUM!"},"m138"]
["Aantal weken simulatie",null,null,{"$f":"D14*52","v":2392},null,{"$error":"#NUM!"},{"$error":"#NUM!"},{"$f":"'Gegevens '!$C$13","v":0},{"$f":"'Gegevens '!$C$14","v":0.75},{"$f":"'Gegevens '!$C$15","v":0.5},null,5000.0121115819202,7040.5250366726104,1632.0128637713808,1,0.56142025057188227,829.09999999999764,1.2479470490890026,1034.6728983997025,87.175210022106626,947.49768837755744,323.39437182411223,36.617069612708178,580.88631787955615,580.88631787955615,6.5999290612193136,8.42538836737078E-2,0.31255711087465093,3.5389995881155004E-2,0.56142025057193978,6.3787589985465224E-3,0,"> 46jaar",3233.9437182411248,0,null,0,{"$error":"#NUM!"},{"$error":"#NUM!"},{"$error":"#NUM!"},{"$error":"#NUM!"},{"$error":"#NUM!"},{"$error":"#NUM!"},{"$error":"#NUM!"},{"$f":"SUM((F15+(2*(Parameters!$D$5)))*(G15+2*(Parameters!$D$5)))","v":{"$error":"#NUM!"}},{"$f":"2*(((2*Parameters!$D$5+G15)*Parameters!$D$5+(Parameters!$D$5*F15)))","v":{"$error":"#NUM!"}},{"$error":"#NUM!"},-1.25,{"$error":"#NUM!"},{"$error":"#NUM!"},{"$error":"#NUM!"},{"$error":"#NUM!"},{"$error":"#NUM!"},{"$error":"#NUM!"},{"$error":"#NUM!"},{"$error":"#NUM!"},{"$error":"#NUM!"},{"$error":"#NUM!"},{"$error":"#NUM!"},{"$error":"#NUM!"},{"$error":"#NUM!"},0,5000,{"$error":"#NUM!"},"m",{"$error":"#NUM!"},"m",0,"m",0.75,"m",0.5,"m",0,"m",0,"m³",{"$error":"#NUM!"},"m³",{"$error":"#NUM!"},{"$error":"#NUM!"},"m³",{"$error":"#NUM!"},"m³",{"$error":"#NUM!"},"m³",{"$error":"#NUM!"},"m³",{"$error":"#NUM!"},"m139",{"$f":"SUM((BL15+(2*(Parameters!$D$5)))*(BN15+2*(Parameters!$D$5)))","v":{"$error":"#NUM!"}},"m139",{"$f":"2*(((2*Parameters!$D$5+BN15)*Parameters!$D$5+(Parameters!$D$5*BL15)))","v":{"$error":"#NUM!"}},"m139",{"$error":"#NUM!"},-1.25,"m",{"$error":"#NUM!"},"m",{"$error":"#NUM!"},"m",{"$error":"#NUM!"},"m",{"$error":"#NUM!"},"m",{"$error":"#NUM!"},"m",{"$error":"#NUM!"},"m",{"$error":"#NUM!"},"m",{"$error":"#NUM!"},"m",{"$error":"#NUM!"},"m140",{"$error":"#NUM!"},{"$error":"#NUM!"},"m140",{"$error":"#NUM!"},"m139",{"$error":"#NUM!"},"m139"]
["Aantal dagen simulatie",null,null,{"$f":"COUNT(A35:A16834)","v":16800},null,{"$error":"#NUM!"},{"$error":"#NUM!"},{"$f":"'Gegevens '!$C$13","v":0},{"$f":"'Gegevens '!$C$14","v":0.75},{"$f":"'Gegevens '!$C$15","v":0.5},null,5500.0121115819175,7749.4378512451494,1784.5412261122333,1,0.55464123543742461,829.09999999999764,1.2631998853230877,1047.3190249213642,87.175210022106597,960.14381489925984,331.759862515078,40.216898568848315,580.88631787955615,580.88631787955615,7.2807359357750556,8.3236538196803947E-2,0.31677058720477985,3.8399854878858823E-2,0.55464123543747412,6.9517842820832126E-3,0,"> 46jaar",3317.5986251507798,0,null,0,{"$error":"#NUM!"},{"$error":"#NUM!"},{"$error":"#NUM!"},{"$error":"#NUM!"},{"$error":"#NUM!"},{"$error":"#NUM!"},{"$error":"#NUM!"},{"$f":"SUM((F16+(2*(Parameters!$D$5)))*(G16+2*(Parameters!$D$5)))","v":{"$error":"#NUM!"}},{"$f":"2*(((2*Parameters!$D$5+G16)*Parameters!$D$5+(Parameters!$D$5*F16)))","v":{"$error":"#NUM!"}},{"$error":"#NUM!"},-1.25,{"$error":"#NUM!"},{"$error":"#NUM!"},{"$error":"#NUM!"},{"$error":"#NUM!"},{"$error":"#NUM!"},{"$error":"#NUM!"},{"$error":"#NUM!"},{"$error":"#NUM!"},{"$error":"#NUM!"},{"$error":"#NUM!"},{"$error":"#NUM!"},{"$error":"#NUM!"},{"$error":"#NUM!"},0,5500,{"$error":"#NUM!"},"m",{"$error":"#NUM!"},"m",0,"m",0.75,"m",0.5,"m",0,"m",0,"m³",{"$error":"#NUM!"},"m³",{"$error":"#NUM!"},{"$error":"#NUM!"},"m³",{"$error":"#NUM!"},"m³",{"$error":"#NUM!"},"m³",{"$error":"#NUM!"},"m³",{"$error":"#NUM!"},"m140",{"$f":"SUM((BL16+(2*(Parameters!$D$5)))*(BN16+2*(Parameters!$D$5)))","v":{"$error":"#NUM!"}},"m140",{"$f":"2*(((2*Parameters!$D$5+BN16)*Parameters!$D$5+(Parameters!$D$5*BL16)))","v":{"$error":"#NUM!"}},"m140",{"$error":"#NUM!"},-1.25,"m",{"$error":"#NUM!"},"m",{"$error":"#NUM!"},"m",{"$error":"#NUM!"},"m",{"$error":"#NUM!"},"m",{"$error":"#NUM!"},"m",{"$error":"#NUM!"},"m",{"$error":"#NUM!"},"m",{"$error":"#NUM!"},"m",{"$error":"#NUM!"},"m141",{"$error":"#NUM!"},{"$error":"#NUM!"},"m141",{"$error":"#NUM!"},"m140",{"$error":"#NUM!"},"m140"]
["Parameters voor watertekorten",null,null,null,null,{"$error":"#NUM!"},{"$error":"#NUM!"},{"$f":"'Gegevens '!$C$13","v":0},{"$f":"'Gegevens '!$C$14","v":0.75},{"$f":"'Gegevens '!$C$15","v":0.5},null,6000.0058748234469,8785.5601049567194,2418.2059211559367,1,0.73804450933627086,829.09999999999764,1.2926680497427123,1071.7510800417015,79.338341930732071,992.41273811097403,140.52121254350527,54.014234725857023,790.99999999998738,790.99999999998738,6.8772908416196969,7.4026836462478804E-2,0.13111366543996172,5.0398115506219358E-2,0.73804450933626287,6.416873255077199E-3,0,"> 46jaar",1405.2121254350534,0,null,0,{"$f":"SUM(AK17+AO17+AN17)","v":{"$error":"#NUM!"}},{"$f":"AK17/BE17","v":{"$error":"#NUM!"}},{"$error":"#NUM!"},{"$error":"#NUM!"},{"$f":"AN17+AO17","v":{"$error":"#NUM!"}},{"$error":"#NUM!"},{"$error":"#NUM!"},{"$f":"SUM((F17+(2*(Parameters!$D$5)))*(G17+2*(Parameters!$D$5)))","v":{"$error":"#NUM!"}},{"$f":"2*(((2*Parameters!$D$5+G17)*Parameters!$D$5+(Parameters!$D$5*F17)))","v":{"$error":"#NUM!"}},{"$f":"SUM(AR17/AS17)","v":{"$error":"#NUM!"}},{"$f":"H17-J17-I17","v":-1.25},{"$f":"F17-2*I17","v":{"$error":"#NUM!"}},{"$f":"AW17-2*AV17","v":{"$error":"#NUM!"}},{"$f":"F17-2*H17","v":{"$error":"#NUM!"}},{"$f":"F17-2*BJ17","v":{"$error":"#NUM!"}},{"$f":"G17-(2*I17)","v":{"$error":"#NUM!"}},{"$f":"BA17-2*AV17","v":{"$error":"#NUM!"}},{"$f":"G17-2*H17","v":{"$error":"#NUM!"}},{"$f":"G17-2*BJ17","v":{"$error":"#NUM!"}},{"$error":"#NUM!"},{"$f":"AK17/BE17","v":{"$error":"#NUM!"}},{"$error":"#NUM!"},{"$error":"#NUM!"},{"$error":"#NUM!"},{"$f":"E17","v":0},6000,{"$error":"#NUM!"},"m",{"$error":"#NUM!"},"m",0,"m",0.75,"m",0.5,"m",0,"m",0,"m³",{"$error":"#NUM!"},"m³",{"$error":"#NUM!"},{"$error":"#NUM!"},"m³",{"$error":"#NUM!"},"m³",{"$error":"#NUM!"},"m³",{"$error":"#NUM!"},"m³",{"$error":"#NUM!"},"m141",{"$f":"SUM((BL17+(2*(Parameters!$D$5)))*(BN17+2*(Parameters!$D$5)))","v":{"$error":"#NUM!"}},"m141",{"$f":"2*(((2*Parameters!$D$5+BN17)*Parameters!$D$5+(Parameters!$D$5*BL17)))","v":{"$error":"#NUM!"}},"m141",{"$error":"#NUM!"},-1.25,"m",{"$error":"#NUM!"},"m",{"$error":"#NUM!"},"m",{"$error":"#NUM!"},"m",{"$error":"#NUM!"},"m",{"$error":"#NUM!"},"m",{"$error":"#NUM!"},"m",{"$error":"#NUM!"},"m",{"$error":"#NUM!"},"m",{"$error":"#NUM!"},"m142",{"$error":"#NUM!"},{"$error":"#NUM!"},"m142",{"$error":"#NUM!"},"m141",{"$error":"#NUM!"},"m141"]
["Poisson coëfficiënten",null,null,null,null,{"$error":"#NUM!"},{"$error":"#NUM!"},{"$f":"'Gegevens '!$C$13","v":0},{"$f":"'Gegevens '!$C$14","v":0.75},{"$f":"'Gegevens '!$C$15","v":0.5},null,6500.0121115819211,9167.9521766067446,2088.3582976042285,1,0.5416146527417306,829.09999999999764,1.2935815924722873,1072.5084983187085,87.175210022106668,985.33328829669495,348.42400934843374,47.377916547709802,580.88631787955615,580.88631787955615,8.6450445209021609,8.1281603044418518E-2,0.32486829698285102,4.4174863529734848E-2,0.54161465274183684,8.0605837011588737E-3,0,"> 46jaar",3484.2400934843363,0,null,0,{"$error":"#NUM!"},{"$error":"#NUM!"},{"$error":"#NUM!"},{"$error":"#NUM!"},{"$error":"#NUM!"},{"$error":"#NUM!"},{"$error":"#NUM!"},{"$f":"SUM((F18+(2*(Parameters!$D$5)))*(G18+2*(Parameters!$D$5)))","v":{"$error":"#NUM!"}},{"$f":"2*(((2*Parameters!$D$5+G18)*Parameters!$D$5+(Parameters!$D$5*F18)))","v":{"$error":"#NUM!"}},{"$error":"#NUM!"},-1.25,{"$error":"#NUM!"},{"$error":"#NUM!"},{"$error":"#NUM!"},{"$error":"#NUM!"},{"$error":"#NUM!"},{"$error":"#NUM!"},{"$error":"#NUM!"},{"$error":"#NUM!"},{"$error":"#NUM!"},{"$error":"#NUM!"},{"$error":"#NUM!"},{"$error":"#NUM!"},{"$error":"#NUM!"},0,6500,{"$error":"#NUM!"},"m",{"$error":"#NUM!"},"m",0,"m",0.75,"m",0.5,"m",0,"m",0,"m³",{"$error":"#NUM!"},"m³",{"$error":"#NUM!"},{"$error":"#NUM!"},"m³",{"$error":"#NUM!"},"m³",{"$error":"#NUM!"},"m³",{"$error":"#NUM!"},"m³",{"$error":"#NUM!"},"m142",{"$f":"SUM((BL18+(2*(Parameters!$D$5)))*(BN18+2*(Parameters!$D$5)))","v":{"$error":"#NUM!"}},"m142",{"$f":"2*(((2*Parameters!$D$5+BN18)*Parameters!$D$5+(Parameters!$D$5*BL18)))","v":{"$error":"#NUM!"}},"m142",{"$error":"#NUM!"},-1.25,"m",{"$error":"#NUM!"},"m",{"$error":"#NUM!"},"m",{"$error":"#NUM!"},"m",{"$error":"#NUM!"},"m",{"$error":"#NUM!"},"m",{"$error":"#NUM!"},"m",{"$error":"#NUM!"},"m",{"$error":"#NUM!"},"m",{"$error":"#NUM!"},"m143",{"$error":"#NUM!"},{"$error":"#NUM!"},"m143",{"$error":"#NUM!"},"m142",{"$error":"#NUM!"},"m142"]
["Gemiddelde",null,"Gemiddelde","Gemiddelde",null,{"$error":"#NUM!"},{"$error":"#NUM!"},{"$f":"'Gegevens '!$C$13","v":0},{"$f":"'Gegevens '!$C$14","v":0.75},{"$f":"'Gegevens '!$C$15","v":0.5},null,7000.005874823446,10244.464354672893,2800.3671642678614,1,0.71685168033893243,829.09999999999764,1.3308841740539048,1103.4360687080894,79.338341930732099,1024.097726777391,161.96714688394314,63.090904085074961,790.99999999998738,790.99999999998738,8.0396758083519444,7.1901167798168839E-2,0.146784350699697,5.7176764358393896E-2,0.71685168033893953,7.2860368048008918E-3,0,"> 46jaar",1619.6714688394302,0,null,0,{"$error":"#NUM!"},{"$error":"#NUM!"},{"$error":"#NUM!"},{"$error":"#NUM!"},{"$error":"#NUM!"},{"$error":"#NUM!"},{"$error":"#NUM!"},{"$f":"SUM((F19+(2*(Parameters!$D$5)))*(G19+2*(Parameters!$D$5)))","v":{"$error":"#NUM!"}},{"$f":"2*(((2*Parameters!$D$5+G19)*Parameters!$D$5+(Parameters!$D$5*F19)))","v":{"$error":"#NUM!"}},{"$error":"#NUM!"},-1.25,{"$error":"#NUM!"},{"$error":"#NUM!"},{"$error":"#NUM!"},{"$error":"#NUM!"},{"$error":"#NUM!"},{"$error":"#NUM!"},{"$error":"#NUM!"},{"$error":"#NUM!"},{"$error":"#NUM!"},{"$error":"#NUM!"},{"$error":"#NUM!"},{"$error":"#NUM!"},{"$error":"#NUM!"},0,7000,{"$error":"#NUM!"},"m",{"$error":"#NUM!"},"m",0,"m",0.75,"m",0.5,"m",0,"m",0,"m³",{"$error":"#NUM!"},"m³",{"$error":"#NUM!"},{"$error":"#NUM!"},"m³",{"$error":"#NUM!"},"m³",{"$error":"#NUM!"},"m³",{"$error":"#NUM!"},"m³",{"$error":"#NUM!"},"m143",{"$f":"SUM((BL19+(2*(Parameters!$D$5)))*(BN19+2*(Parameters!$D$5)))","v":{"$error":"#NUM!"}},"m143",{"$f":"2*(((2*Parameters!$D$5+BN19)*Parameters!$D$5+(Parameters!$D$5*BL19)))","v":{"$error":"#NUM!"}},"m143",{"$error":"#NUM!"},-1.25,"m",{"$error":"#NUM!"},"m",{"$error":"#NUM!"},"m",{"$error":"#NUM!"},"m",{"$error":"#NUM!"},"m",{"$error":"#NUM!"},"m",{"$error":"#NUM!"},"m",{"$error":"#NUM!"},"m",{"$error":"#NUM!"},"m",{"$error":"#NUM!"},"m144",{"$error":"#NUM!"},{"$error":"#NUM!"},"m144",{"$error":"#NUM!"},"m143",{"$error":"#NUM!"},"m143"]
["Maximaal jaarlijks watertekort:",0,{"$f":"IF(D20=\"> 46jaar\",\"> 46jaar\",1/D20)","v":"> 46jaar"},{"$f":"IF(COUNTIF($CV$115:$CV$160,\">\"&$B$20)=0,\"> 46jaar\",(COUNTIF($CV$115:$CV$160,\">\"&$B$20)/COUNT($CV$115:$CV$160)))","v":"> 46jaar"},null,{"$error":"#NUM!"},{"$error":"#NUM!"},{"$f":"'Gegevens '!$C$13","v":0},{"$f":"'Gegevens '!$C$14","v":0.75},{"$f":"'Gegevens '!$C$15","v":0.5},null,7500.0121115819211,10587.215231502001,2390.8276559356232,1,0.52923979958103096,829.09999999999764,1.323828528305427,1097.5862328180042,87.175210022106668,1010.4110227959325,365.02025925526794,54.492162811614918,580.88631787955615,580.88631787955615,10.012282849458643,7.9424474738798573E-2,0.33256636093010616,4.964727251699276E-2,0.52923979958108269,9.1220922330198587E-3,0,"> 46jaar",3650.2025925526787,0,null,0,{"$error":"#NUM!"},{"$error":"#NUM!"},{"$error":"#NUM!"},{"$error":"#NUM!"},{"$error":"#NUM!"},{"$error":"#NUM!"},{"$error":"#NUM!"},{"$f":"SUM((F20+(2*(Parameters!$D$5)))*(G20+2*(Parameters!$D$5)))","v":{"$error":"#NUM!"}},{"$f":"2*(((2*Parameters!$D$5+G20)*Parameters!$D$5+(Parameters!$D$5*F20)))","v":{"$error":"#NUM!"}},{"$error":"#NUM!"},-1.25,{"$error":"#NUM!"},{"$error":"#NUM!"},{"$error":"#NUM!"},{"$error":"#NUM!"},{"$error":"#NUM!"},{"$error":"#NUM!"},{"$error":"#NUM!"},{"$error":"#NUM!"},{"$error":"#NUM!"},{"$error":"#NUM!"},{"$error":"#NUM!"},{"$error":"#NUM!"},{"$error":"#NUM!"},0,7500,{"$error":"#NUM!"},"m",{"$error":"#NUM!"},"m",0,"m",0.75,"m",0.5,"m",0,"m",0,"m³",{"$error":"#NUM!"},"m³",{"$error":"#NUM!"},{"$error":"#NUM!"},"m³",{"$error":"#NUM!"},"m³",{"$error":"#NUM!"},"m³",{"$error":"#NUM!"},"m³",{"$error":"#NUM!"},"m144",{"$f":"SUM((BL20+(2*(Parameters!$D$5)))*(BN20+2*(Parameters!$D$5)))","v":{"$error":"#NUM!"}},"m144",{"$f":"2*(((2*Parameters!$D$5+BN20)*Parameters!$D$5+(Parameters!$D$5*BL20)))","v":{"$error":"#NUM!"}},"m144",{"$error":"#NUM!"},-1.25,"m",{"$error":"#NUM!"},"m",{"$error":"#NUM!"},"m",{"$error":"#NUM!"},"m",{"$error":"#NUM!"},"m",{"$error":"#NUM!"},"m",{"$error":"#NUM!"},"m",{"$error":"#NUM!"},"m",{"$error":"#NUM!"},"m",{"$error":"#NUM!"},"m145",{"$error":"#NUM!"},{"$error":"#NUM!"},"m145",{"$error":"#NUM!"},"m144",{"$error":"#NUM!"},"m144"]
["Maximaal jaarlijks watertekort:",null,{"$f":"MAX(CV115:CV160)","v":{"$error":"#DIV/0!"}},null,null,{"$error":"#NUM!"},{"$error":"#NUM!"},{"$f":"'Gegevens '!$C$13","v":0},{"$f":"'Gegevens '!$C$14","v":0.75},{"$f":"'Gegevens '!$C$15","v":0.5},null,8000.005874823446,11703.066778511344,3181.2456473994584,1,0.69690727123655927,829.09999999999764,1.3689720223670645,1135.0147037445424,79.338341930732028,1055.6763618137852,183.40024226857022,72.072992550229714,790.99999999998738,790.99999999998738,9.2031269950231263,6.9900717293781153E-2,0.16158402324085494,6.3499611337591244E-2,0.69690727123656504,8.1083768912076342E-3,0,"> 46jaar",1834.0024226857001,0,null,0,{"$error":"#NUM!"},{"$error":"#NUM!"},{"$error":"#NUM!"},{"$error":"#NUM!"},{"$error":"#NUM!"},{"$error":"#NUM!"},{"$error":"#NUM!"},{"$f":"SUM((F21+(2*(Parameters!$D$5)))*(G21+2*(Parameters!$D$5)))","v":{"$error":"#NUM!"}},{"$f":"2*(((2*Parameters!$D$5+G21)*Parameters!$D$5+(Parameters!$D$5*F21)))","v":{"$error":"#NUM!"}},{"$error":"#NUM!"},-1.25,{"$error":"#NUM!"},{"$error":"#NUM!"},{"$error":"#NUM!"},{"$error":"#NUM!"},{"$error":"#NUM!"},{"$error":"#NUM!"},{"$error":"#NUM!"},{"$error":"#NUM!"},{"$error":"#NUM!"},{"$error":"#NUM!"},{"$error":"#NUM!"},{"$error":"#NUM!"},{"$error":"#NUM!"},0,8000,{"$error":"#NUM!"},"m",{"$error":"#NUM!"},"m",0,"m",0.75,"m",0.5,"m",0,"m",0,"m³",{"$error":"#NUM!"},"m³",{"$error":"#NUM!"},{"$error":"#NUM!"},"m³",{"$error":"#NUM!"},"m³",{"$error":"#NUM!"},"m³",{"$error":"#NUM!"},"m³",{"$error":"#NUM!"},"m145",{"$f":"SUM((BL21+(2*(Parameters!$D$5)))*(BN21+2*(Parameters!$D$5)))","v":{"$error":"#NUM!"}},"m145",{"$f":"2*(((2*Parameters!$D$5+BN21)*Parameters!$D$5+(Parameters!$D$5*BL21)))","v":{"$error":"#NUM!"}},"m145",{"$error":"#NUM!"},-1.25,"m",{"$error":"#NUM!"},"m",{"$error":"#NUM!"},"m",{"$error":"#NUM!"},"m",{"$error":"#NUM!"},"m",{"$error":"#NUM!"},"m",{"$error":"#NUM!"},"m",{"$error":"#NUM!"},"m",{"$error":"#NUM!"},"m",{"$error":"#NUM!"},"m146",{"$error":"#NUM!"},{"$error":"#NUM!"},"m146",{"$error":"#NUM!"},"m145",{"$error":"#NUM!"},"m145"]
["Gemiddeld jaarlijks watertekort",null,{"$f":"IF(COUNTIF(CV115:CV160,\">\"&0)=0,0,SUMIF(CV115:CV160,\">\"&0,CV115:CV160)/(COUNTIF(CV115:CV160,\">\"&0)))","v":0},null,null,{"$error":"#NUM!"},{"$error":"#NUM!"},{"$f":"'Gegevens '!$C$13","v":0},{"$f":"'Gegevens '!$C$14","v":0.75},{"$f":"'Gegevens '!$C$15","v":0.5},null,8500.012111581922,12007.081158024568,2692.2118453378607,1,0.51745926769133366,829.09999999999764,1.3539669472456506,1122.573995961387,87.175210022106597,1035.3987859392464,381.55469537383271,61.57589249984504,580.88631787955615,580.88631787955615,11.381880186046601,7.7656537863634204E-2,0.33989269014472789,5.4852413044817271E-2,0.51745926769137163,1.0139091255449054E-2,0,"> 46jaar",3815.5469537383265,0,null,0,{"$error":"#NUM!"},{"$error":"#NUM!"},{"$error":"#NUM!"},{"$error":"#NUM!"},{"$error":"#NUM!"},{"$error":"#NUM!"},{"$error":"#NUM!"},{"$f":"SUM((F22+(2*(Parameters!$D$5)))*(G22+2*(Parameters!$D$5)))","v":{"$error":"#NUM!"}},{"$f":"2*(((2*Parameters!$D$5+G22)*Parameters!$D$5+(Parameters!$D$5*F22)))","v":{"$error":"#NUM!"}},{"$error":"#NUM!"},-1.25,{"$error":"#NUM!"},{"$error":"#NUM!"},{"$error":"#NUM!"},{"$error":"#NUM!"},{"$error":"#NUM!"},{"$error":"#NUM!"},{"$error":"#NUM!"},{"$error":"#NUM!"},{"$error":"#NUM!"},{"$error":"#NUM!"},{"$error":"#NUM!"},{"$error":"#NUM!"},{"$error":"#NUM!"},0,8500,{"$error":"#NUM!"},"m",{"$error":"#NUM!"},"m",0,"m",0.75,"m",0.5,"m",0,"m",0,"m³",{"$error":"#NUM!"},"m³",{"$error":"#NUM!"},{"$error":"#NUM!"},"m³",{"$error":"#NUM!"},"m³",{"$error":"#NUM!"},"m³",{"$error":"#NUM!"},"m³",{"$error":"#NUM!"},"m146",{"$f":"SUM((BL22+(2*(Parameters!$D$5)))*(BN22+2*(Parameters!$D$5)))","v":{"$error":"#NUM!"}},"m146",{"$f":"2*(((2*Parameters!$D$5+BN22)*Parameters!$D$5+(Parameters!$D$5*BL22)))","v":{"$error":"#NUM!"}},"m146",{"$error":"#NUM!"},-1.25,"m",{"$error":"#NUM!"},"m",{"$error":"#NUM!"},"m",{"$error":"#NUM!"},"m",{"$error":"#NUM!"},"m",{"$error":"#NUM!"},"m",{"$error":"#NUM!"},"m",{"$error":"#NUM!"},"m",{"$error":"#NUM!"},"m",{"$error":"#NUM!"},"m147",{"$error":"#NUM!"},{"$error":"#NUM!"},"m147",{"$error":"#NUM!"},"m146",{"$error":"#NUM!"},"m146"]
[null,null,null,null,null,{"$error":"#NUM!"},{"$error":"#NUM!"},{"$f":"'Gegevens '!$C$13","v":0},{"$f":"'Gegevens '!$C$14","v":0.75},{"$f":"'Gegevens '!$C$15","v":0.5},null,9000.0121115819202,12717.206566113789,2842.5575393486884,1,0.51177645640314362,829.09999999999764,1.3690015166467331,1135.0391574518376,87.175210022106469,1047.8639474297313,389.80145439209667,65.108743276323281,580.88631787955615,580.88631787955615,12.067431881754942,7.6803702717899866E-2,0.34342555658361668,5.7362552515362007E-2,0.51177645640318314,1.0631731779938166E-2,0,"> 46jaar",3898.0145439209564,0,null,0,{"$error":"#NUM!"},{"$error":"#NUM!"},{"$error":"#NUM!"},{"$error":"#NUM!"},{"$error":"#NUM!"},{"$error":"#NUM!"},{"$error":"#NUM!"},{"$f":"SUM((F23+(2*(Parameters!$D$5)))*(G23+2*(Parameters!$D$5)))","v":{"$error":"#NUM!"}},{"$f":"2*(((2*Parameters!$D$5+G23)*Parameters!$D$5+(Parameters!$D$5*F23)))","v":{"$error":"#NUM!"}},{"$error":"#NUM!"},-1.25,{"$error":"#NUM!"},{"$error":"#NUM!"},{"$error":"#NUM!"},{"$error":"#NUM!"},{"$error":"#NUM!"},{"$error":"#NUM!"},{"$error":"#NUM!"},{"$error":"#NUM!"},{"$error":"#NUM!"},{"$error":"#NUM!"},{"$f":"(BE23-AK23)","v":{"$error":"#NUM!"}},{"$f":"AW23*BA23","v":{"$error":"#NUM!"}},{"$f":"SUM(AX23*BB23)","v":{"$error":"#NUM!"}},0,9000,{"$error":"#NUM!"},"m",{"$error":"#NUM!"},"m",0,"m",0.75,"m",0.5,"m",0,"m",0,"m³",{"$error":"#NUM!"},"m³",{"$error":"#NUM!"},{"$error":"#NUM!"},"m³",{"$error":"#NUM!"},"m³",{"$error":"#NUM!"},"m³",{"$error":"#NUM!"},"m³",{"$error":"#NUM!"},"m147",{"$f":"SUM((BL23+(2*(Parameters!$D$5)))*(BN23+2*(Parameters!$D$5)))","v":{"$error":"#NUM!"}},"m147",{"$f":"2*(((2*Parameters!$D$5+BN23)*Parameters!$D$5+(Parameters!$D$5*BL23)))","v":{"$error":"#NUM!"}},"m147",{"$error":"#NUM!"},-1.25,"m",{"$error":"#NUM!"},"m",{"$error":"#NUM!"},"m",{"$error":"#NUM!"},"m",{"$error":"#NUM!"},"m",{"$error":"#NUM!"},"m",{"$error":"#NUM!"},"m",{"$error":"#NUM!"},"m",{"$error":"#NUM!"},"m",{"$error":"#NUM!"},"m148",{"$error":"#NUM!"},{"$error":"#NUM!"},"m148",{"$error":"#NUM!"},"m147",{"$error":"#NUM!"},"m147"]
[]
[null,null,null,null,null,null,null,null,null,null,null,null,{"$f":"BH3-((AK3+AN3-U38)*(BH3-BI3)/(AK3))","v":{"$error":"#DIV/0!"}}]
[null,null,null,null,null,null,null,null,null,null,null,null,null,null,null,null,null,null,null,null,null,null,null,null,null,null,null,"Schepers-stroomdiagram"]
["Klimaatdata",null,null,"Berekeningen data en neerslag",null,null,null,null,null,"Opvang",null,null,null,null,"Berekening Evaporatie",null,"Evaporatie","Waterbehoefte","Berekeningen Simulatie",null,"Simulatie",null,null,"Invulling en benutting",null,null,"Opvangverhouding",null,null,null,"Waar blijft de opgevangen neerslag?",null,null,"Wat gebeurt er met nuttige neerslag?",null,"Bruto neerslag - Verlies/gebruikspercentages",null,null,null,null,"Terugkeerperiode watertekort"]
["Datum","KMI:  Neerslag          mm    ","KMI: Penman ETo       mm ","Maand","Jaar","Week","RR","RR (corr. serre) mm","RR (corr. Loods) mm","Bruto neerslag m³/ha teeltopp.","Opvang-verhouding","Opvang m³/ha teeltopp.","Opvang-percentage  (%)","Opvang-verliezen (m³/ha)","E (mm/dag)  Warmteopslag","Evaporatie-oppervlak","Evaporatie-verliezen       m³/ha teeltopp.","Waterbehoefte m³/ha teeltopp.","Niveau-verschil nuttige zone     m³","Niveau-verschil dode zone     m³","Water-voorraad m³/ha","Overloop Totaal aantal m³/ha teeltopp.","Watertekort   Totaal aantal m³/ha teeltopp.","Hemelwater-verbruik m³/ha teeltopp.","Hemelwater-percentage","Benuttings-percentage","Opvangverhouding","Bruto neerslag mm","Opgevangen neerslag mm","Nuttige neerslag mm","Opvang-verlies               mm","Overloop-verlies       mm","Evaporatie-verlies     mm","Hemelwater-benutting     mm","Bufferopbouw mm","Opvang-verlies-percentage","Overloop-percentage","Evaporatie-percentage","Hemelwater-benuttings percentage","Bufferopbouw","Aantal overschreden maximale watertekorten","Terugkeer-periode"]
["Som",{"$f":"SUM(B35:B16834)/$D$14","v":829.09999999999764},{"$f":"SUM(C35:C16834)/$D$14","v":698.4231086956579},"45-jaarlijkse jaargemiddelde som",null,null,{"$f":"SUM(G35:G16834)/$D$14","v":829.09999999999764},{"$f":"SUM(H35:H16834)/$D$14","v":758.79021739130701},{"$f":"SUM(I35:I16834)/$D$14","v":597.91239130434963},{"$f":"SUM(J35:J16834)/$D$14","v":{"$error":"#DIV/0!"}},{"$f":"SUM((B3+C3+D3)/E3)","v":{"$error":"#DIV/0!"}},{"$f":"SUM(L35:L16834)/$D$14","v":{"$error":"#DIV/0!"}},{"$f":"SUM(L29/J29)","v":{"$error":"#DIV/0!"}},{"$f":"SUM(N35:N16834)/$D$14","v":{"$error":"#DIV/0!"}},698.41098687638851,{"$error":"#DIV/0!"},{"$error":"#DIV/0!"},8457.1956665063226,{"$error":"#DIV/0!"},{"$error":"#DIV/0!"},null,{"$f":"SUM(V35:V16834)/$D$14","v":{"$error":"#DIV/0!"}},{"$f":"SUM(W35:W16834)/$D$14","v":{"$error":"#DIV/0!"}},{"$f":"SUM(X35:X16834)/$D$14","v":{"$error":"#DIV/0!"}},{"$f":"IF(R29=0,\"\",((R29-W29)/R29))","v":{"$error":"#DIV/0!"}},{"$f":"IF(J29=0,\"\",X29/J29)","v":{"$error":"#DIV/0!"}},{"$f":"K29","v":{"$error":"#DIV/0!"}},{"$f":"SUM($AB$35:$AB$16834)/$D$14","v":{"$error":"#DIV/0!"}},{"$f":"SUM($AC$35:$AC$16834)/$D$14","v":{"$error":"#DIV/0!"}},{"$f":"SUM($AD$35:$AD$16834)/$D$14","v":{"$error":"#DIV/0!"}},{"$f":"SUM($AE$35:$AE$16834)/$D$14","v":{"$error":"#DIV/0!"}},{"$f":"SUM($AF$35:$AF$16834)/$D$14","v":{"$error":"#DIV/0!"}},{"$f":"SUM($AG$35:$AG$16834)/$D$14","v":{"$error":"#DIV/0!"}},{"$f":"SUM($AH$35:$AH$16834)/$D$14","v":{"$error":"#DIV/0!"}},{"$f":"SUM(AB29-AE29-AF29-AG29-AD29)","v":{"$error":"#DIV/0!"}},{"$f":"AE29/AB29","v":{"$error":"#DIV/0!"}},{"$f":"AF29/AB29","v":{"$error":"#DIV/0!"}},{"$f":"AG29/AB29","v":{"$error":"#DIV/0!"}},{"$f":"AH29/AB29","v":{"$error":"#DIV/0!"}},{"$f":"AI29/AB29","v":{"$error":"#DIV/0!"}},{"$f":"COUNTIF($W$35:$W$16834,\">\"&$B$20)/COUNT($W$35:$W$16834)","v":{"$error":"#DIV/0!"}},{"$f":"IF(AO29=0,\"onwaarschijnlijk\",SUM(1/AO29))","v":{"$error":"#DIV/0!"}}]
["Min",{"$f":"MIN(B34:B16834)","v":0},{"$f":"MIN(C34:C16834)","v":0},"45-jaarlijks minimum",null,null,{"$f":"MIN(G34:G16834)","v":0},{"$f":"MIN(H34:H16834)","v":0},0,{"$error":"#DIV/0!"},{"$error":"#DIV/0!"},{"$error":"#DIV/0!"},{"$error":"#DIV/0!"},{"$error":"#DIV/0!"},-0.14866666666666667,{"$error":"#DIV/0!"},{"$f":"MIN(Q35:Q16835)","v":{"$error":"#DIV/0!"}},{"$f":"MIN(R34:R16834)","v":0},{"$error":"#DIV/0!"},{"$error":"#DIV/0!"},{"$error":"#DIV/0!"},{"$error":"#DIV/0!"},{"$error":"#DIV/0!"},{"$error":"#DIV/0!"},{"$error":"#DIV/0!"},{"$error":"#DIV/0!"},null,{"$error":"#DIV/0!"},{"$error":"#DIV/0!"},{"$f":"MIN(AD34:AD16834)","v":{"$error":"#DIV/0!"}},{"$f":"SUM(AB29+AE29)","v":{"$error":"#DIV/0!"}},{"$f":"SUM(AC29+AF29)","v":{"$error":"#DIV/0!"}},{"$error":"#DIV/0!"},{"$error":"#DIV/0!"},{"$f":"MIN(AI34:AI16834)","v":{"$error":"#DIV/0!"}},null,null,null,{"$f":"SUM(AJ29:AN29)","v":{"$error":"#DIV/0!"}}]
["Max",{"$f":"MAX(B34:B16834)","v":81},{"$f":"MAX(C34:C16834)","v":7.7709999999999999},"45-jaarlijks maximum",null,"Max",{"$f":"MAX(G34:G16834)","v":81},{"$f":"MAX(H34:H16834)","v":76.95},60.75,{"$error":"#DIV/0!"},{"$error":"#DIV/0!"},{"$error":"#DIV/0!"},{"$error":"#DIV/0!"},{"$error":"#DIV/0!"},7.6376666666666662,{"$error":"#DIV/0!"},{"$error":"#DIV/0!"},{"$f":"MAX(R34:R16834)","v":44.20203263918858},{"$error":"#DIV/0!"},{"$error":"#DIV/0!"},{"$error":"#DIV/0!"},{"$error":"#DIV/0!"},{"$error":"#DIV/0!"},{"$error":"#DIV/0!"},{"$error":"#DIV/0!"},{"$f":"MAX(Z34:Z16834)","v":{"$error":"#DIV/0!"}},null,{"$error":"#DIV/0!"},{"$error":"#DIV/0!"},{"$f":"MAX(AD34:AD16834)","v":{"$error":"#DIV/0!"}},{"$f":"MAX(AE34:AE16834)","v":{"$error":"#DIV/0!"}},{"$error":"#DIV/0!"},{"$error":"#DIV/0!"},{"$error":"#DIV/0!"},{"$f":"MAX(AI34:AI16834)","v":{"$error":"#DIV/0!"}}]
["Gemiddeld",{"$f":"AVERAGE(B34:B16834)","v":2.2701547619047555},{"$f":"AVERAGE(C34:C16834)","v":1.9123489880952538},"45-jaarlijks daggemiddelde",null,null,{"$f":"AVERAGE(G34:G16834)","v":2.2701547619047555},{"$f":"AVERAGE(H34:H16834)","v":2.0776398809523884},1.6371410714285766,{"$error":"#DIV/0!"},{"$error":"#DIV/0!"},{"$error":"#DIV/0!"},{"$error":"#DIV/0!"},{"$error":"#DIV/0!"},1.9123157973996352,{"$error":"#DIV/0!"},{"$error":"#DIV/0!"},23.156607182100647,{"$error":"#DIV/0!"},{"$error":"#DIV/0!"},{"$error":"#DIV/0!"},{"$error":"#DIV/0!"},{"$error":"#DIV/0!"},{"$error":"#DIV/0!"},{"$error":"#DIV/0!"},{"$error":"#DIV/0!"},null,{"$error":"#DIV/0!"},{"$error":"#DIV/0!"},{"$f":"AVERAGE(AD34:AD16834)","v":{"$error":"#DIV/0!"}},{"$f":"AVERAGE(AE34:AE16834)","v":{"$error":"#DIV/0!"}},{"$error":"#DIV/0!"},{"$error":"#DIV/0!"},{"$error":"#DIV/0!"},{"$f":"AVERAGE(AI34:AI16834)","v":{"$error":"#DIV/0!"}}]
["Invoer klimaatdata",null,null,null,null,null,null,null,null,null,null,null,null,null,"Berekening Evaporatie",null,"Evaporatie","Waterbehoefte","Berekeningen Simulatie",null,"Simulatie",null,null,null,null,null,null,null,null,null,null,null,null,null,{"$f":"1-AJ44","v":{"$error":"#DIV/0!"}},null,null,null,null,null,null,null,null,null,null,null,null,null,null,null,null,null,null,null,null,null,null,null,null,null,null,null,null,null,"DATA KMI 1967-2012",null,null,null,"DATA KMI 1975-2012",null,null,null,"DATA2020",null,null,null,null,null,null,null,"DATA2030",null,null,null,null,null,null,null,"DATA 2080"]
["Datum","RR (mm)","KMI: ETP_0 (mm) Penman","Maand","Jaar","Week","RR          mm","RR (corr. serre) mm","RR (corr. Loods) mm","Bruto neerslag m³/ha teeltopp.","Opvang-verhouding   %","Opvangbare neerslag m³/ha teeltopp.","Opvang-percentage  (%)","Opvang-verliezen m³/ha teeltopp.","E  incl. Warmteopslag     mm/m² bassinopp.","Evaporatie-oppervlak          m²","Evaporatie-verliezen                  m³ / ha teeltopp.","Water-behoefte                      m³/ha teeltopp.","Niveau-verschil nuttige zone     m³","Niveau-verschil dode zone     m³","Water-voorraad m³/ha teeltopp.","Overloop m³/ha teeltopp.","Watertekort m³/ha teeltopp.","Hemelwater-verbruik (m³/ha)","Hemelwater-percentage","Benuttings-percentage","Opvang-verhouding","Bruto neerslag mm","Opgevangen neerslag mm","Nuttige neerslag mm","Opvang-verlies","Overloop-verlies","Evaporatie-verlies (mm)","Hemelwater-benutting     mm","Bufferopbouw mm","Opvang-verlies-percentage","Overloop-percentage","Evaporatie-percentage","Hemelwater-benuttings percentage","Bufferopbouw","Bufferopbouw m³","Bufferopbouw Hydrologische winter","Bufferopbouw Hydrologische zomer",null,null,null,null,null,null,null,null,null,null,null,null,null,null,null,null,null,null,null,null,null,"Datum","RR (mm)","KMI: ETP_0 (mm) Penman",null,"Datum","RR","Eto",null,null,"Rainfall","ETo","Rainfall","ETo","Rainfall","ETo",null,null,"Rainfall","ETo","Rainfall","ETo","Rainfall","ETo",null,null,"Rainfall","ETo","Rainfall","ETo","Rainfall","ETo"]
["1967-01-02",0,0.245,{"$f":"MONTH(A35)","v":1},1967,{"$f":"INT((A35-DATE(YEAR(A35-WEEKDAY(A35-1)+4),1,3)+WEEKDAY(DATE(YEAR(A35-WEEKDAY(A35-1)+4),1,3))+5)/7)","v":1},{"$f":"B35","v":0},{"$f":"IF(B35<Parameters!$A$16,B35*Parameters!$B$16,IF(AND(B35>Parameters!$A$16,B35<Parameters!$A$17),B35*Parameters!$B$17,B35*Parameters!$B$18))","v":0},{"$f":"IF(B35<Parameters!$A$20,B35*Parameters!$B$20,IF(AND(B35>Parameters!$A$20,B35<Parameters!$A$21),B35*Parameters!$B$21,B35*Parameters!$B$22))","v":0},{"$f":"B35*SUM($B$3,$C$3,$D$3)/$E$3*10","v":{"$error":"#DIV/0!"}},{"$f":"IF(B35=0,\"\",SUM(J35/(B35*10)))","v":""},{"$f":"IF(B35=0,0,SUM(B35*$D$3+H35*$B$3+I35*$C$3)/$E$3*10)","v":0},{"$f":"IF(B35=0,\"\",L35/J35)","v":""},{"$f":"IF(B35=0,0,SUM(J35-L35))","v":0},{"$f":"IF(OR($D35=1,$D35=12,$D35=8),C35+(2/31),IF($D35=2,C35-(1/28),IF($D35=3,C35-(3/31),IF($D35=4,C35-(5/30),IF($D35=5,C35-(6/31),IF($D35=6,C35-(4/30),IF($D35=7,C35-(1/31),IF($D35=9,C35+(4/30),IF($D35=10,C35+(5/31),IF($D35=11,C35+(5/30)))))))))))","v":0.30951612903225806},{"$f":"-(($BH$3-$BI$3)*($AN$3+$AK$3-U35)/($AK$3)-$BH$3)","v":{"$error":"#DIV/0!"}},{"$f":"SUM(O35*P35)/1000/$D$12","v":{"$error":"#DIV/0!"}},{"$f":"IF('Gegevens '!$G$20=\"Eigen waarden\",VLOOKUP($F35,'Gegevens '!$A$25:$C$77,3,FALSE),VLOOKUP($F35,Lijsten!$A$19:$B$71,2,FALSE))","v":3.0894753415257137},{"$f":"SUM(L35-R35-O35)","v":-3.3989914705579718},{"$f":"L35-O35","v":-0.30951612903225806},{"$f":"ROUND($AK$3*$D$13+S35,0)","v":{"$error":"#DIV/0!"}},0,{"$f":"IF(U35<$AN$3,0,0)","v":{"$error":"#DIV/0!"}},{"$f":"R35-W35","v":{"$error":"#DIV/0!"}},{"$f":"IF(R35=0,\"\",((R35-W35)/R35))","v":{"$error":"#DIV/0!"}},{"$f":"IF(B35=0,\"\",X35/(B35*10))","v":""},{"$f":"K35","v":""},{"$f":"J35/10","v":{"$error":"#DIV/0!"}},{"$f":"L35/10","v":0},{"$f":"X35/10","v":{"$error":"#DIV/0!"}},{"$f":"N35/10","v":0},{"$f":"V35/10","v":0},{"$f":"Q35/10","v":{"$error":"#DIV/0!"}},{"$f":"(R35-W35)/10","v":{"$error":"#DIV/0!"}},{"$f":"SUM(AC35-AF35-AG35-AD35)","v":{"$error":"#DIV/0!"}},{"$f":"IF(AB35=0,\"\",AE35/AB35)","v":{"$error":"#DIV/0!"}},{"$f":"IF(AB35=0,\"\",AF35/AB35)","v":{"$error":"#DIV/0!"}},{"$f":"IF(AC35=0,\"\",AG35/AC35)","v":""},{"$f":"IF(AC35=0,\"\",AD35/AC35)","v":""},{"$f":"IF(AC35=0,\"\",AI35/AC35)","v":""},{"$f":"AI35*$E$5/1000","v":{"$error":"#DIV/0!"}},{"$f":"IF(OR(F35<=13,F35>=40),VALUE(AO35),0)","v":{"$error":"#DIV/0!"}},{"$f":"IF(OR(F35<=13,F35>=40),0,VALUE(AO35))","v":0},null,null,null,null,null,null,null,null,null,null,null,null,null,null,null,null,null,null,null,null,null,"1967-01-02",0,0.245,null,"1975-01-01",0,0.30599999999999999,null,"2006-01-01",0,0.3115,0,0.29253000000000001,0,0.27356000000000003,{"$f":"SUM(YEAR(BU41)-YEAR(BU13909))","v":-37},"2016-01-01",0,0.32307000000000002,0,0.29868,0,0.27428999999999998,{"$f":"SUM(YEAR(CC35)-YEAR(CC13912))","v":-37},"2066-01-01",2.2799999999999998,0.38092999999999999,0,0.32944000000000001,0,0.27794999999999997]
["1967-01-03",0.6,0.14499999999999999,1,{"$f":"IF(AND((F35>1),(F36=1)),E35+1,E35)","v":1967},1,{"$f":"B36","v":0.6},{"$f":"IF(B36<Parameters!$A$16,B36*Parameters!$B$16,IF(AND(B36>Parameters!$A$16,B36<Parameters!$A$17),B36*Parameters!$B$17,B36*Parameters!$B$18))","v":0},{"$f":"IF(B36<Parameters!$A$20,B36*Parameters!$B$20,IF(AND(B36>Parameters!$A$20,B36<Parameters!$A$21),B36*Parameters!$B$21,B36*Parameters!$B$22))","v":0},{"$f":"B36*SUM($B$3,$C$3,$D$3)/$E$3*10","v":{"$error":"#DIV/0!"}},{"$f":"IF(B36=0,\"\",SUM(J36/(B36*10)))","v":{"$error":"#DIV/0!"}},{"$f":"IF(B36=0,0,SUM(B36*$D$3+H36*$B$3+I36*$C$3)/$E$3*10)","v":{"$error":"#DIV/0!"}},{"$f":"IF(B36=0,\"\",L36/J36)","v":{"$error":"#DIV/0!"}},{"$error":"#DIV/0!"},{"$f":"IF(OR($D36=1,$D36=12,$D36=8),C36+(2/31),IF($D36=2,C36-(1/28),IF($D36=3,C36-(3/31),IF($D36=4,C36-(5/30),IF($D36=5,C36-(6/31),IF($D36=6,C36-(4/30),IF($D36=7,C36-(1/31),IF($D36=9,C36+(4/30),IF($D36=10,C36+(5/31),IF($D36=11,C36+(5/30)))))))))))","v":0.20951612903225805},{"$f":"-(($BH$3-$BI$3)*($AN$3+$AK$3-U36)/($AK$3)-$BH$3)","v":{"$error":"#DIV/0!"}},{"$f":"SUM(O36*P35)/$E$3*10","v":{"$error":"#DIV/0!"}},{"$f":"IF('Gegevens '!$G$20=\"Eigen waarden\",VLOOKUP($F36,'Gegevens '!$A$25:$C$77,3,FALSE),VLOOKUP($F36,Lijsten!$A$19:$B$71,2,FALSE))","v":3.0894753415257137},{"$f":"SUM(L36-R36-Q36)","v":{"$error":"#DIV/0!"}},{"$f":"L36-Q36","v":{"$error":"#DIV/0!"}},{"$f":"IF(U35<$AN$3,U35+T36,IF(AND((U35>$AN$3),(SUM(U35+S36)<$AN$3)),SUM($AN$3+T36),IF((SUM(U35+S36)>($AN$3+$AK$3)),$AN$3+$AK$3,U35+S36)))","v":{"$error":"#DIV/0!"}},{"$f":"IF(SUM(U35+S36)>SUM($AK$3+$AN$3),SUM(U35+S36-($AK$3+$AN$3)),0)","v":{"$error":"#DIV/0!"}},{"$f":"IF(U35<$AN$3,R36,IF(SUM(U35-R36)>$AN$3,0,IF(SUM(U35+S36)<$AN$3,SUM(R36-(U35-$AN$3)),0)))","v":{"$error":"#DIV/0!"}},{"$f":"R36-W36","v":{"$error":"#DIV/0!"}},{"$error":"#DIV/0!"},{"$error":"#DIV/0!"},{"$f":"K36","v":{"$error":"#DIV/0!"}},{"$error":"#DIV/0!"},{"$error":"#DIV/0!"},{"$f":"X36/10","v":{"$error":"#DIV/0!"}},{"$f":"N36/10","v":{"$error":"#DIV/0!"}},{"$error":"#DIV/0!"},{"$f":"Q36/10","v":{"$error":"#DIV/0!"}},{"$error":"#DIV/0!"},{"$error":"#DIV/0!"},{"$error":"#DIV/0!"},{"$f":"IF(AB36=0,\"\",AF36/AB36)","v":{"$error":"#DIV/0!"}},{"$error":"#DIV/0!"},{"$error":"#DIV/0!"},{"$error":"#DIV/0!"},{"$f":"AI36*$E$5/1000","v":{"$error":"#DIV/0!"}},{"$f":"IF(OR(F36<=13,F36>=40),VALUE(AO36),0)","v":{"$error":"#DIV/0!"}},{"$f":"IF(OR(F36<=13,F36>=40),0,VALUE(AO36))","v":0},null,null,null,null,null,null,null,null,null,null,null,null,null,null,null,null,null,null,null,null,null,"1967-01-03",0.6,0.14499999999999999,null,"1975-01-02",0.1,0.253,null,"2006-01-02",0,0.28161999999999998,0,0.26446999999999998,0,0.24732000000000001,null,"2016-01-02",0,0.29208000000000001,0,0.27002999999999999,0,0.24798000000000001,null,"2066-01-02",0,0.34438000000000002,0,0.29782999999999998,0,0.25128]
["1967-01-04",0.4,0.109,1,1967,1,0.4,{"$f":"IF(B37<Parameters!$A$16,B37*Parameters!$B$16,IF(AND(B37>Parameters!$A$16,B37<Parameters!$A$17),B37*Parameters!$B$17,B37*Parameters!$B$18))","v":0},{"$f":"IF(B37<Parameters!$A$20,B37*Parameters!$B$20,IF(AND(B37>Parameters!$A$20,B37<Parameters!$A$21),B37*Parameters!$B$21,B37*Parameters!$B$22))","v":0},{"$f":"B37*SUM($B$3,$C$3,$D$3)/$E$3*10","v":{"$error":"#DIV/0!"}},{"$f":"IF(B37=0,\"\",SUM(J37/(B37*10)))","v":{"$error":"#DIV/0!"}},{"$error":"#DIV/0!"},{"$error":"#DIV/0!"},{"$error":"#DIV/0!"},0.17351612903225805,{"$f":"-(($BH$3-$BI$3)*($AN$3+$AK$3-U37)/($AK$3)-$BH$3)","v":{"$error":"#DIV/0!"}},{"$f":"SUM(O37*P36)/$E$3*10","v":{"$error":"#DIV/0!"}},{"$f":"IF('Gegevens '!$G$20=\"Eigen waarden\",VLOOKUP($F37,'Gegevens '!$A$25:$C$77,3,FALSE),VLOOKUP($F37,Lijsten!$A$19:$B$71,2,FALSE))","v":3.0894753415257137},{"$f":"SUM(L37-R37-Q37)","v":{"$error":"#DIV/0!"}},{"$error":"#DIV/0!"},{"$f":"IF(U36<$AN$3,U36+T37,IF(AND((U36>$AN$3),(SUM(U36+S37)<$AN$3)),SUM($AN$3+T37),IF((SUM(U36+S37)>($AN$3+$AK$3)),$AN$3+$AK$3,U36+S37)))","v":{"$error":"#DIV/0!"}},{"$f":"IF(SUM(U36+S37)>SUM($AK$3+$AN$3),SUM(U36+S37-($AK$3+$AN$3)),0)","v":{"$error":"#DIV/0!"}},{"$f":"IF(U36<$AN$3,R37,IF(SUM(U36-R37)>$AN$3,0,IF(SUM(U36+S37)<$AN$3,SUM(R37-(U36-$AN$3)),0)))","v":{"$error":"#DIV/0!"}},{"$error":"#DIV/0!"},{"$error":"#DIV/0!"},{"$error":"#DIV/0!"},{"$error":"#DIV/0!"},{"$error":"#DIV/0!"},{"$error":"#DIV/0!"},{"$error":"#DIV/0!"},{"$f":"N37/10","v":{"$error":"#DIV/0!"}},{"$error":"#DIV/0!"},{"$f":"Q37/10","v":{"$error":"#DIV/0!"}},{"$error":"#DIV/0!"},{"$error":"#DIV/0!"},{"$error":"#DIV/0!"},{"$error":"#DIV/0!"},{"$error":"#DIV/0!"},{"$error":"#DIV/0!"},{"$error":"#DIV/0!"},{"$error":"#DIV/0!"},{"$error":"#DIV/0!"},0,null,null,null,null,null,null,null,null,null,null,null,null,null,null,null,null,null,null,null,null,null,"1967-01-04",0.4,0.109,null,"1975-01-03",0,0.217,null,"2006-01-03",0.75,0.16667000000000001,0.63,0.15651999999999999,0.55000000000000004,0.14637,null,"2016-01-03",0.77,0.17286000000000001,0.64,0.15981000000000001,0.54,0.14676,null,"2066-01-03",0.92,0.20382,0.68,0.17627000000000001,0.5,0.14871999999999999]
["1967-01-05",15.1,0.20799999999999999,1,1967,1,15.1,{"$f":"IF(B38<Parameters!$A$16,B38*Parameters!$B$16,IF(AND(B38>Parameters!$A$16,B38<Parameters!$A$17),B38*Parameters!$B$17,B38*Parameters!$B$18))","v":14.344999999999999},{"$f":"IF(B38<Parameters!$A$20,B38*Parameters!$B$20,IF(AND(B38>Parameters!$A$20,B38<Parameters!$A$21),B38*Parameters!$B$21,B38*Parameters!$B$22))","v":11.324999999999999},{"$error":"#DIV/0!"},{"$error":"#DIV/0!"},{"$error":"#DIV/0!"},{"$error":"#DIV/0!"},{"$error":"#DIV/0!"},0.27251612903225808,{"$error":"#DIV/0!"},{"$error":"#DIV/0!"},{"$f":"IF('Gegevens '!$G$20=\"Eigen waarden\",VLOOKUP($F38,'Gegevens '!$A$25:$C$77,3,FALSE),VLOOKUP($F38,Lijsten!$A$19:$B$71,2,FALSE))","v":3.0894753415257137},{"$error":"#DIV/0!"},{"$error":"#DIV/0!"},{"$f":"IF(U37<$AN$3,U37+T38,IF(AND((U37>$AN$3),(SUM(U37+S38)<$AN$3)),SUM($AN$3+T38),IF((SUM(U37+S38)>($AN$3+$AK$3)),$AN$3+$AK$3,U37+S38)))","v":{"$error":"#DIV/0!"}},{"$error":"#DIV/0!"},{"$error":"#DIV/0!"},{"$error":"#DIV/0!"},{"$error":"#DIV/0!"},{"$error":"#DIV/0!"},{"$error":"#DIV/0!"},{"$error":"#DIV/0!"},{"$error":"#DIV/0!"},{"$error":"#DIV/0!"},{"$error":"#DIV/0!"},{"$error":"#DIV/0!"},{"$error":"#DIV/0!"},{"$error":"#DIV/0!"},{"$error":"#DIV/0!"},{"$error":"#DIV/0!"},{"$error":"#DIV/0!"},{"$error":"#DIV/0!"},{"$error":"#DIV/0!"},{"$error":"#DIV/0!"},{"$error":"#DIV/0!"},{"$error":"#DIV/0!"},0,null,null,null,null,null,null,null,null,null,null,null,null,null,null,null,null,null,null,null,null,null,"1967-01-05",15.1,0.20799999999999999,null,"1975-01-04",0.2,0.38200000000000001,null,"2006-01-04",0.5,0.12529000000000001,0.42,0.11766,0.36,0.11003,null,"2016-01-04",0.52,0.12994,0.42,0.12013,0.35,0.11032,null,"2066-01-04",0.62,0.15322,0.45,0.13250999999999999,0.31,0.1118]
["1967-01-06",0.2,0,1,1967,1,0.2,{"$f":"IF(B39<Parameters!$A$16,B39*Parameters!$B$16,IF(AND(B39>Parameters!$A$16,B39<Parameters!$A$17),B39*Parameters!$B$17,B39*Parameters!$B$18))","v":0},{"$f":"IF(B39<Parameters!$A$20,B39*Parameters!$B$20,IF(AND(B39>Parameters!$A$20,B39<Parameters!$A$21),B39*Parameters!$B$21,B39*Parameters!$B$22))","v":0},{"$error":"#DIV/0!"},{"$error":"#DIV/0!"},{"$error":"#DIV/0!"},{"$error":"#DIV/0!"},{"$error":"#DIV/0!"},6.4516129032258063E-2,{"$error":"#DIV/0!"},{"$error":"#DIV/0!"},{"$f":"IF('Gegevens '!$G$20=\"Eigen waarden\",VLOOKUP($F39,'Gegevens '!$A$25:$C$77,3,FALSE),VLOOKUP($F39,Lijsten!$A$19:$B$71,2,FALSE))","v":3.0894753415257137},{"$error":"#DIV/0!"},{"$error":"#DIV/0!"},{"$error":"#DIV/0!"},{"$error":"#DIV/0!"},{"$error":"#DIV/0!"},{"$error":"#DIV/0!"},{"$error":"#DIV/0!"},{"$error":"#DIV/0!"},{"$error":"#DIV/0!"},{"$error":"#DIV/0!"},{"$error":"#DIV/0!"},{"$error":"#DIV/0!"},{"$error":"#DIV/0!"},{"$error":"#DIV/0!"},{"$error":"#DIV/0!"},{"$error":"#DIV/0!"},{"$error":"#DIV/0!"},{"$error":"#DIV/0!"},{"$error":"#DIV/0!"},{"$error":"#DIV/0!"},{"$error":"#DIV/0!"},{"$error":"#DIV/0!"},{"$error":"#DIV/0!"},{"$error":"#DIV/0!"},0,null,null,null,null,null,null,null,null,null,null,null,null,null,null,null,null,null,null,null,null,null,"1967-01-06",0.2,0,null,"1975-01-05",0.7,0.189,null,"2006-01-05",18.45,0.23909,15.65,0.22453000000000001,13.8,0.20996999999999999,null,"2016-01-05",19.02,0.24797,15.8,0.22925000000000001,13.6,0.21052999999999999,null,"2066-01-05",21.92,0.29237999999999997,16.59,0.25285999999999997,12.51,0.21334]
["1967-01-07",0,0,1,1967,1,0,{"$f":"IF(B40<Parameters!$A$16,B40*Parameters!$B$16,IF(AND(B40>Parameters!$A$16,B40<Parameters!$A$17),B40*Parameters!$B$17,B40*Parameters!$B$18))","v":0},{"$f":"IF(B40<Parameters!$A$20,B40*Parameters!$B$20,IF(AND(B40>Parameters!$A$20,B40<Parameters!$A$21),B40*Parameters!$B$21,B40*Parameters!$B$22))","v":0},{"$error":"#DIV/0!"},"",0,"",0,6.4516129032258063E-2,{"$error":"#DIV/0!"},{"$error":"#DIV/0!"},{"$f":"IF('Gegevens '!$G$20=\"Eigen waarden\",VLOOKUP($F40,'Gegevens '!$A$25:$C$77,3,FALSE),VLOOKUP($F40,Lijsten!$A$19:$B$71,2,FALSE))","v":3.0894753415257137},{"$error":"#DIV/0!"},{"$error":"#DIV/0!"},{"$error":"#DIV/0!"},{"$f":"IF(SUM(U39+S40)>SUM($AK$3+$AN$3),SUM(U39+S40-($AK$3+$AN$3)),0)","v":{"$error":"#DIV/0!"}},{"$error":"#DIV/0!"},{"$error":"#DIV/0!"},{"$error":"#DIV/0!"},"","",{"$error":"#DIV/0!"},0,{"$error":"#DIV/0!"},0,{"$error":"#DIV/0!"},{"$error":"#DIV/0!"},{"$error":"#DIV/0!"},{"$error":"#DIV/0!"},{"$error":"#DIV/0!"},{"$error":"#DIV/0!"},"","","",{"$error":"#DIV/0!"},{"$error":"#DIV/0!"},0,null,null,null,null,null,null,null,null,null,null,null,null,null,null,null,null,null,null,null,null,null,"1967-01-07",0,0,null,"1975-01-06",1.2,0.34,null,"2006-01-06",0.26,0,0.21,0,0.17,0,null,"2016-01-06",0.27,0,0.21,0,0.16,0,null,"2066-01-06",0.32,0,0.22,0,0.13,0,null,null,null,null,"Waarden",null,null,null,null,"Waarden"]
["1967-01-08",0.1,0,1,1967,1,0.1,{"$f":"IF(B41<Parameters!$A$16,B41*Parameters!$B$16,IF(AND(B41>Parameters!$A$16,B41<Parameters!$A$17),B41*Parameters!$B$17,B41*Parameters!$B$18))","v":0},{"$f":"IF(B41<Parameters!$A$20,B41*Parameters!$B$20,IF(AND(B41>Parameters!$A$20,B41<Parameters!$A$21),B41*Parameters!$B$21,B41*Parameters!$B$22))","v":0},{"$error":"#DIV/0!"},{"$error":"#DIV/0!"},{"$error":"#DIV/0!"},{"$error":"#DIV/0!"},{"$error":"#DIV/0!"},6.4516129032258063E-2,{"$error":"#DIV/0!"},{"$error":"#DIV/0!"},{"$f":"IF('Gegevens '!$G$20=\"Eigen waarden\",VLOOKUP($F41,'Gegevens '!$A$25:$C$77,3,FALSE),VLOOKUP($F41,Lijsten!$A$19:$B$71,2,FALSE))","v":3.0894753415257137},{"$error":"#DIV/0!"},{"$error":"#DIV/0!"},{"$error":"#DIV/0!"},{"$error":"#DIV/0!"},{"$error":"#DIV/0!"},{"$error":"#DIV/0!"},{"$error":"#DIV/0!"},{"$error":"#DIV/0!"},{"$error":"#DIV/0!"},{"$error":"#DIV/0!"},{"$error":"#DIV/0!"},{"$error":"#DIV/0!"},{"$error":"#DIV/0!"},{"$error":"#DIV/0!"},{"$error":"#DIV/0!"},{"$error":"#DIV/0!"},{"$error":"#DIV/0!"},{"$error":"#DIV/0!"},{"$error":"#DIV/0!"},{"$error":"#DIV/0!"},{"$error":"#DIV/0!"},{"$error":"#DIV/0!"},{"$error":"#DIV/0!"},{"$error":"#DIV/0!"},0,null,null,null,null,null,null,null,null,null,null,null,null,null,null,null,null,null,null,null,null,null,"1967-01-08",0.1,0,null,"1975-01-07",8.9,0.35099999999999998,null,"2006-01-07",0,0,0,0,0,0,null,"2016-01-07",0,0,0,0,0,0,null,"2066-01-07",0,0,0,0,0,0,null,null,null,"Rijlabels","Som van Bruto neerslag mm","Som van Opgevangen neerslag mm","Som van Opvangpercentages","Som van RR (mm)","Rijlabels","Som van Bruto neerslag mm","Som van Opvangpercentages","Som van Wekelijkse neerslag","Som van Opvangverliezen per week"]
["1967-01-09",0.8,0,1,1967,2,0.8,{"$f":"IF(B42<Parameters!$A$16,B42*Parameters!$B$16,IF(AND(B42>Parameters!$A$16,B42<Parameters!$A$17),B42*Parameters!$B$17,B42*Parameters!$B$18))","v":0},{"$f":"IF(B42<Parameters!$A$20,B42*Parameters!$B$20,IF(AND(B42>Parameters!$A$20,B42<Parameters!$A$21),B42*Parameters!$B$21,B42*Parameters!$B$22))","v":0},{"$error":"#DIV/0!"},{"$error":"#DIV/0!"},{"$error":"#DIV/0!"},{"$error":"#DIV/0!"},{"$error":"#DIV/0!"},6.4516129032258063E-2,{"$error":"#DIV/0!"},{"$error":"#DIV/0!"},{"$f":"IF('Gegevens '!$G$20=\"Eigen waarden\",VLOOKUP($F42,'Gegevens '!$A$25:$C$77,3,FALSE),VLOOKUP($F42,Lijsten!$A$19:$B$71,2,FALSE))","v":4.3012032855657143},{"$error":"#DIV/0!"},{"$error":"#DIV/0!"},{"$error":"#DIV/0!"},{"$error":"#DIV/0!"},{"$error":"#DIV/0!"},{"$error":"#DIV/0!"},{"$error":"#DIV/0!"},{"$error":"#DIV/0!"},{"$error":"#DIV/0!"},{"$error":"#DIV/0!"},{"$error":"#DIV/0!"},{"$error":"#DIV/0!"},{"$error":"#DIV/0!"},{"$error":"#DIV/0!"},{"$error":"#DIV/0!"},{"$error":"#DIV/0!"},{"$error":"#DIV/0!"},{"$error":"#DIV/0!"},{"$error":"#DIV/0!"},{"$error":"#DIV/0!"},{"$error":"#DIV/0!"},{"$error":"#DIV/0!"},{"$error":"#DIV/0!"},{"$error":"#DIV/0!"},0,null,null,null,null,null,null,null,null,null,null,null,null,null,null,null,null,null,null,null,null,null,"1967-01-09",0.8,0,null,"1975-01-08",0,0.28299999999999997,null,"2006-01-08",0.12,0,0.1,0,0.09,0,null,"2016-01-08",0.13,0,0.1,0,0.09,0,null,"2066-01-08",0.14000000000000001,0,0.11,0,0.08,0,null,null,null,1967,{"$error":"#DIV/0!"},{"$error":"#DIV/0!"},{"$error":"#DIV/0!"},707.09999999999991,1,{"$error":"#DIV/0!"},{"$error":"#DIV/0!"},17.795652173913044,{"$error":"#DIV/0!"}]
["1967-01-10",0.7,0,1,1967,2,0.7,{"$f":"IF(B43<Parameters!$A$16,B43*Parameters!$B$16,IF(AND(B43>Parameters!$A$16,B43<Parameters!$A$17),B43*Parameters!$B$17,B43*Parameters!$B$18))","v":0},{"$f":"IF(B43<Parameters!$A$20,B43*Parameters!$B$20,IF(AND(B43>Parameters!$A$20,B43<Parameters!$A$21),B43*Parameters!$B$21,B43*Parameters!$B$22))","v":0},{"$error":"#DIV/0!"},{"$error":"#DIV/0!"},{"$error":"#DIV/0!"},{"$error":"#DIV/0!"},{"$error":"#DIV/0!"},6.4516129032258063E-2,{"$error":"#DIV/0!"},{"$error":"#DIV/0!"},{"$f":"IF('Gegevens '!$G$20=\"Eigen waarden\",VLOOKUP($F43,'Gegevens '!$A$25:$C$77,3,FALSE),VLOOKUP($F43,Lijsten!$A$19:$B$71,2,FALSE))","v":4.3012032855657143},{"$error":"#DIV/0!"},{"$error":"#DIV/0!"},{"$error":"#DIV/0!"},{"$error":"#DIV/0!"},{"$error":"#DIV/0!"},{"$error":"#DIV/0!"},{"$error":"#DIV/0!"},{"$error":"#DIV/0!"},{"$error":"#DIV/0!"},{"$error":"#DIV/0!"},{"$error":"#DIV/0!"},{"$error":"#DIV/0!"},{"$error":"#DIV/0!"},{"$error":"#DIV/0!"},{"$error":"#DIV/0!"},{"$error":"#DIV/0!"},{"$error":"#DIV/0!"},{"$error":"#DIV/0!"},{"$error":"#DIV/0!"},{"$error":"#DIV/0!"},{"$error":"#DIV/0!"},{"$error":"#DIV/0!"},{"$error":"#DIV/0!"},{"$error":"#DIV/0!"},0,null,null,null,null,null,null,null,null,null,null,null,null,null,null,null,null,null,null,null,null,null,"1967-01-10",0.7,0,null,"1975-01-09",0.9,0.36399999999999999,null,"2006-01-09",0.99,0,0.84,0,0.74,0,null,"2016-01-09",1.02,0,0.85,0,0.73,0,null,"2066-01-09",1.19,0,0.91,0,0.68,0,null,null,null,1968,{"$error":"#DIV/0!"},{"$error":"#DIV/0!"},{"$error":"#DIV/0!"},773.60000000000025,2,{"$error":"#DIV/0!"},{"$error":"#DIV/0!"},14.030434782608699,{"$error":"#DIV/0!"}]
["1967-01-11",1.2,0,1,1967,2,1.2,{"$f":"IF(B44<Parameters!$A$16,B44*Parameters!$B$16,IF(AND(B44>Parameters!$A$16,B44<Parameters!$A$17),B44*Parameters!$B$17,B44*Parameters!$B$18))","v":0.96},{"$f":"IF(B44<Parameters!$A$20,B44*Parameters!$B$20,IF(AND(B44>Parameters!$A$20,B44<Parameters!$A$21),B44*Parameters!$B$21,B44*Parameters!$B$22))","v":0.72},{"$error":"#DIV/0!"},{"$error":"#DIV/0!"},{"$error":"#DIV/0!"},{"$error":"#DIV/0!"},{"$error":"#DIV/0!"},6.4516129032258063E-2,{"$error":"#DIV/0!"},{"$error":"#DIV/0!"},{"$f":"IF('Gegevens '!$G$20=\"Eigen waarden\",VLOOKUP($F44,'Gegevens '!$A$25:$C$77,3,FALSE),VLOOKUP($F44,Lijsten!$A$19:$B$71,2,FALSE))","v":4.3012032855657143},{"$error":"#DIV/0!"},{"$error":"#DIV/0!"},{"$error":"#DIV/0!"},{"$error":"#DIV/0!"},{"$error":"#DIV/0!"},{"$error":"#DIV/0!"},{"$error":"#DIV/0!"},{"$error":"#DIV/0!"},{"$error":"#DIV/0!"},{"$error":"#DIV/0!"},{"$error":"#DIV/0!"},{"$error":"#DIV/0!"},{"$error":"#DIV/0!"},{"$error":"#DIV/0!"},{"$error":"#DIV/0!"},{"$error":"#DIV/0!"},{"$error":"#DIV/0!"},{"$error":"#DIV/0!"},{"$error":"#DIV/0!"},{"$error":"#DIV/0!"},{"$error":"#DIV/0!"},{"$error":"#DIV/0!"},{"$error":"#DIV/0!"},{"$error":"#DIV/0!"},0,null,null,null,null,null,null,null,null,null,null,null,null,null,null,null,null,null,null,null,null,null,"1967-01-11",1.2,0,null,"1975-01-10",0,0.61299999999999999,null,"2006-01-10",0.87,0,0.73,0,0.64,0,null,"2016-01-10",0.89,0,0.74,0,0.63,0,null,"2066-01-10",1.05,0,0.78,0,0,0,null,null,null,1969,{"$error":"#DIV/0!"},{"$error":"#DIV/0!"},{"$error":"#DIV/0!"},779.19999999999959,3,{"$error":"#DIV/0!"},{"$error":"#DIV/0!"},15.360869565217389,{"$error":"#DIV/0!"}]
["1967-01-12",0.5,0.189,1,1967,2,0.5,{"$f":"IF(B45<Parameters!$A$16,B45*Parameters!$B$16,IF(AND(B45>Parameters!$A$16,B45<Parameters!$A$17),B45*Parameters!$B$17,B45*Parameters!$B$18))","v":0},{"$f":"IF(B45<Parameters!$A$20,B45*Parameters!$B$20,IF(AND(B45>Parameters!$A$20,B45<Parameters!$A$21),B45*Parameters!$B$21,B45*Parameters!$B$22))","v":0},{"$error":"#DIV/0!"},{"$error":"#DIV/0!"},{"$error":"#DIV/0!"},{"$error":"#DIV/0!"},{"$error":"#DIV/0!"},0.25351612903225806,{"$error":"#DIV/0!"},{"$error":"#DIV/0!"},{"$f":"IF('Gegevens '!$G$20=\"Eigen waarden\",VLOOKUP($F45,'Gegevens '!$A$25:$C$77,3,FALSE),VLOOKUP($F45,Lijsten!$A$19:$B$71,2,FALSE))","v":4.3012032855657143},{"$error":"#DIV/0!"},{"$error":"#DIV/0!"},{"$error":"#DIV/0!"},{"$error":"#DIV/0!"},{"$error":"#DIV/0!"},{"$error":"#DIV/0!"},{"$error":"#DIV/0!"},{"$error":"#DIV/0!"},{"$error":"#DIV/0!"},{"$error":"#DIV/0!"},{"$error":"#DIV/0!"},{"$error":"#DIV/0!"},{"$error":"#DIV/0!"},{"$error":"#DIV/0!"},{"$error":"#DIV/0!"},{"$error":"#DIV/0!"},{"$error":"#DIV/0!"},{"$error":"#DIV/0!"},{"$error":"#DIV/0!"},{"$error":"#DIV/0!"},{"$error":"#DIV/0!"},{"$error":"#DIV/0!"},{"$error":"#DIV/0!"},{"$error":"#DIV/0!"},0,null,null,null,null,null,null,null,null,null,null,null,null,null,null,null,null,null,null,null,null,null,"1967-01-12",0.5,0.189,null,"1975-01-11",0,0.432,null,"2006-01-11",1.48,0,1.26,0,1.1000000000000001,0,null,"2016-01-11",1.54,0,1.27,0,1.0900000000000001,0,null,"2066-01-11",1.78,0,1.35,0,1.04,0,null,null,null,1970,{"$error":"#DIV/0!"},{"$error":"#DIV/0!"},{"$error":"#DIV/0!"},730.90000000000009,4,{"$error":"#DIV/0!"},{"$error":"#DIV/0!"},18.745652173913044,{"$error":"#DIV/0!"}]
["1967-01-13",0,0.11,1,1967,2,0,{"$f":"IF(B46<Parameters!$A$16,B46*Parameters!$B$16,IF(AND(B46>Parameters!$A$16,B46<Parameters!$A$17),B46*Parameters!$B$17,B46*Parameters!$B$18))","v":0},{"$f":"IF(B46<Parameters!$A$20,B46*Parameters!$B$20,IF(AND(B46>Parameters!$A$20,B46<Parameters!$A$21),B46*Parameters!$B$21,B46*Parameters!$B$22))","v":0},{"$error":"#DIV/0!"},"",0,"",0,0.17451612903225805,{"$error":"#DIV/0!"},{"$error":"#DIV/0!"},{"$f":"IF('Gegevens '!$G$20=\"Eigen waarden\",VLOOKUP($F46,'Gegevens '!$A$25:$C$77,3,FALSE),VLOOKUP($F46,Lijsten!$A$19:$B$71,2,FALSE))","v":4.3012032855657143},{"$error":"#DIV/0!"},{"$error":"#DIV/0!"},{"$error":"#DIV/0!"},{"$error":"#DIV/0!"},{"$error":"#DIV/0!"},{"$error":"#DIV/0!"},{"$error":"#DIV/0!"},"","",{"$error":"#DIV/0!"},0,{"$error":"#DIV/0!"},0,{"$error":"#DIV/0!"},{"$error":"#DIV/0!"},{"$error":"#DIV/0!"},{"$error":"#DIV/0!"},{"$error":"#DIV/0!"},{"$error":"#DIV/0!"},"","","",{"$error":"#DIV/0!"},{"$error":"#DIV/0!"},0,null,null,null,null,null,null,null,null,null,null,null,null,null,null,null,null,null,null,null,null,null,"1967-01-13",0,0.11,null,"1975-01-12",0,0.78400000000000003,null,"2006-01-12",0.63,0.21725,0.52,0.20402000000000001,0.45,0.19078999999999999,null,"2016-01-12",0.66,0.22531999999999999,0.53,0.20831,0.44,0.1913,null,"2066-01-12",0.8,0.26567000000000002,0.56999999999999995,0.22975999999999999,0.39,0.19384999999999999,null,null,null,1971,{"$error":"#DIV/0!"},{"$error":"#DIV/0!"},{"$error":"#DIV/0!"},696.09999999999991,5,{"$error":"#DIV/0!"},{"$error":"#DIV/0!"},12.121739130434783,{"$error":"#DIV/0!"}]
["1967-01-14",0.2,0.245,1,1967,2,0.2,{"$f":"IF(B47<Parameters!$A$16,B47*Parameters!$B$16,IF(AND(B47>Parameters!$A$16,B47<Parameters!$A$17),B47*Parameters!$B$17,B47*Parameters!$B$18))","v":0},{"$f":"IF(B47<Parameters!$A$20,B47*Parameters!$B$20,IF(AND(B47>Parameters!$A$20,B47<Parameters!$A$21),B47*Parameters!$B$21,B47*Parameters!$B$22))","v":0},{"$error":"#DIV/0!"},{"$error":"#DIV/0!"},{"$error":"#DIV/0!"},{"$error":"#DIV/0!"},{"$error":"#DIV/0!"},0.30951612903225806,{"$error":"#DIV/0!"},{"$error":"#DIV/0!"},{"$f":"IF('Gegevens '!$G$20=\"Eigen waarden\",VLOOKUP($F47,'Gegevens '!$A$25:$C$77,3,FALSE),VLOOKUP($F47,Lijsten!$A$19:$B$71,2,FALSE))","v":4.3012032855657143},{"$error":"#DIV/0!"},{"$error":"#DIV/0!"},{"$error":"#DIV/0!"},{"$error":"#DIV/0!"},{"$error":"#DIV/0!"},{"$error":"#DIV/0!"},{"$error":"#DIV/0!"},{"$error":"#DIV/0!"},{"$error":"#DIV/0!"},{"$error":"#DIV/0!"},{"$error":"#DIV/0!"},{"$error":"#DIV/0!"},{"$error":"#DIV/0!"},{"$error":"#DIV/0!"},{"$error":"#DIV/0!"},{"$error":"#DIV/0!"},{"$error":"#DIV/0!"},{"$error":"#DIV/0!"},{"$error":"#DIV/0!"},{"$error":"#DIV/0!"},{"$error":"#DIV/0!"},{"$error":"#DIV/0!"},{"$error":"#DIV/0!"},{"$error":"#DIV/0!"},0,null,null,null,null,null,null,null,null,null,null,null,null,null,null,null,null,null,null,null,null,null,"1967-01-14",0.2,0.245,null,"1975-01-13",0,0.72099999999999997,null,"2006-01-13",0.38,0.12644,0,0.11874,0,0.11104,null,"2016-01-13",0,0.13114000000000001,0,0.12124,0,0.11133999999999999,null,"2066-01-13",0,0.15462000000000001,0,0.13372000000000001,0,0.11282,null,null,null,1972,{"$error":"#DIV/0!"},{"$error":"#DIV/0!"},{"$error":"#DIV/0!"},712.40000000000009,6,{"$error":"#DIV/0!"},{"$error":"#DIV/0!"},15.439130434782614,{"$error":"#DIV/0!"}]
["1967-01-15",0,0.10100000000000001,1,1967,2,0,{"$f":"IF(B48<Parameters!$A$16,B48*Parameters!$B$16,IF(AND(B48>Parameters!$A$16,B48<Parameters!$A$17),B48*Parameters!$B$17,B48*Parameters!$B$18))","v":0},{"$f":"IF(B48<Parameters!$A$20,B48*Parameters!$B$20,IF(AND(B48>Parameters!$A$20,B48<Parameters!$A$21),B48*Parameters!$B$21,B48*Parameters!$B$22))","v":0},{"$error":"#DIV/0!"},"",0,"",0,0.16551612903225807,{"$error":"#DIV/0!"},{"$error":"#DIV/0!"},{"$f":"IF('Gegevens '!$G$20=\"Eigen waarden\",VLOOKUP($F48,'Gegevens '!$A$25:$C$77,3,FALSE),VLOOKUP($F48,Lijsten!$A$19:$B$71,2,FALSE))","v":4.3012032855657143},{"$error":"#DIV/0!"},{"$error":"#DIV/0!"},{"$error":"#DIV/0!"},{"$error":"#DIV/0!"},{"$error":"#DIV/0!"},{"$error":"#DIV/0!"},{"$error":"#DIV/0!"},"","",{"$error":"#DIV/0!"},0,{"$error":"#DIV/0!"},0,{"$error":"#DIV/0!"},{"$error":"#DIV/0!"},{"$error":"#DIV/0!"},{"$error":"#DIV/0!"},{"$error":"#DIV/0!"},{"$error":"#DIV/0!"},"","","",{"$error":"#DIV/0!"},{"$error":"#DIV/0!"},0,null,null,null,null,null,null,null,null,null,null,null,null,null,null,null,null,null,null,null,null,null,"1967-01-15",0,0.10100000000000001,null,"1975-01-14",0.1,1.54,null,"2006-01-14",0.26,0.28161999999999998,0.21,0.26446999999999998,0.17,0.24732000000000001,null,"2016-01-14",0.27,0.29208000000000001,0.21,0.27002999999999999,0.16,0.24798000000000001,null,"2066-01-14",0.32,0.34438000000000002,0.22,0.29782999999999998,0.13,0.25128,null,null,null,1973,{"$error":"#DIV/0!"},{"$error":"#DIV/0!"},{"$error":"#DIV/0!"},693.2,7,{"$error":"#DIV/0!"},{"$error":"#DIV/0!"},16.169565217391305,{"$error":"#DIV/0!"}]
["1967-01-16",0,0.25600000000000001,1,1967,3,0,{"$f":"IF(B49<Parameters!$A$16,B49*Parameters!$B$16,IF(AND(B49>Parameters!$A$16,B49<Parameters!$A$17),B49*Parameters!$B$17,B49*Parameters!$B$18))","v":0},{"$f":"IF(B49<Parameters!$A$20,B49*Parameters!$B$20,IF(AND(B49>Parameters!$A$20,B49<Parameters!$A$21),B49*Parameters!$B$21,B49*Parameters!$B$22))","v":0},{"$error":"#DIV/0!"},"",0,"",0,0.32051612903225807,{"$error":"#DIV/0!"},{"$error":"#DIV/0!"},{"$f":"IF('Gegevens '!$G$20=\"Eigen waarden\",VLOOKUP($F49,'Gegevens '!$A$25:$C$77,3,FALSE),VLOOKUP($F49,Lijsten!$A$19:$B$71,2,FALSE))","v":5.3886624347828569},{"$error":"#DIV/0!"},{"$error":"#DIV/0!"},{"$error":"#DIV/0!"},{"$error":"#DIV/0!"},{"$error":"#DIV/0!"},{"$error":"#DIV/0!"},{"$error":"#DIV/0!"},"","",{"$error":"#DIV/0!"},0,{"$error":"#DIV/0!"},0,{"$error":"#DIV/0!"},{"$error":"#DIV/0!"},{"$error":"#DIV/0!"},{"$error":"#DIV/0!"},{"$error":"#DIV/0!"},{"$error":"#DIV/0!"},"","","",{"$error":"#DIV/0!"},{"$error":"#DIV/0!"},0,null,null,null,null,null,null,null,null,null,null,null,null,null,null,null,null,null,null,null,null,null,"1967-01-16",0,0.25600000000000001,null,"1975-01-15",0.8,1.7809999999999999,null,"2006-01-15",0,0.11609,0,0.10902000000000001,0,0.10195,null,"2016-01-15",0,0.12041,0,0.11132,0,0.10223,null,"2066-01-15",0,0.14197000000000001,0,0.12278,0,0.10359,null,null,null,1974,{"$error":"#DIV/0!"},{"$error":"#DIV/0!"},{"$error":"#DIV/0!"},1039.2,8,{"$error":"#DIV/0!"},{"$error":"#DIV/0!"},12.989130434782613,{"$error":"#DIV/0!"}]
["1967-01-17",0,0.34300000000000003,1,1967,3,0,{"$f":"IF(B50<Parameters!$A$16,B50*Parameters!$B$16,IF(AND(B50>Parameters!$A$16,B50<Parameters!$A$17),B50*Parameters!$B$17,B50*Parameters!$B$18))","v":0},{"$f":"IF(B50<Parameters!$A$20,B50*Parameters!$B$20,IF(AND(B50>Parameters!$A$20,B50<Parameters!$A$21),B50*Parameters!$B$21,B50*Parameters!$B$22))","v":0},{"$error":"#DIV/0!"},"",0,"",0,0.40751612903225809,{"$error":"#DIV/0!"},{"$error":"#DIV/0!"},{"$f":"IF('Gegevens '!$G$20=\"Eigen waarden\",VLOOKUP($F50,'Gegevens '!$A$25:$C$77,3,FALSE),VLOOKUP($F50,Lijsten!$A$19:$B$71,2,FALSE))","v":5.3886624347828569},{"$error":"#DIV/0!"},{"$error":"#DIV/0!"},{"$error":"#DIV/0!"},{"$error":"#DIV/0!"},{"$error":"#DIV/0!"},{"$error":"#DIV/0!"},{"$error":"#DIV/0!"},"","",{"$error":"#DIV/0!"},0,{"$error":"#DIV/0!"},0,{"$error":"#DIV/0!"},{"$error":"#DIV/0!"},{"$error":"#DIV/0!"},{"$error":"#DIV/0!"},{"$error":"#DIV/0!"},{"$error":"#DIV/0!"},"","","",{"$error":"#DIV/0!"},{"$error":"#DIV/0!"},0,null,null,null,null,null,null,null,null,null,null,null,null,null,null,null,null,null,null,null,null,null,"1967-01-17",0,0.34300000000000003,null,"1975-01-16",5.0999999999999996,0.84699999999999998,null,"2006-01-16",0,0.29426000000000002,0,0.27633999999999997,0,0.25841999999999998,null,"2016-01-16",0,0.30519000000000002,0,0.28215000000000001,0,0.25911000000000001,null,"2066-01-16",4.82,0.35985,0,0.31120999999999999,0,0.26257000000000003,null,null,null,1975,{"$error":"#DIV/0!"},{"$error":"#DIV/0!"},{"$error":"#DIV/0!"},730.69999999999993,9,{"$error":"#DIV/0!"},{"$error":"#DIV/0!"},14.232608695652175,{"$error":"#DIV/0!"}]
["1967-01-18",0,0.14699999999999999,1,1967,3,0,{"$f":"IF(B51<Parameters!$A$16,B51*Parameters!$B$16,IF(AND(B51>Parameters!$A$16,B51<Parameters!$A$17),B51*Parameters!$B$17,B51*Parameters!$B$18))","v":0},{"$f":"IF(B51<Parameters!$A$20,B51*Parameters!$B$20,IF(AND(B51>Parameters!$A$20,B51<Parameters!$A$21),B51*Parameters!$B$21,B51*Parameters!$B$22))","v":0},{"$error":"#DIV/0!"},"",0,"",0,0.21151612903225805,{"$error":"#DIV/0!"},{"$error":"#DIV/0!"},{"$f":"IF('Gegevens '!$G$20=\"Eigen waarden\",VLOOKUP($F51,'Gegevens '!$A$25:$C$77,3,FALSE),VLOOKUP($F51,Lijsten!$A$19:$B$71,2,FALSE))","v":5.3886624347828569},{"$error":"#DIV/0!"},{"$error":"#DIV/0!"},{"$error":"#DIV/0!"},{"$error":"#DIV/0!"},{"$error":"#DIV/0!"},{"$error":"#DIV/0!"},{"$error":"#DIV/0!"},"","",{"$error":"#DIV/0!"},0,{"$error":"#DIV/0!"},0,{"$error":"#DIV/0!"},{"$error":"#DIV/0!"},{"$error":"#DIV/0!"},{"$error":"#DIV/0!"},{"$error":"#DIV/0!"},{"$error":"#DIV/0!"},"","","",{"$error":"#DIV/0!"},{"$error":"#DIV/0!"},0,null,null,null,null,null,null,null,null,null,null,null,null,null,null,null,null,null,null,null,null,null,"1967-01-18",0,0.14699999999999999,null,"1975-01-17",4.8,0.59599999999999997,null,"2006-01-17",0,0.39426,0,0.37025000000000002,0,0.34623999999999999,null,"2016-01-17",0.13,0.40891,0,0.37803999999999999,0,0.34716999999999998,null,"2066-01-17",0,0.48214000000000001,0,0.41697000000000001,0,0.3518,null,null,null,1976,{"$error":"#DIV/0!"},{"$error":"#DIV/0!"},{"$error":"#DIV/0!"},547.00000000000023,10,{"$error":"#DIV/0!"},{"$error":"#DIV/0!"},12.795652173913041,{"$error":"#DIV/0!"}]
["1967-01-19",0,0.52100000000000002,1,1967,3,0,{"$f":"IF(B52<Parameters!$A$16,B52*Parameters!$B$16,IF(AND(B52>Parameters!$A$16,B52<Parameters!$A$17),B52*Parameters!$B$17,B52*Parameters!$B$18))","v":0},{"$f":"IF(B52<Parameters!$A$20,B52*Parameters!$B$20,IF(AND(B52>Parameters!$A$20,B52<Parameters!$A$21),B52*Parameters!$B$21,B52*Parameters!$B$22))","v":0},{"$error":"#DIV/0!"},"",0,"",0,0.58551612903225814,{"$error":"#DIV/0!"},{"$error":"#DIV/0!"},{"$f":"IF('Gegevens '!$G$20=\"Eigen waarden\",VLOOKUP($F52,'Gegevens '!$A$25:$C$77,3,FALSE),VLOOKUP($F52,Lijsten!$A$19:$B$71,2,FALSE))","v":5.3886624347828569},{"$error":"#DIV/0!"},{"$error":"#DIV/0!"},{"$error":"#DIV/0!"},{"$error":"#DIV/0!"},{"$error":"#DIV/0!"},{"$error":"#DIV/0!"},{"$error":"#DIV/0!"},"","",{"$error":"#DIV/0!"},0,{"$error":"#DIV/0!"},0,{"$error":"#DIV/0!"},{"$error":"#DIV/0!"},{"$error":"#DIV/0!"},{"$error":"#DIV/0!"},{"$error":"#DIV/0!"},{"$error":"#DIV/0!"},"","","",{"$error":"#DIV/0!"},{"$error":"#DIV/0!"},0,null,null,null,null,null,null,null,null,null,null,null,null,null,null,null,null,null,null,null,null,null,"1967-01-19",0,0.52100000000000002,null,"1975-01-18",5.4,0.32600000000000001,null,"2006-01-18",0,0.16897000000000001,0,0.15867999999999999,0,0.14838999999999999,null,"2016-01-18",2.69,0.17524999999999999,0,0.16202,0,0.14879000000000001,null,"2066-01-18",0,0.20663000000000001,0,0.1787,0,0.15076999999999999,null,null,null,1977,{"$error":"#DIV/0!"},{"$error":"#DIV/0!"},{"$error":"#DIV/0!"},855.40000000000055,11,{"$error":"#DIV/0!"},{"$error":"#DIV/0!"},17.326086956521745,{"$error":"#DIV/0!"}]
["1967-01-20",0,0.72599999999999998,1,1967,3,0,{"$f":"IF(B53<Parameters!$A$16,B53*Parameters!$B$16,IF(AND(B53>Parameters!$A$16,B53<Parameters!$A$17),B53*Parameters!$B$17,B53*Parameters!$B$18))","v":0},{"$f":"IF(B53<Parameters!$A$20,B53*Parameters!$B$20,IF(AND(B53>Parameters!$A$20,B53<Parameters!$A$21),B53*Parameters!$B$21,B53*Parameters!$B$22))","v":0},{"$error":"#DIV/0!"},"",0,"",0,0.79051612903225799,{"$error":"#DIV/0!"},{"$error":"#DIV/0!"},{"$f":"IF('Gegevens '!$G$20=\"Eigen waarden\",VLOOKUP($F53,'Gegevens '!$A$25:$C$77,3,FALSE),VLOOKUP($F53,Lijsten!$A$19:$B$71,2,FALSE))","v":5.3886624347828569},{"$error":"#DIV/0!"},{"$error":"#DIV/0!"},{"$error":"#DIV/0!"},{"$error":"#DIV/0!"},{"$error":"#DIV/0!"},{"$error":"#DIV/0!"},{"$error":"#DIV/0!"},"","",{"$error":"#DIV/0!"},0,{"$error":"#DIV/0!"},0,{"$error":"#DIV/0!"},{"$error":"#DIV/0!"},{"$error":"#DIV/0!"},{"$error":"#DIV/0!"},{"$error":"#DIV/0!"},{"$error":"#DIV/0!"},"","","",{"$error":"#DIV/0!"},{"$error":"#DIV/0!"},0,null,null,null,null,null,null,null,null,null,null,null,null,null,null,null,null,null,null,null,null,null,"1967-01-20",0,0.72599999999999998,null,"1975-01-19",0,0.36299999999999999,null,"2006-01-19",0,0.59885999999999995,0,0.56238999999999995,0,0.52592000000000005,null,"2016-01-19",0,0.62111000000000005,0,0.57421999999999995,0,0.52732999999999997,null,"2066-01-19",0,0.73233999999999999,0,0.63334999999999997,0,0.53435999999999995,null,null,null,1978,{"$error":"#DIV/0!"},{"$error":"#DIV/0!"},{"$error":"#DIV/0!"},767.90000000000055,12,{"$error":"#DIV/0!"},{"$error":"#DIV/0!"},14.671739130434785,{"$error":"#DIV/0!"}]
["1967-01-21",2,0.48499999999999999,1,1967,3,2,{"$f":"IF(B54<Parameters!$A$16,B54*Parameters!$B$16,IF(AND(B54>Parameters!$A$16,B54<Parameters!$A$17),B54*Parameters!$B$17,B54*Parameters!$B$18))","v":1.9},{"$f":"IF(B54<Parameters!$A$20,B54*Parameters!$B$20,IF(AND(B54>Parameters!$A$20,B54<Parameters!$A$21),B54*Parameters!$B$21,B54*Parameters!$B$22))","v":1.5},{"$error":"#DIV/0!"},{"$error":"#DIV/0!"},{"$error":"#DIV/0!"},{"$error":"#DIV/0!"},{"$error":"#DIV/0!"},0.5495161290322581,{"$error":"#DIV/0!"},{"$error":"#DIV/0!"},{"$f":"IF('Gegevens '!$G$20=\"Eigen waarden\",VLOOKUP($F54,'Gegevens '!$A$25:$C$77,3,FALSE),VLOOKUP($F54,Lijsten!$A$19:$B$71,2,FALSE))","v":5.3886624347828569},{"$error":"#DIV/0!"},{"$error":"#DIV/0!"},{"$error":"#DIV/0!"},{"$error":"#DIV/0!"},{"$error":"#DIV/0!"},{"$error":"#DIV/0!"},{"$error":"#DIV/0!"},{"$error":"#DIV/0!"},{"$error":"#DIV/0!"},{"$error":"#DIV/0!"},{"$error":"#DIV/0!"},{"$error":"#DIV/0!"},{"$error":"#DIV/0!"},{"$error":"#DIV/0!"},{"$error":"#DIV/0!"},{"$error":"#DIV/0!"},{"$error":"#DIV/0!"},{"$error":"#DIV/0!"},{"$error":"#DIV/0!"},{"$error":"#DIV/0!"},{"$error":"#DIV/0!"},{"$error":"#DIV/0!"},{"$error":"#DIV/0!"},{"$error":"#DIV/0!"},0,null,null,null,null,null,null,null,null,null,null,null,null,null,null,null,null,null,null,null,null,null,"1967-01-21",2,0.48499999999999999,null,"1975-01-20",2.4,0.64400000000000002,null,"2006-01-20",0,0.83450000000000002,0,0.78368000000000004,0,0.73285999999999996,null,"2016-01-20",0,0.86550000000000005,0,0.80015999999999998,0,0.73482000000000003,null,"2066-01-20",0,1.0205,0,0.88256000000000001,0,0.74461999999999995,null,null,null,1979,{"$error":"#DIV/0!"},{"$error":"#DIV/0!"},{"$error":"#DIV/0!"},831.0000000000008,13,{"$error":"#DIV/0!"},{"$error":"#DIV/0!"},17.486956521739138,{"$error":"#DIV/0!"}]
["1967-01-22",0.2,0.442,1,1967,3,0.2,{"$f":"IF(B55<Parameters!$A$16,B55*Parameters!$B$16,IF(AND(B55>Parameters!$A$16,B55<Parameters!$A$17),B55*Parameters!$B$17,B55*Parameters!$B$18))","v":0},{"$f":"IF(B55<Parameters!$A$20,B55*Parameters!$B$20,IF(AND(B55>Parameters!$A$20,B55<Parameters!$A$21),B55*Parameters!$B$21,B55*Parameters!$B$22))","v":0},{"$error":"#DIV/0!"},{"$error":"#DIV/0!"},{"$error":"#DIV/0!"},{"$error":"#DIV/0!"},{"$error":"#DIV/0!"},0.50651612903225807,{"$error":"#DIV/0!"},{"$error":"#DIV/0!"},{"$f":"IF('Gegevens '!$G$20=\"Eigen waarden\",VLOOKUP($F55,'Gegevens '!$A$25:$C$77,3,FALSE),VLOOKUP($F55,Lijsten!$A$19:$B$71,2,FALSE))","v":5.3886624347828569},{"$error":"#DIV/0!"},{"$error":"#DIV/0!"},{"$error":"#DIV/0!"},{"$error":"#DIV/0!"},{"$error":"#DIV/0!"},{"$error":"#DIV/0!"},{"$error":"#DIV/0!"},{"$error":"#DIV/0!"},{"$error":"#DIV/0!"},{"$error":"#DIV/0!"},{"$error":"#DIV/0!"},{"$error":"#DIV/0!"},{"$error":"#DIV/0!"},{"$error":"#DIV/0!"},{"$error":"#DIV/0!"},{"$error":"#DIV/0!"},{"$error":"#DIV/0!"},{"$error":"#DIV/0!"},{"$error":"#DIV/0!"},{"$error":"#DIV/0!"},{"$error":"#DIV/0!"},{"$error":"#DIV/0!"},{"$error":"#DIV/0!"},{"$error":"#DIV/0!"},0,null,null,null,null,null,null,null,null,null,null,null,null,null,null,null,null,null,null,null,null,null,"1967-01-22",0.2,0.442,null,"1975-01-21",0.9,0.28199999999999997,null,"2006-01-21",2.4900000000000002,0.55747999999999998,2.11,0.52353000000000005,1.85,0.48958000000000002,null,"2016-01-21",2.57,0.57818999999999998,2.13,0.53454000000000002,1.83,0.49088999999999999,null,"2066-01-21",3.03,0.68174000000000001,2.2799999999999998,0.58958999999999995,1.75,0.49743999999999999,null,null,null,1980,{"$error":"#DIV/0!"},{"$error":"#DIV/0!"},{"$error":"#DIV/0!"},920.30000000000041,14,{"$error":"#DIV/0!"},{"$error":"#DIV/0!"},12.363043478260877,{"$error":"#DIV/0!"},{"$f":"GETPIVOTDATA(\"Som van Wekelijkse neerslag\",$CZ$40,\"Week\",14)-GETPIVOTDATA(\"Som van Opvangverliezen per week\",$CZ$40,\"Week\",14)","v":{"$error":"#DIV/0!"}},{"$f":"DE55/GETPIVOTDATA(\"Som van Wekelijkse neerslag\",$CZ$40,\"Week\",14)","v":{"$error":"#DIV/0!"}}]
["1967-01-23",6.7,0.28599999999999998,1,1967,4,6.7,{"$f":"IF(B56<Parameters!$A$16,B56*Parameters!$B$16,IF(AND(B56>Parameters!$A$16,B56<Parameters!$A$17),B56*Parameters!$B$17,B56*Parameters!$B$18))","v":6.3650000000000002},{"$f":"IF(B56<Parameters!$A$20,B56*Parameters!$B$20,IF(AND(B56>Parameters!$A$20,B56<Parameters!$A$21),B56*Parameters!$B$21,B56*Parameters!$B$22))","v":5.0250000000000004},{"$error":"#DIV/0!"},{"$error":"#DIV/0!"},{"$error":"#DIV/0!"},{"$error":"#DIV/0!"},{"$error":"#DIV/0!"},0.35051612903225804,{"$error":"#DIV/0!"},{"$error":"#DIV/0!"},{"$f":"IF('Gegevens '!$G$20=\"Eigen waarden\",VLOOKUP($F56,'Gegevens '!$A$25:$C$77,3,FALSE),VLOOKUP($F56,Lijsten!$A$19:$B$71,2,FALSE))","v":6.2443769793828583},{"$error":"#DIV/0!"},{"$error":"#DIV/0!"},{"$error":"#DIV/0!"},{"$error":"#DIV/0!"},{"$error":"#DIV/0!"},{"$error":"#DIV/0!"},{"$error":"#DIV/0!"},{"$error":"#DIV/0!"},{"$error":"#DIV/0!"},{"$error":"#DIV/0!"},{"$error":"#DIV/0!"},{"$error":"#DIV/0!"},{"$error":"#DIV/0!"},{"$error":"#DIV/0!"},{"$error":"#DIV/0!"},{"$error":"#DIV/0!"},{"$error":"#DIV/0!"},{"$error":"#DIV/0!"},{"$error":"#DIV/0!"},{"$error":"#DIV/0!"},{"$error":"#DIV/0!"},{"$error":"#DIV/0!"},{"$error":"#DIV/0!"},{"$error":"#DIV/0!"},0,null,null,null,null,null,null,null,null,null,null,null,null,null,null,null,null,null,null,null,null,null,"1967-01-23",6.7,0.28599999999999998,null,"1975-01-22",9.4,0.44700000000000001,null,"2006-01-22",0.26,0.50805999999999996,0.21,0.47711999999999999,0.17,0.44618000000000002,null,"2016-01-22",0.27,0.52693000000000001,0.21,0.48715000000000003,0.16,0.44736999999999999,null,"2066-01-22",0.32,0.62129999999999996,0.22,0.53732000000000002,0.13,0.45334000000000002,null,null,null,1981,{"$error":"#DIV/0!"},{"$error":"#DIV/0!"},{"$error":"#DIV/0!"},1024.1999999999998,15,{"$error":"#DIV/0!"},{"$error":"#DIV/0!"},12.054347826086962,{"$error":"#DIV/0!"}]
["1967-01-24",0,0.38100000000000001,1,1967,4,0,{"$f":"IF(B57<Parameters!$A$16,B57*Parameters!$B$16,IF(AND(B57>Parameters!$A$16,B57<Parameters!$A$17),B57*Parameters!$B$17,B57*Parameters!$B$18))","v":0},{"$f":"IF(B57<Parameters!$A$20,B57*Parameters!$B$20,IF(AND(B57>Parameters!$A$20,B57<Parameters!$A$21),B57*Parameters!$B$21,B57*Parameters!$B$22))","v":0},{"$error":"#DIV/0!"},"",0,"",0,0.44551612903225807,{"$error":"#DIV/0!"},{"$error":"#DIV/0!"},{"$f":"IF('Gegevens '!$G$20=\"Eigen waarden\",VLOOKUP($F57,'Gegevens '!$A$25:$C$77,3,FALSE),VLOOKUP($F57,Lijsten!$A$19:$B$71,2,FALSE))","v":6.2443769793828583},{"$error":"#DIV/0!"},{"$error":"#DIV/0!"},{"$error":"#DIV/0!"},{"$error":"#DIV/0!"},{"$error":"#DIV/0!"},{"$error":"#DIV/0!"},{"$error":"#DIV/0!"},"","",{"$error":"#DIV/0!"},0,{"$error":"#DIV/0!"},0,{"$error":"#DIV/0!"},{"$error":"#DIV/0!"},{"$error":"#DIV/0!"},{"$error":"#DIV/0!"},{"$error":"#DIV/0!"},{"$error":"#DIV/0!"},"","","",{"$error":"#DIV/0!"},{"$error":"#DIV/0!"},0,null,null,null,null,null,null,null,null,null,null,null,null,null,null,null,null,null,null,null,null,null,"1967-01-24",0,0.38100000000000001,null,"1975-01-23",1.2,0.76600000000000001,null,"2006-01-23",8.1300000000000008,0.32873999999999998,6.96,0.30871999999999999,6.2,0.28870000000000001,null,"2016-01-23",8.3699999999999992,0.34094999999999998,7.04,0.31520999999999999,6.13,0.28947000000000001,null,"2066-01-23",9.5500000000000007,0.40201999999999999,7.4,0.34767999999999999,5.8,0.29333999999999999,null,null,null,1982,{"$error":"#DIV/0!"},{"$error":"#DIV/0!"},{"$error":"#DIV/0!"},796.20000000000095,16,{"$error":"#DIV/0!"},{"$error":"#DIV/0!"},11.695652173913034,{"$error":"#DIV/0!"}]
["1967-01-25",1.7,0.46400000000000002,1,1967,4,1.7,{"$f":"IF(B58<Parameters!$A$16,B58*Parameters!$B$16,IF(AND(B58>Parameters!$A$16,B58<Parameters!$A$17),B58*Parameters!$B$17,B58*Parameters!$B$18))","v":1.36},{"$f":"IF(B58<Parameters!$A$20,B58*Parameters!$B$20,IF(AND(B58>Parameters!$A$20,B58<Parameters!$A$21),B58*Parameters!$B$21,B58*Parameters!$B$22))","v":1.02},{"$error":"#DIV/0!"},{"$error":"#DIV/0!"},{"$error":"#DIV/0!"},{"$error":"#DIV/0!"},{"$error":"#DIV/0!"},0.52851612903225809,{"$error":"#DIV/0!"},{"$error":"#DIV/0!"},{"$f":"IF('Gegevens '!$G$20=\"Eigen waarden\",VLOOKUP($F58,'Gegevens '!$A$25:$C$77,3,FALSE),VLOOKUP($F58,Lijsten!$A$19:$B$71,2,FALSE))","v":6.2443769793828583},{"$error":"#DIV/0!"},{"$error":"#DIV/0!"},{"$error":"#DIV/0!"},{"$error":"#DIV/0!"},{"$error":"#DIV/0!"},{"$error":"#DIV/0!"},{"$error":"#DIV/0!"},{"$error":"#DIV/0!"},{"$error":"#DIV/0!"},{"$error":"#DIV/0!"},{"$error":"#DIV/0!"},{"$error":"#DIV/0!"},{"$error":"#DIV/0!"},{"$error":"#DIV/0!"},{"$error":"#DIV/0!"},{"$error":"#DIV/0!"},{"$error":"#DIV/0!"},{"$error":"#DIV/0!"},{"$error":"#DIV/0!"},{"$error":"#DIV/0!"},{"$error":"#DIV/0!"},{"$error":"#DIV/0!"},{"$error":"#DIV/0!"},{"$error":"#DIV/0!"},0,null,null,null,null,null,null,null,null,null,null,null,null,null,null,null,null,null,null,null,null,null,"1967-01-25",1.7,0.46400000000000002,null,"1975-01-24",1.3,0.55800000000000005,null,"2006-01-24",0,0.43794,0,0.41127000000000002,0,0.3846,null,"2016-01-24",0,0.45421,0,0.41992000000000002,0,0.38562999999999997,null,"2066-01-24",0,0.53554999999999997,0,0.46316000000000002,0,0.39077000000000001,null,null,null,1983,{"$error":"#DIV/0!"},{"$error":"#DIV/0!"},{"$error":"#DIV/0!"},696.90000000000032,17,{"$error":"#DIV/0!"},{"$error":"#DIV/0!"},12.386956521739126,{"$error":"#DIV/0!"}]
["1967-01-26",7.7,0.502,1,1967,4,7.7,{"$f":"IF(B59<Parameters!$A$16,B59*Parameters!$B$16,IF(AND(B59>Parameters!$A$16,B59<Parameters!$A$17),B59*Parameters!$B$17,B59*Parameters!$B$18))","v":7.3149999999999995},{"$f":"IF(B59<Parameters!$A$20,B59*Parameters!$B$20,IF(AND(B59>Parameters!$A$20,B59<Parameters!$A$21),B59*Parameters!$B$21,B59*Parameters!$B$22))","v":5.7750000000000004},{"$error":"#DIV/0!"},{"$error":"#DIV/0!"},{"$error":"#DIV/0!"},{"$error":"#DIV/0!"},{"$error":"#DIV/0!"},0.56651612903225801,{"$error":"#DIV/0!"},{"$error":"#DIV/0!"},{"$f":"IF('Gegevens '!$G$20=\"Eigen waarden\",VLOOKUP($F59,'Gegevens '!$A$25:$C$77,3,FALSE),VLOOKUP($F59,Lijsten!$A$19:$B$71,2,FALSE))","v":6.2443769793828583},{"$error":"#DIV/0!"},{"$error":"#DIV/0!"},{"$error":"#DIV/0!"},{"$error":"#DIV/0!"},{"$error":"#DIV/0!"},{"$error":"#DIV/0!"},{"$error":"#DIV/0!"},{"$error":"#DIV/0!"},{"$error":"#DIV/0!"},{"$error":"#DIV/0!"},{"$error":"#DIV/0!"},{"$error":"#DIV/0!"},{"$error":"#DIV/0!"},{"$error":"#DIV/0!"},{"$error":"#DIV/0!"},{"$error":"#DIV/0!"},{"$error":"#DIV/0!"},{"$error":"#DIV/0!"},{"$error":"#DIV/0!"},{"$error":"#DIV/0!"},{"$error":"#DIV/0!"},{"$error":"#DIV/0!"},{"$error":"#DIV/0!"},{"$error":"#DIV/0!"},0,null,null,null,null,null,null,null,null,null,null,null,null,null,null,null,null,null,null,null,null,null,"1967-01-26",7.7,0.502,null,"1975-01-25",5.7,0.56499999999999995,null,"2006-01-25",2.11,0.53334000000000004,1.79,0.50085999999999997,1.57,0.46838000000000002,null,"2016-01-25",2.19,0.55315999999999999,1.81,0.51139999999999997,1.56,0.46964,null,"2066-01-25",2.5299999999999998,0.65222000000000002,1.94,0.56406000000000001,1.47,0.47589999999999999,null,null,null,1984,{"$error":"#DIV/0!"},{"$error":"#DIV/0!"},{"$error":"#DIV/0!"},928.40000000000032,18,{"$error":"#DIV/0!"},{"$error":"#DIV/0!"},15.023913043478256,{"$error":"#DIV/0!"}]
["1967-01-27",4.4000000000000004,0.38,1,1967,4,4.4000000000000004,{"$f":"IF(B60<Parameters!$A$16,B60*Parameters!$B$16,IF(AND(B60>Parameters!$A$16,B60<Parameters!$A$17),B60*Parameters!$B$17,B60*Parameters!$B$18))","v":4.18},{"$f":"IF(B60<Parameters!$A$20,B60*Parameters!$B$20,IF(AND(B60>Parameters!$A$20,B60<Parameters!$A$21),B60*Parameters!$B$21,B60*Parameters!$B$22))","v":3.3000000000000003},{"$error":"#DIV/0!"},{"$error":"#DIV/0!"},{"$error":"#DIV/0!"},{"$error":"#DIV/0!"},{"$error":"#DIV/0!"},0.44451612903225807,{"$error":"#DIV/0!"},{"$error":"#DIV/0!"},{"$f":"IF('Gegevens '!$G$20=\"Eigen waarden\",VLOOKUP($F60,'Gegevens '!$A$25:$C$77,3,FALSE),VLOOKUP($F60,Lijsten!$A$19:$B$71,2,FALSE))","v":6.2443769793828583},{"$error":"#DIV/0!"},{"$error":"#DIV/0!"},{"$error":"#DIV/0!"},{"$error":"#DIV/0!"},{"$error":"#DIV/0!"},{"$error":"#DIV/0!"},{"$error":"#DIV/0!"},{"$error":"#DIV/0!"},{"$error":"#DIV/0!"},{"$error":"#DIV/0!"},{"$error":"#DIV/0!"},{"$error":"#DIV/0!"},{"$error":"#DIV/0!"},{"$error":"#DIV/0!"},{"$error":"#DIV/0!"},{"$error":"#DIV/0!"},{"$error":"#DIV/0!"},{"$error":"#DIV/0!"},{"$error":"#DIV/0!"},{"$error":"#DIV/0!"},{"$error":"#DIV/0!"},{"$error":"#DIV/0!"},{"$error":"#DIV/0!"},{"$error":"#DIV/0!"},0,null,null,null,null,null,null,null,null,null,null,null,null,null,null,null,null,null,null,null,null,null,"1967-01-27",4.4000000000000004,0.38,null,"1975-01-26",0.1,0.69,null,"2006-01-26",9.36,0.57701999999999998,8.02,0.54188000000000003,7.16,0.50673999999999997,null,"2016-01-26",9.64,0.59845999999999999,8.11,0.55327999999999999,7.08,0.5081,null,"2066-01-26",11.05,0.70564000000000004,8.57,0.61026000000000002,6.76,0.51488,null,null,null,1985,{"$error":"#DIV/0!"},{"$error":"#DIV/0!"},{"$error":"#DIV/0!"},760.30000000000075,19,{"$error":"#DIV/0!"},{"$error":"#DIV/0!"},14.600000000000003,{"$error":"#DIV/0!"}]
["1967-01-28",0.3,0.92700000000000005,1,1967,4,0.3,{"$f":"IF(B61<Parameters!$A$16,B61*Parameters!$B$16,IF(AND(B61>Parameters!$A$16,B61<Parameters!$A$17),B61*Parameters!$B$17,B61*Parameters!$B$18))","v":0},{"$f":"IF(B61<Parameters!$A$20,B61*Parameters!$B$20,IF(AND(B61>Parameters!$A$20,B61<Parameters!$A$21),B61*Parameters!$B$21,B61*Parameters!$B$22))","v":0},{"$error":"#DIV/0!"},{"$error":"#DIV/0!"},{"$error":"#DIV/0!"},{"$error":"#DIV/0!"},{"$error":"#DIV/0!"},0.99151612903225805,{"$error":"#DIV/0!"},{"$error":"#DIV/0!"},{"$f":"IF('Gegevens '!$G$20=\"Eigen waarden\",VLOOKUP($F61,'Gegevens '!$A$25:$C$77,3,FALSE),VLOOKUP($F61,Lijsten!$A$19:$B$71,2,FALSE))","v":6.2443769793828583},{"$error":"#DIV/0!"},{"$error":"#DIV/0!"},{"$error":"#DIV/0!"},{"$error":"#DIV/0!"},{"$error":"#DIV/0!"},{"$error":"#DIV/0!"},{"$error":"#DIV/0!"},{"$error":"#DIV/0!"},{"$error":"#DIV/0!"},{"$error":"#DIV/0!"},{"$error":"#DIV/0!"},{"$error":"#DIV/0!"},{"$error":"#DIV/0!"},{"$error":"#DIV/0!"},{"$error":"#DIV/0!"},{"$error":"#DIV/0!"},{"$error":"#DIV/0!"},{"$error":"#DIV/0!"},{"$error":"#DIV/0!"},{"$error":"#DIV/0!"},{"$error":"#DIV/0!"},{"$error":"#DIV/0!"},{"$error":"#DIV/0!"},{"$error":"#DIV/0!"},0,null,null,null,null,null,null,null,null,null,null,null,null,null,null,null,null,null,null,null,null,null,"1967-01-28",0.3,0.92700000000000005,null,"1975-01-27",5.7,0.746,null,"2006-01-27",5.38,0.43679000000000001,4.5999999999999996,0.41019,4.09,0.38358999999999999,null,"2016-01-27",5.56,0.45301999999999998,4.66,0.41882000000000003,4.0599999999999996,0.38462000000000002,null,"2066-01-27",6.4,0.53415000000000001,4.93,0.46195000000000003,3.87,0.38974999999999999,null,null,null,1986,{"$error":"#DIV/0!"},{"$error":"#DIV/0!"},{"$error":"#DIV/0!"},923.30000000000121,20,{"$error":"#DIV/0!"},{"$error":"#DIV/0!"},16.828260869565216,{"$error":"#DIV/0!"}]
["1967-01-29",0,1.1160000000000001,1,1967,4,0,{"$f":"IF(B62<Parameters!$A$16,B62*Parameters!$B$16,IF(AND(B62>Parameters!$A$16,B62<Parameters!$A$17),B62*Parameters!$B$17,B62*Parameters!$B$18))","v":0},{"$f":"IF(B62<Parameters!$A$20,B62*Parameters!$B$20,IF(AND(B62>Parameters!$A$20,B62<Parameters!$A$21),B62*Parameters!$B$21,B62*Parameters!$B$22))","v":0},{"$error":"#DIV/0!"},"",0,"",0,1.1805161290322581,{"$error":"#DIV/0!"},{"$error":"#DIV/0!"},{"$f":"IF('Gegevens '!$G$20=\"Eigen waarden\",VLOOKUP($F62,'Gegevens '!$A$25:$C$77,3,FALSE),VLOOKUP($F62,Lijsten!$A$19:$B$71,2,FALSE))","v":6.2443769793828583},{"$error":"#DIV/0!"},{"$error":"#DIV/0!"},{"$error":"#DIV/0!"},{"$error":"#DIV/0!"},{"$error":"#DIV/0!"},{"$error":"#DIV/0!"},{"$error":"#DIV/0!"},"","",{"$error":"#DIV/0!"},0,{"$error":"#DIV/0!"},0,{"$error":"#DIV/0!"},{"$error":"#DIV/0!"},{"$error":"#DIV/0!"},{"$error":"#DIV/0!"},{"$error":"#DIV/0!"},{"$error":"#DIV/0!"},"","","",{"$error":"#DIV/0!"},{"$error":"#DIV/0!"},0,null,null,null,null,null,null,null,null,null,null,null,null,null,null,null,null,null,null,null,null,null,"1967-01-29",0,1.1160000000000001,null,"1975-01-28",13.4,0.246,null,"2006-01-28",0.38,1.0655399999999999,0.31,1.00065,0.26,0.93576000000000004,null,"2016-01-28",0.4,1.1051200000000001,0.31,1.02169,0.25,0.93825999999999998,null,"2066-01-28",0.48,1.30304,0.33,1.1269100000000001,0.21,0.95077999999999996,null,null,null,1987,{"$error":"#DIV/0!"},{"$error":"#DIV/0!"},{"$error":"#DIV/0!"},944.10000000000025,21,{"$error":"#DIV/0!"},{"$error":"#DIV/0!"},15.610869565217397,{"$error":"#DIV/0!"}]
["1967-01-30",0,1.27,1,1967,5,0,{"$f":"IF(B63<Parameters!$A$16,B63*Parameters!$B$16,IF(AND(B63>Parameters!$A$16,B63<Parameters!$A$17),B63*Parameters!$B$17,B63*Parameters!$B$18))","v":0},{"$f":"IF(B63<Parameters!$A$20,B63*Parameters!$B$20,IF(AND(B63>Parameters!$A$20,B63<Parameters!$A$21),B63*Parameters!$B$21,B63*Parameters!$B$22))","v":0},{"$error":"#DIV/0!"},"",0,"",0,1.334516129032258,{"$error":"#DIV/0!"},{"$error":"#DIV/0!"},{"$f":"IF('Gegevens '!$G$20=\"Eigen waarden\",VLOOKUP($F63,'Gegevens '!$A$25:$C$77,3,FALSE),VLOOKUP($F63,Lijsten!$A$19:$B$71,2,FALSE))","v":8.252917930462857},{"$error":"#DIV/0!"},{"$error":"#DIV/0!"},{"$error":"#DIV/0!"},{"$error":"#DIV/0!"},{"$error":"#DIV/0!"},{"$error":"#DIV/0!"},{"$error":"#DIV/0!"},"","",{"$error":"#DIV/0!"},0,{"$error":"#DIV/0!"},0,{"$error":"#DIV/0!"},{"$error":"#DIV/0!"},{"$error":"#DIV/0!"},{"$error":"#DIV/0!"},{"$error":"#DIV/0!"},{"$error":"#DIV/0!"},"","","",{"$error":"#DIV/0!"},{"$error":"#DIV/0!"},0,null,null,null,null,null,null,null,null,null,null,null,null,null,null,null,null,null,null,null,null,null,"1967-01-30",0,1.27,null,"1975-01-29",4.8,0.36699999999999999,null,"2006-01-29",0,1.2827900000000001,0,1.2046699999999999,0,1.1265499999999999,null,"2016-01-29",0,1.3304400000000001,0,1.23,0,1.1295599999999999,null,"2066-01-29",0,1.56871,0,1.35667,0,1.14463,null,null,null,1988,{"$error":"#DIV/0!"},{"$error":"#DIV/0!"},{"$error":"#DIV/0!"},992.10000000000025,22,{"$error":"#DIV/0!"},{"$error":"#DIV/0!"},16.593478260869578,{"$error":"#DIV/0!"}]
["1967-01-31",0,0.87,1,1967,5,0,{"$f":"IF(B64<Parameters!$A$16,B64*Parameters!$B$16,IF(AND(B64>Parameters!$A$16,B64<Parameters!$A$17),B64*Parameters!$B$17,B64*Parameters!$B$18))","v":0},{"$f":"IF(B64<Parameters!$A$20,B64*Parameters!$B$20,IF(AND(B64>Parameters!$A$20,B64<Parameters!$A$21),B64*Parameters!$B$21,B64*Parameters!$B$22))","v":0},{"$error":"#DIV/0!"},"",0,"",0,0.93451612903225811,{"$error":"#DIV/0!"},{"$error":"#DIV/0!"},{"$f":"IF('Gegevens '!$G$20=\"Eigen waarden\",VLOOKUP($F64,'Gegevens '!$A$25:$C$77,3,FALSE),VLOOKUP($F64,Lijsten!$A$19:$B$71,2,FALSE))","v":8.252917930462857},{"$error":"#DIV/0!"},{"$error":"#DIV/0!"},{"$error":"#DIV/0!"},{"$error":"#DIV/0!"},{"$error":"#DIV/0!"},{"$error":"#DIV/0!"},{"$error":"#DIV/0!"},"","",{"$error":"#DIV/0!"},0,{"$error":"#DIV/0!"},0,{"$error":"#DIV/0!"},{"$error":"#DIV/0!"},{"$error":"#DIV/0!"},{"$error":"#DIV/0!"},{"$error":"#DIV/0!"},{"$error":"#DIV/0!"},"","","",{"$error":"#DIV/0!"},{"$error":"#DIV/0!"},0,null,null,null,null,null,null,null,null,null,null,null,null,null,null,null,null,null,null,null,null,null,"1967-01-31",0,0.87,null,"1975-01-30",2.9,0.66400000000000003,null,"2006-01-30",0,1.4598,0,1.3709,0,1.282,null,"2016-01-30",0,1.51403,0,1.3997299999999999,0,1.2854300000000001,null,"2066-01-30",1.78,1.78518,0,1.5438799999999999,0,1.3025800000000001,null,null,null,1989,{"$error":"#DIV/0!"},{"$error":"#DIV/0!"},{"$error":"#DIV/0!"},639.20000000000027,23,{"$error":"#DIV/0!"},{"$error":"#DIV/0!"},18.0695652173913,{"$error":"#DIV/0!"}]
["1967-02-01",6.2,0.48799999999999999,2,1967,5,6.2,{"$f":"IF(B65<Parameters!$A$16,B65*Parameters!$B$16,IF(AND(B65>Parameters!$A$16,B65<Parameters!$A$17),B65*Parameters!$B$17,B65*Parameters!$B$18))","v":5.89},{"$f":"IF(B65<Parameters!$A$20,B65*Parameters!$B$20,IF(AND(B65>Parameters!$A$20,B65<Parameters!$A$21),B65*Parameters!$B$21,B65*Parameters!$B$22))","v":4.6500000000000004},{"$error":"#DIV/0!"},{"$error":"#DIV/0!"},{"$error":"#DIV/0!"},{"$error":"#DIV/0!"},{"$error":"#DIV/0!"},0.45228571428571429,{"$error":"#DIV/0!"},{"$error":"#DIV/0!"},{"$f":"IF('Gegevens '!$G$20=\"Eigen waarden\",VLOOKUP($F65,'Gegevens '!$A$25:$C$77,3,FALSE),VLOOKUP($F65,Lijsten!$A$19:$B$71,2,FALSE))","v":8.252917930462857},{"$error":"#DIV/0!"},{"$error":"#DIV/0!"},{"$error":"#DIV/0!"},{"$error":"#DIV/0!"},{"$error":"#DIV/0!"},{"$error":"#DIV/0!"},{"$error":"#DIV/0!"},{"$error":"#DIV/0!"},{"$error":"#DIV/0!"},{"$error":"#DIV/0!"},{"$error":"#DIV/0!"},{"$error":"#DIV/0!"},{"$error":"#DIV/0!"},{"$error":"#DIV/0!"},{"$error":"#DIV/0!"},{"$error":"#DIV/0!"},{"$error":"#DIV/0!"},{"$error":"#DIV/0!"},{"$error":"#DIV/0!"},{"$error":"#DIV/0!"},{"$error":"#DIV/0!"},{"$error":"#DIV/0!"},{"$error":"#DIV/0!"},{"$error":"#DIV/0!"},0,null,null,null,null,null,null,null,null,null,null,null,null,null,null,null,null,null,null,null,null,null,"1967-02-01",6.2,0.48799999999999999,null,"1975-01-31",5.4,0.85199999999999998,null,"2006-01-31",0,1.0000199999999999,0,0.93911999999999995,0,0.87822,null,"2016-01-31",8.3699999999999992,1.0371699999999999,0,0.95887,0,0.88056999999999996,null,"2066-01-31",0,1.22292,0,1.05762,0,0.89232,null,null,null,1990,{"$error":"#DIV/0!"},{"$error":"#DIV/0!"},{"$error":"#DIV/0!"},755.60000000000025,24,{"$error":"#DIV/0!"},{"$error":"#DIV/0!"},14.021739130434787,{"$error":"#DIV/0!"}]
["1967-02-02",2.7,0.44400000000000001,2,1967,5,2.7,{"$f":"IF(B66<Parameters!$A$16,B66*Parameters!$B$16,IF(AND(B66>Parameters!$A$16,B66<Parameters!$A$17),B66*Parameters!$B$17,B66*Parameters!$B$18))","v":2.5649999999999999},{"$f":"IF(B66<Parameters!$A$20,B66*Parameters!$B$20,IF(AND(B66>Parameters!$A$20,B66<Parameters!$A$21),B66*Parameters!$B$21,B66*Parameters!$B$22))","v":2.0250000000000004},{"$error":"#DIV/0!"},{"$error":"#DIV/0!"},{"$error":"#DIV/0!"},{"$error":"#DIV/0!"},{"$error":"#DIV/0!"},0.40828571428571431,{"$error":"#DIV/0!"},{"$error":"#DIV/0!"},{"$f":"IF('Gegevens '!$G$20=\"Eigen waarden\",VLOOKUP($F66,'Gegevens '!$A$25:$C$77,3,FALSE),VLOOKUP($F66,Lijsten!$A$19:$B$71,2,FALSE))","v":8.252917930462857},{"$error":"#DIV/0!"},{"$error":"#DIV/0!"},{"$error":"#DIV/0!"},{"$error":"#DIV/0!"},{"$error":"#DIV/0!"},{"$error":"#DIV/0!"},{"$error":"#DIV/0!"},{"$error":"#DIV/0!"},{"$error":"#DIV/0!"},{"$error":"#DIV/0!"},{"$error":"#DIV/0!"},{"$error":"#DIV/0!"},{"$error":"#DIV/0!"},{"$error":"#DIV/0!"},{"$error":"#DIV/0!"},{"$error":"#DIV/0!"},{"$error":"#DIV/0!"},{"$error":"#DIV/0!"},{"$error":"#DIV/0!"},{"$error":"#DIV/0!"},{"$error":"#DIV/0!"},{"$error":"#DIV/0!"},{"$error":"#DIV/0!"},{"$error":"#DIV/0!"},0,null,null,null,null,null,null,null,null,null,null,null,null,null,null,null,null,null,null,null,null,null,"1967-02-02",2.7,0.44400000000000001,null,"1975-02-01",0.2,0.70499999999999996,null,"2006-02-01",7.46,0.53463000000000005,6.5,0.50814999999999999,5.91,0.48185,null,"2016-02-01",7.65,0.54795000000000005,6.58,0.51390999999999998,5.9,0.48009000000000002,null,"2066-02-01",8.67,0.61456,6.99,0.54269999999999996,5.85,0.47131000000000001,null,null,null,1991,{"$error":"#DIV/0!"},{"$error":"#DIV/0!"},{"$error":"#DIV/0!"},798.09999999999991,25,{"$error":"#DIV/0!"},{"$error":"#DIV/0!"},13.404347826086955,{"$error":"#DIV/0!"}]
["1967-02-03",0.4,0.82399999999999995,2,1967,5,0.4,{"$f":"IF(B67<Parameters!$A$16,B67*Parameters!$B$16,IF(AND(B67>Parameters!$A$16,B67<Parameters!$A$17),B67*Parameters!$B$17,B67*Parameters!$B$18))","v":0},{"$f":"IF(B67<Parameters!$A$20,B67*Parameters!$B$20,IF(AND(B67>Parameters!$A$20,B67<Parameters!$A$21),B67*Parameters!$B$21,B67*Parameters!$B$22))","v":0},{"$error":"#DIV/0!"},{"$error":"#DIV/0!"},{"$error":"#DIV/0!"},{"$error":"#DIV/0!"},{"$error":"#DIV/0!"},0.78828571428571426,{"$error":"#DIV/0!"},{"$error":"#DIV/0!"},{"$f":"IF('Gegevens '!$G$20=\"Eigen waarden\",VLOOKUP($F67,'Gegevens '!$A$25:$C$77,3,FALSE),VLOOKUP($F67,Lijsten!$A$19:$B$71,2,FALSE))","v":8.252917930462857},{"$error":"#DIV/0!"},{"$error":"#DIV/0!"},{"$error":"#DIV/0!"},{"$error":"#DIV/0!"},{"$error":"#DIV/0!"},{"$error":"#DIV/0!"},{"$error":"#DIV/0!"},{"$error":"#DIV/0!"},{"$error":"#DIV/0!"},{"$error":"#DIV/0!"},{"$error":"#DIV/0!"},{"$error":"#DIV/0!"},{"$error":"#DIV/0!"},{"$error":"#DIV/0!"},{"$error":"#DIV/0!"},{"$error":"#DIV/0!"},{"$error":"#DIV/0!"},{"$error":"#DIV/0!"},{"$error":"#DIV/0!"},{"$error":"#DIV/0!"},{"$error":"#DIV/0!"},{"$error":"#DIV/0!"},{"$error":"#DIV/0!"},{"$error":"#DIV/0!"},0,null,null,null,null,null,null,null,null,null,null,null,null,null,null,null,null,null,null,null,null,null,"1967-02-03",0.4,0.82399999999999995,null,"1975-02-02",0.1,0.51400000000000001,null,"2006-02-02",3.46,0.48642000000000002,2.9,0.46233999999999997,2.52,0.43841000000000002,null,"2016-02-02",3.61,0.49854999999999999,2.96,0.46758,2.5099999999999998,0.43680999999999998,null,"2066-02-02",4.34,0.55915000000000004,3.25,0.49376999999999999,2.42,0.42881999999999998,null,null,null,1992,{"$error":"#DIV/0!"},{"$error":"#DIV/0!"},{"$error":"#DIV/0!"},916.49999999999977,26,{"$error":"#DIV/0!"},{"$error":"#DIV/0!"},18.682608695652185,{"$error":"#DIV/0!"}]
["1967-02-04",0,0.66100000000000003,2,1967,5,0,{"$f":"IF(B68<Parameters!$A$16,B68*Parameters!$B$16,IF(AND(B68>Parameters!$A$16,B68<Parameters!$A$17),B68*Parameters!$B$17,B68*Parameters!$B$18))","v":0},{"$f":"IF(B68<Parameters!$A$20,B68*Parameters!$B$20,IF(AND(B68>Parameters!$A$20,B68<Parameters!$A$21),B68*Parameters!$B$21,B68*Parameters!$B$22))","v":0},{"$error":"#DIV/0!"},"",0,"",0,0.62528571428571433,{"$error":"#DIV/0!"},{"$error":"#DIV/0!"},{"$f":"IF('Gegevens '!$G$20=\"Eigen waarden\",VLOOKUP($F68,'Gegevens '!$A$25:$C$77,3,FALSE),VLOOKUP($F68,Lijsten!$A$19:$B$71,2,FALSE))","v":8.252917930462857},{"$error":"#DIV/0!"},{"$error":"#DIV/0!"},{"$error":"#DIV/0!"},{"$error":"#DIV/0!"},{"$error":"#DIV/0!"},{"$error":"#DIV/0!"},{"$error":"#DIV/0!"},"","",{"$error":"#DIV/0!"},0,{"$error":"#DIV/0!"},0,{"$error":"#DIV/0!"},{"$error":"#DIV/0!"},{"$error":"#DIV/0!"},{"$error":"#DIV/0!"},{"$error":"#DIV/0!"},{"$error":"#DIV/0!"},"","","",{"$error":"#DIV/0!"},{"$error":"#DIV/0!"},0,null,null,null,null,null,null,null,null,null,null,null,null,null,null,null,null,null,null,null,null,null,"1967-02-04",0,0.66100000000000003,null,"1975-02-03",0,0.70399999999999996,null,"2006-02-03",0.55000000000000004,0.90273000000000003,0.44,0.85802999999999996,0.36,0.81362000000000001,null,"2016-02-03",0.57999999999999996,0.92523,0.45,0.86775000000000002,0.36,0.81064999999999998,null,"2066-02-03",0.73,1.0377000000000001,0.51,0.91637000000000002,0.34,0.79581999999999997,null,null,null,1993,{"$error":"#DIV/0!"},{"$error":"#DIV/0!"},{"$error":"#DIV/0!"},869.80000000000064,27,{"$error":"#DIV/0!"},{"$error":"#DIV/0!"},20.289130434782599,{"$error":"#DIV/0!"},{"$f":"GETPIVOTDATA(\"Som van Wekelijkse neerslag\",$CZ$40,\"Week\",27)-GETPIVOTDATA(\"Som van Opvangverliezen per week\",$CZ$40,\"Week\",27)","v":{"$error":"#DIV/0!"}},{"$f":"DE68/GETPIVOTDATA(\"Som van Wekelijkse neerslag\",$CZ$40,\"Week\",27)","v":{"$error":"#DIV/0!"}}]
["1967-02-05",0,0.38400000000000001,2,1967,5,0,{"$f":"IF(B69<Parameters!$A$16,B69*Parameters!$B$16,IF(AND(B69>Parameters!$A$16,B69<Parameters!$A$17),B69*Parameters!$B$17,B69*Parameters!$B$18))","v":0},{"$f":"IF(B69<Parameters!$A$20,B69*Parameters!$B$20,IF(AND(B69>Parameters!$A$20,B69<Parameters!$A$21),B69*Parameters!$B$21,B69*Parameters!$B$22))","v":0},{"$error":"#DIV/0!"},"",0,"",0,0.34828571428571431,{"$error":"#DIV/0!"},{"$error":"#DIV/0!"},{"$f":"IF('Gegevens '!$G$20=\"Eigen waarden\",VLOOKUP($F69,'Gegevens '!$A$25:$C$77,3,FALSE),VLOOKUP($F69,Lijsten!$A$19:$B$71,2,FALSE))","v":8.252917930462857},{"$error":"#DIV/0!"},{"$error":"#DIV/0!"},{"$error":"#DIV/0!"},{"$error":"#DIV/0!"},{"$error":"#DIV/0!"},{"$error":"#DIV/0!"},{"$error":"#DIV/0!"},"","",{"$error":"#DIV/0!"},0,{"$error":"#DIV/0!"},0,{"$error":"#DIV/0!"},{"$error":"#DIV/0!"},{"$error":"#DIV/0!"},{"$error":"#DIV/0!"},{"$error":"#DIV/0!"},{"$error":"#DIV/0!"},"","","",{"$error":"#DIV/0!"},{"$error":"#DIV/0!"},0,null,null,null,null,null,null,null,null,null,null,null,null,null,null,null,null,null,null,null,null,null,"1967-02-05",0,0.38400000000000001,null,"1975-02-04",0,0.84199999999999997,null,"2006-02-04",0,0.72416000000000003,0,0.68830000000000002,0,0.65266999999999997,null,"2016-02-04",0,0.74219999999999997,0,0.69610000000000005,0,0.65029000000000003,null,"2066-02-04",0,0.83243,0,0.73509999999999998,0,0.63839000000000001,null,null,null,1994,{"$error":"#DIV/0!"},{"$error":"#DIV/0!"},{"$error":"#DIV/0!"},887.19999999999993,28,{"$error":"#DIV/0!"},{"$error":"#DIV/0!"},15.817391304347829,{"$error":"#DIV/0!"}]
["1967-02-06",0,0.36399999999999999,2,1967,6,0,{"$f":"IF(B70<Parameters!$A$16,B70*Parameters!$B$16,IF(AND(B70>Parameters!$A$16,B70<Parameters!$A$17),B70*Parameters!$B$17,B70*Parameters!$B$18))","v":0},{"$f":"IF(B70<Parameters!$A$20,B70*Parameters!$B$20,IF(AND(B70>Parameters!$A$20,B70<Parameters!$A$21),B70*Parameters!$B$21,B70*Parameters!$B$22))","v":0},{"$error":"#DIV/0!"},"",0,"",0,0.32828571428571429,{"$error":"#DIV/0!"},{"$error":"#DIV/0!"},{"$f":"IF('Gegevens '!$G$20=\"Eigen waarden\",VLOOKUP($F70,'Gegevens '!$A$25:$C$77,3,FALSE),VLOOKUP($F70,Lijsten!$A$19:$B$71,2,FALSE))","v":9.1430429772914277},{"$error":"#DIV/0!"},{"$error":"#DIV/0!"},{"$error":"#DIV/0!"},{"$error":"#DIV/0!"},{"$error":"#DIV/0!"},{"$error":"#DIV/0!"},{"$error":"#DIV/0!"},"","",{"$error":"#DIV/0!"},0,{"$error":"#DIV/0!"},0,{"$error":"#DIV/0!"},{"$error":"#DIV/0!"},{"$error":"#DIV/0!"},{"$error":"#DIV/0!"},{"$error":"#DIV/0!"},{"$error":"#DIV/0!"},"","","",{"$error":"#DIV/0!"},{"$error":"#DIV/0!"},0,null,null,null,null,null,null,null,null,null,null,null,null,null,null,null,null,null,null,null,null,null,"1967-02-06",0,0.36399999999999999,null,"1975-02-05",0,0.68300000000000005,null,"2006-02-05",0,0.42069000000000001,0,0.39985999999999999,0,0.37916,null,"2016-02-05",0,0.43117,0,0.40439000000000003,0,0.37778,null,"2066-02-05",0,0.48359000000000002,0,0.42704999999999999,0,0.37086999999999998,null,null,null,1995,{"$error":"#DIV/0!"},{"$error":"#DIV/0!"},{"$error":"#DIV/0!"},758.2,29,{"$error":"#DIV/0!"},{"$error":"#DIV/0!"},16.606521739130436,{"$error":"#DIV/0!"}]
["1967-02-07",0.1,0.13700000000000001,2,1967,6,0.1,{"$f":"IF(B71<Parameters!$A$16,B71*Parameters!$B$16,IF(AND(B71>Parameters!$A$16,B71<Parameters!$A$17),B71*Parameters!$B$17,B71*Parameters!$B$18))","v":0},{"$f":"IF(B71<Parameters!$A$20,B71*Parameters!$B$20,IF(AND(B71>Parameters!$A$20,B71<Parameters!$A$21),B71*Parameters!$B$21,B71*Parameters!$B$22))","v":0},{"$error":"#DIV/0!"},{"$error":"#DIV/0!"},{"$error":"#DIV/0!"},{"$error":"#DIV/0!"},{"$error":"#DIV/0!"},0.1012857142857143,{"$error":"#DIV/0!"},{"$error":"#DIV/0!"},{"$f":"IF('Gegevens '!$G$20=\"Eigen waarden\",VLOOKUP($F71,'Gegevens '!$A$25:$C$77,3,FALSE),VLOOKUP($F71,Lijsten!$A$19:$B$71,2,FALSE))","v":9.1430429772914277},{"$error":"#DIV/0!"},{"$error":"#DIV/0!"},{"$error":"#DIV/0!"},{"$error":"#DIV/0!"},{"$error":"#DIV/0!"},{"$error":"#DIV/0!"},{"$error":"#DIV/0!"},{"$error":"#DIV/0!"},{"$error":"#DIV/0!"},{"$error":"#DIV/0!"},{"$error":"#DIV/0!"},{"$error":"#DIV/0!"},{"$error":"#DIV/0!"},{"$error":"#DIV/0!"},{"$error":"#DIV/0!"},{"$error":"#DIV/0!"},{"$error":"#DIV/0!"},{"$error":"#DIV/0!"},{"$error":"#DIV/0!"},{"$error":"#DIV/0!"},{"$error":"#DIV/0!"},{"$error":"#DIV/0!"},{"$error":"#DIV/0!"},{"$error":"#DIV/0!"},0,null,null,null,null,null,null,null,null,null,null,null,null,null,null,null,null,null,null,null,null,null,"1967-02-07",0.1,0.13700000000000001,null,"1975-02-06",0,0.65300000000000002,null,"2006-02-06",0,0.39878000000000002,0,0.37902999999999998,0,0.35941000000000001,null,"2016-02-06",0,0.40872000000000003,0,0.38333,0,0.35809999999999997,null,"2066-02-06",0,0.45839999999999997,0,0.40479999999999999,0,0.35154999999999997,null,null,null,1996,{"$error":"#DIV/0!"},{"$error":"#DIV/0!"},{"$error":"#DIV/0!"},743.79999999999984,30,{"$error":"#DIV/0!"},{"$error":"#DIV/0!"},17.360869565217396,{"$error":"#DIV/0!"}]
["1967-02-08",0.6,0.64100000000000001,2,1967,6,0.6,{"$f":"IF(B72<Parameters!$A$16,B72*Parameters!$B$16,IF(AND(B72>Parameters!$A$16,B72<Parameters!$A$17),B72*Parameters!$B$17,B72*Parameters!$B$18))","v":0},{"$f":"IF(B72<Parameters!$A$20,B72*Parameters!$B$20,IF(AND(B72>Parameters!$A$20,B72<Parameters!$A$21),B72*Parameters!$B$21,B72*Parameters!$B$22))","v":0},{"$error":"#DIV/0!"},{"$error":"#DIV/0!"},{"$error":"#DIV/0!"},{"$error":"#DIV/0!"},{"$error":"#DIV/0!"},0.60528571428571432,{"$error":"#DIV/0!"},{"$error":"#DIV/0!"},{"$f":"IF('Gegevens '!$G$20=\"Eigen waarden\",VLOOKUP($F72,'Gegevens '!$A$25:$C$77,3,FALSE),VLOOKUP($F72,Lijsten!$A$19:$B$71,2,FALSE))","v":9.1430429772914277},{"$error":"#DIV/0!"},{"$error":"#DIV/0!"},{"$error":"#DIV/0!"},{"$error":"#DIV/0!"},{"$error":"#DIV/0!"},{"$error":"#DIV/0!"},{"$error":"#DIV/0!"},{"$error":"#DIV/0!"},{"$error":"#DIV/0!"},{"$error":"#DIV/0!"},{"$error":"#DIV/0!"},{"$error":"#DIV/0!"},{"$error":"#DIV/0!"},{"$error":"#DIV/0!"},{"$error":"#DIV/0!"},{"$error":"#DIV/0!"},{"$error":"#DIV/0!"},{"$error":"#DIV/0!"},{"$error":"#DIV/0!"},{"$error":"#DIV/0!"},{"$error":"#DIV/0!"},{"$error":"#DIV/0!"},{"$error":"#DIV/0!"},{"$error":"#DIV/0!"},0,null,null,null,null,null,null,null,null,null,null,null,null,null,null,null,null,null,null,null,null,null,"1967-02-08",0.6,0.64100000000000001,null,"1975-02-07",0,0.83599999999999997,null,"2006-02-07",0.13,0.15009,0.11,0.14266000000000001,0.09,0.13527,null,"2016-02-07",0.13,0.15382999999999999,0.11,0.14427000000000001,0.09,0.13478000000000001,null,"2066-02-07",0.15,0.17252999999999999,0.12,0.15236,0,0.13231000000000001,null,null,null,1997,{"$error":"#DIV/0!"},{"$error":"#DIV/0!"},{"$error":"#DIV/0!"},689.39999999999964,31,{"$error":"#DIV/0!"},{"$error":"#DIV/0!"},15.767391304347823,{"$error":"#DIV/0!"}]
["1967-02-09",0.2,0.56200000000000006,2,1967,6,0.2,{"$f":"IF(B73<Parameters!$A$16,B73*Parameters!$B$16,IF(AND(B73>Parameters!$A$16,B73<Parameters!$A$17),B73*Parameters!$B$17,B73*Parameters!$B$18))","v":0},{"$f":"IF(B73<Parameters!$A$20,B73*Parameters!$B$20,IF(AND(B73>Parameters!$A$20,B73<Parameters!$A$21),B73*Parameters!$B$21,B73*Parameters!$B$22))","v":0},{"$error":"#DIV/0!"},{"$error":"#DIV/0!"},{"$error":"#DIV/0!"},{"$error":"#DIV/0!"},{"$error":"#DIV/0!"},0.52628571428571436,{"$error":"#DIV/0!"},{"$error":"#DIV/0!"},{"$f":"IF('Gegevens '!$G$20=\"Eigen waarden\",VLOOKUP($F73,'Gegevens '!$A$25:$C$77,3,FALSE),VLOOKUP($F73,Lijsten!$A$19:$B$71,2,FALSE))","v":9.1430429772914277},{"$error":"#DIV/0!"},{"$error":"#DIV/0!"},{"$error":"#DIV/0!"},{"$error":"#DIV/0!"},{"$error":"#DIV/0!"},{"$error":"#DIV/0!"},{"$error":"#DIV/0!"},{"$error":"#DIV/0!"},{"$error":"#DIV/0!"},{"$error":"#DIV/0!"},{"$error":"#DIV/0!"},{"$error":"#DIV/0!"},{"$error":"#DIV/0!"},{"$error":"#DIV/0!"},{"$error":"#DIV/0!"},{"$error":"#DIV/0!"},{"$error":"#DIV/0!"},{"$error":"#DIV/0!"},{"$error":"#DIV/0!"},{"$error":"#DIV/0!"},{"$error":"#DIV/0!"},{"$error":"#DIV/0!"},{"$error":"#DIV/0!"},{"$error":"#DIV/0!"},0,null,null,null,null,null,null,null,null,null,null,null,null,null,null,null,null,null,null,null,null,null,"1967-02-09",0.2,0.56200000000000006,null,"1975-02-08",0,0.53800000000000003,null,"2006-02-08",0.84,0.70225000000000004,0.67,0.66747000000000001,0.56000000000000005,0.63292000000000004,null,"2016-02-08",0.89,0.71975,0.7,0.67503999999999997,0.55000000000000004,0.63061999999999996,null,"2066-02-08",1.1399999999999999,0.80723999999999996,0.8,0.71286000000000005,0.52,0.61907999999999996,null,null,null,1998,{"$error":"#DIV/0!"},{"$error":"#DIV/0!"},{"$error":"#DIV/0!"},972.50000000000034,32,{"$error":"#DIV/0!"},{"$error":"#DIV/0!"},18.113043478260874,{"$error":"#DIV/0!"}]
["1967-02-10",0,0.59199999999999997,2,1967,6,0,{"$f":"IF(B74<Parameters!$A$16,B74*Parameters!$B$16,IF(AND(B74>Parameters!$A$16,B74<Parameters!$A$17),B74*Parameters!$B$17,B74*Parameters!$B$18))","v":0},{"$f":"IF(B74<Parameters!$A$20,B74*Parameters!$B$20,IF(AND(B74>Parameters!$A$20,B74<Parameters!$A$21),B74*Parameters!$B$21,B74*Parameters!$B$22))","v":0},{"$error":"#DIV/0!"},"",0,"",0,0.55628571428571427,{"$error":"#DIV/0!"},{"$error":"#DIV/0!"},{"$f":"IF('Gegevens '!$G$20=\"Eigen waarden\",VLOOKUP($F74,'Gegevens '!$A$25:$C$77,3,FALSE),VLOOKUP($F74,Lijsten!$A$19:$B$71,2,FALSE))","v":9.1430429772914277},{"$error":"#DIV/0!"},{"$error":"#DIV/0!"},{"$error":"#DIV/0!"},{"$error":"#DIV/0!"},{"$error":"#DIV/0!"},{"$error":"#DIV/0!"},{"$error":"#DIV/0!"},"","",{"$error":"#DIV/0!"},0,{"$error":"#DIV/0!"},0,{"$error":"#DIV/0!"},{"$error":"#DIV/0!"},{"$error":"#DIV/0!"},{"$error":"#DIV/0!"},{"$error":"#DIV/0!"},{"$error":"#DIV/0!"},"","","",{"$error":"#DIV/0!"},{"$error":"#DIV/0!"},0,null,null,null,null,null,null,null,null,null,null,null,null,null,null,null,null,null,null,null,null,null,"1967-02-10",0,0.59199999999999997,null,"1975-02-09",0,1.0820000000000001,null,"2006-02-09",0.27,0.61570000000000003,0.22,0.58521000000000001,0.18,0.55491999999999997,null,"2016-02-09",0.28000000000000003,0.63104000000000005,0.22,0.59184000000000003,0.17,0.55289999999999995,null,"2066-02-09",0.36,0.70774999999999999,0.25,0.625,0.15,0.54278000000000004,null,null,null,1999,{"$error":"#DIV/0!"},{"$error":"#DIV/0!"},{"$error":"#DIV/0!"},874.2000000000005,33,{"$error":"#DIV/0!"},{"$error":"#DIV/0!"},14.915217391304351,{"$error":"#DIV/0!"}]
["1967-02-11",0,0.57299999999999995,2,1967,6,0,{"$f":"IF(B75<Parameters!$A$16,B75*Parameters!$B$16,IF(AND(B75>Parameters!$A$16,B75<Parameters!$A$17),B75*Parameters!$B$17,B75*Parameters!$B$18))","v":0},{"$f":"IF(B75<Parameters!$A$20,B75*Parameters!$B$20,IF(AND(B75>Parameters!$A$20,B75<Parameters!$A$21),B75*Parameters!$B$21,B75*Parameters!$B$22))","v":0},{"$error":"#DIV/0!"},"",0,"",0,0.53728571428571426,{"$error":"#DIV/0!"},{"$error":"#DIV/0!"},{"$f":"IF('Gegevens '!$G$20=\"Eigen waarden\",VLOOKUP($F75,'Gegevens '!$A$25:$C$77,3,FALSE),VLOOKUP($F75,Lijsten!$A$19:$B$71,2,FALSE))","v":9.1430429772914277},{"$error":"#DIV/0!"},{"$error":"#DIV/0!"},{"$error":"#DIV/0!"},{"$error":"#DIV/0!"},{"$error":"#DIV/0!"},{"$error":"#DIV/0!"},{"$error":"#DIV/0!"},"","",{"$error":"#DIV/0!"},0,{"$error":"#DIV/0!"},0,{"$error":"#DIV/0!"},{"$error":"#DIV/0!"},{"$error":"#DIV/0!"},{"$error":"#DIV/0!"},{"$error":"#DIV/0!"},{"$error":"#DIV/0!"},"","","",{"$error":"#DIV/0!"},{"$error":"#DIV/0!"},0,null,null,null,null,null,null,null,null,null,null,null,null,null,null,null,null,null,null,null,null,null,"1967-02-11",0,0.57299999999999995,null,"1975-02-10",0,0.93799999999999994,null,"2006-02-10",0,0.64856999999999998,0,0.61645000000000005,0,0.58453999999999995,null,"2016-02-10",0,0.66473000000000004,0,0.62343999999999999,0,0.58240999999999998,null,"2066-02-10",0,0.74553999999999998,0,0.65835999999999995,0,0.57174999999999998,null,null,null,2000,{"$error":"#DIV/0!"},{"$error":"#DIV/0!"},{"$error":"#DIV/0!"},847.80000000000041,34,{"$error":"#DIV/0!"},{"$error":"#DIV/0!"},16.434782608695649,{"$error":"#DIV/0!"}]
["1967-02-12",0,1.0589999999999999,2,1967,6,0,{"$f":"IF(B76<Parameters!$A$16,B76*Parameters!$B$16,IF(AND(B76>Parameters!$A$16,B76<Parameters!$A$17),B76*Parameters!$B$17,B76*Parameters!$B$18))","v":0},{"$f":"IF(B76<Parameters!$A$20,B76*Parameters!$B$20,IF(AND(B76>Parameters!$A$20,B76<Parameters!$A$21),B76*Parameters!$B$21,B76*Parameters!$B$22))","v":0},{"$error":"#DIV/0!"},"",0,"",0,1.0232857142857141,{"$error":"#DIV/0!"},{"$error":"#DIV/0!"},{"$f":"IF('Gegevens '!$G$20=\"Eigen waarden\",VLOOKUP($F76,'Gegevens '!$A$25:$C$77,3,FALSE),VLOOKUP($F76,Lijsten!$A$19:$B$71,2,FALSE))","v":9.1430429772914277},{"$error":"#DIV/0!"},{"$error":"#DIV/0!"},{"$error":"#DIV/0!"},{"$error":"#DIV/0!"},{"$error":"#DIV/0!"},{"$error":"#DIV/0!"},{"$error":"#DIV/0!"},"","",{"$error":"#DIV/0!"},0,{"$error":"#DIV/0!"},0,{"$error":"#DIV/0!"},{"$error":"#DIV/0!"},{"$error":"#DIV/0!"},{"$error":"#DIV/0!"},{"$error":"#DIV/0!"},{"$error":"#DIV/0!"},"","","",{"$error":"#DIV/0!"},{"$error":"#DIV/0!"},0,null,null,null,null,null,null,null,null,null,null,null,null,null,null,null,null,null,null,null,null,null,"1967-02-12",0,1.0589999999999999,null,"1975-02-11",0,1.115,null,"2006-02-11",0.7,0.62775000000000003,0,0.59665999999999997,0,0.56577999999999995,null,"2016-02-11",0,0.64339000000000002,0,0.60343000000000002,0,0.56372,null,"2066-02-11",0,0.72160999999999997,0,0.63722999999999996,0,0.5534,null,null,null,2001,{"$error":"#DIV/0!"},{"$error":"#DIV/0!"},{"$error":"#DIV/0!"},1092.3,35,{"$error":"#DIV/0!"},{"$error":"#DIV/0!"},17.373913043478268,{"$error":"#DIV/0!"}]
["1967-02-13",0,0,2,1967,7,0,{"$f":"IF(B77<Parameters!$A$16,B77*Parameters!$B$16,IF(AND(B77>Parameters!$A$16,B77<Parameters!$A$17),B77*Parameters!$B$17,B77*Parameters!$B$18))","v":0},{"$f":"IF(B77<Parameters!$A$20,B77*Parameters!$B$20,IF(AND(B77>Parameters!$A$20,B77<Parameters!$A$21),B77*Parameters!$B$21,B77*Parameters!$B$22))","v":0},{"$error":"#DIV/0!"},"",0,"",0,-3.5714285714285712E-2,{"$error":"#DIV/0!"},{"$error":"#DIV/0!"},{"$f":"IF('Gegevens '!$G$20=\"Eigen waarden\",VLOOKUP($F77,'Gegevens '!$A$25:$C$77,3,FALSE),VLOOKUP($F77,Lijsten!$A$19:$B$71,2,FALSE))","v":10.977630682914283},{"$error":"#DIV/0!"},{"$error":"#DIV/0!"},{"$error":"#DIV/0!"},{"$error":"#DIV/0!"},{"$error":"#DIV/0!"},{"$error":"#DIV/0!"},{"$error":"#DIV/0!"},"","",{"$error":"#DIV/0!"},0,{"$error":"#DIV/0!"},0,{"$error":"#DIV/0!"},{"$error":"#DIV/0!"},{"$error":"#DIV/0!"},{"$error":"#DIV/0!"},{"$error":"#DIV/0!"},{"$error":"#DIV/0!"},"","","",{"$error":"#DIV/0!"},{"$error":"#DIV/0!"},0,null,null,null,null,null,null,null,null,null,null,null,null,null,null,null,null,null,null,null,null,null,"1967-02-13",0,0,null,"1975-02-12",0.9,0.73899999999999999,null,"2006-02-12",0,1.1601900000000001,0,1.1027400000000001,0,1.04566,null,"2016-02-12",0,1.1891,0,1.1152299999999999,0,1.0418400000000001,null,"2066-02-12",1.73,1.33365,0,1.17771,0,1.02278,null,null,null,2002,{"$error":"#DIV/0!"},{"$error":"#DIV/0!"},{"$error":"#DIV/0!"},1062.8000000000002,36,{"$error":"#DIV/0!"},{"$error":"#DIV/0!"},16.463043478260865,{"$error":"#DIV/0!"}]
["1967-02-14",0,0,2,1967,7,0,{"$f":"IF(B78<Parameters!$A$16,B78*Parameters!$B$16,IF(AND(B78>Parameters!$A$16,B78<Parameters!$A$17),B78*Parameters!$B$17,B78*Parameters!$B$18))","v":0},{"$f":"IF(B78<Parameters!$A$20,B78*Parameters!$B$20,IF(AND(B78>Parameters!$A$20,B78<Parameters!$A$21),B78*Parameters!$B$21,B78*Parameters!$B$22))","v":0},{"$error":"#DIV/0!"},"",0,"",0,-3.5714285714285712E-2,{"$error":"#DIV/0!"},{"$error":"#DIV/0!"},{"$f":"IF('Gegevens '!$G$20=\"Eigen waarden\",VLOOKUP($F78,'Gegevens '!$A$25:$C$77,3,FALSE),VLOOKUP($F78,Lijsten!$A$19:$B$71,2,FALSE))","v":10.977630682914283},{"$error":"#DIV/0!"},{"$error":"#DIV/0!"},{"$error":"#DIV/0!"},{"$error":"#DIV/0!"},{"$error":"#DIV/0!"},{"$error":"#DIV/0!"},{"$error":"#DIV/0!"},"","",{"$error":"#DIV/0!"},0,{"$error":"#DIV/0!"},0,{"$error":"#DIV/0!"},{"$error":"#DIV/0!"},{"$error":"#DIV/0!"},{"$error":"#DIV/0!"},{"$error":"#DIV/0!"},{"$error":"#DIV/0!"},"","","",{"$error":"#DIV/0!"},{"$error":"#DIV/0!"},0,null,null,null,null,null,null,null,null,null,null,null,null,null,null,null,null,null,null,null,null,null,"1967-02-14",0,0,null,"1975-02-13",0.4,0.39700000000000002,null,"2006-02-13",0,0,0,0,0,0,null,"2016-02-13",0,0,0,0,0,0,null,"2066-02-13",0,0,0,0,0,0,null,null,null,2003,{"$error":"#DIV/0!"},{"$error":"#DIV/0!"},{"$error":"#DIV/0!"},685.49999999999989,37,{"$error":"#DIV/0!"},{"$error":"#DIV/0!"},15.91739130434782,{"$error":"#DIV/0!"}]
["1967-02-15",0,1.5349999999999999,2,1967,7,0,{"$f":"IF(B79<Parameters!$A$16,B79*Parameters!$B$16,IF(AND(B79>Parameters!$A$16,B79<Parameters!$A$17),B79*Parameters!$B$17,B79*Parameters!$B$18))","v":0},{"$f":"IF(B79<Parameters!$A$20,B79*Parameters!$B$20,IF(AND(B79>Parameters!$A$20,B79<Parameters!$A$21),B79*Parameters!$B$21,B79*Parameters!$B$22))","v":0},{"$error":"#DIV/0!"},"",0,"",0,1.4992857142857141,{"$error":"#DIV/0!"},{"$error":"#DIV/0!"},{"$f":"IF('Gegevens '!$G$20=\"Eigen waarden\",VLOOKUP($F79,'Gegevens '!$A$25:$C$77,3,FALSE),VLOOKUP($F79,Lijsten!$A$19:$B$71,2,FALSE))","v":10.977630682914283},{"$error":"#DIV/0!"},{"$error":"#DIV/0!"},{"$error":"#DIV/0!"},{"$error":"#DIV/0!"},{"$error":"#DIV/0!"},{"$error":"#DIV/0!"},{"$error":"#DIV/0!"},"","",{"$error":"#DIV/0!"},0,{"$error":"#DIV/0!"},0,{"$error":"#DIV/0!"},{"$error":"#DIV/0!"},{"$error":"#DIV/0!"},{"$error":"#DIV/0!"},{"$error":"#DIV/0!"},{"$error":"#DIV/0!"},"","","",{"$error":"#DIV/0!"},{"$error":"#DIV/0!"},0,null,null,null,null,null,null,null,null,null,null,null,null,null,null,null,null,null,null,null,null,null,"1967-02-15",0,1.5349999999999999,null,"1975-02-14",0.8,0.20200000000000001,null,"2006-02-14",0,0,0,0,0,0,null,"2016-02-14",0,0,0,0,0,0,null,"2066-02-14",0,0,0,0,0,0,null,null,null,2004,{"$error":"#DIV/0!"},{"$error":"#DIV/0!"},{"$error":"#DIV/0!"},914.90000000000032,38,{"$error":"#DIV/0!"},{"$error":"#DIV/0!"},13.289130434782615,{"$error":"#DIV/0!"}]
["1967-02-16",0,1.4179999999999999,2,1967,7,0,{"$f":"IF(B80<Parameters!$A$16,B80*Parameters!$B$16,IF(AND(B80>Parameters!$A$16,B80<Parameters!$A$17),B80*Parameters!$B$17,B80*Parameters!$B$18))","v":0},{"$f":"IF(B80<Parameters!$A$20,B80*Parameters!$B$20,IF(AND(B80>Parameters!$A$20,B80<Parameters!$A$21),B80*Parameters!$B$21,B80*Parameters!$B$22))","v":0},{"$error":"#DIV/0!"},"",0,"",0,1.3822857142857141,{"$error":"#DIV/0!"},{"$error":"#DIV/0!"},{"$f":"IF('Gegevens '!$G$20=\"Eigen waarden\",VLOOKUP($F80,'Gegevens '!$A$25:$C$77,3,FALSE),VLOOKUP($F80,Lijsten!$A$19:$B$71,2,FALSE))","v":10.977630682914283},{"$error":"#DIV/0!"},{"$error":"#DIV/0!"},{"$error":"#DIV/0!"},{"$error":"#DIV/0!"},{"$error":"#DIV/0!"},{"$error":"#DIV/0!"},{"$error":"#DIV/0!"},"","",{"$error":"#DIV/0!"},0,{"$error":"#DIV/0!"},0,{"$error":"#DIV/0!"},{"$error":"#DIV/0!"},{"$error":"#DIV/0!"},{"$error":"#DIV/0!"},{"$error":"#DIV/0!"},{"$error":"#DIV/0!"},"","","",{"$error":"#DIV/0!"},{"$error":"#DIV/0!"},0,null,null,null,null,null,null,null,null,null,null,null,null,null,null,null,null,null,null,null,null,null,"1967-02-16",0,1.4179999999999999,null,"1975-02-15",0.2,0.74099999999999999,null,"2006-02-15",0,1.68167,0,1.5984,0,1.51566,null,"2016-02-15",0,1.72357,0,1.6165099999999999,0,1.51013,null,"2066-02-15",0,1.9331,0,1.7070700000000001,0,1.4824999999999999,null,null,null,2005,{"$error":"#DIV/0!"},{"$error":"#DIV/0!"},{"$error":"#DIV/0!"},749.80000000000018,39,{"$error":"#DIV/0!"},{"$error":"#DIV/0!"},14.54782608695653,{"$error":"#DIV/0!"}]
["1967-02-17",0.2,0.80200000000000005,2,1967,7,0.2,{"$f":"IF(B81<Parameters!$A$16,B81*Parameters!$B$16,IF(AND(B81>Parameters!$A$16,B81<Parameters!$A$17),B81*Parameters!$B$17,B81*Parameters!$B$18))","v":0},{"$f":"IF(B81<Parameters!$A$20,B81*Parameters!$B$20,IF(AND(B81>Parameters!$A$20,B81<Parameters!$A$21),B81*Parameters!$B$21,B81*Parameters!$B$22))","v":0},{"$error":"#DIV/0!"},{"$error":"#DIV/0!"},{"$error":"#DIV/0!"},{"$error":"#DIV/0!"},{"$error":"#DIV/0!"},0.76628571428571435,{"$error":"#DIV/0!"},{"$error":"#DIV/0!"},{"$f":"IF('Gegevens '!$G$20=\"Eigen waarden\",VLOOKUP($F81,'Gegevens '!$A$25:$C$77,3,FALSE),VLOOKUP($F81,Lijsten!$A$19:$B$71,2,FALSE))","v":10.977630682914283},{"$error":"#DIV/0!"},{"$error":"#DIV/0!"},{"$error":"#DIV/0!"},{"$error":"#DIV/0!"},{"$error":"#DIV/0!"},{"$error":"#DIV/0!"},{"$error":"#DIV/0!"},{"$error":"#DIV/0!"},{"$error":"#DIV/0!"},{"$error":"#DIV/0!"},{"$error":"#DIV/0!"},{"$error":"#DIV/0!"},{"$error":"#DIV/0!"},{"$error":"#DIV/0!"},{"$error":"#DIV/0!"},{"$error":"#DIV/0!"},{"$error":"#DIV/0!"},{"$error":"#DIV/0!"},{"$error":"#DIV/0!"},{"$error":"#DIV/0!"},{"$error":"#DIV/0!"},{"$error":"#DIV/0!"},{"$error":"#DIV/0!"},{"$error":"#DIV/0!"},0,null,null,null,null,null,null,null,null,null,null,null,null,null,null,null,null,null,null,null,null,null,"1967-02-17",0.2,0.80200000000000005,null,"1975-02-16",0,1.05,null,"2006-02-16",0,1.55349,0,1.4765600000000001,0,1.4001300000000001,null,"2016-02-16",0,1.5922000000000001,0,1.4933000000000001,0,1.39503,null,"2066-02-16",0,1.78576,0,1.5769599999999999,0,1.3694999999999999,null,null,null,2006,{"$error":"#DIV/0!"},{"$error":"#DIV/0!"},{"$error":"#DIV/0!"},833.60000000000025,40,{"$error":"#DIV/0!"},{"$error":"#DIV/0!"},17.847826086956516,{"$error":"#DIV/0!"}]
["1967-02-18",0.2,1.3089999999999999,2,1967,7,0.2,{"$f":"IF(B82<Parameters!$A$16,B82*Parameters!$B$16,IF(AND(B82>Parameters!$A$16,B82<Parameters!$A$17),B82*Parameters!$B$17,B82*Parameters!$B$18))","v":0},{"$f":"IF(B82<Parameters!$A$20,B82*Parameters!$B$20,IF(AND(B82>Parameters!$A$20,B82<Parameters!$A$21),B82*Parameters!$B$21,B82*Parameters!$B$22))","v":0},{"$error":"#DIV/0!"},{"$error":"#DIV/0!"},{"$error":"#DIV/0!"},{"$error":"#DIV/0!"},{"$error":"#DIV/0!"},1.2732857142857141,{"$error":"#DIV/0!"},{"$error":"#DIV/0!"},{"$f":"IF('Gegevens '!$G$20=\"Eigen waarden\",VLOOKUP($F82,'Gegevens '!$A$25:$C$77,3,FALSE),VLOOKUP($F82,Lijsten!$A$19:$B$71,2,FALSE))","v":10.977630682914283},{"$error":"#DIV/0!"},{"$error":"#DIV/0!"},{"$error":"#DIV/0!"},{"$error":"#DIV/0!"},{"$error":"#DIV/0!"},{"$error":"#DIV/0!"},{"$error":"#DIV/0!"},{"$error":"#DIV/0!"},{"$error":"#DIV/0!"},{"$error":"#DIV/0!"},{"$error":"#DIV/0!"},{"$error":"#DIV/0!"},{"$error":"#DIV/0!"},{"$error":"#DIV/0!"},{"$error":"#DIV/0!"},{"$error":"#DIV/0!"},{"$error":"#DIV/0!"},{"$error":"#DIV/0!"},{"$error":"#DIV/0!"},{"$error":"#DIV/0!"},{"$error":"#DIV/0!"},{"$error":"#DIV/0!"},{"$error":"#DIV/0!"},{"$error":"#DIV/0!"},0,null,null,null,null,null,null,null,null,null,null,null,null,null,null,null,null,null,null,null,null,null,"1967-02-18",0.2,1.3089999999999999,null,"1975-02-17",0,0.68300000000000005,null,"2006-02-17",0.27,0.87863000000000002,0.22,0.83511999999999997,0.18,0.79188999999999998,null,"2016-02-17",0.28000000000000003,0.90053000000000005,0.22,0.84458999999999995,0.18,0.78900999999999999,null,"2066-02-17",0.36,1.01,0.25,0.89190000000000003,0.15,0.77456999999999998,null,null,null,2007,{"$error":"#DIV/0!"},{"$error":"#DIV/0!"},{"$error":"#DIV/0!"},881.00000000000045,41,{"$error":"#DIV/0!"},{"$error":"#DIV/0!"},15.869565217391287,{"$error":"#DIV/0!"}]
["1967-02-19",8.6,0.75600000000000001,2,1967,7,8.6,{"$f":"IF(B83<Parameters!$A$16,B83*Parameters!$B$16,IF(AND(B83>Parameters!$A$16,B83<Parameters!$A$17),B83*Parameters!$B$17,B83*Parameters!$B$18))","v":8.17},{"$f":"IF(B83<Parameters!$A$20,B83*Parameters!$B$20,IF(AND(B83>Parameters!$A$20,B83<Parameters!$A$21),B83*Parameters!$B$21,B83*Parameters!$B$22))","v":6.4499999999999993},{"$error":"#DIV/0!"},{"$error":"#DIV/0!"},{"$error":"#DIV/0!"},{"$error":"#DIV/0!"},{"$error":"#DIV/0!"},0.72028571428571431,{"$error":"#DIV/0!"},{"$error":"#DIV/0!"},{"$f":"IF('Gegevens '!$G$20=\"Eigen waarden\",VLOOKUP($F83,'Gegevens '!$A$25:$C$77,3,FALSE),VLOOKUP($F83,Lijsten!$A$19:$B$71,2,FALSE))","v":10.977630682914283},{"$error":"#DIV/0!"},{"$error":"#DIV/0!"},{"$error":"#DIV/0!"},{"$error":"#DIV/0!"},{"$error":"#DIV/0!"},{"$error":"#DIV/0!"},{"$error":"#DIV/0!"},{"$error":"#DIV/0!"},{"$error":"#DIV/0!"},{"$error":"#DIV/0!"},{"$error":"#DIV/0!"},{"$error":"#DIV/0!"},{"$error":"#DIV/0!"},{"$error":"#DIV/0!"},{"$error":"#DIV/0!"},{"$error":"#DIV/0!"},{"$error":"#DIV/0!"},{"$error":"#DIV/0!"},{"$error":"#DIV/0!"},{"$error":"#DIV/0!"},{"$error":"#DIV/0!"},{"$error":"#DIV/0!"},{"$error":"#DIV/0!"},{"$error":"#DIV/0!"},0,null,null,null,null,null,null,null,null,null,null,null,null,null,null,null,null,null,null,null,null,null,"1967-02-19",8.6,0.75600000000000001,null,"1975-02-18",11.4,0.39200000000000002,null,"2006-02-18",0.27,1.43407,0.22,1.3630599999999999,0.18,1.29251,null,"2016-02-18",0.28000000000000003,1.4698100000000001,0.22,1.3785099999999999,0.18,1.28779,null,"2066-02-18",0.36,1.64849,0.25,1.45574,0.16,1.26423,null,null,null,2008,{"$error":"#DIV/0!"},{"$error":"#DIV/0!"},{"$error":"#DIV/0!"},860.30000000000007,42,{"$error":"#DIV/0!"},{"$error":"#DIV/0!"},13.854347826086958,{"$error":"#DIV/0!"}]
["1967-02-20",14.1,0.97699999999999998,2,1967,8,14.1,{"$f":"IF(B84<Parameters!$A$16,B84*Parameters!$B$16,IF(AND(B84>Parameters!$A$16,B84<Parameters!$A$17),B84*Parameters!$B$17,B84*Parameters!$B$18))","v":13.395},{"$f":"IF(B84<Parameters!$A$20,B84*Parameters!$B$20,IF(AND(B84>Parameters!$A$20,B84<Parameters!$A$21),B84*Parameters!$B$21,B84*Parameters!$B$22))","v":10.574999999999999},{"$error":"#DIV/0!"},{"$error":"#DIV/0!"},{"$error":"#DIV/0!"},{"$error":"#DIV/0!"},{"$error":"#DIV/0!"},0.94128571428571428,{"$error":"#DIV/0!"},{"$error":"#DIV/0!"},{"$f":"IF('Gegevens '!$G$20=\"Eigen waarden\",VLOOKUP($F84,'Gegevens '!$A$25:$C$77,3,FALSE),VLOOKUP($F84,Lijsten!$A$19:$B$71,2,FALSE))","v":13.231023004605714},{"$error":"#DIV/0!"},{"$error":"#DIV/0!"},{"$error":"#DIV/0!"},{"$error":"#DIV/0!"},{"$error":"#DIV/0!"},{"$error":"#DIV/0!"},{"$error":"#DIV/0!"},{"$error":"#DIV/0!"},{"$error":"#DIV/0!"},{"$error":"#DIV/0!"},{"$error":"#DIV/0!"},{"$error":"#DIV/0!"},{"$error":"#DIV/0!"},{"$error":"#DIV/0!"},{"$error":"#DIV/0!"},{"$error":"#DIV/0!"},{"$error":"#DIV/0!"},{"$error":"#DIV/0!"},{"$error":"#DIV/0!"},{"$error":"#DIV/0!"},{"$error":"#DIV/0!"},{"$error":"#DIV/0!"},{"$error":"#DIV/0!"},{"$error":"#DIV/0!"},0,null,null,null,null,null,null,null,null,null,null,null,null,null,null,null,null,null,null,null,null,null,"1967-02-20",14.1,0.97699999999999998,null,"1975-02-19",4.5,0.64300000000000002,null,"2006-02-19",10.36,0.82823999999999998,8.89,0.78722000000000003,7.94,0.74646999999999997,null,"2016-02-19",10.64,0.84887000000000001,8.9600000000000009,0.79613999999999996,7.86,0.74375000000000002,null,"2066-02-19",12,0.95206999999999997,9.3699999999999992,0.84075,7.44,0.73014000000000001,null,null,null,2009,{"$error":"#DIV/0!"},{"$error":"#DIV/0!"},{"$error":"#DIV/0!"},766.70000000000016,43,{"$error":"#DIV/0!"},{"$error":"#DIV/0!"},15.219565217391304,{"$error":"#DIV/0!"}]
["1967-02-21",1.6,1.1319999999999999,2,1967,8,1.6,{"$f":"IF(B85<Parameters!$A$16,B85*Parameters!$B$16,IF(AND(B85>Parameters!$A$16,B85<Parameters!$A$17),B85*Parameters!$B$17,B85*Parameters!$B$18))","v":1.2800000000000002},{"$f":"IF(B85<Parameters!$A$20,B85*Parameters!$B$20,IF(AND(B85>Parameters!$A$20,B85<Parameters!$A$21),B85*Parameters!$B$21,B85*Parameters!$B$22))","v":0.96},{"$error":"#DIV/0!"},{"$error":"#DIV/0!"},{"$error":"#DIV/0!"},{"$error":"#DIV/0!"},{"$error":"#DIV/0!"},1.0962857142857141,{"$error":"#DIV/0!"},{"$error":"#DIV/0!"},{"$f":"IF('Gegevens '!$G$20=\"Eigen waarden\",VLOOKUP($F85,'Gegevens '!$A$25:$C$77,3,FALSE),VLOOKUP($F85,Lijsten!$A$19:$B$71,2,FALSE))","v":13.231023004605714},{"$error":"#DIV/0!"},{"$error":"#DIV/0!"},{"$error":"#DIV/0!"},{"$error":"#DIV/0!"},{"$error":"#DIV/0!"},{"$error":"#DIV/0!"},{"$error":"#DIV/0!"},{"$error":"#DIV/0!"},{"$error":"#DIV/0!"},{"$error":"#DIV/0!"},{"$error":"#DIV/0!"},{"$error":"#DIV/0!"},{"$error":"#DIV/0!"},{"$error":"#DIV/0!"},{"$error":"#DIV/0!"},{"$error":"#DIV/0!"},{"$error":"#DIV/0!"},{"$error":"#DIV/0!"},{"$error":"#DIV/0!"},{"$error":"#DIV/0!"},{"$error":"#DIV/0!"},{"$error":"#DIV/0!"},{"$error":"#DIV/0!"},{"$error":"#DIV/0!"},0,null,null,null,null,null,null,null,null,null,null,null,null,null,null,null,null,null,null,null,null,null,"1967-02-21",1.6,1.1319999999999999,null,"1975-02-20",0,1.194,null,"2006-02-20",17.52,1.0703499999999999,14.54,1.01735,12.52,0.96469000000000005,null,"2016-02-20",18.149999999999999,1.0970200000000001,14.66,1.02888,12.16,0.96116999999999997,null,"2066-02-20",21.23,1.23038,15.31,1.0865199999999999,10.66,0.94359000000000004,null,null,null,2010,{"$error":"#DIV/0!"},{"$error":"#DIV/0!"},{"$error":"#DIV/0!"},913.29999999999961,44,{"$error":"#DIV/0!"},{"$error":"#DIV/0!"},14.673913043478258,{"$error":"#DIV/0!"}]
["1967-02-22",0.5,1.393,2,1967,8,0.5,{"$f":"IF(B86<Parameters!$A$16,B86*Parameters!$B$16,IF(AND(B86>Parameters!$A$16,B86<Parameters!$A$17),B86*Parameters!$B$17,B86*Parameters!$B$18))","v":0},{"$f":"IF(B86<Parameters!$A$20,B86*Parameters!$B$20,IF(AND(B86>Parameters!$A$20,B86<Parameters!$A$21),B86*Parameters!$B$21,B86*Parameters!$B$22))","v":0},{"$error":"#DIV/0!"},{"$error":"#DIV/0!"},{"$error":"#DIV/0!"},{"$error":"#DIV/0!"},{"$error":"#DIV/0!"},1.3572857142857142,{"$error":"#DIV/0!"},{"$error":"#DIV/0!"},{"$f":"IF('Gegevens '!$G$20=\"Eigen waarden\",VLOOKUP($F86,'Gegevens '!$A$25:$C$77,3,FALSE),VLOOKUP($F86,Lijsten!$A$19:$B$71,2,FALSE))","v":13.231023004605714},{"$error":"#DIV/0!"},{"$error":"#DIV/0!"},{"$error":"#DIV/0!"},{"$error":"#DIV/0!"},{"$error":"#DIV/0!"},{"$error":"#DIV/0!"},{"$error":"#DIV/0!"},{"$error":"#DIV/0!"},{"$error":"#DIV/0!"},{"$error":"#DIV/0!"},{"$error":"#DIV/0!"},{"$error":"#DIV/0!"},{"$error":"#DIV/0!"},{"$error":"#DIV/0!"},{"$error":"#DIV/0!"},{"$error":"#DIV/0!"},{"$error":"#DIV/0!"},{"$error":"#DIV/0!"},{"$error":"#DIV/0!"},{"$error":"#DIV/0!"},{"$error":"#DIV/0!"},{"$error":"#DIV/0!"},{"$error":"#DIV/0!"},{"$error":"#DIV/0!"},0,null,null,null,null,null,null,null,null,null,null,null,null,null,null,null,null,null,null,null,null,null,"1967-02-22",0.5,1.393,null,"1975-02-21",0,1.5449999999999999,null,"2006-02-21",2.16,1.2401599999999999,1.75,1.17875,1.45,1.11774,null,"2016-02-21",2.29,1.2710699999999999,1.79,1.19211,1.43,1.1136600000000001,null,"2066-02-21",2.87,1.4255800000000001,1.99,1.2588999999999999,1.31,1.0932900000000001,null,null,null,2011,{"$error":"#DIV/0!"},{"$error":"#DIV/0!"},{"$error":"#DIV/0!"},816.59999999999968,45,{"$error":"#DIV/0!"},{"$error":"#DIV/0!"},19.186956521739141,{"$error":"#DIV/0!"}]
["1967-02-23",1.6,0.96499999999999997,2,1967,8,1.6,{"$f":"IF(B87<Parameters!$A$16,B87*Parameters!$B$16,IF(AND(B87>Parameters!$A$16,B87<Parameters!$A$17),B87*Parameters!$B$17,B87*Parameters!$B$18))","v":1.2800000000000002},{"$f":"IF(B87<Parameters!$A$20,B87*Parameters!$B$20,IF(AND(B87>Parameters!$A$20,B87<Parameters!$A$21),B87*Parameters!$B$21,B87*Parameters!$B$22))","v":0.96},{"$error":"#DIV/0!"},{"$error":"#DIV/0!"},{"$error":"#DIV/0!"},{"$error":"#DIV/0!"},{"$error":"#DIV/0!"},0.92928571428571427,{"$error":"#DIV/0!"},{"$error":"#DIV/0!"},{"$f":"IF('Gegevens '!$G$20=\"Eigen waarden\",VLOOKUP($F87,'Gegevens '!$A$25:$C$77,3,FALSE),VLOOKUP($F87,Lijsten!$A$19:$B$71,2,FALSE))","v":13.231023004605714},{"$error":"#DIV/0!"},{"$error":"#DIV/0!"},{"$error":"#DIV/0!"},{"$error":"#DIV/0!"},{"$error":"#DIV/0!"},{"$error":"#DIV/0!"},{"$error":"#DIV/0!"},{"$error":"#DIV/0!"},{"$error":"#DIV/0!"},{"$error":"#DIV/0!"},{"$error":"#DIV/0!"},{"$error":"#DIV/0!"},{"$error":"#DIV/0!"},{"$error":"#DIV/0!"},{"$error":"#DIV/0!"},{"$error":"#DIV/0!"},{"$error":"#DIV/0!"},{"$error":"#DIV/0!"},{"$error":"#DIV/0!"},{"$error":"#DIV/0!"},{"$error":"#DIV/0!"},{"$error":"#DIV/0!"},{"$error":"#DIV/0!"},{"$error":"#DIV/0!"},0,null,null,null,null,null,null,null,null,null,null,null,null,null,null,null,null,null,null,null,null,null,"1967-02-23",1.6,0.96499999999999997,null,"1975-02-22",0,1.19,null,"2006-02-22",0.7,1.5261,0.56000000000000005,1.4505300000000001,0.46,1.3754500000000001,null,"2016-02-22",0.74,1.56413,0.57999999999999996,1.4669700000000001,0,1.37043,null,"2066-02-22",0.96,1.75427,0.67,1.5491600000000001,0.42,1.3453599999999999,null,null,null,2012,{"$error":"#DIV/0!"},{"$error":"#DIV/0!"},{"$error":"#DIV/0!"},959.99999999999977,46,{"$error":"#DIV/0!"},{"$error":"#DIV/0!"},16.276086956521748,{"$error":"#DIV/0!"}]
["1967-02-24",0,1.474,2,1967,8,0,{"$f":"IF(B88<Parameters!$A$16,B88*Parameters!$B$16,IF(AND(B88>Parameters!$A$16,B88<Parameters!$A$17),B88*Parameters!$B$17,B88*Parameters!$B$18))","v":0},{"$f":"IF(B88<Parameters!$A$20,B88*Parameters!$B$20,IF(AND(B88>Parameters!$A$20,B88<Parameters!$A$21),B88*Parameters!$B$21,B88*Parameters!$B$22))","v":0},{"$error":"#DIV/0!"},"",0,"",0,1.4382857142857142,{"$error":"#DIV/0!"},{"$error":"#DIV/0!"},{"$f":"IF('Gegevens '!$G$20=\"Eigen waarden\",VLOOKUP($F88,'Gegevens '!$A$25:$C$77,3,FALSE),VLOOKUP($F88,Lijsten!$A$19:$B$71,2,FALSE))","v":13.231023004605714},{"$error":"#DIV/0!"},{"$error":"#DIV/0!"},{"$error":"#DIV/0!"},{"$error":"#DIV/0!"},{"$error":"#DIV/0!"},{"$error":"#DIV/0!"},{"$error":"#DIV/0!"},"","",{"$error":"#DIV/0!"},0,{"$error":"#DIV/0!"},0,{"$error":"#DIV/0!"},{"$error":"#DIV/0!"},{"$error":"#DIV/0!"},{"$error":"#DIV/0!"},{"$error":"#DIV/0!"},{"$error":"#DIV/0!"},"","","",{"$error":"#DIV/0!"},{"$error":"#DIV/0!"},0,null,null,null,null,null,null,null,null,null,null,null,null,null,null,null,null,null,null,null,null,null,"1967-02-24",0,1.474,null,"1975-02-23",0,1.363,null,"2006-02-23",2.16,1.05721,1.75,1.00485,1.45,0.95284000000000002,null,"2016-02-23",2.29,1.08355,1.79,1.01624,1.43,0.94937000000000005,null,"2066-02-23",2.88,1.2152700000000001,1.99,1.07318,1.31,0.93200000000000005,null,null,null,"Eindtotaal",{"$error":"#DIV/0!"},{"$error":"#DIV/0!"},{"$error":"#DIV/0!"},38138.6,47,{"$error":"#DIV/0!"},{"$error":"#DIV/0!"},18.819565217391311,{"$error":"#DIV/0!"}]
["1967-02-25",0.5,1.411,2,1967,8,0.5,{"$f":"IF(B89<Parameters!$A$16,B89*Parameters!$B$16,IF(AND(B89>Parameters!$A$16,B89<Parameters!$A$17),B89*Parameters!$B$17,B89*Parameters!$B$18))","v":0},{"$f":"IF(B89<Parameters!$A$20,B89*Parameters!$B$20,IF(AND(B89>Parameters!$A$20,B89<Parameters!$A$21),B89*Parameters!$B$21,B89*Parameters!$B$22))","v":0},{"$error":"#DIV/0!"},{"$error":"#DIV/0!"},{"$error":"#DIV/0!"},{"$error":"#DIV/0!"},{"$error":"#DIV/0!"},1.3752857142857142,{"$error":"#DIV/0!"},{"$error":"#DIV/0!"},{"$f":"IF('Gegevens '!$G$20=\"Eigen waarden\",VLOOKUP($F89,'Gegevens '!$A$25:$C$77,3,FALSE),VLOOKUP($F89,Lijsten!$A$19:$B$71,2,FALSE))","v":13.231023004605714},{"$error":"#DIV/0!"},{"$error":"#DIV/0!"},{"$error":"#DIV/0!"},{"$error":"#DIV/0!"},{"$error":"#DIV/0!"},{"$error":"#DIV/0!"},{"$error":"#DIV/0!"},{"$error":"#DIV/0!"},{"$error":"#DIV/0!"},{"$error":"#DIV/0!"},{"$error":"#DIV/0!"},{"$error":"#DIV/0!"},{"$error":"#DIV/0!"},{"$error":"#DIV/0!"},{"$error":"#DIV/0!"},{"$error":"#DIV/0!"},{"$error":"#DIV/0!"},{"$error":"#DIV/0!"},{"$error":"#DIV/0!"},{"$error":"#DIV/0!"},{"$error":"#DIV/0!"},{"$error":"#DIV/0!"},{"$error":"#DIV/0!"},{"$error":"#DIV/0!"},0,null,null,null,null,null,null,null,null,null,null,null,null,null,null,null,null,null,null,null,null,null,"1967-02-25",0.5,1.411,null,"1975-02-24",0,1.33,null,"2006-02-24",0,1.6148400000000001,0,1.53488,0,1.45543,null,"2016-02-24",0,1.6550800000000001,0,1.55227,0,1.4501200000000001,null,"2066-02-24",0,1.8562799999999999,3.13,1.63924,0,1.4235899999999999,null,null,null,null,null,null,null,null,48,{"$error":"#DIV/0!"},{"$error":"#DIV/0!"},17.978260869565226,{"$error":"#DIV/0!"}]
["1967-02-26",14.7,1.421,2,1967,8,14.7,{"$f":"IF(B90<Parameters!$A$16,B90*Parameters!$B$16,IF(AND(B90>Parameters!$A$16,B90<Parameters!$A$17),B90*Parameters!$B$17,B90*Parameters!$B$18))","v":13.964999999999998},{"$f":"IF(B90<Parameters!$A$20,B90*Parameters!$B$20,IF(AND(B90>Parameters!$A$20,B90<Parameters!$A$21),B90*Parameters!$B$21,B90*Parameters!$B$22))","v":11.024999999999999},{"$error":"#DIV/0!"},{"$error":"#DIV/0!"},{"$error":"#DIV/0!"},{"$error":"#DIV/0!"},{"$error":"#DIV/0!"},1.3852857142857142,{"$error":"#DIV/0!"},{"$error":"#DIV/0!"},{"$f":"IF('Gegevens '!$G$20=\"Eigen waarden\",VLOOKUP($F90,'Gegevens '!$A$25:$C$77,3,FALSE),VLOOKUP($F90,Lijsten!$A$19:$B$71,2,FALSE))","v":13.231023004605714},{"$error":"#DIV/0!"},{"$error":"#DIV/0!"},{"$error":"#DIV/0!"},{"$error":"#DIV/0!"},{"$error":"#DIV/0!"},{"$error":"#DIV/0!"},{"$error":"#DIV/0!"},{"$error":"#DIV/0!"},{"$error":"#DIV/0!"},{"$error":"#DIV/0!"},{"$error":"#DIV/0!"},{"$error":"#DIV/0!"},{"$error":"#DIV/0!"},{"$error":"#DIV/0!"},{"$error":"#DIV/0!"},{"$error":"#DIV/0!"},{"$error":"#DIV/0!"},{"$error":"#DIV/0!"},{"$error":"#DIV/0!"},{"$error":"#DIV/0!"},{"$error":"#DIV/0!"},{"$error":"#DIV/0!"},{"$error":"#DIV/0!"},{"$error":"#DIV/0!"},0,null,null,null,null,null,null,null,null,null,null,null,null,null,null,null,null,null,null,null,null,null,"1967-02-26",14.7,1.421,null,"1975-02-25",0,1.077,null,"2006-02-25",0.7,1.54582,0.56000000000000005,1.4692700000000001,0.46,1.3932199999999999,null,"2016-02-25",0.74,1.5843400000000001,0.57999999999999996,1.4859199999999999,0.45,1.3881399999999999,null,"2066-02-25",0.96,1.77694,0.66,1.56917,0.42,1.3627400000000001,null,null,null,null,null,null,null,null,49,{"$error":"#DIV/0!"},{"$error":"#DIV/0!"},19.310869565217395,{"$error":"#DIV/0!"}]
["1967-02-27",3.8,1.5289999999999999,2,1967,9,3.8,{"$f":"IF(B91<Parameters!$A$16,B91*Parameters!$B$16,IF(AND(B91>Parameters!$A$16,B91<Parameters!$A$17),B91*Parameters!$B$17,B91*Parameters!$B$18))","v":3.61},{"$f":"IF(B91<Parameters!$A$20,B91*Parameters!$B$20,IF(AND(B91>Parameters!$A$20,B91<Parameters!$A$21),B91*Parameters!$B$21,B91*Parameters!$B$22))","v":2.8499999999999996},{"$error":"#DIV/0!"},{"$error":"#DIV/0!"},{"$error":"#DIV/0!"},{"$error":"#DIV/0!"},{"$error":"#DIV/0!"},1.4932857142857141,{"$error":"#DIV/0!"},{"$error":"#DIV/0!"},{"$f":"IF('Gegevens '!$G$20=\"Eigen waarden\",VLOOKUP($F91,'Gegevens '!$A$25:$C$77,3,FALSE),VLOOKUP($F91,Lijsten!$A$19:$B$71,2,FALSE))","v":14.865981240331429},{"$error":"#DIV/0!"},{"$error":"#DIV/0!"},{"$error":"#DIV/0!"},{"$error":"#DIV/0!"},{"$error":"#DIV/0!"},{"$error":"#DIV/0!"},{"$error":"#DIV/0!"},{"$error":"#DIV/0!"},{"$error":"#DIV/0!"},{"$error":"#DIV/0!"},{"$error":"#DIV/0!"},{"$error":"#DIV/0!"},{"$error":"#DIV/0!"},{"$error":"#DIV/0!"},{"$error":"#DIV/0!"},{"$error":"#DIV/0!"},{"$error":"#DIV/0!"},{"$error":"#DIV/0!"},{"$error":"#DIV/0!"},{"$error":"#DIV/0!"},{"$error":"#DIV/0!"},{"$error":"#DIV/0!"},{"$error":"#DIV/0!"},{"$error":"#DIV/0!"},0,null,null,null,null,null,null,null,null,null,null,null,null,null,null,null,null,null,null,null,null,null,"1967-02-27",3.8,1.5289999999999999,null,"1975-02-26",0,1.458,null,"2006-02-26",18.36,1.5567800000000001,15.2,1.4796899999999999,13.08,1.4031,null,"2016-02-26",18.97,1.5955699999999999,15.32,1.4964599999999999,12.77,1.39798,null,"2066-02-26",22.19,1.7895399999999999,16.09,1.58029,11.24,1.3724000000000001,null,null,null,null,null,null,null,null,50,{"$error":"#DIV/0!"},{"$error":"#DIV/0!"},17.791304347826092,{"$error":"#DIV/0!"}]
["1967-02-28",11.1,1.2869999999999999,2,1967,9,11.1,{"$f":"IF(B92<Parameters!$A$16,B92*Parameters!$B$16,IF(AND(B92>Parameters!$A$16,B92<Parameters!$A$17),B92*Parameters!$B$17,B92*Parameters!$B$18))","v":10.545},{"$f":"IF(B92<Parameters!$A$20,B92*Parameters!$B$20,IF(AND(B92>Parameters!$A$20,B92<Parameters!$A$21),B92*Parameters!$B$21,B92*Parameters!$B$22))","v":8.3249999999999993},{"$error":"#DIV/0!"},{"$error":"#DIV/0!"},{"$error":"#DIV/0!"},{"$error":"#DIV/0!"},{"$error":"#DIV/0!"},1.2512857142857141,{"$error":"#DIV/0!"},{"$error":"#DIV/0!"},{"$f":"IF('Gegevens '!$G$20=\"Eigen waarden\",VLOOKUP($F92,'Gegevens '!$A$25:$C$77,3,FALSE),VLOOKUP($F92,Lijsten!$A$19:$B$71,2,FALSE))","v":14.865981240331429},{"$error":"#DIV/0!"},{"$error":"#DIV/0!"},{"$error":"#DIV/0!"},{"$error":"#DIV/0!"},{"$error":"#DIV/0!"},{"$error":"#DIV/0!"},{"$error":"#DIV/0!"},{"$error":"#DIV/0!"},{"$error":"#DIV/0!"},{"$error":"#DIV/0!"},{"$error":"#DIV/0!"},{"$error":"#DIV/0!"},{"$error":"#DIV/0!"},{"$error":"#DIV/0!"},{"$error":"#DIV/0!"},{"$error":"#DIV/0!"},{"$error":"#DIV/0!"},{"$error":"#DIV/0!"},{"$error":"#DIV/0!"},{"$error":"#DIV/0!"},{"$error":"#DIV/0!"},{"$error":"#DIV/0!"},{"$error":"#DIV/0!"},{"$error":"#DIV/0!"},0,null,null,null,null,null,null,null,null,null,null,null,null,null,null,null,null,null,null,null,null,null,"1967-02-28",11.1,1.2869999999999999,null,"1975-02-27",0,1.649,null,"2006-02-27",4.75,1.6751,4.05,1.59215,3.58,1.50973,null,"2016-02-27",4.93,1.7168399999999999,4.12,1.61019,3.56,1.50423,null,"2066-02-27",5.8,1.9255500000000001,4.47,1.7003999999999999,3.47,1.47671,null,null,null,null,null,null,null,null,51,{"$error":"#DIV/0!"},{"$error":"#DIV/0!"},19.295652173913037,{"$error":"#DIV/0!"}]
["1967-03-01",2,0.96899999999999997,3,1967,9,2,{"$f":"IF(B93<Parameters!$A$16,B93*Parameters!$B$16,IF(AND(B93>Parameters!$A$16,B93<Parameters!$A$17),B93*Parameters!$B$17,B93*Parameters!$B$18))","v":1.9},{"$f":"IF(B93<Parameters!$A$20,B93*Parameters!$B$20,IF(AND(B93>Parameters!$A$20,B93<Parameters!$A$21),B93*Parameters!$B$21,B93*Parameters!$B$22))","v":1.5},{"$error":"#DIV/0!"},{"$error":"#DIV/0!"},{"$error":"#DIV/0!"},{"$error":"#DIV/0!"},{"$error":"#DIV/0!"},0.87222580645161285,{"$error":"#DIV/0!"},{"$error":"#DIV/0!"},{"$f":"IF('Gegevens '!$G$20=\"Eigen waarden\",VLOOKUP($F93,'Gegevens '!$A$25:$C$77,3,FALSE),VLOOKUP($F93,Lijsten!$A$19:$B$71,2,FALSE))","v":14.865981240331429},{"$error":"#DIV/0!"},{"$error":"#DIV/0!"},{"$error":"#DIV/0!"},{"$error":"#DIV/0!"},{"$error":"#DIV/0!"},{"$error":"#DIV/0!"},{"$error":"#DIV/0!"},{"$error":"#DIV/0!"},{"$error":"#DIV/0!"},{"$error":"#DIV/0!"},{"$error":"#DIV/0!"},{"$error":"#DIV/0!"},{"$error":"#DIV/0!"},{"$error":"#DIV/0!"},{"$error":"#DIV/0!"},{"$error":"#DIV/0!"},{"$error":"#DIV/0!"},{"$error":"#DIV/0!"},{"$error":"#DIV/0!"},{"$error":"#DIV/0!"},{"$error":"#DIV/0!"},{"$error":"#DIV/0!"},{"$error":"#DIV/0!"},{"$error":"#DIV/0!"},0,null,null,null,null,null,null,null,null,null,null,null,null,null,null,null,null,null,null,null,null,null,"1967-03-01",2,0.96899999999999997,null,"1975-02-28",0,1.4630000000000001,null,"2006-02-28",13.63,1.4099699999999999,11.45,1.34015,9.99,1.27078,null,"2016-02-28",14.05,1.4451099999999999,11.55,1.35534,9.8000000000000007,1.2661500000000001,null,"2066-02-28",16.27,1.6207800000000001,12.04,1.43127,8.86,1.24298,null,null,null,null,null,null,null,null,52,{"$error":"#DIV/0!"},{"$error":"#DIV/0!"},17.041304347826102,{"$error":"#DIV/0!"}]
["1967-03-02",1,1.028,3,1967,9,1,{"$f":"IF(B94<Parameters!$A$16,B94*Parameters!$B$16,IF(AND(B94>Parameters!$A$16,B94<Parameters!$A$17),B94*Parameters!$B$17,B94*Parameters!$B$18))","v":0.95},{"$f":"IF(B94<Parameters!$A$20,B94*Parameters!$B$20,IF(AND(B94>Parameters!$A$20,B94<Parameters!$A$21),B94*Parameters!$B$21,B94*Parameters!$B$22))","v":0.75},{"$error":"#DIV/0!"},{"$error":"#DIV/0!"},{"$error":"#DIV/0!"},{"$error":"#DIV/0!"},{"$error":"#DIV/0!"},0.9312258064516129,{"$error":"#DIV/0!"},{"$error":"#DIV/0!"},{"$f":"IF('Gegevens '!$G$20=\"Eigen waarden\",VLOOKUP($F94,'Gegevens '!$A$25:$C$77,3,FALSE),VLOOKUP($F94,Lijsten!$A$19:$B$71,2,FALSE))","v":14.865981240331429},{"$error":"#DIV/0!"},{"$error":"#DIV/0!"},{"$error":"#DIV/0!"},{"$error":"#DIV/0!"},{"$error":"#DIV/0!"},{"$error":"#DIV/0!"},{"$error":"#DIV/0!"},{"$error":"#DIV/0!"},{"$error":"#DIV/0!"},{"$error":"#DIV/0!"},{"$error":"#DIV/0!"},{"$error":"#DIV/0!"},{"$error":"#DIV/0!"},{"$error":"#DIV/0!"},{"$error":"#DIV/0!"},{"$error":"#DIV/0!"},{"$error":"#DIV/0!"},{"$error":"#DIV/0!"},{"$error":"#DIV/0!"},{"$error":"#DIV/0!"},{"$error":"#DIV/0!"},{"$error":"#DIV/0!"},{"$error":"#DIV/0!"},{"$error":"#DIV/0!"},0,null,null,null,null,null,null,null,null,null,null,null,null,null,null,null,null,null,null,null,null,null,"1967-03-02",1,1.028,null,"1975-03-01",0,1.3340000000000001,null,"2006-03-01",2.09,0.97816000000000003,2.09,0.97816000000000003,2.09,0.91981999999999997,null,"2016-02-29",2.12,0.98077000000000003,2.12,0.98077000000000003,2.12,0.90576999999999996,null,"2066-03-01",2.2599999999999998,0.99385000000000001,2.2599999999999998,0.99385000000000001,2.2599999999999998,0.83552000000000004,null,null,null,null,null,null,null,null,53,{"$error":"#DIV/0!"},{"$error":"#DIV/0!"},2.5391304347826091,{"$error":"#DIV/0!"}]
["1967-03-03",0,0.93200000000000005,3,1967,9,0,{"$f":"IF(B95<Parameters!$A$16,B95*Parameters!$B$16,IF(AND(B95>Parameters!$A$16,B95<Parameters!$A$17),B95*Parameters!$B$17,B95*Parameters!$B$18))","v":0},{"$f":"IF(B95<Parameters!$A$20,B95*Parameters!$B$20,IF(AND(B95>Parameters!$A$20,B95<Parameters!$A$21),B95*Parameters!$B$21,B95*Parameters!$B$22))","v":0},{"$error":"#DIV/0!"},"",0,"",0,0.83522580645161293,{"$error":"#DIV/0!"},{"$error":"#DIV/0!"},{"$f":"IF('Gegevens '!$G$20=\"Eigen waarden\",VLOOKUP($F95,'Gegevens '!$A$25:$C$77,3,FALSE),VLOOKUP($F95,Lijsten!$A$19:$B$71,2,FALSE))","v":14.865981240331429},{"$error":"#DIV/0!"},{"$error":"#DIV/0!"},{"$error":"#DIV/0!"},{"$error":"#DIV/0!"},{"$error":"#DIV/0!"},{"$error":"#DIV/0!"},{"$error":"#DIV/0!"},"","",{"$error":"#DIV/0!"},0,{"$error":"#DIV/0!"},0,{"$error":"#DIV/0!"},{"$error":"#DIV/0!"},{"$error":"#DIV/0!"},{"$error":"#DIV/0!"},{"$error":"#DIV/0!"},{"$error":"#DIV/0!"},"","","",{"$error":"#DIV/0!"},{"$error":"#DIV/0!"},0,null,null,null,null,null,null,null,null,null,null,null,null,null,null,null,null,null,null,null,null,null,"1967-03-03",0,0.93200000000000005,null,"1975-03-02",2.2000000000000002,1.198,null,"2006-03-02",1.06,1.0377099999999999,1.06,1.0377099999999999,1.06,0.97582999999999998,null,"2016-03-01",1.08,1.0404899999999999,1.08,1.0404899999999999,1.08,0.96092,null,"2066-03-02",1.17,1.05437,1.17,1.05437,1.17,0.88639000000000001,null,null,null,null,null,null,null,null,"Eindtotaal",{"$error":"#DIV/0!"},{"$error":"#DIV/0!"},829.09999999999161,{"$error":"#DIV/0!"}]
["1967-03-04",0,0.94099999999999995,3,1967,9,0,{"$f":"IF(B96<Parameters!$A$16,B96*Parameters!$B$16,IF(AND(B96>Parameters!$A$16,B96<Parameters!$A$17),B96*Parameters!$B$17,B96*Parameters!$B$18))","v":0},{"$f":"IF(B96<Parameters!$A$20,B96*Parameters!$B$20,IF(AND(B96>Parameters!$A$20,B96<Parameters!$A$21),B96*Parameters!$B$21,B96*Parameters!$B$22))","v":0},{"$error":"#DIV/0!"},"",0,"",0,0.84422580645161283,{"$error":"#DIV/0!"},{"$error":"#DIV/0!"},{"$f":"IF('Gegevens '!$G$20=\"Eigen waarden\",VLOOKUP($F96,'Gegevens '!$A$25:$C$77,3,FALSE),VLOOKUP($F96,Lijsten!$A$19:$B$71,2,FALSE))","v":14.865981240331429},{"$error":"#DIV/0!"},{"$error":"#DIV/0!"},{"$error":"#DIV/0!"},{"$error":"#DIV/0!"},{"$error":"#DIV/0!"},{"$error":"#DIV/0!"},{"$error":"#DIV/0!"},"","",{"$error":"#DIV/0!"},0,{"$error":"#DIV/0!"},0,{"$error":"#DIV/0!"},{"$error":"#DIV/0!"},{"$error":"#DIV/0!"},{"$error":"#DIV/0!"},{"$error":"#DIV/0!"},{"$error":"#DIV/0!"},"","","",{"$error":"#DIV/0!"},{"$error":"#DIV/0!"},0,null,null,null,null,null,null,null,null,null,null,null,null,null,null,null,null,null,null,null,null,null,"1967-03-04",0,0.94099999999999995,null,"1975-03-03",0.2,1.341,null,"2006-03-03",0,0.94081000000000004,0,0.94081000000000004,0,0.88470000000000004,null,"2016-03-02",0,0.94332000000000005,0,0.94332000000000005,0,0.87119000000000002,null,"2066-03-03",0,0.95591000000000004,0,0.95591000000000004,0,0.80362]
["1967-03-05",0,0.71,3,1967,9,0,{"$f":"IF(B97<Parameters!$A$16,B97*Parameters!$B$16,IF(AND(B97>Parameters!$A$16,B97<Parameters!$A$17),B97*Parameters!$B$17,B97*Parameters!$B$18))","v":0},{"$f":"IF(B97<Parameters!$A$20,B97*Parameters!$B$20,IF(AND(B97>Parameters!$A$20,B97<Parameters!$A$21),B97*Parameters!$B$21,B97*Parameters!$B$22))","v":0},{"$error":"#DIV/0!"},"",0,"",0,0.61322580645161284,{"$error":"#DIV/0!"},{"$error":"#DIV/0!"},{"$f":"IF('Gegevens '!$G$20=\"Eigen waarden\",VLOOKUP($F97,'Gegevens '!$A$25:$C$77,3,FALSE),VLOOKUP($F97,Lijsten!$A$19:$B$71,2,FALSE))","v":14.865981240331429},{"$error":"#DIV/0!"},{"$error":"#DIV/0!"},{"$error":"#DIV/0!"},{"$error":"#DIV/0!"},{"$error":"#DIV/0!"},{"$error":"#DIV/0!"},{"$error":"#DIV/0!"},"","",{"$error":"#DIV/0!"},0,{"$error":"#DIV/0!"},0,{"$error":"#DIV/0!"},{"$error":"#DIV/0!"},{"$error":"#DIV/0!"},{"$error":"#DIV/0!"},{"$error":"#DIV/0!"},{"$error":"#DIV/0!"},"","","",{"$error":"#DIV/0!"},{"$error":"#DIV/0!"},0,null,null,null,null,null,null,null,null,null,null,null,null,null,null,null,null,null,null,null,null,null,"1967-03-05",0,0.71,null,"1975-03-04",1.5,1.0549999999999999,null,"2006-03-04",0,0.94989000000000001,0,0.94989000000000001,0,0.89324000000000003,null,"2016-03-03",0,0.95243,0,0.95243,0,0.87960000000000005,null,"2066-03-04",0,0.96514,0,0.96514,0,0.81137999999999999]
["1967-03-06",0.2,1.5209999999999999,3,1967,10,0.2,{"$f":"IF(B98<Parameters!$A$16,B98*Parameters!$B$16,IF(AND(B98>Parameters!$A$16,B98<Parameters!$A$17),B98*Parameters!$B$17,B98*Parameters!$B$18))","v":0},{"$f":"IF(B98<Parameters!$A$20,B98*Parameters!$B$20,IF(AND(B98>Parameters!$A$20,B98<Parameters!$A$21),B98*Parameters!$B$21,B98*Parameters!$B$22))","v":0},{"$error":"#DIV/0!"},{"$error":"#DIV/0!"},{"$error":"#DIV/0!"},{"$error":"#DIV/0!"},{"$error":"#DIV/0!"},1.4242258064516129,{"$error":"#DIV/0!"},{"$error":"#DIV/0!"},{"$f":"IF('Gegevens '!$G$20=\"Eigen waarden\",VLOOKUP($F98,'Gegevens '!$A$25:$C$77,3,FALSE),VLOOKUP($F98,Lijsten!$A$19:$B$71,2,FALSE))","v":16.951002269891429},{"$error":"#DIV/0!"},{"$error":"#DIV/0!"},{"$error":"#DIV/0!"},{"$error":"#DIV/0!"},{"$error":"#DIV/0!"},{"$error":"#DIV/0!"},{"$error":"#DIV/0!"},{"$error":"#DIV/0!"},{"$error":"#DIV/0!"},{"$error":"#DIV/0!"},{"$error":"#DIV/0!"},{"$error":"#DIV/0!"},{"$error":"#DIV/0!"},{"$error":"#DIV/0!"},{"$error":"#DIV/0!"},{"$error":"#DIV/0!"},{"$error":"#DIV/0!"},{"$error":"#DIV/0!"},{"$error":"#DIV/0!"},{"$error":"#DIV/0!"},{"$error":"#DIV/0!"},{"$error":"#DIV/0!"},{"$error":"#DIV/0!"},{"$error":"#DIV/0!"},0,null,null,null,null,null,null,null,null,null,null,null,null,null,null,null,null,null,null,null,null,null,"1967-03-06",0.2,1.5209999999999999,null,"1975-03-05",1.3,0.88700000000000001,null,"2006-03-05",0,0.71670999999999996,0,0.71670999999999996,0,0.67396999999999996,null,"2016-03-04",0,0.71862999999999999,0,0.71862999999999999,0,0.66366999999999998,null,"2066-03-05",0,0.72821000000000002,0,0.72821000000000002,0,0.61219999999999997]
["1967-03-07",0,1.0389999999999999,{"$f":"MONTH(A99)","v":3},1967,{"$f":"INT((A99-DATE(YEAR(A99-WEEKDAY(A99-1)+4),1,3)+WEEKDAY(DATE(YEAR(A99-WEEKDAY(A99-1)+4),1,3))+5)/7)","v":10},0,{"$f":"IF(B99<Parameters!$A$16,B99*Parameters!$B$16,IF(AND(B99>Parameters!$A$16,B99<Parameters!$A$17),B99*Parameters!$B$17,B99*Parameters!$B$18))","v":0},{"$f":"IF(B99<Parameters!$A$20,B99*Parameters!$B$20,IF(AND(B99>Parameters!$A$20,B99<Parameters!$A$21),B99*Parameters!$B$21,B99*Parameters!$B$22))","v":0},{"$error":"#DIV/0!"},{"$f":"IF(B99=0,\"\",SUM(J99/(B99*10)))","v":""},0,{"$f":"IF(B99=0,\"\",L99/J99)","v":""},{"$f":"IF(B99=0,0,SUM(J99-L99))","v":0},{"$f":"IF(OR($D99=1,$D99=12,$D99=8),C99+(2/31),IF($D99=2,C99-(1/28),IF($D99=3,C99-(3/31),IF($D99=4,C99-(5/30),IF($D99=5,C99-(6/31),IF($D99=6,C99-(4/30),IF($D99=7,C99-(1/31),IF($D99=9,C99+(4/30),IF($D99=10,C99+(5/31),IF($D99=11,C99+(5/30)))))))))))","v":0.9422258064516128},{"$f":"-(($BH$3-$BI$3)*($AN$3+$AK$3-U99)/($AK$3)-$BH$3)","v":{"$error":"#DIV/0!"}},{"$error":"#DIV/0!"},{"$f":"IF('Gegevens '!$G$20=\"Eigen waarden\",VLOOKUP($F99,'Gegevens '!$A$25:$C$77,3,FALSE),VLOOKUP($F99,Lijsten!$A$19:$B$71,2,FALSE))","v":16.951002269891429},{"$error":"#DIV/0!"},{"$error":"#DIV/0!"},{"$error":"#DIV/0!"},{"$error":"#DIV/0!"},{"$error":"#DIV/0!"},{"$error":"#DIV/0!"},{"$f":"IF(R99=0,\"\",((R99-W99)/R99))","v":{"$error":"#DIV/0!"}},{"$f":"IF(B99=0,\"\",X99/(B99*10))","v":""},"",{"$f":"J99/10","v":{"$error":"#DIV/0!"}},{"$f":"L99/10","v":0},{"$f":"X99/10","v":{"$error":"#DIV/0!"}},0,{"$error":"#DIV/0!"},{"$error":"#DIV/0!"},{"$f":"(R99-W99)/10","v":{"$error":"#DIV/0!"}},{"$f":"SUM(AC99-AF99-AG99-AD99)","v":{"$error":"#DIV/0!"}},{"$f":"IF(AB99=0,\"\",AE99/AB99)","v":{"$error":"#DIV/0!"}},{"$error":"#DIV/0!"},{"$f":"IF(AC99=0,\"\",AG99/AC99)","v":""},{"$f":"IF(AC99=0,\"\",AD99/AC99)","v":""},{"$f":"IF(AC99=0,\"\",AI99/AC99)","v":""},{"$error":"#DIV/0!"},{"$error":"#DIV/0!"},0,null,null,null,null,null,null,null,null,null,null,null,null,null,null,null,null,null,null,null,null,null,"1967-03-07",0,1.0389999999999999,null,"1975-03-06",2.1,0.92200000000000004,null,"2006-03-06",0.21,1.5353699999999999,0.21,1.5353699999999999,0.21,1.44381,null,"2016-03-05",0.21,1.53948,0.21,1.53948,0.21,1.4217500000000001,null,"2066-03-06",0.22,1.5600099999999999,0.22,1.5600099999999999,0.22,1.31148]
["1967-03-08",1.3,1.1339999999999999,3,{"$f":"IF(AND((F99>1),(F100=1)),E99+1,E99)","v":1967},10,{"$f":"B100","v":1.3},{"$f":"IF(B100<Parameters!$A$16,B100*Parameters!$B$16,IF(AND(B100>Parameters!$A$16,B100<Parameters!$A$17),B100*Parameters!$B$17,B100*Parameters!$B$18))","v":1.04},{"$f":"IF(B100<Parameters!$A$20,B100*Parameters!$B$20,IF(AND(B100>Parameters!$A$20,B100<Parameters!$A$21),B100*Parameters!$B$21,B100*Parameters!$B$22))","v":0.78},{"$error":"#DIV/0!"},{"$error":"#DIV/0!"},{"$f":"IF(B100=0,0,SUM(B100*$D$3+H100*$B$3+I100*$C$3)/$E$3*10)","v":{"$error":"#DIV/0!"}},{"$error":"#DIV/0!"},{"$error":"#DIV/0!"},1.0372258064516129,{"$error":"#DIV/0!"},{"$error":"#DIV/0!"},{"$f":"IF('Gegevens '!$G$20=\"Eigen waarden\",VLOOKUP($F100,'Gegevens '!$A$25:$C$77,3,FALSE),VLOOKUP($F100,Lijsten!$A$19:$B$71,2,FALSE))","v":16.951002269891429},{"$f":"SUM(L100-R100-Q100)","v":{"$error":"#DIV/0!"}},{"$f":"L100-Q100","v":{"$error":"#DIV/0!"}},{"$f":"IF(U99<$AN$3,U99+T100,IF(AND((U99>$AN$3),(SUM(U99+S100)<$AN$3)),SUM($AN$3+T100),IF((SUM(U99+S100)>($AN$3+$AK$3)),$AN$3+$AK$3,U99+S100)))","v":{"$error":"#DIV/0!"}},{"$error":"#DIV/0!"},{"$error":"#DIV/0!"},{"$f":"R100-W100","v":{"$error":"#DIV/0!"}},{"$error":"#DIV/0!"},{"$error":"#DIV/0!"},{"$f":"K100","v":{"$error":"#DIV/0!"}},{"$error":"#DIV/0!"},{"$error":"#DIV/0!"},{"$error":"#DIV/0!"},{"$error":"#DIV/0!"},{"$f":"V100/10","v":{"$error":"#DIV/0!"}},{"$error":"#DIV/0!"},{"$error":"#DIV/0!"},{"$error":"#DIV/0!"},{"$error":"#DIV/0!"},{"$f":"IF(AB100=0,\"\",AF100/AB100)","v":{"$error":"#DIV/0!"}},{"$error":"#DIV/0!"},{"$error":"#DIV/0!"},{"$error":"#DIV/0!"},{"$f":"AI100*$E$5/1000","v":{"$error":"#DIV/0!"}},{"$f":"IF(OR(F100<=13,F100>=40),VALUE(AO100),0)","v":{"$error":"#DIV/0!"}},{"$f":"IF(OR(F100<=13,F100>=40),0,VALUE(AO100))","v":0},null,null,null,null,null,null,null,null,null,null,null,null,null,null,null,null,null,null,null,null,null,"1967-03-08",1.3,1.1339999999999999,null,"1975-03-07",9.3000000000000007,0.32400000000000001,null,"2006-03-07",0,1.0488200000000001,0,1.0488200000000001,0,0.98626999999999998,null,"2016-03-06",3.58,1.05162,3.58,1.05162,3.58,0.97121000000000002,null,"2066-03-07",0,1.06565,0,1.06565,0,0.89588000000000001]
["1967-03-09",0.3,1.9019999999999999,3,1967,10,0.3,{"$f":"IF(B101<Parameters!$A$16,B101*Parameters!$B$16,IF(AND(B101>Parameters!$A$16,B101<Parameters!$A$17),B101*Parameters!$B$17,B101*Parameters!$B$18))","v":0},{"$f":"IF(B101<Parameters!$A$20,B101*Parameters!$B$20,IF(AND(B101>Parameters!$A$20,B101<Parameters!$A$21),B101*Parameters!$B$21,B101*Parameters!$B$22))","v":0},{"$f":"B101*SUM($B$3,$C$3,$D$3)/$E$3*10","v":{"$error":"#DIV/0!"}},{"$error":"#DIV/0!"},{"$error":"#DIV/0!"},{"$error":"#DIV/0!"},{"$error":"#DIV/0!"},1.8052258064516129,{"$error":"#DIV/0!"},{"$error":"#DIV/0!"},{"$f":"IF('Gegevens '!$G$20=\"Eigen waarden\",VLOOKUP($F101,'Gegevens '!$A$25:$C$77,3,FALSE),VLOOKUP($F101,Lijsten!$A$19:$B$71,2,FALSE))","v":16.951002269891429},{"$error":"#DIV/0!"},{"$error":"#DIV/0!"},{"$error":"#DIV/0!"},{"$f":"IF(SUM(U100+S101)>SUM($AK$3+$AN$3),SUM(U100+S101-($AK$3+$AN$3)),0)","v":{"$error":"#DIV/0!"}},{"$f":"IF(U100<$AN$3,R101,IF(SUM(U100-R101)>$AN$3,0,IF(SUM(U100+S101)<$AN$3,SUM(R101-(U100-$AN$3)),0)))","v":{"$error":"#DIV/0!"}},{"$error":"#DIV/0!"},{"$error":"#DIV/0!"},{"$error":"#DIV/0!"},{"$error":"#DIV/0!"},{"$error":"#DIV/0!"},{"$error":"#DIV/0!"},{"$error":"#DIV/0!"},{"$f":"N101/10","v":{"$error":"#DIV/0!"}},{"$f":"V101/10","v":{"$error":"#DIV/0!"}},{"$f":"Q101/10","v":{"$error":"#DIV/0!"}},{"$error":"#DIV/0!"},{"$error":"#DIV/0!"},{"$error":"#DIV/0!"},{"$error":"#DIV/0!"},{"$error":"#DIV/0!"},{"$error":"#DIV/0!"},{"$error":"#DIV/0!"},{"$error":"#DIV/0!"},{"$error":"#DIV/0!"},0,null,null,null,null,null,null,null,null,null,null,null,null,null,null,null,null,null,null,null,null,null,"1967-03-09",0.3,1.9019999999999999,null,"1975-03-08",0.1,1.1619999999999999,null,"2006-03-08",1.37,1.14472,1.37,1.14472,1.37,1.0764499999999999,null,"2016-03-07",1.39,1.14778,1.39,1.14778,1.39,1.0600099999999999,null,"2066-03-08",1.49,1.16309,1.49,1.16309,1.49,0.97779000000000005]
["1967-03-10",7.5,0.95,3,1967,10,7.5,{"$f":"IF(B102<Parameters!$A$16,B102*Parameters!$B$16,IF(AND(B102>Parameters!$A$16,B102<Parameters!$A$17),B102*Parameters!$B$17,B102*Parameters!$B$18))","v":7.125},{"$f":"IF(B102<Parameters!$A$20,B102*Parameters!$B$20,IF(AND(B102>Parameters!$A$20,B102<Parameters!$A$21),B102*Parameters!$B$21,B102*Parameters!$B$22))","v":5.625},{"$error":"#DIV/0!"},{"$error":"#DIV/0!"},{"$error":"#DIV/0!"},{"$error":"#DIV/0!"},{"$error":"#DIV/0!"},0.85322580645161283,{"$error":"#DIV/0!"},{"$f":"SUM(O102*P101)/$E$3*10","v":{"$error":"#DIV/0!"}},{"$f":"IF('Gegevens '!$G$20=\"Eigen waarden\",VLOOKUP($F102,'Gegevens '!$A$25:$C$77,3,FALSE),VLOOKUP($F102,Lijsten!$A$19:$B$71,2,FALSE))","v":16.951002269891429},{"$error":"#DIV/0!"},{"$error":"#DIV/0!"},{"$error":"#DIV/0!"},{"$error":"#DIV/0!"},{"$error":"#DIV/0!"},{"$error":"#DIV/0!"},{"$error":"#DIV/0!"},{"$error":"#DIV/0!"},{"$error":"#DIV/0!"},{"$error":"#DIV/0!"},{"$error":"#DIV/0!"},{"$error":"#DIV/0!"},{"$error":"#DIV/0!"},{"$f":"V102/10","v":{"$error":"#DIV/0!"}},{"$error":"#DIV/0!"},{"$error":"#DIV/0!"},{"$error":"#DIV/0!"},{"$error":"#DIV/0!"},{"$error":"#DIV/0!"},{"$error":"#DIV/0!"},{"$error":"#DIV/0!"},{"$error":"#DIV/0!"},{"$error":"#DIV/0!"},{"$error":"#DIV/0!"},0,null,null,null,null,null,null,null,null,null,null,null,null,null,null,null,null,null,null,null,null,null,"1967-03-10",7.5,0.95,null,"1975-03-09",1.5,0.67200000000000004,null,"2006-03-09",0.31,1.91997,0.31,1.91997,0.31,1.8054699999999999,null,"2016-03-08",0.32,1.9251100000000001,0.32,1.9251100000000001,0.32,1.77789,null,"2066-03-09",0.33,1.95079,0.33,1.95079,0.33,1.64]
["1967-03-11",2.6,1.5169999999999999,3,1967,10,2.6,{"$f":"IF(B103<Parameters!$A$16,B103*Parameters!$B$16,IF(AND(B103>Parameters!$A$16,B103<Parameters!$A$17),B103*Parameters!$B$17,B103*Parameters!$B$18))","v":2.4699999999999998},{"$f":"IF(B103<Parameters!$A$20,B103*Parameters!$B$20,IF(AND(B103>Parameters!$A$20,B103<Parameters!$A$21),B103*Parameters!$B$21,B103*Parameters!$B$22))","v":1.9500000000000002},{"$error":"#DIV/0!"},{"$error":"#DIV/0!"},{"$error":"#DIV/0!"},{"$error":"#DIV/0!"},{"$error":"#DIV/0!"},1.4202258064516129,{"$error":"#DIV/0!"},{"$error":"#DIV/0!"},{"$f":"IF('Gegevens '!$G$20=\"Eigen waarden\",VLOOKUP($F103,'Gegevens '!$A$25:$C$77,3,FALSE),VLOOKUP($F103,Lijsten!$A$19:$B$71,2,FALSE))","v":16.951002269891429},{"$error":"#DIV/0!"},{"$error":"#DIV/0!"},{"$error":"#DIV/0!"},{"$error":"#DIV/0!"},{"$error":"#DIV/0!"},{"$error":"#DIV/0!"},{"$error":"#DIV/0!"},{"$error":"#DIV/0!"},{"$error":"#DIV/0!"},{"$error":"#DIV/0!"},{"$error":"#DIV/0!"},{"$error":"#DIV/0!"},{"$error":"#DIV/0!"},{"$f":"V103/10","v":{"$error":"#DIV/0!"}},{"$error":"#DIV/0!"},{"$error":"#DIV/0!"},{"$error":"#DIV/0!"},{"$error":"#DIV/0!"},{"$error":"#DIV/0!"},{"$error":"#DIV/0!"},{"$error":"#DIV/0!"},{"$error":"#DIV/0!"},{"$error":"#DIV/0!"},{"$error":"#DIV/0!"},0,null,null,null,null,null,null,null,null,null,null,null,null,null,null,null,null,null,null,null,null,null,"1967-03-11",2.6,1.5169999999999999,null,"1975-03-10",3.3,1.101,null,"2006-03-10",7.84,0.95898000000000005,7.84,0.95898000000000005,7.84,0.90178999999999998,null,"2016-03-09",7.94,0.96153999999999995,7.94,0.96153999999999995,7.94,0.88800999999999997,null,"2066-03-10",8.43,0.97436999999999996,8.43,0.97436999999999996,8.43,0.81913999999999998]
["1967-03-12",9.4,1.6759999999999999,3,1967,10,9.4,{"$f":"IF(B104<Parameters!$A$16,B104*Parameters!$B$16,IF(AND(B104>Parameters!$A$16,B104<Parameters!$A$17),B104*Parameters!$B$17,B104*Parameters!$B$18))","v":8.93},{"$f":"IF(B104<Parameters!$A$20,B104*Parameters!$B$20,IF(AND(B104>Parameters!$A$20,B104<Parameters!$A$21),B104*Parameters!$B$21,B104*Parameters!$B$22))","v":7.0500000000000007},{"$error":"#DIV/0!"},{"$error":"#DIV/0!"},{"$error":"#DIV/0!"},{"$error":"#DIV/0!"},{"$error":"#DIV/0!"},1.5792258064516129,{"$error":"#DIV/0!"},{"$error":"#DIV/0!"},{"$f":"IF('Gegevens '!$G$20=\"Eigen waarden\",VLOOKUP($F104,'Gegevens '!$A$25:$C$77,3,FALSE),VLOOKUP($F104,Lijsten!$A$19:$B$71,2,FALSE))","v":16.951002269891429},{"$error":"#DIV/0!"},{"$error":"#DIV/0!"},{"$error":"#DIV/0!"},{"$error":"#DIV/0!"},{"$error":"#DIV/0!"},{"$error":"#DIV/0!"},{"$error":"#DIV/0!"},{"$error":"#DIV/0!"},{"$error":"#DIV/0!"},{"$error":"#DIV/0!"},{"$error":"#DIV/0!"},{"$error":"#DIV/0!"},{"$error":"#DIV/0!"},{"$f":"V104/10","v":{"$error":"#DIV/0!"}},{"$error":"#DIV/0!"},{"$error":"#DIV/0!"},{"$error":"#DIV/0!"},{"$error":"#DIV/0!"},{"$error":"#DIV/0!"},{"$error":"#DIV/0!"},{"$error":"#DIV/0!"},{"$error":"#DIV/0!"},{"$error":"#DIV/0!"},{"$error":"#DIV/0!"},0,null,null,null,null,null,null,null,null,null,null,null,null,null,null,null,null,null,null,null,null,null,"1967-03-12",9.4,1.6759999999999999,null,"1975-03-11",4,0.47399999999999998,null,"2006-03-11",2.72,1.5313399999999999,2.72,1.5313399999999999,2.72,1.44001,null,"2016-03-10",2.76,1.5354300000000001,2.76,1.5354300000000001,2.76,1.4180200000000001,null,"2066-03-11",2.94,1.5559099999999999,2.94,1.5559099999999999,2.94,1.30803]
["1967-03-13",16.7,0.77600000000000002,3,1967,11,16.7,{"$f":"IF(B105<Parameters!$A$16,B105*Parameters!$B$16,IF(AND(B105>Parameters!$A$16,B105<Parameters!$A$17),B105*Parameters!$B$17,B105*Parameters!$B$18))","v":15.864999999999998},{"$f":"IF(B105<Parameters!$A$20,B105*Parameters!$B$20,IF(AND(B105>Parameters!$A$20,B105<Parameters!$A$21),B105*Parameters!$B$21,B105*Parameters!$B$22))","v":12.524999999999999},{"$error":"#DIV/0!"},{"$error":"#DIV/0!"},{"$error":"#DIV/0!"},{"$error":"#DIV/0!"},{"$error":"#DIV/0!"},0.6792258064516129,{"$error":"#DIV/0!"},{"$error":"#DIV/0!"},{"$f":"IF('Gegevens '!$G$20=\"Eigen waarden\",VLOOKUP($F105,'Gegevens '!$A$25:$C$77,3,FALSE),VLOOKUP($F105,Lijsten!$A$19:$B$71,2,FALSE))","v":19.509069665199995},{"$error":"#DIV/0!"},{"$error":"#DIV/0!"},{"$f":"IF(U104<$AN$3,U104+T105,IF(AND((U104>$AN$3),(SUM(U104+S105)<$AN$3)),SUM($AN$3+T105),IF((SUM(U104+S105)>($AN$3+$AK$3)),$AN$3+$AK$3,U104+S105)))","v":{"$error":"#DIV/0!"}},{"$error":"#DIV/0!"},{"$error":"#DIV/0!"},{"$error":"#DIV/0!"},{"$error":"#DIV/0!"},{"$error":"#DIV/0!"},{"$error":"#DIV/0!"},{"$error":"#DIV/0!"},{"$error":"#DIV/0!"},{"$error":"#DIV/0!"},{"$error":"#DIV/0!"},{"$f":"V105/10","v":{"$error":"#DIV/0!"}},{"$error":"#DIV/0!"},{"$error":"#DIV/0!"},{"$error":"#DIV/0!"},{"$error":"#DIV/0!"},{"$error":"#DIV/0!"},{"$error":"#DIV/0!"},{"$error":"#DIV/0!"},{"$error":"#DIV/0!"},{"$error":"#DIV/0!"},{"$error":"#DIV/0!"},0,null,null,null,null,null,null,null,null,null,null,null,null,null,null,null,null,null,null,null,null,null,"1967-03-13",16.7,0.77600000000000002,null,"1975-03-12",0.2,0.1,null,"2006-03-12",9.7799999999999994,1.69184,9.7799999999999994,1.69184,9.7799999999999994,1.59094,null,"2016-03-11",9.89,1.6963600000000001,9.89,1.6963600000000001,9.89,1.56664,null,"2066-03-12",10.44,1.71899,10.44,1.71899,10.44,1.44513]
["1967-03-14",0,0.501,3,1967,11,0,{"$f":"IF(B106<Parameters!$A$16,B106*Parameters!$B$16,IF(AND(B106>Parameters!$A$16,B106<Parameters!$A$17),B106*Parameters!$B$17,B106*Parameters!$B$18))","v":0},{"$f":"IF(B106<Parameters!$A$20,B106*Parameters!$B$20,IF(AND(B106>Parameters!$A$20,B106<Parameters!$A$21),B106*Parameters!$B$21,B106*Parameters!$B$22))","v":0},{"$error":"#DIV/0!"},"",0,"",0,0.40422580645161288,{"$error":"#DIV/0!"},{"$error":"#DIV/0!"},{"$f":"IF('Gegevens '!$G$20=\"Eigen waarden\",VLOOKUP($F106,'Gegevens '!$A$25:$C$77,3,FALSE),VLOOKUP($F106,Lijsten!$A$19:$B$71,2,FALSE))","v":19.509069665199995},{"$error":"#DIV/0!"},{"$error":"#DIV/0!"},{"$error":"#DIV/0!"},{"$error":"#DIV/0!"},{"$error":"#DIV/0!"},{"$error":"#DIV/0!"},{"$error":"#DIV/0!"},"","",{"$error":"#DIV/0!"},0,{"$error":"#DIV/0!"},0,{"$error":"#DIV/0!"},{"$error":"#DIV/0!"},{"$error":"#DIV/0!"},{"$error":"#DIV/0!"},{"$error":"#DIV/0!"},{"$error":"#DIV/0!"},"","","",{"$error":"#DIV/0!"},{"$error":"#DIV/0!"},0,null,null,null,null,null,null,null,null,null,null,null,null,null,null,null,null,null,null,null,null,null,"1967-03-14",0,0.501,null,"1975-03-13",0,0.114,null,"2006-03-13",17.489999999999998,0.78332999999999997,17.489999999999998,0.78332999999999997,17.489999999999998,0.73662000000000005,null,"2016-03-12",17.71,0.78542999999999996,17.71,0.78542999999999996,17.71,0.72536999999999996,null,"2066-03-13",18.829999999999998,0.79590000000000005,18.829999999999998,0.79590000000000005,18.829999999999998,0.66910999999999998]
["1967-03-15",0.2,1.381,3,1967,11,0.2,{"$f":"IF(B107<Parameters!$A$16,B107*Parameters!$B$16,IF(AND(B107>Parameters!$A$16,B107<Parameters!$A$17),B107*Parameters!$B$17,B107*Parameters!$B$18))","v":0},{"$f":"IF(B107<Parameters!$A$20,B107*Parameters!$B$20,IF(AND(B107>Parameters!$A$20,B107<Parameters!$A$21),B107*Parameters!$B$21,B107*Parameters!$B$22))","v":0},{"$error":"#DIV/0!"},{"$error":"#DIV/0!"},{"$error":"#DIV/0!"},{"$error":"#DIV/0!"},{"$error":"#DIV/0!"},1.284225806451613,{"$error":"#DIV/0!"},{"$error":"#DIV/0!"},{"$f":"IF('Gegevens '!$G$20=\"Eigen waarden\",VLOOKUP($F107,'Gegevens '!$A$25:$C$77,3,FALSE),VLOOKUP($F107,Lijsten!$A$19:$B$71,2,FALSE))","v":19.509069665199995},{"$error":"#DIV/0!"},{"$error":"#DIV/0!"},{"$error":"#DIV/0!"},{"$error":"#DIV/0!"},{"$error":"#DIV/0!"},{"$error":"#DIV/0!"},{"$error":"#DIV/0!"},{"$error":"#DIV/0!"},{"$error":"#DIV/0!"},{"$error":"#DIV/0!"},{"$error":"#DIV/0!"},{"$error":"#DIV/0!"},{"$error":"#DIV/0!"},{"$error":"#DIV/0!"},{"$error":"#DIV/0!"},{"$error":"#DIV/0!"},{"$error":"#DIV/0!"},{"$error":"#DIV/0!"},{"$error":"#DIV/0!"},{"$error":"#DIV/0!"},{"$error":"#DIV/0!"},{"$error":"#DIV/0!"},{"$error":"#DIV/0!"},{"$error":"#DIV/0!"},0,null,null,null,null,null,null,null,null,null,null,null,null,null,null,null,null,null,null,null,null,null,"1967-03-15",0.2,1.381,null,"1975-03-14",0.1,5.8000000000000003E-2,null,"2006-03-14",0,0.50573000000000001,0,0.50573000000000001,0,0.47556999999999999,null,"2016-03-13",0,0.50709000000000004,0,0.50709000000000004,0,0.46831,null,"2066-03-14",0,0.51385000000000003,0,0.51385000000000003,0,0.43198999999999999,null,null,null,null,null,null,null,"Waarden"]
["1967-03-16",0.2,0.99399999999999999,3,1967,11,0.2,{"$f":"IF(B108<Parameters!$A$16,B108*Parameters!$B$16,IF(AND(B108>Parameters!$A$16,B108<Parameters!$A$17),B108*Parameters!$B$17,B108*Parameters!$B$18))","v":0},{"$f":"IF(B108<Parameters!$A$20,B108*Parameters!$B$20,IF(AND(B108>Parameters!$A$20,B108<Parameters!$A$21),B108*Parameters!$B$21,B108*Parameters!$B$22))","v":0},{"$error":"#DIV/0!"},{"$error":"#DIV/0!"},{"$error":"#DIV/0!"},{"$error":"#DIV/0!"},{"$error":"#DIV/0!"},0.89722580645161287,{"$error":"#DIV/0!"},{"$error":"#DIV/0!"},{"$f":"IF('Gegevens '!$G$20=\"Eigen waarden\",VLOOKUP($F108,'Gegevens '!$A$25:$C$77,3,FALSE),VLOOKUP($F108,Lijsten!$A$19:$B$71,2,FALSE))","v":19.509069665199995},{"$error":"#DIV/0!"},{"$error":"#DIV/0!"},{"$error":"#DIV/0!"},{"$error":"#DIV/0!"},{"$error":"#DIV/0!"},{"$error":"#DIV/0!"},{"$error":"#DIV/0!"},{"$error":"#DIV/0!"},{"$error":"#DIV/0!"},{"$error":"#DIV/0!"},{"$error":"#DIV/0!"},{"$error":"#DIV/0!"},{"$error":"#DIV/0!"},{"$error":"#DIV/0!"},{"$error":"#DIV/0!"},{"$error":"#DIV/0!"},{"$error":"#DIV/0!"},{"$error":"#DIV/0!"},{"$error":"#DIV/0!"},{"$error":"#DIV/0!"},{"$error":"#DIV/0!"},{"$error":"#DIV/0!"},{"$error":"#DIV/0!"},{"$error":"#DIV/0!"},0,null,null,null,null,null,null,null,null,null,null,null,null,null,null,null,null,null,null,null,null,null,"1967-03-16",0.2,0.99399999999999999,null,"1975-03-15",7.5,5.8000000000000003E-2,null,"2006-03-15",0.21,1.39405,0.21,1.39405,0.21,1.31091,null,"2016-03-14",0.21,1.39778,0.21,1.39778,0.21,1.2908900000000001,null,"2066-03-15",0.22,1.41642,0.22,1.41642,0.22,1.1907700000000001,null,null,null,null,null,null,"Rijlabels","Som van Evaporatieverliezen per week","Som van Overloopverliezen per week","Som van Opvangverliezen per week"]
["1967-03-17",0.9,0.64800000000000002,3,1967,11,0.9,{"$f":"IF(B109<Parameters!$A$16,B109*Parameters!$B$16,IF(AND(B109>Parameters!$A$16,B109<Parameters!$A$17),B109*Parameters!$B$17,B109*Parameters!$B$18))","v":0},{"$f":"IF(B109<Parameters!$A$20,B109*Parameters!$B$20,IF(AND(B109>Parameters!$A$20,B109<Parameters!$A$21),B109*Parameters!$B$21,B109*Parameters!$B$22))","v":0},{"$error":"#DIV/0!"},{"$error":"#DIV/0!"},{"$error":"#DIV/0!"},{"$error":"#DIV/0!"},{"$error":"#DIV/0!"},0.5512258064516129,{"$error":"#DIV/0!"},{"$error":"#DIV/0!"},{"$f":"IF('Gegevens '!$G$20=\"Eigen waarden\",VLOOKUP($F109,'Gegevens '!$A$25:$C$77,3,FALSE),VLOOKUP($F109,Lijsten!$A$19:$B$71,2,FALSE))","v":19.509069665199995},{"$error":"#DIV/0!"},{"$error":"#DIV/0!"},{"$error":"#DIV/0!"},{"$error":"#DIV/0!"},{"$error":"#DIV/0!"},{"$error":"#DIV/0!"},{"$error":"#DIV/0!"},{"$error":"#DIV/0!"},{"$error":"#DIV/0!"},{"$error":"#DIV/0!"},{"$error":"#DIV/0!"},{"$error":"#DIV/0!"},{"$error":"#DIV/0!"},{"$error":"#DIV/0!"},{"$error":"#DIV/0!"},{"$error":"#DIV/0!"},{"$error":"#DIV/0!"},{"$error":"#DIV/0!"},{"$error":"#DIV/0!"},{"$error":"#DIV/0!"},{"$error":"#DIV/0!"},{"$error":"#DIV/0!"},{"$error":"#DIV/0!"},{"$error":"#DIV/0!"},0,null,null,null,null,null,null,null,null,null,null,null,null,null,null,null,null,null,null,null,null,null,"1967-03-17",0.9,0.64800000000000002,null,"1975-03-16",1.6,0.88,null,"2006-03-16",0.21,1.00339,0.21,1.00339,0.21,0.94355,null,"2016-03-15",0.21,1.0060800000000001,0.21,1.0060800000000001,0.21,0.92913999999999997,null,"2066-03-16",0.22,1.0195000000000001,0.22,1.0195000000000001,0.22,0.85707999999999995,null,null,null,null,null,null,1,{"$error":"#DIV/0!"},{"$error":"#DIV/0!"},{"$error":"#DIV/0!"}]
["1967-03-18",3,1.0980000000000001,3,1967,11,3,{"$f":"IF(B110<Parameters!$A$16,B110*Parameters!$B$16,IF(AND(B110>Parameters!$A$16,B110<Parameters!$A$17),B110*Parameters!$B$17,B110*Parameters!$B$18))","v":2.8499999999999996},{"$f":"IF(B110<Parameters!$A$20,B110*Parameters!$B$20,IF(AND(B110>Parameters!$A$20,B110<Parameters!$A$21),B110*Parameters!$B$21,B110*Parameters!$B$22))","v":2.25},{"$error":"#DIV/0!"},{"$error":"#DIV/0!"},{"$error":"#DIV/0!"},{"$error":"#DIV/0!"},{"$error":"#DIV/0!"},1.0012258064516131,{"$error":"#DIV/0!"},{"$error":"#DIV/0!"},{"$f":"IF('Gegevens '!$G$20=\"Eigen waarden\",VLOOKUP($F110,'Gegevens '!$A$25:$C$77,3,FALSE),VLOOKUP($F110,Lijsten!$A$19:$B$71,2,FALSE))","v":19.509069665199995},{"$error":"#DIV/0!"},{"$error":"#DIV/0!"},{"$error":"#DIV/0!"},{"$error":"#DIV/0!"},{"$error":"#DIV/0!"},{"$error":"#DIV/0!"},{"$error":"#DIV/0!"},{"$error":"#DIV/0!"},{"$error":"#DIV/0!"},{"$error":"#DIV/0!"},{"$error":"#DIV/0!"},{"$error":"#DIV/0!"},{"$error":"#DIV/0!"},{"$error":"#DIV/0!"},{"$error":"#DIV/0!"},{"$error":"#DIV/0!"},{"$error":"#DIV/0!"},{"$error":"#DIV/0!"},{"$error":"#DIV/0!"},{"$error":"#DIV/0!"},{"$error":"#DIV/0!"},{"$error":"#DIV/0!"},{"$error":"#DIV/0!"},{"$error":"#DIV/0!"},0,null,null,null,null,null,null,null,null,null,null,null,null,null,null,null,null,null,null,null,null,null,"1967-03-18",3,1.0980000000000001,null,"1975-03-17",4.2,0.78800000000000003,null,"2006-03-17",0.95,0.65412000000000003,0.95,0.65412000000000003,0.95,0.61511000000000005,null,"2016-03-16",0.97,0.65586999999999995,0.97,0.65586999999999995,0.97,0.60572000000000004,null,"2066-03-17",1.05,0.66461999999999999,1.05,0.66461999999999999,1.05,0.55874000000000001,null,null,null,null,null,null,2,{"$error":"#DIV/0!"},{"$error":"#DIV/0!"},{"$error":"#DIV/0!"}]
["1967-03-19",2.9,0.436,3,1967,11,2.9,{"$f":"IF(B111<Parameters!$A$16,B111*Parameters!$B$16,IF(AND(B111>Parameters!$A$16,B111<Parameters!$A$17),B111*Parameters!$B$17,B111*Parameters!$B$18))","v":2.7549999999999999},{"$f":"IF(B111<Parameters!$A$20,B111*Parameters!$B$20,IF(AND(B111>Parameters!$A$20,B111<Parameters!$A$21),B111*Parameters!$B$21,B111*Parameters!$B$22))","v":2.1749999999999998},{"$error":"#DIV/0!"},{"$error":"#DIV/0!"},{"$error":"#DIV/0!"},{"$error":"#DIV/0!"},{"$error":"#DIV/0!"},0.33922580645161293,{"$error":"#DIV/0!"},{"$error":"#DIV/0!"},{"$f":"IF('Gegevens '!$G$20=\"Eigen waarden\",VLOOKUP($F111,'Gegevens '!$A$25:$C$77,3,FALSE),VLOOKUP($F111,Lijsten!$A$19:$B$71,2,FALSE))","v":19.509069665199995},{"$error":"#DIV/0!"},{"$error":"#DIV/0!"},{"$error":"#DIV/0!"},{"$error":"#DIV/0!"},{"$error":"#DIV/0!"},{"$error":"#DIV/0!"},{"$error":"#DIV/0!"},{"$error":"#DIV/0!"},{"$error":"#DIV/0!"},{"$error":"#DIV/0!"},{"$error":"#DIV/0!"},{"$error":"#DIV/0!"},{"$error":"#DIV/0!"},{"$error":"#DIV/0!"},{"$error":"#DIV/0!"},{"$error":"#DIV/0!"},{"$error":"#DIV/0!"},{"$error":"#DIV/0!"},{"$error":"#DIV/0!"},{"$error":"#DIV/0!"},{"$error":"#DIV/0!"},{"$error":"#DIV/0!"},{"$error":"#DIV/0!"},{"$error":"#DIV/0!"},0,null,null,null,null,null,null,null,null,null,null,null,null,null,null,null,null,null,null,null,null,null,"1967-03-19",2.9,0.436,null,"1975-03-18",0,1.05,null,"2006-03-18",3.13,1.1083799999999999,3.13,1.1083799999999999,3.13,1.0422800000000001,null,"2016-03-17",3.17,1.11134,3.17,1.11134,3.17,1.0263599999999999,null,"2066-03-18",3.36,1.12616,3.36,1.12616,3.36,0.94674999999999998,null,null,null,null,null,null,3,{"$error":"#DIV/0!"},{"$error":"#DIV/0!"},{"$error":"#DIV/0!"}]
["1967-03-20",0,1.605,3,1967,12,0,{"$f":"IF(B112<Parameters!$A$16,B112*Parameters!$B$16,IF(AND(B112>Parameters!$A$16,B112<Parameters!$A$17),B112*Parameters!$B$17,B112*Parameters!$B$18))","v":0},{"$f":"IF(B112<Parameters!$A$20,B112*Parameters!$B$20,IF(AND(B112>Parameters!$A$20,B112<Parameters!$A$21),B112*Parameters!$B$21,B112*Parameters!$B$22))","v":0},{"$error":"#DIV/0!"},"",0,"",0,1.508225806451613,{"$error":"#DIV/0!"},{"$error":"#DIV/0!"},{"$f":"IF('Gegevens '!$G$20=\"Eigen waarden\",VLOOKUP($F112,'Gegevens '!$A$25:$C$77,3,FALSE),VLOOKUP($F112,Lijsten!$A$19:$B$71,2,FALSE))","v":22.555070739851423},{"$error":"#DIV/0!"},{"$error":"#DIV/0!"},{"$error":"#DIV/0!"},{"$error":"#DIV/0!"},{"$error":"#DIV/0!"},{"$error":"#DIV/0!"},{"$error":"#DIV/0!"},"","",{"$error":"#DIV/0!"},0,{"$error":"#DIV/0!"},0,{"$error":"#DIV/0!"},{"$error":"#DIV/0!"},{"$error":"#DIV/0!"},{"$error":"#DIV/0!"},{"$error":"#DIV/0!"},{"$error":"#DIV/0!"},"","","",{"$error":"#DIV/0!"},{"$error":"#DIV/0!"},0,null,null,null,null,null,null,null,null,null,null,null,null,null,null,null,null,null,null,null,null,null,"1967-03-20",0,1.605,null,"1975-03-19",18.2,0,null,"2006-03-19",3.03,0.44012000000000001,3.03,0.44012000000000001,3.03,0.41387000000000002,null,"2016-03-18",3.07,0.44130000000000003,3.07,0.44130000000000003,3.07,0.40755000000000002,null,"2066-03-19",3.26,0.44718000000000002,3.26,0.44718000000000002,3.26,0.37594,null,null,null,null,null,null,4,{"$error":"#DIV/0!"},{"$error":"#DIV/0!"},{"$error":"#DIV/0!"}]
["1967-03-21",0.3,0.86099999999999999,3,1967,12,0.3,{"$f":"IF(B113<Parameters!$A$16,B113*Parameters!$B$16,IF(AND(B113>Parameters!$A$16,B113<Parameters!$A$17),B113*Parameters!$B$17,B113*Parameters!$B$18))","v":0},{"$f":"IF(B113<Parameters!$A$20,B113*Parameters!$B$20,IF(AND(B113>Parameters!$A$20,B113<Parameters!$A$21),B113*Parameters!$B$21,B113*Parameters!$B$22))","v":0},{"$error":"#DIV/0!"},{"$error":"#DIV/0!"},{"$error":"#DIV/0!"},{"$error":"#DIV/0!"},{"$error":"#DIV/0!"},0.76422580645161287,{"$error":"#DIV/0!"},{"$error":"#DIV/0!"},{"$f":"IF('Gegevens '!$G$20=\"Eigen waarden\",VLOOKUP($F113,'Gegevens '!$A$25:$C$77,3,FALSE),VLOOKUP($F113,Lijsten!$A$19:$B$71,2,FALSE))","v":22.555070739851423},{"$error":"#DIV/0!"},{"$error":"#DIV/0!"},{"$error":"#DIV/0!"},{"$error":"#DIV/0!"},{"$error":"#DIV/0!"},{"$error":"#DIV/0!"},{"$error":"#DIV/0!"},{"$error":"#DIV/0!"},{"$error":"#DIV/0!"},{"$error":"#DIV/0!"},{"$error":"#DIV/0!"},{"$error":"#DIV/0!"},{"$error":"#DIV/0!"},{"$error":"#DIV/0!"},{"$error":"#DIV/0!"},{"$error":"#DIV/0!"},{"$error":"#DIV/0!"},{"$error":"#DIV/0!"},{"$error":"#DIV/0!"},{"$error":"#DIV/0!"},{"$error":"#DIV/0!"},{"$error":"#DIV/0!"},{"$error":"#DIV/0!"},{"$error":"#DIV/0!"},0,null,null,null,null,null,null,null,null,null,null,null,null,null,null,null,null,null,null,null,null,null,"1967-03-21",0.3,0.86099999999999999,null,"1975-03-20",3.4,1.28,null,"2006-03-20",0,1.6201700000000001,0,1.6201700000000001,0,1.52355,null,"2016-03-19",0,1.6245000000000001,0,1.6245000000000001,0,1.50027,null,"2066-03-20",0,1.6461699999999999,0,1.6461699999999999,0,1.38391,null,null,null,null,null,null,5,{"$error":"#DIV/0!"},{"$error":"#DIV/0!"},{"$error":"#DIV/0!"}]
["1967-03-22",0,0.89,3,1967,12,0,{"$f":"IF(B114<Parameters!$A$16,B114*Parameters!$B$16,IF(AND(B114>Parameters!$A$16,B114<Parameters!$A$17),B114*Parameters!$B$17,B114*Parameters!$B$18))","v":0},{"$f":"IF(B114<Parameters!$A$20,B114*Parameters!$B$20,IF(AND(B114>Parameters!$A$20,B114<Parameters!$A$21),B114*Parameters!$B$21,B114*Parameters!$B$22))","v":0},{"$error":"#DIV/0!"},"",0,"",0,0.79322580645161289,{"$error":"#DIV/0!"},{"$error":"#DIV/0!"},{"$f":"IF('Gegevens '!$G$20=\"Eigen waarden\",VLOOKUP($F114,'Gegevens '!$A$25:$C$77,3,FALSE),VLOOKUP($F114,Lijsten!$A$19:$B$71,2,FALSE))","v":22.555070739851423},{"$error":"#DIV/0!"},{"$error":"#DIV/0!"},{"$error":"#DIV/0!"},{"$error":"#DIV/0!"},{"$error":"#DIV/0!"},{"$error":"#DIV/0!"},{"$error":"#DIV/0!"},"","",{"$error":"#DIV/0!"},0,{"$error":"#DIV/0!"},0,{"$error":"#DIV/0!"},{"$error":"#DIV/0!"},{"$error":"#DIV/0!"},{"$error":"#DIV/0!"},{"$error":"#DIV/0!"},{"$error":"#DIV/0!"},"","","",{"$error":"#DIV/0!"},{"$error":"#DIV/0!"},0,null,null,null,null,null,null,null,null,null,null,null,null,null,null,null,null,null,null,null,null,null,"1967-03-22",0,0.89,null,"1975-03-21",0.2,1.4570000000000001,null,"2006-03-21",0.31,0.86914000000000002,0.31,0.86914000000000002,0.31,0.81730000000000003,null,"2016-03-20",0.32,0.87146000000000001,0.32,0.87146000000000001,0.32,0.80481999999999998,null,"2066-03-21",0.33,0.88307999999999998,0.33,0.88307999999999998,0.33,0.74239999999999995,null,null,null,"Rijlabels","Som van Watertekort m³/ha teeltopp.",null,6,{"$error":"#DIV/0!"},{"$error":"#DIV/0!"},{"$error":"#DIV/0!"}]
["1967-03-23",0.7,1.7070000000000001,3,1967,12,0.7,{"$f":"IF(B115<Parameters!$A$16,B115*Parameters!$B$16,IF(AND(B115>Parameters!$A$16,B115<Parameters!$A$17),B115*Parameters!$B$17,B115*Parameters!$B$18))","v":0},{"$f":"IF(B115<Parameters!$A$20,B115*Parameters!$B$20,IF(AND(B115>Parameters!$A$20,B115<Parameters!$A$21),B115*Parameters!$B$21,B115*Parameters!$B$22))","v":0},{"$error":"#DIV/0!"},{"$error":"#DIV/0!"},{"$error":"#DIV/0!"},{"$error":"#DIV/0!"},{"$error":"#DIV/0!"},1.6102258064516131,{"$error":"#DIV/0!"},{"$error":"#DIV/0!"},{"$f":"IF('Gegevens '!$G$20=\"Eigen waarden\",VLOOKUP($F115,'Gegevens '!$A$25:$C$77,3,FALSE),VLOOKUP($F115,Lijsten!$A$19:$B$71,2,FALSE))","v":22.555070739851423},{"$error":"#DIV/0!"},{"$error":"#DIV/0!"},{"$error":"#DIV/0!"},{"$error":"#DIV/0!"},{"$error":"#DIV/0!"},{"$error":"#DIV/0!"},{"$error":"#DIV/0!"},{"$error":"#DIV/0!"},{"$error":"#DIV/0!"},{"$error":"#DIV/0!"},{"$error":"#DIV/0!"},{"$error":"#DIV/0!"},{"$error":"#DIV/0!"},{"$error":"#DIV/0!"},{"$error":"#DIV/0!"},{"$error":"#DIV/0!"},{"$error":"#DIV/0!"},{"$error":"#DIV/0!"},{"$error":"#DIV/0!"},{"$error":"#DIV/0!"},{"$error":"#DIV/0!"},{"$error":"#DIV/0!"},{"$error":"#DIV/0!"},{"$error":"#DIV/0!"},0,null,null,null,null,null,null,null,null,null,null,null,null,null,null,null,null,null,null,null,null,null,"1967-03-23",0.7,1.7070000000000001,null,"1975-03-22",10.9,0.23799999999999999,null,"2006-03-22",0,0.89841000000000004,0,0.89841000000000004,0,0.84482999999999997,null,"2016-03-21",0,0.90081,0,0.90081,0,0.83192999999999995,null,"2066-03-22",0,0.91283000000000003,0,0.91283000000000003,0,0.76739999999999997,null,null,null,1967,{"$error":"#DIV/0!"},null,7,{"$error":"#DIV/0!"},{"$error":"#DIV/0!"},{"$error":"#DIV/0!"}]
["1967-03-24",0,1.952,3,1967,12,0,{"$f":"IF(B116<Parameters!$A$16,B116*Parameters!$B$16,IF(AND(B116>Parameters!$A$16,B116<Parameters!$A$17),B116*Parameters!$B$17,B116*Parameters!$B$18))","v":0},{"$f":"IF(B116<Parameters!$A$20,B116*Parameters!$B$20,IF(AND(B116>Parameters!$A$20,B116<Parameters!$A$21),B116*Parameters!$B$21,B116*Parameters!$B$22))","v":0},{"$error":"#DIV/0!"},"",0,"",0,1.8552258064516129,{"$error":"#DIV/0!"},{"$error":"#DIV/0!"},{"$f":"IF('Gegevens '!$G$20=\"Eigen waarden\",VLOOKUP($F116,'Gegevens '!$A$25:$C$77,3,FALSE),VLOOKUP($F116,Lijsten!$A$19:$B$71,2,FALSE))","v":22.555070739851423},{"$error":"#DIV/0!"},{"$error":"#DIV/0!"},{"$error":"#DIV/0!"},{"$error":"#DIV/0!"},{"$error":"#DIV/0!"},{"$error":"#DIV/0!"},{"$error":"#DIV/0!"},"","",{"$error":"#DIV/0!"},0,{"$error":"#DIV/0!"},0,{"$error":"#DIV/0!"},{"$error":"#DIV/0!"},{"$error":"#DIV/0!"},{"$error":"#DIV/0!"},{"$error":"#DIV/0!"},{"$error":"#DIV/0!"},"","","",{"$error":"#DIV/0!"},{"$error":"#DIV/0!"},0,null,null,null,null,null,null,null,null,null,null,null,null,null,null,null,null,null,null,null,null,null,"1967-03-24",0,1.952,null,"1975-03-23",0.5,1.3680000000000001,null,"2006-03-23",0.74,1.7231300000000001,0.74,1.7231300000000001,0.74,1.6203700000000001,null,"2016-03-22",0.75,1.7277400000000001,0.75,1.7277400000000001,0.75,1.59562,null,"2066-03-23",0.81,1.75078,0.81,1.75078,0.81,1.4718599999999999,null,null,null,1968,{"$error":"#DIV/0!"},null,8,{"$error":"#DIV/0!"},{"$error":"#DIV/0!"},{"$error":"#DIV/0!"}]
["1967-03-25",0,3.4089999999999998,3,1967,12,0,{"$f":"IF(B117<Parameters!$A$16,B117*Parameters!$B$16,IF(AND(B117>Parameters!$A$16,B117<Parameters!$A$17),B117*Parameters!$B$17,B117*Parameters!$B$18))","v":0},{"$f":"IF(B117<Parameters!$A$20,B117*Parameters!$B$20,IF(AND(B117>Parameters!$A$20,B117<Parameters!$A$21),B117*Parameters!$B$21,B117*Parameters!$B$22))","v":0},{"$error":"#DIV/0!"},"",0,"",0,3.3122258064516128,{"$error":"#DIV/0!"},{"$error":"#DIV/0!"},{"$f":"IF('Gegevens '!$G$20=\"Eigen waarden\",VLOOKUP($F117,'Gegevens '!$A$25:$C$77,3,FALSE),VLOOKUP($F117,Lijsten!$A$19:$B$71,2,FALSE))","v":22.555070739851423},{"$error":"#DIV/0!"},{"$error":"#DIV/0!"},{"$error":"#DIV/0!"},{"$error":"#DIV/0!"},{"$error":"#DIV/0!"},{"$error":"#DIV/0!"},{"$error":"#DIV/0!"},"","",{"$error":"#DIV/0!"},0,{"$error":"#DIV/0!"},0,{"$error":"#DIV/0!"},{"$error":"#DIV/0!"},{"$error":"#DIV/0!"},{"$error":"#DIV/0!"},{"$error":"#DIV/0!"},{"$error":"#DIV/0!"},"","","",{"$error":"#DIV/0!"},{"$error":"#DIV/0!"},0,null,null,null,null,null,null,null,null,null,null,null,null,null,null,null,null,null,null,null,null,null,"1967-03-25",0,3.4089999999999998,null,"1975-03-24",6,0.749,null,"2006-03-24",0,1.97045,0,1.97045,0,1.85294,null,"2016-03-23",0,1.9757199999999999,0,1.9757199999999999,0,1.82463,null,"2066-03-24",0,2.0020699999999998,0,2.0020699999999998,0,1.6831100000000001,null,null,null,1969,{"$error":"#DIV/0!"},null,9,{"$error":"#DIV/0!"},{"$error":"#DIV/0!"},{"$error":"#DIV/0!"}]
["1967-03-26",1.8,2.1459999999999999,3,1967,12,1.8,{"$f":"IF(B118<Parameters!$A$16,B118*Parameters!$B$16,IF(AND(B118>Parameters!$A$16,B118<Parameters!$A$17),B118*Parameters!$B$17,B118*Parameters!$B$18))","v":1.4400000000000002},{"$f":"IF(B118<Parameters!$A$20,B118*Parameters!$B$20,IF(AND(B118>Parameters!$A$20,B118<Parameters!$A$21),B118*Parameters!$B$21,B118*Parameters!$B$22))","v":1.08},{"$error":"#DIV/0!"},{"$error":"#DIV/0!"},{"$error":"#DIV/0!"},{"$error":"#DIV/0!"},{"$error":"#DIV/0!"},2.0492258064516129,{"$error":"#DIV/0!"},{"$error":"#DIV/0!"},{"$f":"IF('Gegevens '!$G$20=\"Eigen waarden\",VLOOKUP($F118,'Gegevens '!$A$25:$C$77,3,FALSE),VLOOKUP($F118,Lijsten!$A$19:$B$71,2,FALSE))","v":22.555070739851423},{"$error":"#DIV/0!"},{"$error":"#DIV/0!"},{"$error":"#DIV/0!"},{"$error":"#DIV/0!"},{"$error":"#DIV/0!"},{"$error":"#DIV/0!"},{"$error":"#DIV/0!"},{"$error":"#DIV/0!"},{"$error":"#DIV/0!"},{"$error":"#DIV/0!"},{"$error":"#DIV/0!"},{"$error":"#DIV/0!"},{"$error":"#DIV/0!"},{"$error":"#DIV/0!"},{"$error":"#DIV/0!"},{"$error":"#DIV/0!"},{"$error":"#DIV/0!"},{"$error":"#DIV/0!"},{"$error":"#DIV/0!"},{"$error":"#DIV/0!"},{"$error":"#DIV/0!"},{"$error":"#DIV/0!"},{"$error":"#DIV/0!"},{"$error":"#DIV/0!"},0,null,null,null,null,null,null,null,null,null,null,null,null,null,null,null,null,null,null,null,null,null,"1967-03-26",1.8,2.1459999999999999,null,"1975-03-25",1.1000000000000001,1.0940000000000001,null,"2006-03-25",0,3.4412199999999999,0,3.4412199999999999,0,3.2359900000000001,null,"2016-03-24",0,3.4504199999999998,0,3.4504199999999998,0,3.1865600000000001,null,"2066-03-25",0,3.4964400000000002,0,3.4964400000000002,0,2.9394100000000001,null,null,null,1970,{"$error":"#DIV/0!"},null,10,{"$error":"#DIV/0!"},{"$error":"#DIV/0!"},{"$error":"#DIV/0!"}]
["1967-03-27",13.5,0.89400000000000002,3,1967,13,13.5,{"$f":"IF(B119<Parameters!$A$16,B119*Parameters!$B$16,IF(AND(B119>Parameters!$A$16,B119<Parameters!$A$17),B119*Parameters!$B$17,B119*Parameters!$B$18))","v":12.824999999999999},{"$f":"IF(B119<Parameters!$A$20,B119*Parameters!$B$20,IF(AND(B119>Parameters!$A$20,B119<Parameters!$A$21),B119*Parameters!$B$21,B119*Parameters!$B$22))","v":10.125},{"$error":"#DIV/0!"},{"$error":"#DIV/0!"},{"$error":"#DIV/0!"},{"$error":"#DIV/0!"},{"$error":"#DIV/0!"},0.7972258064516129,{"$error":"#DIV/0!"},{"$error":"#DIV/0!"},{"$f":"IF('Gegevens '!$G$20=\"Eigen waarden\",VLOOKUP($F119,'Gegevens '!$A$25:$C$77,3,FALSE),VLOOKUP($F119,Lijsten!$A$19:$B$71,2,FALSE))","v":23.460342198480003},{"$error":"#DIV/0!"},{"$error":"#DIV/0!"},{"$error":"#DIV/0!"},{"$error":"#DIV/0!"},{"$error":"#DIV/0!"},{"$error":"#DIV/0!"},{"$error":"#DIV/0!"},{"$error":"#DIV/0!"},{"$error":"#DIV/0!"},{"$error":"#DIV/0!"},{"$error":"#DIV/0!"},{"$error":"#DIV/0!"},{"$error":"#DIV/0!"},{"$error":"#DIV/0!"},{"$error":"#DIV/0!"},{"$error":"#DIV/0!"},{"$error":"#DIV/0!"},{"$error":"#DIV/0!"},{"$error":"#DIV/0!"},{"$error":"#DIV/0!"},{"$error":"#DIV/0!"},{"$error":"#DIV/0!"},{"$error":"#DIV/0!"},{"$error":"#DIV/0!"},0,null,null,null,null,null,null,null,null,null,null,null,null,null,null,null,null,null,null,null,null,null,"1967-03-27",13.5,0.89400000000000002,null,"1975-03-26",8.9,0.109,null,"2006-03-26",1.89,2.16628,1.89,2.16628,1.89,2.0370900000000001,null,"2016-03-25",1.91,2.1720700000000002,1.91,2.1720700000000002,1.91,2.00597,null,"2066-03-26",2.0299999999999998,2.2010399999999999,2.0299999999999998,2.2010399999999999,2.0299999999999998,1.85039,null,null,null,1971,{"$error":"#DIV/0!"},null,11,{"$error":"#DIV/0!"},{"$error":"#DIV/0!"},{"$error":"#DIV/0!"}]
["1967-03-28",1,1.375,3,1967,13,1,{"$f":"IF(B120<Parameters!$A$16,B120*Parameters!$B$16,IF(AND(B120>Parameters!$A$16,B120<Parameters!$A$17),B120*Parameters!$B$17,B120*Parameters!$B$18))","v":0.95},{"$f":"IF(B120<Parameters!$A$20,B120*Parameters!$B$20,IF(AND(B120>Parameters!$A$20,B120<Parameters!$A$21),B120*Parameters!$B$21,B120*Parameters!$B$22))","v":0.75},{"$error":"#DIV/0!"},{"$error":"#DIV/0!"},{"$error":"#DIV/0!"},{"$error":"#DIV/0!"},{"$error":"#DIV/0!"},1.278225806451613,{"$error":"#DIV/0!"},{"$error":"#DIV/0!"},{"$f":"IF('Gegevens '!$G$20=\"Eigen waarden\",VLOOKUP($F120,'Gegevens '!$A$25:$C$77,3,FALSE),VLOOKUP($F120,Lijsten!$A$19:$B$71,2,FALSE))","v":23.460342198480003},{"$error":"#DIV/0!"},{"$error":"#DIV/0!"},{"$error":"#DIV/0!"},{"$error":"#DIV/0!"},{"$error":"#DIV/0!"},{"$error":"#DIV/0!"},{"$error":"#DIV/0!"},{"$error":"#DIV/0!"},{"$error":"#DIV/0!"},{"$error":"#DIV/0!"},{"$error":"#DIV/0!"},{"$error":"#DIV/0!"},{"$error":"#DIV/0!"},{"$error":"#DIV/0!"},{"$error":"#DIV/0!"},{"$error":"#DIV/0!"},{"$error":"#DIV/0!"},{"$error":"#DIV/0!"},{"$error":"#DIV/0!"},{"$error":"#DIV/0!"},{"$error":"#DIV/0!"},{"$error":"#DIV/0!"},{"$error":"#DIV/0!"},{"$error":"#DIV/0!"},0,null,null,null,null,null,null,null,null,null,null,null,null,null,null,null,null,null,null,null,null,null,"1967-03-28",1,1.375,null,"1975-03-27",18.5,0.247,null,"2006-03-27",14.06,0.90244999999999997,14.06,0.90244999999999997,14.06,0.84863,null,"2016-03-26",14.22,0.90486,14.22,0.90486,14.22,0.83567000000000002,null,"2066-03-27",15.02,0.91693000000000002,15.02,0.91693000000000002,15.02,0.77085000000000004,null,null,null,1972,{"$error":"#DIV/0!"},null,12,{"$error":"#DIV/0!"},{"$error":"#DIV/0!"},{"$error":"#DIV/0!"}]
["1967-03-29",0.1,1.736,3,1967,13,0.1,{"$f":"IF(B121<Parameters!$A$16,B121*Parameters!$B$16,IF(AND(B121>Parameters!$A$16,B121<Parameters!$A$17),B121*Parameters!$B$17,B121*Parameters!$B$18))","v":0},{"$f":"IF(B121<Parameters!$A$20,B121*Parameters!$B$20,IF(AND(B121>Parameters!$A$20,B121<Parameters!$A$21),B121*Parameters!$B$21,B121*Parameters!$B$22))","v":0},{"$error":"#DIV/0!"},{"$error":"#DIV/0!"},{"$error":"#DIV/0!"},{"$error":"#DIV/0!"},{"$error":"#DIV/0!"},1.639225806451613,{"$error":"#DIV/0!"},{"$error":"#DIV/0!"},{"$f":"IF('Gegevens '!$G$20=\"Eigen waarden\",VLOOKUP($F121,'Gegevens '!$A$25:$C$77,3,FALSE),VLOOKUP($F121,Lijsten!$A$19:$B$71,2,FALSE))","v":23.460342198480003},{"$error":"#DIV/0!"},{"$error":"#DIV/0!"},{"$error":"#DIV/0!"},{"$error":"#DIV/0!"},{"$error":"#DIV/0!"},{"$error":"#DIV/0!"},{"$error":"#DIV/0!"},{"$error":"#DIV/0!"},{"$error":"#DIV/0!"},{"$error":"#DIV/0!"},{"$error":"#DIV/0!"},{"$error":"#DIV/0!"},{"$error":"#DIV/0!"},{"$error":"#DIV/0!"},{"$error":"#DIV/0!"},{"$error":"#DIV/0!"},{"$error":"#DIV/0!"},{"$error":"#DIV/0!"},{"$error":"#DIV/0!"},{"$error":"#DIV/0!"},{"$error":"#DIV/0!"},{"$error":"#DIV/0!"},{"$error":"#DIV/0!"},{"$error":"#DIV/0!"},0,null,null,null,null,null,null,null,null,null,null,null,null,null,null,null,null,null,null,null,null,null,"1967-03-29",0.1,1.736,null,"1975-03-28",7.3,0.53,null,"2006-03-28",1.06,1.3879900000000001,1.06,1.3879900000000001,1.06,1.30522,null,"2016-03-27",1.08,1.39171,1.08,1.39171,1.08,1.28528,null,"2066-03-28",1.17,1.4102699999999999,1.17,1.4102699999999999,1.17,1.1855899999999999,null,null,null,1973,{"$error":"#DIV/0!"},null,13,{"$error":"#DIV/0!"},{"$error":"#DIV/0!"},{"$error":"#DIV/0!"}]
["1967-03-30",0,1.99,3,1967,13,0,{"$f":"IF(B122<Parameters!$A$16,B122*Parameters!$B$16,IF(AND(B122>Parameters!$A$16,B122<Parameters!$A$17),B122*Parameters!$B$17,B122*Parameters!$B$18))","v":0},{"$f":"IF(B122<Parameters!$A$20,B122*Parameters!$B$20,IF(AND(B122>Parameters!$A$20,B122<Parameters!$A$21),B122*Parameters!$B$21,B122*Parameters!$B$22))","v":0},{"$error":"#DIV/0!"},"",0,"",0,1.893225806451613,{"$error":"#DIV/0!"},{"$error":"#DIV/0!"},{"$f":"IF('Gegevens '!$G$20=\"Eigen waarden\",VLOOKUP($F122,'Gegevens '!$A$25:$C$77,3,FALSE),VLOOKUP($F122,Lijsten!$A$19:$B$71,2,FALSE))","v":23.460342198480003},{"$error":"#DIV/0!"},{"$error":"#DIV/0!"},{"$error":"#DIV/0!"},{"$error":"#DIV/0!"},{"$error":"#DIV/0!"},{"$error":"#DIV/0!"},{"$error":"#DIV/0!"},"","",{"$error":"#DIV/0!"},0,{"$error":"#DIV/0!"},0,{"$error":"#DIV/0!"},{"$error":"#DIV/0!"},{"$error":"#DIV/0!"},{"$error":"#DIV/0!"},{"$error":"#DIV/0!"},{"$error":"#DIV/0!"},"","","",{"$error":"#DIV/0!"},{"$error":"#DIV/0!"},0,null,null,null,null,null,null,null,null,null,null,null,null,null,null,null,null,null,null,null,null,null,"1967-03-30",0,1.99,null,"1975-03-29",1.4,1.2929999999999999,null,"2006-03-29",0.1,1.75241,0.1,1.75241,0.1,1.6478999999999999,null,"2016-03-28",0.1,1.75709,0.1,1.75709,0.1,1.62273,null,"2066-03-29",0.11,1.7805299999999999,0.11,1.7805299999999999,0.11,1.4968699999999999,null,null,null,1974,{"$error":"#DIV/0!"},null,14,{"$error":"#DIV/0!"},{"$error":"#DIV/0!"},{"$error":"#DIV/0!"}]
["1967-03-31",0.1,1.7150000000000001,3,1967,13,0.1,{"$f":"IF(B123<Parameters!$A$16,B123*Parameters!$B$16,IF(AND(B123>Parameters!$A$16,B123<Parameters!$A$17),B123*Parameters!$B$17,B123*Parameters!$B$18))","v":0},{"$f":"IF(B123<Parameters!$A$20,B123*Parameters!$B$20,IF(AND(B123>Parameters!$A$20,B123<Parameters!$A$21),B123*Parameters!$B$21,B123*Parameters!$B$22))","v":0},{"$error":"#DIV/0!"},{"$error":"#DIV/0!"},{"$error":"#DIV/0!"},{"$error":"#DIV/0!"},{"$error":"#DIV/0!"},1.6182258064516131,{"$error":"#DIV/0!"},{"$error":"#DIV/0!"},{"$f":"IF('Gegevens '!$G$20=\"Eigen waarden\",VLOOKUP($F123,'Gegevens '!$A$25:$C$77,3,FALSE),VLOOKUP($F123,Lijsten!$A$19:$B$71,2,FALSE))","v":23.460342198480003},{"$error":"#DIV/0!"},{"$error":"#DIV/0!"},{"$error":"#DIV/0!"},{"$error":"#DIV/0!"},{"$error":"#DIV/0!"},{"$error":"#DIV/0!"},{"$error":"#DIV/0!"},{"$error":"#DIV/0!"},{"$error":"#DIV/0!"},{"$error":"#DIV/0!"},{"$error":"#DIV/0!"},{"$error":"#DIV/0!"},{"$error":"#DIV/0!"},{"$error":"#DIV/0!"},{"$error":"#DIV/0!"},{"$error":"#DIV/0!"},{"$error":"#DIV/0!"},{"$error":"#DIV/0!"},{"$error":"#DIV/0!"},{"$error":"#DIV/0!"},{"$error":"#DIV/0!"},{"$error":"#DIV/0!"},{"$error":"#DIV/0!"},{"$error":"#DIV/0!"},0,null,null,null,null,null,null,null,null,null,null,null,null,null,null,null,null,null,null,null,null,null,"1967-03-31",0.1,1.7150000000000001,null,"1975-03-30",3,0.747,null,"2006-03-30",0,2.00881,0,2.00881,0,1.8890100000000001,null,"2016-03-29",0,2.0141800000000001,0,2.0141800000000001,0,1.86015,null,"2066-03-30",0,2.0410400000000002,0,2.0410400000000002,0,1.7158800000000001,null,null,null,1975,{"$error":"#DIV/0!"},null,15,{"$error":"#DIV/0!"},{"$error":"#DIV/0!"},{"$error":"#DIV/0!"}]
["1967-04-01",0.2,1.833,4,1967,13,0.2,{"$f":"IF(B124<Parameters!$A$16,B124*Parameters!$B$16,IF(AND(B124>Parameters!$A$16,B124<Parameters!$A$17),B124*Parameters!$B$17,B124*Parameters!$B$18))","v":0},{"$f":"IF(B124<Parameters!$A$20,B124*Parameters!$B$20,IF(AND(B124>Parameters!$A$20,B124<Parameters!$A$21),B124*Parameters!$B$21,B124*Parameters!$B$22))","v":0},{"$error":"#DIV/0!"},{"$error":"#DIV/0!"},{"$error":"#DIV/0!"},{"$error":"#DIV/0!"},{"$error":"#DIV/0!"},1.6663333333333332,{"$error":"#DIV/0!"},{"$error":"#DIV/0!"},{"$f":"IF('Gegevens '!$G$20=\"Eigen waarden\",VLOOKUP($F124,'Gegevens '!$A$25:$C$77,3,FALSE),VLOOKUP($F124,Lijsten!$A$19:$B$71,2,FALSE))","v":23.460342198480003},{"$error":"#DIV/0!"},{"$error":"#DIV/0!"},{"$error":"#DIV/0!"},{"$error":"#DIV/0!"},{"$error":"#DIV/0!"},{"$error":"#DIV/0!"},{"$error":"#DIV/0!"},{"$error":"#DIV/0!"},{"$error":"#DIV/0!"},{"$error":"#DIV/0!"},{"$error":"#DIV/0!"},{"$error":"#DIV/0!"},{"$error":"#DIV/0!"},{"$error":"#DIV/0!"},{"$error":"#DIV/0!"},{"$error":"#DIV/0!"},{"$error":"#DIV/0!"},{"$error":"#DIV/0!"},{"$error":"#DIV/0!"},{"$error":"#DIV/0!"},{"$error":"#DIV/0!"},{"$error":"#DIV/0!"},{"$error":"#DIV/0!"},{"$error":"#DIV/0!"},0,null,null,null,null,null,null,null,null,null,null,null,null,null,null,null,null,null,null,null,null,null,"1967-04-01",0.2,1.833,null,"1975-03-31",0.2,1.9119999999999999,null,"2006-03-31",0.1,1.7312099999999999,0.1,1.7312099999999999,0.1,1.6279600000000001,null,"2016-03-30",0.1,1.73584,0.1,1.73584,0.1,1.6031,null,"2066-03-31",0.11,1.7589900000000001,0.11,1.7589900000000001,0.11,1.4787600000000001,null,null,null,1976,{"$error":"#DIV/0!"},null,16,{"$error":"#DIV/0!"},{"$error":"#DIV/0!"},{"$error":"#DIV/0!"}]
["1967-04-02",4.5,0.92300000000000004,4,1967,13,4.5,{"$f":"IF(B125<Parameters!$A$16,B125*Parameters!$B$16,IF(AND(B125>Parameters!$A$16,B125<Parameters!$A$17),B125*Parameters!$B$17,B125*Parameters!$B$18))","v":4.2749999999999995},{"$f":"IF(B125<Parameters!$A$20,B125*Parameters!$B$20,IF(AND(B125>Parameters!$A$20,B125<Parameters!$A$21),B125*Parameters!$B$21,B125*Parameters!$B$22))","v":3.375},{"$error":"#DIV/0!"},{"$error":"#DIV/0!"},{"$error":"#DIV/0!"},{"$error":"#DIV/0!"},{"$error":"#DIV/0!"},0.75633333333333341,{"$error":"#DIV/0!"},{"$error":"#DIV/0!"},{"$f":"IF('Gegevens '!$G$20=\"Eigen waarden\",VLOOKUP($F125,'Gegevens '!$A$25:$C$77,3,FALSE),VLOOKUP($F125,Lijsten!$A$19:$B$71,2,FALSE))","v":23.460342198480003},{"$error":"#DIV/0!"},{"$error":"#DIV/0!"},{"$error":"#DIV/0!"},{"$error":"#DIV/0!"},{"$error":"#DIV/0!"},{"$error":"#DIV/0!"},{"$error":"#DIV/0!"},{"$error":"#DIV/0!"},{"$error":"#DIV/0!"},{"$error":"#DIV/0!"},{"$error":"#DIV/0!"},{"$error":"#DIV/0!"},{"$error":"#DIV/0!"},{"$error":"#DIV/0!"},{"$error":"#DIV/0!"},{"$error":"#DIV/0!"},{"$error":"#DIV/0!"},{"$error":"#DIV/0!"},{"$error":"#DIV/0!"},{"$error":"#DIV/0!"},{"$error":"#DIV/0!"},{"$error":"#DIV/0!"},{"$error":"#DIV/0!"},{"$error":"#DIV/0!"},0,null,null,null,null,null,null,null,null,null,null,null,null,null,null,null,null,null,null,null,null,null,"1967-04-02",4.5,0.92300000000000004,null,"1975-04-01",1,1.2250000000000001,null,"2006-04-01",0.23,1.88561,0.23,1.88561,0.23,1.80413,null,"2016-03-31",0.23,1.9006400000000001,0.23,1.9006400000000001,0.23,1.7958799999999999,null,"2066-04-01",0,1.9757899999999999,0,1.9757899999999999,0,1.75464,null,null,null,1977,{"$error":"#DIV/0!"},null,17,{"$error":"#DIV/0!"},{"$error":"#DIV/0!"},{"$error":"#DIV/0!"}]
["1967-04-03",0.9,1.76,4,1967,14,0.9,{"$f":"IF(B126<Parameters!$A$16,B126*Parameters!$B$16,IF(AND(B126>Parameters!$A$16,B126<Parameters!$A$17),B126*Parameters!$B$17,B126*Parameters!$B$18))","v":0},{"$f":"IF(B126<Parameters!$A$20,B126*Parameters!$B$20,IF(AND(B126>Parameters!$A$20,B126<Parameters!$A$21),B126*Parameters!$B$21,B126*Parameters!$B$22))","v":0},{"$error":"#DIV/0!"},{"$error":"#DIV/0!"},{"$error":"#DIV/0!"},{"$error":"#DIV/0!"},{"$error":"#DIV/0!"},1.5933333333333333,{"$error":"#DIV/0!"},{"$error":"#DIV/0!"},{"$f":"IF('Gegevens '!$G$20=\"Eigen waarden\",VLOOKUP($F126,'Gegevens '!$A$25:$C$77,3,FALSE),VLOOKUP($F126,Lijsten!$A$19:$B$71,2,FALSE))","v":27.019937776034283},{"$error":"#DIV/0!"},{"$error":"#DIV/0!"},{"$error":"#DIV/0!"},{"$error":"#DIV/0!"},{"$error":"#DIV/0!"},{"$error":"#DIV/0!"},{"$error":"#DIV/0!"},{"$error":"#DIV/0!"},{"$error":"#DIV/0!"},{"$error":"#DIV/0!"},{"$error":"#DIV/0!"},{"$error":"#DIV/0!"},{"$error":"#DIV/0!"},{"$error":"#DIV/0!"},{"$error":"#DIV/0!"},{"$error":"#DIV/0!"},{"$error":"#DIV/0!"},{"$error":"#DIV/0!"},{"$error":"#DIV/0!"},{"$error":"#DIV/0!"},{"$error":"#DIV/0!"},{"$error":"#DIV/0!"},{"$error":"#DIV/0!"},0,{"$error":"#DIV/0!"},null,null,null,null,null,null,null,null,null,null,null,null,null,null,null,null,null,null,null,null,null,"1967-04-03",0.9,1.76,null,"1975-04-02",12.9,1.7999999999999999E-2,null,"2006-04-02",5.23,0.94948999999999995,5.23,0.94948999999999995,5.23,0.90846000000000005,null,"2016-04-01",5.23,0.95706000000000002,5.23,0.95706000000000002,5.23,0.90430999999999995,null,"2066-04-02",5.24,0.99490000000000001,5.24,0.99490000000000001,5.24,0.88353999999999999,null,null,null,1978,{"$error":"#DIV/0!"},null,18,{"$error":"#DIV/0!"},{"$error":"#DIV/0!"},{"$error":"#DIV/0!"}]
["1967-04-04",0.5,0.79600000000000004,4,1967,14,0.5,{"$f":"IF(B127<Parameters!$A$16,B127*Parameters!$B$16,IF(AND(B127>Parameters!$A$16,B127<Parameters!$A$17),B127*Parameters!$B$17,B127*Parameters!$B$18))","v":0},{"$f":"IF(B127<Parameters!$A$20,B127*Parameters!$B$20,IF(AND(B127>Parameters!$A$20,B127<Parameters!$A$21),B127*Parameters!$B$21,B127*Parameters!$B$22))","v":0},{"$error":"#DIV/0!"},{"$error":"#DIV/0!"},{"$error":"#DIV/0!"},{"$error":"#DIV/0!"},{"$error":"#DIV/0!"},0.62933333333333341,{"$error":"#DIV/0!"},{"$error":"#DIV/0!"},{"$f":"IF('Gegevens '!$G$20=\"Eigen waarden\",VLOOKUP($F127,'Gegevens '!$A$25:$C$77,3,FALSE),VLOOKUP($F127,Lijsten!$A$19:$B$71,2,FALSE))","v":27.019937776034283},{"$error":"#DIV/0!"},{"$error":"#DIV/0!"},{"$error":"#DIV/0!"},{"$error":"#DIV/0!"},{"$error":"#DIV/0!"},{"$error":"#DIV/0!"},{"$error":"#DIV/0!"},{"$error":"#DIV/0!"},{"$error":"#DIV/0!"},{"$error":"#DIV/0!"},{"$error":"#DIV/0!"},{"$error":"#DIV/0!"},{"$error":"#DIV/0!"},{"$error":"#DIV/0!"},{"$error":"#DIV/0!"},{"$error":"#DIV/0!"},{"$error":"#DIV/0!"},{"$error":"#DIV/0!"},{"$error":"#DIV/0!"},{"$error":"#DIV/0!"},{"$error":"#DIV/0!"},{"$error":"#DIV/0!"},{"$error":"#DIV/0!"},0,{"$error":"#DIV/0!"},null,null,null,null,null,null,null,null,null,null,null,null,null,null,null,null,null,null,null,null,null,"1967-04-04",0.5,0.79600000000000004,null,"1975-04-03",4.7,0.84499999999999997,null,"2006-04-03",1.02,1.8105100000000001,1.02,1.8105100000000001,1.02,1.73228,null,"2016-04-02",1.02,1.82494,1.02,1.82494,1.02,1.7243599999999999,null,"2066-04-03",0.99,1.8971,0.99,1.8971,0.99,1.68476,null,null,null,1979,{"$error":"#DIV/0!"},null,19,{"$error":"#DIV/0!"},{"$error":"#DIV/0!"},{"$error":"#DIV/0!"}]
["1967-04-05",0.1,1.08,4,1967,14,0.1,{"$f":"IF(B128<Parameters!$A$16,B128*Parameters!$B$16,IF(AND(B128>Parameters!$A$16,B128<Parameters!$A$17),B128*Parameters!$B$17,B128*Parameters!$B$18))","v":0},{"$f":"IF(B128<Parameters!$A$20,B128*Parameters!$B$20,IF(AND(B128>Parameters!$A$20,B128<Parameters!$A$21),B128*Parameters!$B$21,B128*Parameters!$B$22))","v":0},{"$error":"#DIV/0!"},{"$error":"#DIV/0!"},{"$error":"#DIV/0!"},{"$error":"#DIV/0!"},{"$error":"#DIV/0!"},0.91333333333333344,{"$error":"#DIV/0!"},{"$error":"#DIV/0!"},{"$f":"IF('Gegevens '!$G$20=\"Eigen waarden\",VLOOKUP($F128,'Gegevens '!$A$25:$C$77,3,FALSE),VLOOKUP($F128,Lijsten!$A$19:$B$71,2,FALSE))","v":27.019937776034283},{"$error":"#DIV/0!"},{"$error":"#DIV/0!"},{"$error":"#DIV/0!"},{"$error":"#DIV/0!"},{"$error":"#DIV/0!"},{"$error":"#DIV/0!"},{"$error":"#DIV/0!"},{"$error":"#DIV/0!"},{"$error":"#DIV/0!"},{"$error":"#DIV/0!"},{"$error":"#DIV/0!"},{"$error":"#DIV/0!"},{"$error":"#DIV/0!"},{"$error":"#DIV/0!"},{"$error":"#DIV/0!"},{"$error":"#DIV/0!"},{"$error":"#DIV/0!"},{"$error":"#DIV/0!"},{"$error":"#DIV/0!"},{"$error":"#DIV/0!"},{"$error":"#DIV/0!"},{"$error":"#DIV/0!"},{"$error":"#DIV/0!"},0,{"$error":"#DIV/0!"},null,null,null,null,null,null,null,null,null,null,null,null,null,null,null,null,null,null,null,null,null,"1967-04-05",0.1,1.08,null,"1975-04-04",6.2,0.64700000000000002,null,"2006-04-04",0.56999999999999995,0.81884999999999997,0.56999999999999995,0.81884999999999997,0.56999999999999995,0.78346000000000005,null,"2016-04-03",0.56999999999999995,0.82537000000000005,0.56999999999999995,0.82537000000000005,0.56999999999999995,0.77988000000000002,null,"2066-04-04",0.56000000000000005,0.85801000000000005,0.56000000000000005,0.85801000000000005,0.56000000000000005,0.76197000000000004,null,null,null,1980,{"$error":"#DIV/0!"},null,20,{"$error":"#DIV/0!"},{"$error":"#DIV/0!"},{"$error":"#DIV/0!"}]
["1967-04-06",8.8000000000000007,0.64,4,1967,14,8.8000000000000007,{"$f":"IF(B129<Parameters!$A$16,B129*Parameters!$B$16,IF(AND(B129>Parameters!$A$16,B129<Parameters!$A$17),B129*Parameters!$B$17,B129*Parameters!$B$18))","v":8.36},{"$f":"IF(B129<Parameters!$A$20,B129*Parameters!$B$20,IF(AND(B129>Parameters!$A$20,B129<Parameters!$A$21),B129*Parameters!$B$21,B129*Parameters!$B$22))","v":6.6000000000000005},{"$error":"#DIV/0!"},{"$error":"#DIV/0!"},{"$error":"#DIV/0!"},{"$error":"#DIV/0!"},{"$error":"#DIV/0!"},0.47333333333333338,{"$error":"#DIV/0!"},{"$error":"#DIV/0!"},{"$f":"IF('Gegevens '!$G$20=\"Eigen waarden\",VLOOKUP($F129,'Gegevens '!$A$25:$C$77,3,FALSE),VLOOKUP($F129,Lijsten!$A$19:$B$71,2,FALSE))","v":27.019937776034283},{"$error":"#DIV/0!"},{"$error":"#DIV/0!"},{"$error":"#DIV/0!"},{"$error":"#DIV/0!"},{"$error":"#DIV/0!"},{"$error":"#DIV/0!"},{"$error":"#DIV/0!"},{"$error":"#DIV/0!"},{"$error":"#DIV/0!"},{"$error":"#DIV/0!"},{"$error":"#DIV/0!"},{"$error":"#DIV/0!"},{"$error":"#DIV/0!"},{"$error":"#DIV/0!"},{"$error":"#DIV/0!"},{"$error":"#DIV/0!"},{"$error":"#DIV/0!"},{"$error":"#DIV/0!"},{"$error":"#DIV/0!"},{"$error":"#DIV/0!"},{"$error":"#DIV/0!"},{"$error":"#DIV/0!"},{"$error":"#DIV/0!"},0,{"$error":"#DIV/0!"},null,null,null,null,null,null,null,null,null,null,null,null,null,null,null,null,null,null,null,null,null,"1967-04-06",8.8000000000000007,0.64,null,"1975-04-05",0.7,1.5149999999999999,null,"2006-04-05",0.12,1.111,0.12,1.111,0.12,1.0629900000000001,null,"2016-04-04",0.12,1.11985,0.12,1.11985,0.12,1.05813,null,"2066-04-05",0.12,1.1641300000000001,0.12,1.1641300000000001,0.12,1.03383,null,null,null,1981,{"$error":"#DIV/0!"},null,21,{"$error":"#DIV/0!"},{"$error":"#DIV/0!"},{"$error":"#DIV/0!"}]
["1967-04-07",0.4,1.1659999999999999,4,1967,14,0.4,{"$f":"IF(B130<Parameters!$A$16,B130*Parameters!$B$16,IF(AND(B130>Parameters!$A$16,B130<Parameters!$A$17),B130*Parameters!$B$17,B130*Parameters!$B$18))","v":0},{"$f":"IF(B130<Parameters!$A$20,B130*Parameters!$B$20,IF(AND(B130>Parameters!$A$20,B130<Parameters!$A$21),B130*Parameters!$B$21,B130*Parameters!$B$22))","v":0},{"$error":"#DIV/0!"},{"$error":"#DIV/0!"},{"$error":"#DIV/0!"},{"$error":"#DIV/0!"},{"$error":"#DIV/0!"},0.9993333333333333,{"$error":"#DIV/0!"},{"$error":"#DIV/0!"},{"$f":"IF('Gegevens '!$G$20=\"Eigen waarden\",VLOOKUP($F130,'Gegevens '!$A$25:$C$77,3,FALSE),VLOOKUP($F130,Lijsten!$A$19:$B$71,2,FALSE))","v":27.019937776034283},{"$error":"#DIV/0!"},{"$error":"#DIV/0!"},{"$error":"#DIV/0!"},{"$error":"#DIV/0!"},{"$error":"#DIV/0!"},{"$error":"#DIV/0!"},{"$error":"#DIV/0!"},{"$error":"#DIV/0!"},{"$error":"#DIV/0!"},{"$error":"#DIV/0!"},{"$error":"#DIV/0!"},{"$error":"#DIV/0!"},{"$error":"#DIV/0!"},{"$error":"#DIV/0!"},{"$error":"#DIV/0!"},{"$error":"#DIV/0!"},{"$error":"#DIV/0!"},{"$error":"#DIV/0!"},{"$error":"#DIV/0!"},{"$error":"#DIV/0!"},{"$error":"#DIV/0!"},{"$error":"#DIV/0!"},{"$error":"#DIV/0!"},0,{"$error":"#DIV/0!"},null,null,null,null,null,null,null,null,null,null,null,null,null,null,null,null,null,null,null,null,null,"1967-04-07",0.4,1.1659999999999999,null,"1975-04-06",0.3,0.27,null,"2006-04-06",10.38,0.65837000000000001,10.38,0.65837000000000001,10.38,0.62992000000000004,null,"2016-04-05",10.42,0.66361999999999999,10.42,0.66361999999999999,10.42,0.62704000000000004,null,"2066-04-06",10.67,0.68986000000000003,10.67,0.68986000000000003,10.67,0.61263999999999996,null,null,null,1982,{"$error":"#DIV/0!"},null,22,{"$error":"#DIV/0!"},{"$error":"#DIV/0!"},{"$error":"#DIV/0!"}]
["1967-04-08",0,2.363,4,1967,14,0,{"$f":"IF(B131<Parameters!$A$16,B131*Parameters!$B$16,IF(AND(B131>Parameters!$A$16,B131<Parameters!$A$17),B131*Parameters!$B$17,B131*Parameters!$B$18))","v":0},{"$f":"IF(B131<Parameters!$A$20,B131*Parameters!$B$20,IF(AND(B131>Parameters!$A$20,B131<Parameters!$A$21),B131*Parameters!$B$21,B131*Parameters!$B$22))","v":0},{"$error":"#DIV/0!"},"",0,"",0,2.1963333333333335,{"$error":"#DIV/0!"},{"$error":"#DIV/0!"},{"$f":"IF('Gegevens '!$G$20=\"Eigen waarden\",VLOOKUP($F131,'Gegevens '!$A$25:$C$77,3,FALSE),VLOOKUP($F131,Lijsten!$A$19:$B$71,2,FALSE))","v":27.019937776034283},{"$error":"#DIV/0!"},{"$error":"#DIV/0!"},{"$error":"#DIV/0!"},{"$error":"#DIV/0!"},{"$error":"#DIV/0!"},{"$error":"#DIV/0!"},{"$error":"#DIV/0!"},"","",{"$error":"#DIV/0!"},0,{"$error":"#DIV/0!"},0,{"$error":"#DIV/0!"},{"$error":"#DIV/0!"},{"$error":"#DIV/0!"},{"$error":"#DIV/0!"},{"$error":"#DIV/0!"},{"$error":"#DIV/0!"},"","","",{"$error":"#DIV/0!"},0,{"$error":"#DIV/0!"},null,null,null,null,null,null,null,null,null,null,null,null,null,null,null,null,null,null,null,null,null,"1967-04-08",0,2.363,null,"1975-04-07",4.8,1.357,null,"2006-04-07",0.46,1.19946,0.46,1.19946,0.46,1.14764,null,"2016-04-06",0.46,1.20903,0.46,1.20903,0.46,1.14239,null,"2066-04-07",0.45,1.2568299999999999,0.45,1.2568299999999999,0.45,1.11615,null,null,null,1983,{"$error":"#DIV/0!"},null,23,{"$error":"#DIV/0!"},{"$error":"#DIV/0!"},{"$error":"#DIV/0!"}]
["1967-04-09",0.3,1.879,4,1967,14,0.3,{"$f":"IF(B132<Parameters!$A$16,B132*Parameters!$B$16,IF(AND(B132>Parameters!$A$16,B132<Parameters!$A$17),B132*Parameters!$B$17,B132*Parameters!$B$18))","v":0},{"$f":"IF(B132<Parameters!$A$20,B132*Parameters!$B$20,IF(AND(B132>Parameters!$A$20,B132<Parameters!$A$21),B132*Parameters!$B$21,B132*Parameters!$B$22))","v":0},{"$error":"#DIV/0!"},{"$error":"#DIV/0!"},{"$error":"#DIV/0!"},{"$error":"#DIV/0!"},{"$error":"#DIV/0!"},1.7123333333333333,{"$error":"#DIV/0!"},{"$error":"#DIV/0!"},{"$f":"IF('Gegevens '!$G$20=\"Eigen waarden\",VLOOKUP($F132,'Gegevens '!$A$25:$C$77,3,FALSE),VLOOKUP($F132,Lijsten!$A$19:$B$71,2,FALSE))","v":27.019937776034283},{"$error":"#DIV/0!"},{"$error":"#DIV/0!"},{"$error":"#DIV/0!"},{"$error":"#DIV/0!"},{"$error":"#DIV/0!"},{"$error":"#DIV/0!"},{"$error":"#DIV/0!"},{"$error":"#DIV/0!"},{"$error":"#DIV/0!"},{"$error":"#DIV/0!"},{"$error":"#DIV/0!"},{"$error":"#DIV/0!"},{"$error":"#DIV/0!"},{"$error":"#DIV/0!"},{"$error":"#DIV/0!"},{"$error":"#DIV/0!"},{"$error":"#DIV/0!"},{"$error":"#DIV/0!"},{"$error":"#DIV/0!"},{"$error":"#DIV/0!"},{"$error":"#DIV/0!"},{"$error":"#DIV/0!"},{"$error":"#DIV/0!"},0,{"$error":"#DIV/0!"},null,null,null,null,null,null,null,null,null,null,null,null,null,null,null,null,null,null,null,null,null,"1967-04-09",0.3,1.879,null,"1975-04-08",1,1.403,null,"2006-04-08",0,2.4308200000000002,0,2.4308200000000002,0,2.32578,null,"2016-04-07",0,2.4501900000000001,0,2.4501900000000001,0,2.31515,null,"2066-04-08",0,2.5470799999999998,0,2.5470799999999998,0,2.2619799999999999,null,null,null,1984,{"$error":"#DIV/0!"},null,24,{"$error":"#DIV/0!"},{"$error":"#DIV/0!"},{"$error":"#DIV/0!"}]
["1967-04-10",4.7,2.2709999999999999,4,1967,15,4.7,{"$f":"IF(B133<Parameters!$A$16,B133*Parameters!$B$16,IF(AND(B133>Parameters!$A$16,B133<Parameters!$A$17),B133*Parameters!$B$17,B133*Parameters!$B$18))","v":4.4649999999999999},{"$f":"IF(B133<Parameters!$A$20,B133*Parameters!$B$20,IF(AND(B133>Parameters!$A$20,B133<Parameters!$A$21),B133*Parameters!$B$21,B133*Parameters!$B$22))","v":3.5250000000000004},{"$error":"#DIV/0!"},{"$error":"#DIV/0!"},{"$error":"#DIV/0!"},{"$error":"#DIV/0!"},{"$error":"#DIV/0!"},2.1043333333333334,{"$error":"#DIV/0!"},{"$error":"#DIV/0!"},{"$f":"IF('Gegevens '!$G$20=\"Eigen waarden\",VLOOKUP($F133,'Gegevens '!$A$25:$C$77,3,FALSE),VLOOKUP($F133,Lijsten!$A$19:$B$71,2,FALSE))","v":28.925363264788576},{"$error":"#DIV/0!"},{"$error":"#DIV/0!"},{"$error":"#DIV/0!"},{"$error":"#DIV/0!"},{"$error":"#DIV/0!"},{"$error":"#DIV/0!"},{"$error":"#DIV/0!"},{"$error":"#DIV/0!"},{"$error":"#DIV/0!"},{"$error":"#DIV/0!"},{"$error":"#DIV/0!"},{"$error":"#DIV/0!"},{"$error":"#DIV/0!"},{"$error":"#DIV/0!"},{"$error":"#DIV/0!"},{"$error":"#DIV/0!"},{"$error":"#DIV/0!"},{"$error":"#DIV/0!"},{"$error":"#DIV/0!"},{"$error":"#DIV/0!"},{"$error":"#DIV/0!"},{"$error":"#DIV/0!"},{"$error":"#DIV/0!"},0,{"$error":"#DIV/0!"},null,null,null,null,null,null,null,null,null,null,null,null,null,null,null,null,null,null,null,null,null,"1967-04-10",4.7,2.2709999999999999,null,"1975-04-09",6.6,0.26700000000000002,null,"2006-04-09",0.35,1.93293,0.35,1.93293,0.35,1.84941,null,"2016-04-08",0.35,1.94834,0.35,1.94834,0.35,1.8409500000000001,null,"2066-04-09",0.35,2.0253700000000001,0.35,2.0253700000000001,0.35,1.79867,null,null,null,1985,{"$error":"#DIV/0!"},null,25,{"$error":"#DIV/0!"},{"$error":"#DIV/0!"},{"$error":"#DIV/0!"}]
["1967-04-11",0,1.397,4,1967,15,0,{"$f":"IF(B134<Parameters!$A$16,B134*Parameters!$B$16,IF(AND(B134>Parameters!$A$16,B134<Parameters!$A$17),B134*Parameters!$B$17,B134*Parameters!$B$18))","v":0},{"$f":"IF(B134<Parameters!$A$20,B134*Parameters!$B$20,IF(AND(B134>Parameters!$A$20,B134<Parameters!$A$21),B134*Parameters!$B$21,B134*Parameters!$B$22))","v":0},{"$error":"#DIV/0!"},"",0,"",0,1.2303333333333333,{"$error":"#DIV/0!"},{"$error":"#DIV/0!"},{"$f":"IF('Gegevens '!$G$20=\"Eigen waarden\",VLOOKUP($F134,'Gegevens '!$A$25:$C$77,3,FALSE),VLOOKUP($F134,Lijsten!$A$19:$B$71,2,FALSE))","v":28.925363264788576},{"$error":"#DIV/0!"},{"$error":"#DIV/0!"},{"$error":"#DIV/0!"},{"$error":"#DIV/0!"},{"$error":"#DIV/0!"},{"$error":"#DIV/0!"},{"$error":"#DIV/0!"},"","",{"$error":"#DIV/0!"},0,{"$error":"#DIV/0!"},0,{"$error":"#DIV/0!"},{"$error":"#DIV/0!"},{"$error":"#DIV/0!"},{"$error":"#DIV/0!"},{"$error":"#DIV/0!"},{"$error":"#DIV/0!"},"","","",{"$error":"#DIV/0!"},0,{"$error":"#DIV/0!"},null,null,null,null,null,null,null,null,null,null,null,null,null,null,null,null,null,null,null,null,null,"1967-04-11",0,1.397,null,"1975-04-10",0.2,1.8240000000000001,null,"2006-04-10",5.48,2.3361800000000001,5.48,2.3361800000000001,5.48,2.2352300000000001,null,"2016-04-09",5.49,2.3548,5.49,2.3548,5.49,2.2250100000000002,null,"2066-04-10",0,2.4479099999999998,0,2.4479099999999998,0,2.1739099999999998,null,null,null,1986,{"$error":"#DIV/0!"},null,26,{"$error":"#DIV/0!"},{"$error":"#DIV/0!"},{"$error":"#DIV/0!"}]
["1967-04-12",0.6,1.8420000000000001,4,1967,15,0.6,{"$f":"IF(B135<Parameters!$A$16,B135*Parameters!$B$16,IF(AND(B135>Parameters!$A$16,B135<Parameters!$A$17),B135*Parameters!$B$17,B135*Parameters!$B$18))","v":0},{"$f":"IF(B135<Parameters!$A$20,B135*Parameters!$B$20,IF(AND(B135>Parameters!$A$20,B135<Parameters!$A$21),B135*Parameters!$B$21,B135*Parameters!$B$22))","v":0},{"$error":"#DIV/0!"},{"$error":"#DIV/0!"},{"$error":"#DIV/0!"},{"$error":"#DIV/0!"},{"$error":"#DIV/0!"},1.6753333333333333,{"$error":"#DIV/0!"},{"$error":"#DIV/0!"},{"$f":"IF('Gegevens '!$G$20=\"Eigen waarden\",VLOOKUP($F135,'Gegevens '!$A$25:$C$77,3,FALSE),VLOOKUP($F135,Lijsten!$A$19:$B$71,2,FALSE))","v":28.925363264788576},{"$error":"#DIV/0!"},{"$error":"#DIV/0!"},{"$error":"#DIV/0!"},{"$error":"#DIV/0!"},{"$error":"#DIV/0!"},{"$error":"#DIV/0!"},{"$error":"#DIV/0!"},{"$error":"#DIV/0!"},{"$error":"#DIV/0!"},{"$error":"#DIV/0!"},{"$error":"#DIV/0!"},{"$error":"#DIV/0!"},{"$error":"#DIV/0!"},{"$error":"#DIV/0!"},{"$error":"#DIV/0!"},{"$error":"#DIV/0!"},{"$error":"#DIV/0!"},{"$error":"#DIV/0!"},{"$error":"#DIV/0!"},{"$error":"#DIV/0!"},{"$error":"#DIV/0!"},{"$error":"#DIV/0!"},{"$error":"#DIV/0!"},0,{"$error":"#DIV/0!"},null,null,null,null,null,null,null,null,null,null,null,null,null,null,null,null,null,null,null,null,null,"1967-04-12",0.6,1.8420000000000001,null,"1975-04-11",1,0.42899999999999999,null,"2006-04-11",0,1.43709,0,1.43709,0,1.375,null,"2016-04-10",0,1.44855,0,1.44855,0,1.3687100000000001,null,"2066-04-11",0,1.50583,0,1.50583,0,1.33728,null,null,null,1987,{"$error":"#DIV/0!"},null,27,{"$error":"#DIV/0!"},{"$error":"#DIV/0!"},{"$error":"#DIV/0!"}]
["1967-04-13",0.1,2.2080000000000002,4,1967,15,0.1,{"$f":"IF(B136<Parameters!$A$16,B136*Parameters!$B$16,IF(AND(B136>Parameters!$A$16,B136<Parameters!$A$17),B136*Parameters!$B$17,B136*Parameters!$B$18))","v":0},{"$f":"IF(B136<Parameters!$A$20,B136*Parameters!$B$20,IF(AND(B136>Parameters!$A$20,B136<Parameters!$A$21),B136*Parameters!$B$21,B136*Parameters!$B$22))","v":0},{"$error":"#DIV/0!"},{"$error":"#DIV/0!"},{"$error":"#DIV/0!"},{"$error":"#DIV/0!"},{"$error":"#DIV/0!"},2.0413333333333337,{"$error":"#DIV/0!"},{"$error":"#DIV/0!"},{"$f":"IF('Gegevens '!$G$20=\"Eigen waarden\",VLOOKUP($F136,'Gegevens '!$A$25:$C$77,3,FALSE),VLOOKUP($F136,Lijsten!$A$19:$B$71,2,FALSE))","v":28.925363264788576},{"$error":"#DIV/0!"},{"$error":"#DIV/0!"},{"$error":"#DIV/0!"},{"$error":"#DIV/0!"},{"$error":"#DIV/0!"},{"$error":"#DIV/0!"},{"$error":"#DIV/0!"},{"$error":"#DIV/0!"},{"$error":"#DIV/0!"},{"$error":"#DIV/0!"},{"$error":"#DIV/0!"},{"$error":"#DIV/0!"},{"$error":"#DIV/0!"},{"$error":"#DIV/0!"},{"$error":"#DIV/0!"},{"$error":"#DIV/0!"},{"$error":"#DIV/0!"},{"$error":"#DIV/0!"},{"$error":"#DIV/0!"},{"$error":"#DIV/0!"},{"$error":"#DIV/0!"},{"$error":"#DIV/0!"},{"$error":"#DIV/0!"},0,{"$error":"#DIV/0!"},null,null,null,null,null,null,null,null,null,null,null,null,null,null,null,null,null,null,null,null,null,"1967-04-13",0.1,2.2080000000000002,null,"1975-04-12",0.5,0.51600000000000001,null,"2006-04-12",0.68,1.8948700000000001,0.68,1.8948700000000001,0.68,1.8129900000000001,null,"2016-04-11",0.68,1.9099699999999999,0.68,1.9099699999999999,0.68,1.8047,null,"2066-04-12",0.66,1.98549,0.66,1.98549,0.66,1.76325,null,null,null,1988,{"$error":"#DIV/0!"},null,28,{"$error":"#DIV/0!"},{"$error":"#DIV/0!"},{"$error":"#DIV/0!"}]
["1967-04-14",0,3.4660000000000002,4,1967,15,0,{"$f":"IF(B137<Parameters!$A$16,B137*Parameters!$B$16,IF(AND(B137>Parameters!$A$16,B137<Parameters!$A$17),B137*Parameters!$B$17,B137*Parameters!$B$18))","v":0},{"$f":"IF(B137<Parameters!$A$20,B137*Parameters!$B$20,IF(AND(B137>Parameters!$A$20,B137<Parameters!$A$21),B137*Parameters!$B$21,B137*Parameters!$B$22))","v":0},{"$error":"#DIV/0!"},"",0,"",0,3.2993333333333337,{"$error":"#DIV/0!"},{"$error":"#DIV/0!"},{"$f":"IF('Gegevens '!$G$20=\"Eigen waarden\",VLOOKUP($F137,'Gegevens '!$A$25:$C$77,3,FALSE),VLOOKUP($F137,Lijsten!$A$19:$B$71,2,FALSE))","v":28.925363264788576},{"$error":"#DIV/0!"},{"$error":"#DIV/0!"},{"$error":"#DIV/0!"},{"$error":"#DIV/0!"},{"$error":"#DIV/0!"},{"$error":"#DIV/0!"},{"$error":"#DIV/0!"},"","",{"$error":"#DIV/0!"},0,{"$error":"#DIV/0!"},0,{"$error":"#DIV/0!"},{"$error":"#DIV/0!"},{"$error":"#DIV/0!"},{"$error":"#DIV/0!"},{"$error":"#DIV/0!"},{"$error":"#DIV/0!"},"","","",{"$error":"#DIV/0!"},0,{"$error":"#DIV/0!"},null,null,null,null,null,null,null,null,null,null,null,null,null,null,null,null,null,null,null,null,null,"1967-04-14",0,3.4660000000000002,null,"1975-04-13",0.2,1.8660000000000001,null,"2006-04-13",0.12,2.2713700000000001,0.12,2.2713700000000001,0.12,2.1732200000000002,null,"2016-04-12",0.12,2.2894800000000002,0.12,2.2894800000000002,0.12,2.1632899999999999,null,"2066-04-13",0.12,2.38,0.12,2.38,0.12,2.11361,null,null,null,1989,{"$error":"#DIV/0!"},null,29,{"$error":"#DIV/0!"},{"$error":"#DIV/0!"},{"$error":"#DIV/0!"}]
["1967-04-15",0.6,2.8029999999999999,4,1967,15,0.6,{"$f":"IF(B138<Parameters!$A$16,B138*Parameters!$B$16,IF(AND(B138>Parameters!$A$16,B138<Parameters!$A$17),B138*Parameters!$B$17,B138*Parameters!$B$18))","v":0},{"$f":"IF(B138<Parameters!$A$20,B138*Parameters!$B$20,IF(AND(B138>Parameters!$A$20,B138<Parameters!$A$21),B138*Parameters!$B$21,B138*Parameters!$B$22))","v":0},{"$error":"#DIV/0!"},{"$error":"#DIV/0!"},{"$error":"#DIV/0!"},{"$error":"#DIV/0!"},{"$error":"#DIV/0!"},2.6363333333333334,{"$error":"#DIV/0!"},{"$error":"#DIV/0!"},{"$f":"IF('Gegevens '!$G$20=\"Eigen waarden\",VLOOKUP($F138,'Gegevens '!$A$25:$C$77,3,FALSE),VLOOKUP($F138,Lijsten!$A$19:$B$71,2,FALSE))","v":28.925363264788576},{"$error":"#DIV/0!"},{"$error":"#DIV/0!"},{"$error":"#DIV/0!"},{"$error":"#DIV/0!"},{"$error":"#DIV/0!"},{"$error":"#DIV/0!"},{"$error":"#DIV/0!"},{"$error":"#DIV/0!"},{"$error":"#DIV/0!"},{"$error":"#DIV/0!"},{"$error":"#DIV/0!"},{"$error":"#DIV/0!"},{"$error":"#DIV/0!"},{"$error":"#DIV/0!"},{"$error":"#DIV/0!"},{"$error":"#DIV/0!"},{"$error":"#DIV/0!"},{"$error":"#DIV/0!"},{"$error":"#DIV/0!"},{"$error":"#DIV/0!"},{"$error":"#DIV/0!"},{"$error":"#DIV/0!"},{"$error":"#DIV/0!"},0,{"$error":"#DIV/0!"},null,null,null,null,null,null,null,null,null,null,null,null,null,null,null,null,null,null,null,null,null,"1967-04-15",0.6,2.8029999999999999,null,"1975-04-14",4.3,1.1140000000000001,null,"2006-04-14",0,3.5654699999999999,0,3.5654699999999999,0,3.4114100000000001,null,"2016-04-13",0,3.5939000000000001,0,3.5939000000000001,0,3.39581,null,"2066-04-14",0,3.7360000000000002,0,3.7360000000000002,0,3.3178299999999998,null,null,null,1990,{"$error":"#DIV/0!"},null,30,{"$error":"#DIV/0!"},{"$error":"#DIV/0!"},{"$error":"#DIV/0!"}]
["1967-04-16",0,3.0670000000000002,4,1967,15,0,{"$f":"IF(B139<Parameters!$A$16,B139*Parameters!$B$16,IF(AND(B139>Parameters!$A$16,B139<Parameters!$A$17),B139*Parameters!$B$17,B139*Parameters!$B$18))","v":0},{"$f":"IF(B139<Parameters!$A$20,B139*Parameters!$B$20,IF(AND(B139>Parameters!$A$20,B139<Parameters!$A$21),B139*Parameters!$B$21,B139*Parameters!$B$22))","v":0},{"$error":"#DIV/0!"},"",0,"",0,2.9003333333333337,{"$error":"#DIV/0!"},{"$error":"#DIV/0!"},{"$f":"IF('Gegevens '!$G$20=\"Eigen waarden\",VLOOKUP($F139,'Gegevens '!$A$25:$C$77,3,FALSE),VLOOKUP($F139,Lijsten!$A$19:$B$71,2,FALSE))","v":28.925363264788576},{"$error":"#DIV/0!"},{"$error":"#DIV/0!"},{"$error":"#DIV/0!"},{"$error":"#DIV/0!"},{"$error":"#DIV/0!"},{"$error":"#DIV/0!"},{"$error":"#DIV/0!"},"","",{"$error":"#DIV/0!"},0,{"$error":"#DIV/0!"},0,{"$error":"#DIV/0!"},{"$error":"#DIV/0!"},{"$error":"#DIV/0!"},{"$error":"#DIV/0!"},{"$error":"#DIV/0!"},{"$error":"#DIV/0!"},"","","",{"$error":"#DIV/0!"},0,{"$error":"#DIV/0!"},null,null,null,null,null,null,null,null,null,null,null,null,null,null,null,null,null,null,null,null,null,"1967-04-16",0,3.0670000000000002,null,"1975-04-15",2.6,1.4990000000000001,null,"2006-04-15",0.68,2.8834499999999998,0.68,2.8834499999999998,0.68,2.7588499999999998,null,"2016-04-14",0.68,2.9064299999999998,0.68,2.9064299999999998,0.68,2.7462399999999998,null,"2066-04-15",0.66,3.02135,0.66,3.02135,0.66,2.6831700000000001,null,null,null,1991,{"$error":"#DIV/0!"},null,31,{"$error":"#DIV/0!"},{"$error":"#DIV/0!"},{"$error":"#DIV/0!"}]
["1967-04-17",0,2.9590000000000001,4,1967,16,0,{"$f":"IF(B140<Parameters!$A$16,B140*Parameters!$B$16,IF(AND(B140>Parameters!$A$16,B140<Parameters!$A$17),B140*Parameters!$B$17,B140*Parameters!$B$18))","v":0},{"$f":"IF(B140<Parameters!$A$20,B140*Parameters!$B$20,IF(AND(B140>Parameters!$A$20,B140<Parameters!$A$21),B140*Parameters!$B$21,B140*Parameters!$B$22))","v":0},{"$error":"#DIV/0!"},"",0,"",0,2.7923333333333336,{"$error":"#DIV/0!"},{"$error":"#DIV/0!"},{"$f":"IF('Gegevens '!$G$20=\"Eigen waarden\",VLOOKUP($F140,'Gegevens '!$A$25:$C$77,3,FALSE),VLOOKUP($F140,Lijsten!$A$19:$B$71,2,FALSE))","v":32.719747675074295},{"$error":"#DIV/0!"},{"$error":"#DIV/0!"},{"$error":"#DIV/0!"},{"$error":"#DIV/0!"},{"$error":"#DIV/0!"},{"$error":"#DIV/0!"},{"$error":"#DIV/0!"},"","",{"$error":"#DIV/0!"},0,{"$error":"#DIV/0!"},0,{"$error":"#DIV/0!"},{"$error":"#DIV/0!"},{"$error":"#DIV/0!"},{"$error":"#DIV/0!"},{"$error":"#DIV/0!"},{"$error":"#DIV/0!"},"","","",{"$error":"#DIV/0!"},0,{"$error":"#DIV/0!"},null,null,null,null,null,null,null,null,null,null,null,null,null,null,null,null,null,null,null,null,null,"1967-04-17",0,2.9590000000000001,null,"1975-04-16",0.2,0.51600000000000001,null,"2006-04-16",0,3.1550199999999999,0,3.1550199999999999,0,3.0186899999999999,null,"2016-04-15",0,3.1801699999999999,0,3.1801699999999999,0,3.0048900000000001,null,"2066-04-16",0,3.30592,0,3.30592,0,2.9358900000000001,null,null,null,1992,{"$error":"#DIV/0!"},null,32,{"$error":"#DIV/0!"},{"$error":"#DIV/0!"},{"$error":"#DIV/0!"}]
["1967-04-18",0,2.0430000000000001,4,1967,16,0,{"$f":"IF(B141<Parameters!$A$16,B141*Parameters!$B$16,IF(AND(B141>Parameters!$A$16,B141<Parameters!$A$17),B141*Parameters!$B$17,B141*Parameters!$B$18))","v":0},{"$f":"IF(B141<Parameters!$A$20,B141*Parameters!$B$20,IF(AND(B141>Parameters!$A$20,B141<Parameters!$A$21),B141*Parameters!$B$21,B141*Parameters!$B$22))","v":0},{"$error":"#DIV/0!"},"",0,"",0,1.8763333333333334,{"$error":"#DIV/0!"},{"$error":"#DIV/0!"},{"$f":"IF('Gegevens '!$G$20=\"Eigen waarden\",VLOOKUP($F141,'Gegevens '!$A$25:$C$77,3,FALSE),VLOOKUP($F141,Lijsten!$A$19:$B$71,2,FALSE))","v":32.719747675074295},{"$error":"#DIV/0!"},{"$error":"#DIV/0!"},{"$error":"#DIV/0!"},{"$error":"#DIV/0!"},{"$error":"#DIV/0!"},{"$error":"#DIV/0!"},{"$error":"#DIV/0!"},"","",{"$error":"#DIV/0!"},0,{"$error":"#DIV/0!"},0,{"$error":"#DIV/0!"},{"$error":"#DIV/0!"},{"$error":"#DIV/0!"},{"$error":"#DIV/0!"},{"$error":"#DIV/0!"},{"$error":"#DIV/0!"},"","","",{"$error":"#DIV/0!"},0,{"$error":"#DIV/0!"},null,null,null,null,null,null,null,null,null,null,null,null,null,null,null,null,null,null,null,null,null,"1967-04-18",0,2.0430000000000001,null,"1975-04-17",2.9,1.33,null,"2006-04-17",0,3.04392,0,3.04392,0,2.9123999999999999,null,"2016-04-16",0,3.06819,0,3.06819,0,2.8990800000000001,null,"2066-04-17",0,3.1895099999999998,0,3.1895099999999998,0,2.8325,null,null,null,1993,{"$error":"#DIV/0!"},null,33,{"$error":"#DIV/0!"},{"$error":"#DIV/0!"},{"$error":"#DIV/0!"}]
["1967-04-19",0,3.2050000000000001,4,1967,16,0,{"$f":"IF(B142<Parameters!$A$16,B142*Parameters!$B$16,IF(AND(B142>Parameters!$A$16,B142<Parameters!$A$17),B142*Parameters!$B$17,B142*Parameters!$B$18))","v":0},{"$f":"IF(B142<Parameters!$A$20,B142*Parameters!$B$20,IF(AND(B142>Parameters!$A$20,B142<Parameters!$A$21),B142*Parameters!$B$21,B142*Parameters!$B$22))","v":0},{"$error":"#DIV/0!"},"",0,"",0,3.0383333333333336,{"$error":"#DIV/0!"},{"$error":"#DIV/0!"},{"$f":"IF('Gegevens '!$G$20=\"Eigen waarden\",VLOOKUP($F142,'Gegevens '!$A$25:$C$77,3,FALSE),VLOOKUP($F142,Lijsten!$A$19:$B$71,2,FALSE))","v":32.719747675074295},{"$error":"#DIV/0!"},{"$error":"#DIV/0!"},{"$error":"#DIV/0!"},{"$error":"#DIV/0!"},{"$error":"#DIV/0!"},{"$error":"#DIV/0!"},{"$error":"#DIV/0!"},"","",{"$error":"#DIV/0!"},0,{"$error":"#DIV/0!"},0,{"$error":"#DIV/0!"},{"$error":"#DIV/0!"},{"$error":"#DIV/0!"},{"$error":"#DIV/0!"},{"$error":"#DIV/0!"},{"$error":"#DIV/0!"},"","","",{"$error":"#DIV/0!"},0,{"$error":"#DIV/0!"},null,null,null,null,null,null,null,null,null,null,null,null,null,null,null,null,null,null,null,null,null,"1967-04-19",0,3.2050000000000001,null,"1975-04-18",2.8,2.61,null,"2006-04-18",0,2.1016300000000001,0,2.1016300000000001,0,2.0108199999999998,null,"2016-04-17",0,2.1183900000000002,0,2.1183900000000002,0,2.00163,null,"2066-04-18",0,2.2021500000000001,0,2.2021500000000001,0,1.95566,null,null,null,1994,{"$error":"#DIV/0!"},null,34,{"$error":"#DIV/0!"},{"$error":"#DIV/0!"},{"$error":"#DIV/0!"}]
["1967-04-20",0.7,1.268,4,1967,16,0.7,{"$f":"IF(B143<Parameters!$A$16,B143*Parameters!$B$16,IF(AND(B143>Parameters!$A$16,B143<Parameters!$A$17),B143*Parameters!$B$17,B143*Parameters!$B$18))","v":0},{"$f":"IF(B143<Parameters!$A$20,B143*Parameters!$B$20,IF(AND(B143>Parameters!$A$20,B143<Parameters!$A$21),B143*Parameters!$B$21,B143*Parameters!$B$22))","v":0},{"$error":"#DIV/0!"},{"$error":"#DIV/0!"},{"$error":"#DIV/0!"},{"$error":"#DIV/0!"},{"$error":"#DIV/0!"},1.1013333333333333,{"$error":"#DIV/0!"},{"$error":"#DIV/0!"},{"$f":"IF('Gegevens '!$G$20=\"Eigen waarden\",VLOOKUP($F143,'Gegevens '!$A$25:$C$77,3,FALSE),VLOOKUP($F143,Lijsten!$A$19:$B$71,2,FALSE))","v":32.719747675074295},{"$error":"#DIV/0!"},{"$error":"#DIV/0!"},{"$error":"#DIV/0!"},{"$error":"#DIV/0!"},{"$error":"#DIV/0!"},{"$error":"#DIV/0!"},{"$error":"#DIV/0!"},{"$error":"#DIV/0!"},{"$error":"#DIV/0!"},{"$error":"#DIV/0!"},{"$error":"#DIV/0!"},{"$error":"#DIV/0!"},{"$error":"#DIV/0!"},{"$error":"#DIV/0!"},{"$error":"#DIV/0!"},{"$error":"#DIV/0!"},{"$error":"#DIV/0!"},{"$error":"#DIV/0!"},{"$error":"#DIV/0!"},{"$error":"#DIV/0!"},{"$error":"#DIV/0!"},{"$error":"#DIV/0!"},{"$error":"#DIV/0!"},0,{"$error":"#DIV/0!"},null,null,null,null,null,null,null,null,null,null,null,null,null,null,null,null,null,null,null,null,null,"1967-04-20",0.7,1.268,null,"1975-04-19",1.4,1.0580000000000001,null,"2006-04-19",0,3.29698,0,3.29698,0,3.1545200000000002,null,"2016-04-18",0,3.3232599999999999,0,3.3232599999999999,0,3.1400999999999999,null,"2066-04-19",0,3.4546700000000001,0,3.4546700000000001,0,3.06799,null,null,null,1995,{"$error":"#DIV/0!"},null,35,{"$error":"#DIV/0!"},{"$error":"#DIV/0!"},{"$error":"#DIV/0!"}]
["1967-04-21",1.5,2.073,4,1967,16,1.5,{"$f":"IF(B144<Parameters!$A$16,B144*Parameters!$B$16,IF(AND(B144>Parameters!$A$16,B144<Parameters!$A$17),B144*Parameters!$B$17,B144*Parameters!$B$18))","v":1.2000000000000002},{"$f":"IF(B144<Parameters!$A$20,B144*Parameters!$B$20,IF(AND(B144>Parameters!$A$20,B144<Parameters!$A$21),B144*Parameters!$B$21,B144*Parameters!$B$22))","v":0.89999999999999991},{"$error":"#DIV/0!"},{"$error":"#DIV/0!"},{"$error":"#DIV/0!"},{"$error":"#DIV/0!"},{"$error":"#DIV/0!"},1.9063333333333332,{"$error":"#DIV/0!"},{"$error":"#DIV/0!"},{"$f":"IF('Gegevens '!$G$20=\"Eigen waarden\",VLOOKUP($F144,'Gegevens '!$A$25:$C$77,3,FALSE),VLOOKUP($F144,Lijsten!$A$19:$B$71,2,FALSE))","v":32.719747675074295},{"$error":"#DIV/0!"},{"$error":"#DIV/0!"},{"$error":"#DIV/0!"},{"$error":"#DIV/0!"},{"$error":"#DIV/0!"},{"$error":"#DIV/0!"},{"$error":"#DIV/0!"},{"$error":"#DIV/0!"},{"$error":"#DIV/0!"},{"$error":"#DIV/0!"},{"$error":"#DIV/0!"},{"$error":"#DIV/0!"},{"$error":"#DIV/0!"},{"$error":"#DIV/0!"},{"$error":"#DIV/0!"},{"$error":"#DIV/0!"},{"$error":"#DIV/0!"},{"$error":"#DIV/0!"},{"$error":"#DIV/0!"},{"$error":"#DIV/0!"},{"$error":"#DIV/0!"},{"$error":"#DIV/0!"},{"$error":"#DIV/0!"},0,{"$error":"#DIV/0!"},null,null,null,null,null,null,null,null,null,null,null,null,null,null,null,null,null,null,null,null,null,"1967-04-21",1.5,2.073,null,"1975-04-20",0,2.6259999999999999,null,"2006-04-20",0.8,1.3043899999999999,0.8,1.3043899999999999,0.8,1.24803,null,"2016-04-19",0.79,1.3147899999999999,0.79,1.3147899999999999,0.79,1.2423200000000001,null,"2066-04-20",0.78,1.3667800000000001,0.78,1.3667800000000001,0.78,1.2137899999999999,null,null,null,1996,{"$error":"#DIV/0!"},null,36,{"$error":"#DIV/0!"},{"$error":"#DIV/0!"},{"$error":"#DIV/0!"}]
["1967-04-22",0.8,1.6819999999999999,4,1967,16,0.8,{"$f":"IF(B145<Parameters!$A$16,B145*Parameters!$B$16,IF(AND(B145>Parameters!$A$16,B145<Parameters!$A$17),B145*Parameters!$B$17,B145*Parameters!$B$18))","v":0},{"$f":"IF(B145<Parameters!$A$20,B145*Parameters!$B$20,IF(AND(B145>Parameters!$A$20,B145<Parameters!$A$21),B145*Parameters!$B$21,B145*Parameters!$B$22))","v":0},{"$error":"#DIV/0!"},{"$error":"#DIV/0!"},{"$error":"#DIV/0!"},{"$error":"#DIV/0!"},{"$error":"#DIV/0!"},1.5153333333333332,{"$error":"#DIV/0!"},{"$error":"#DIV/0!"},{"$f":"IF('Gegevens '!$G$20=\"Eigen waarden\",VLOOKUP($F145,'Gegevens '!$A$25:$C$77,3,FALSE),VLOOKUP($F145,Lijsten!$A$19:$B$71,2,FALSE))","v":32.719747675074295},{"$error":"#DIV/0!"},{"$error":"#DIV/0!"},{"$error":"#DIV/0!"},{"$error":"#DIV/0!"},{"$error":"#DIV/0!"},{"$error":"#DIV/0!"},{"$error":"#DIV/0!"},{"$error":"#DIV/0!"},{"$error":"#DIV/0!"},{"$error":"#DIV/0!"},{"$error":"#DIV/0!"},{"$error":"#DIV/0!"},{"$error":"#DIV/0!"},{"$error":"#DIV/0!"},{"$error":"#DIV/0!"},{"$error":"#DIV/0!"},{"$error":"#DIV/0!"},{"$error":"#DIV/0!"},{"$error":"#DIV/0!"},{"$error":"#DIV/0!"},{"$error":"#DIV/0!"},{"$error":"#DIV/0!"},{"$error":"#DIV/0!"},0,{"$error":"#DIV/0!"},null,null,null,null,null,null,null,null,null,null,null,null,null,null,null,null,null,null,null,null,null,"1967-04-22",0.8,1.6819999999999999,null,"1975-04-21",0,3.4359999999999999,null,"2006-04-21",1.71,2.1324999999999998,1.71,2.1324999999999998,1.71,2.0403500000000001,null,"2016-04-20",1.69,2.1494900000000001,1.69,2.1494900000000001,1.69,2.0310199999999998,null,"2066-04-21",1.65,2.2344900000000001,1.65,2.2344900000000001,1.65,1.98438,null,null,null,1997,{"$error":"#DIV/0!"},null,37,{"$error":"#DIV/0!"},{"$error":"#DIV/0!"},{"$error":"#DIV/0!"}]
["1967-04-23",5.0999999999999996,0.56399999999999995,4,1967,16,5.0999999999999996,{"$f":"IF(B146<Parameters!$A$16,B146*Parameters!$B$16,IF(AND(B146>Parameters!$A$16,B146<Parameters!$A$17),B146*Parameters!$B$17,B146*Parameters!$B$18))","v":4.8449999999999998},{"$f":"IF(B146<Parameters!$A$20,B146*Parameters!$B$20,IF(AND(B146>Parameters!$A$20,B146<Parameters!$A$21),B146*Parameters!$B$21,B146*Parameters!$B$22))","v":3.8249999999999997},{"$error":"#DIV/0!"},{"$error":"#DIV/0!"},{"$error":"#DIV/0!"},{"$error":"#DIV/0!"},{"$error":"#DIV/0!"},0.39733333333333332,{"$error":"#DIV/0!"},{"$error":"#DIV/0!"},{"$f":"IF('Gegevens '!$G$20=\"Eigen waarden\",VLOOKUP($F146,'Gegevens '!$A$25:$C$77,3,FALSE),VLOOKUP($F146,Lijsten!$A$19:$B$71,2,FALSE))","v":32.719747675074295},{"$error":"#DIV/0!"},{"$error":"#DIV/0!"},{"$error":"#DIV/0!"},{"$error":"#DIV/0!"},{"$error":"#DIV/0!"},{"$error":"#DIV/0!"},{"$error":"#DIV/0!"},{"$error":"#DIV/0!"},{"$error":"#DIV/0!"},{"$error":"#DIV/0!"},{"$error":"#DIV/0!"},{"$error":"#DIV/0!"},{"$error":"#DIV/0!"},{"$error":"#DIV/0!"},{"$error":"#DIV/0!"},{"$error":"#DIV/0!"},{"$error":"#DIV/0!"},{"$error":"#DIV/0!"},{"$error":"#DIV/0!"},{"$error":"#DIV/0!"},{"$error":"#DIV/0!"},{"$error":"#DIV/0!"},{"$error":"#DIV/0!"},0,{"$error":"#DIV/0!"},null,null,null,null,null,null,null,null,null,null,null,null,null,null,null,null,null,null,null,null,null,"1967-04-23",5.0999999999999996,0.56399999999999995,null,"1975-04-22",0,4.4480000000000004,null,"2006-04-22",0.92,1.73027,0.92,1.73027,0.92,1.65551,null,"2016-04-21",0.9,1.74407,0.9,1.74407,0.9,1.64794,null,"2066-04-22",0.88,1.8130299999999999,0.88,1.8130299999999999,0.88,1.61009,null,null,null,1998,{"$error":"#DIV/0!"},null,38,{"$error":"#DIV/0!"},{"$error":"#DIV/0!"},{"$error":"#DIV/0!"}]
["1967-04-24",0,3.5129999999999999,4,1967,17,0,{"$f":"IF(B147<Parameters!$A$16,B147*Parameters!$B$16,IF(AND(B147>Parameters!$A$16,B147<Parameters!$A$17),B147*Parameters!$B$17,B147*Parameters!$B$18))","v":0},{"$f":"IF(B147<Parameters!$A$20,B147*Parameters!$B$20,IF(AND(B147>Parameters!$A$20,B147<Parameters!$A$21),B147*Parameters!$B$21,B147*Parameters!$B$22))","v":0},{"$error":"#DIV/0!"},"",0,"",0,3.3463333333333334,{"$error":"#DIV/0!"},{"$error":"#DIV/0!"},{"$f":"IF('Gegevens '!$G$20=\"Eigen waarden\",VLOOKUP($F147,'Gegevens '!$A$25:$C$77,3,FALSE),VLOOKUP($F147,Lijsten!$A$19:$B$71,2,FALSE))","v":34.009844090885714},{"$error":"#DIV/0!"},{"$error":"#DIV/0!"},{"$error":"#DIV/0!"},{"$error":"#DIV/0!"},{"$error":"#DIV/0!"},{"$error":"#DIV/0!"},{"$error":"#DIV/0!"},"","",{"$error":"#DIV/0!"},0,{"$error":"#DIV/0!"},0,{"$error":"#DIV/0!"},{"$error":"#DIV/0!"},{"$error":"#DIV/0!"},{"$error":"#DIV/0!"},{"$error":"#DIV/0!"},{"$error":"#DIV/0!"},"","","",{"$error":"#DIV/0!"},0,{"$error":"#DIV/0!"},null,null,null,null,null,null,null,null,null,null,null,null,null,null,null,null,null,null,null,null,null,"1967-04-24",0,3.5129999999999999,null,"1975-04-23",0,2.7570000000000001,null,"2006-04-23",5.95,0.58018999999999998,5.95,0.58018999999999998,5.95,0.55511999999999995,null,"2016-04-22",5.97,0.58481000000000005,5.97,0.58481000000000005,5.97,0.55257999999999996,null,"2066-04-23",6,0.60794000000000004,6,0.60794000000000004,6,0.53988999999999998,null,null,null,1999,{"$error":"#DIV/0!"},null,39,{"$error":"#DIV/0!"},{"$error":"#DIV/0!"},{"$error":"#DIV/0!"}]
["1967-04-25",0,3.8330000000000002,4,1967,17,0,{"$f":"IF(B148<Parameters!$A$16,B148*Parameters!$B$16,IF(AND(B148>Parameters!$A$16,B148<Parameters!$A$17),B148*Parameters!$B$17,B148*Parameters!$B$18))","v":0},{"$f":"IF(B148<Parameters!$A$20,B148*Parameters!$B$20,IF(AND(B148>Parameters!$A$20,B148<Parameters!$A$21),B148*Parameters!$B$21,B148*Parameters!$B$22))","v":0},{"$error":"#DIV/0!"},"",0,"",0,3.6663333333333337,{"$error":"#DIV/0!"},{"$error":"#DIV/0!"},{"$f":"IF('Gegevens '!$G$20=\"Eigen waarden\",VLOOKUP($F148,'Gegevens '!$A$25:$C$77,3,FALSE),VLOOKUP($F148,Lijsten!$A$19:$B$71,2,FALSE))","v":34.009844090885714},{"$error":"#DIV/0!"},{"$error":"#DIV/0!"},{"$error":"#DIV/0!"},{"$error":"#DIV/0!"},{"$error":"#DIV/0!"},{"$error":"#DIV/0!"},{"$error":"#DIV/0!"},"","",{"$error":"#DIV/0!"},0,{"$error":"#DIV/0!"},0,{"$error":"#DIV/0!"},{"$error":"#DIV/0!"},{"$error":"#DIV/0!"},{"$error":"#DIV/0!"},{"$error":"#DIV/0!"},{"$error":"#DIV/0!"},"","","",{"$error":"#DIV/0!"},0,{"$error":"#DIV/0!"},null,null,null,null,null,null,null,null,null,null,null,null,null,null,null,null,null,null,null,null,null,"1967-04-25",0,3.8330000000000002,null,"1975-04-24",0,2.7410000000000001,null,"2006-04-24",0,3.61382,0,3.61382,0,3.4576699999999998,null,"2016-04-23",0,3.64263,0,3.64263,0,3.4418600000000001,null,"2066-04-24",0,3.7866599999999999,0,3.7866599999999999,0,3.3628200000000001,null,null,null,2000,{"$error":"#DIV/0!"},null,40,{"$error":"#DIV/0!"},{"$error":"#DIV/0!"},{"$error":"#DIV/0!"}]
["1967-04-26",0,4.1189999999999998,4,1967,17,0,{"$f":"IF(B149<Parameters!$A$16,B149*Parameters!$B$16,IF(AND(B149>Parameters!$A$16,B149<Parameters!$A$17),B149*Parameters!$B$17,B149*Parameters!$B$18))","v":0},{"$f":"IF(B149<Parameters!$A$20,B149*Parameters!$B$20,IF(AND(B149>Parameters!$A$20,B149<Parameters!$A$21),B149*Parameters!$B$21,B149*Parameters!$B$22))","v":0},{"$error":"#DIV/0!"},"",0,"",0,3.9523333333333333,{"$error":"#DIV/0!"},{"$error":"#DIV/0!"},{"$f":"IF('Gegevens '!$G$20=\"Eigen waarden\",VLOOKUP($F149,'Gegevens '!$A$25:$C$77,3,FALSE),VLOOKUP($F149,Lijsten!$A$19:$B$71,2,FALSE))","v":34.009844090885714},{"$error":"#DIV/0!"},{"$error":"#DIV/0!"},{"$error":"#DIV/0!"},{"$error":"#DIV/0!"},{"$error":"#DIV/0!"},{"$error":"#DIV/0!"},{"$error":"#DIV/0!"},"","",{"$error":"#DIV/0!"},0,{"$error":"#DIV/0!"},0,{"$error":"#DIV/0!"},{"$error":"#DIV/0!"},{"$error":"#DIV/0!"},{"$error":"#DIV/0!"},{"$error":"#DIV/0!"},{"$error":"#DIV/0!"},"","","",{"$error":"#DIV/0!"},0,{"$error":"#DIV/0!"},null,null,null,null,null,null,null,null,null,null,null,null,null,null,null,null,null,null,null,null,null,"1967-04-26",0,4.1189999999999998,null,"1975-04-25",0,3.637,null,"2006-04-25",0,3.9430100000000001,0,3.9430100000000001,0,3.7726299999999999,null,"2016-04-24",0,3.97444,0,3.97444,0,3.7553800000000002,null,"2066-04-25",0,4.1315900000000001,0,4.1315900000000001,0,3.6691400000000001,null,null,null,2001,{"$error":"#DIV/0!"},null,41,{"$error":"#DIV/0!"},{"$error":"#DIV/0!"},{"$error":"#DIV/0!"}]
["1967-04-27",0,4.5759999999999996,4,1967,17,0,{"$f":"IF(B150<Parameters!$A$16,B150*Parameters!$B$16,IF(AND(B150>Parameters!$A$16,B150<Parameters!$A$17),B150*Parameters!$B$17,B150*Parameters!$B$18))","v":0},{"$f":"IF(B150<Parameters!$A$20,B150*Parameters!$B$20,IF(AND(B150>Parameters!$A$20,B150<Parameters!$A$21),B150*Parameters!$B$21,B150*Parameters!$B$22))","v":0},{"$error":"#DIV/0!"},"",0,"",0,4.4093333333333327,{"$error":"#DIV/0!"},{"$error":"#DIV/0!"},{"$f":"IF('Gegevens '!$G$20=\"Eigen waarden\",VLOOKUP($F150,'Gegevens '!$A$25:$C$77,3,FALSE),VLOOKUP($F150,Lijsten!$A$19:$B$71,2,FALSE))","v":34.009844090885714},{"$error":"#DIV/0!"},{"$error":"#DIV/0!"},{"$error":"#DIV/0!"},{"$error":"#DIV/0!"},{"$error":"#DIV/0!"},{"$error":"#DIV/0!"},{"$error":"#DIV/0!"},"","",{"$error":"#DIV/0!"},0,{"$error":"#DIV/0!"},0,{"$error":"#DIV/0!"},{"$error":"#DIV/0!"},{"$error":"#DIV/0!"},{"$error":"#DIV/0!"},{"$error":"#DIV/0!"},{"$error":"#DIV/0!"},"","","",{"$error":"#DIV/0!"},0,{"$error":"#DIV/0!"},null,null,null,null,null,null,null,null,null,null,null,null,null,null,null,null,null,null,null,null,null,"1967-04-27",0,4.5759999999999996,null,"1975-04-26",0.5,1.026,null,"2006-04-26",0,4.2372199999999998,0,4.2372199999999998,0,4.0541299999999998,null,"2016-04-25",0,4.2709900000000003,0,4.2709900000000003,0,4.03559,null,"2066-04-26",0,4.43987,0,4.43987,0,3.9429099999999999,null,null,null,2002,{"$error":"#DIV/0!"},null,42,{"$error":"#DIV/0!"},{"$error":"#DIV/0!"},{"$error":"#DIV/0!"}]
["1967-04-28",0,4.1369999999999996,4,1967,17,0,{"$f":"IF(B151<Parameters!$A$16,B151*Parameters!$B$16,IF(AND(B151>Parameters!$A$16,B151<Parameters!$A$17),B151*Parameters!$B$17,B151*Parameters!$B$18))","v":0},{"$f":"IF(B151<Parameters!$A$20,B151*Parameters!$B$20,IF(AND(B151>Parameters!$A$20,B151<Parameters!$A$21),B151*Parameters!$B$21,B151*Parameters!$B$22))","v":0},{"$error":"#DIV/0!"},"",0,"",0,3.970333333333333,{"$error":"#DIV/0!"},{"$error":"#DIV/0!"},{"$f":"IF('Gegevens '!$G$20=\"Eigen waarden\",VLOOKUP($F151,'Gegevens '!$A$25:$C$77,3,FALSE),VLOOKUP($F151,Lijsten!$A$19:$B$71,2,FALSE))","v":34.009844090885714},{"$error":"#DIV/0!"},{"$error":"#DIV/0!"},{"$error":"#DIV/0!"},{"$error":"#DIV/0!"},{"$error":"#DIV/0!"},{"$error":"#DIV/0!"},{"$error":"#DIV/0!"},"","",{"$error":"#DIV/0!"},0,{"$error":"#DIV/0!"},0,{"$error":"#DIV/0!"},{"$error":"#DIV/0!"},{"$error":"#DIV/0!"},{"$error":"#DIV/0!"},{"$error":"#DIV/0!"},{"$error":"#DIV/0!"},"","","",{"$error":"#DIV/0!"},0,{"$error":"#DIV/0!"},null,null,null,null,null,null,null,null,null,null,null,null,null,null,null,null,null,null,null,null,null,"1967-04-28",0,4.1369999999999996,null,"1975-04-27",0,3.9969999999999999,null,"2006-04-27",0,4.7073299999999998,0,4.7073299999999998,0,4.5039300000000004,null,"2016-04-26",0,4.7448499999999996,0,4.7448499999999996,0,4.4833400000000001,null,"2066-04-27",0,4.9324700000000004,0,4.9324700000000004,0,4.3803799999999997,null,null,null,2003,{"$error":"#DIV/0!"},null,43,{"$error":"#DIV/0!"},{"$error":"#DIV/0!"},{"$error":"#DIV/0!"}]
["1967-04-29",0.3,2.9529999999999998,4,1967,17,0.3,{"$f":"IF(B152<Parameters!$A$16,B152*Parameters!$B$16,IF(AND(B152>Parameters!$A$16,B152<Parameters!$A$17),B152*Parameters!$B$17,B152*Parameters!$B$18))","v":0},{"$f":"IF(B152<Parameters!$A$20,B152*Parameters!$B$20,IF(AND(B152>Parameters!$A$20,B152<Parameters!$A$21),B152*Parameters!$B$21,B152*Parameters!$B$22))","v":0},{"$error":"#DIV/0!"},{"$error":"#DIV/0!"},{"$error":"#DIV/0!"},{"$error":"#DIV/0!"},{"$error":"#DIV/0!"},2.7863333333333333,{"$error":"#DIV/0!"},{"$error":"#DIV/0!"},{"$f":"IF('Gegevens '!$G$20=\"Eigen waarden\",VLOOKUP($F152,'Gegevens '!$A$25:$C$77,3,FALSE),VLOOKUP($F152,Lijsten!$A$19:$B$71,2,FALSE))","v":34.009844090885714},{"$error":"#DIV/0!"},{"$error":"#DIV/0!"},{"$error":"#DIV/0!"},{"$error":"#DIV/0!"},{"$error":"#DIV/0!"},{"$error":"#DIV/0!"},{"$error":"#DIV/0!"},{"$error":"#DIV/0!"},{"$error":"#DIV/0!"},{"$error":"#DIV/0!"},{"$error":"#DIV/0!"},{"$error":"#DIV/0!"},{"$error":"#DIV/0!"},{"$error":"#DIV/0!"},{"$error":"#DIV/0!"},{"$error":"#DIV/0!"},{"$error":"#DIV/0!"},{"$error":"#DIV/0!"},{"$error":"#DIV/0!"},{"$error":"#DIV/0!"},{"$error":"#DIV/0!"},{"$error":"#DIV/0!"},{"$error":"#DIV/0!"},0,{"$error":"#DIV/0!"},null,null,null,null,null,null,null,null,null,null,null,null,null,null,null,null,null,null,null,null,null,"1967-04-29",0.3,2.9529999999999998,null,"1975-04-28",0,4.8659999999999997,null,"2006-04-28",0,4.2557299999999998,0,4.2557299999999998,0,4.0718399999999999,null,"2016-04-27",0,4.2896599999999996,0,4.2896599999999996,0,4.0532300000000001,null,"2066-04-28",0,4.4592700000000001,0,4.4592700000000001,0,3.96014,null,null,null,2004,{"$error":"#DIV/0!"},null,44,{"$error":"#DIV/0!"},{"$error":"#DIV/0!"},{"$error":"#DIV/0!"}]
["1967-04-30",0,4.5380000000000003,4,1967,17,0,{"$f":"IF(B153<Parameters!$A$16,B153*Parameters!$B$16,IF(AND(B153>Parameters!$A$16,B153<Parameters!$A$17),B153*Parameters!$B$17,B153*Parameters!$B$18))","v":0},{"$f":"IF(B153<Parameters!$A$20,B153*Parameters!$B$20,IF(AND(B153>Parameters!$A$20,B153<Parameters!$A$21),B153*Parameters!$B$21,B153*Parameters!$B$22))","v":0},{"$error":"#DIV/0!"},"",0,"",0,4.3713333333333333,{"$error":"#DIV/0!"},{"$error":"#DIV/0!"},{"$f":"IF('Gegevens '!$G$20=\"Eigen waarden\",VLOOKUP($F153,'Gegevens '!$A$25:$C$77,3,FALSE),VLOOKUP($F153,Lijsten!$A$19:$B$71,2,FALSE))","v":34.009844090885714},{"$error":"#DIV/0!"},{"$error":"#DIV/0!"},{"$error":"#DIV/0!"},{"$error":"#DIV/0!"},{"$error":"#DIV/0!"},{"$error":"#DIV/0!"},{"$error":"#DIV/0!"},"","",{"$error":"#DIV/0!"},0,{"$error":"#DIV/0!"},0,{"$error":"#DIV/0!"},{"$error":"#DIV/0!"},{"$error":"#DIV/0!"},{"$error":"#DIV/0!"},{"$error":"#DIV/0!"},{"$error":"#DIV/0!"},"","","",{"$error":"#DIV/0!"},0,{"$error":"#DIV/0!"},null,null,null,null,null,null,null,null,null,null,null,null,null,null,null,null,null,null,null,null,null,"1967-04-30",0,4.5380000000000003,null,"1975-04-29",10.3,3.7480000000000002,null,"2006-04-29",0.35,3.03775,0.35,3.03775,0.35,2.9064899999999998,null,"2016-04-28",0.35,3.0619700000000001,0.35,3.0619700000000001,0.35,2.8932000000000002,null,"2066-04-29",0.35,3.1830400000000001,0.35,3.1830400000000001,0.35,2.8267600000000002,null,null,null,2005,{"$error":"#DIV/0!"},null,45,{"$error":"#DIV/0!"},{"$error":"#DIV/0!"},{"$error":"#DIV/0!"}]
["1967-05-01",1.8,0.81200000000000006,5,1967,18,1.8,{"$f":"IF(B154<Parameters!$A$16,B154*Parameters!$B$16,IF(AND(B154>Parameters!$A$16,B154<Parameters!$A$17),B154*Parameters!$B$17,B154*Parameters!$B$18))","v":1.4400000000000002},{"$f":"IF(B154<Parameters!$A$20,B154*Parameters!$B$20,IF(AND(B154>Parameters!$A$20,B154<Parameters!$A$21),B154*Parameters!$B$21,B154*Parameters!$B$22))","v":1.08},{"$error":"#DIV/0!"},{"$error":"#DIV/0!"},{"$error":"#DIV/0!"},{"$error":"#DIV/0!"},{"$error":"#DIV/0!"},0.61845161290322581,{"$error":"#DIV/0!"},{"$error":"#DIV/0!"},{"$f":"IF('Gegevens '!$G$20=\"Eigen waarden\",VLOOKUP($F154,'Gegevens '!$A$25:$C$77,3,FALSE),VLOOKUP($F154,Lijsten!$A$19:$B$71,2,FALSE))","v":33.340195028868571},{"$error":"#DIV/0!"},{"$error":"#DIV/0!"},{"$error":"#DIV/0!"},{"$error":"#DIV/0!"},{"$error":"#DIV/0!"},{"$error":"#DIV/0!"},{"$error":"#DIV/0!"},{"$error":"#DIV/0!"},{"$error":"#DIV/0!"},{"$error":"#DIV/0!"},{"$error":"#DIV/0!"},{"$error":"#DIV/0!"},{"$error":"#DIV/0!"},{"$error":"#DIV/0!"},{"$error":"#DIV/0!"},{"$error":"#DIV/0!"},{"$error":"#DIV/0!"},{"$error":"#DIV/0!"},{"$error":"#DIV/0!"},{"$error":"#DIV/0!"},{"$error":"#DIV/0!"},{"$error":"#DIV/0!"},{"$error":"#DIV/0!"},0,{"$error":"#DIV/0!"},null,null,null,null,null,null,null,null,null,null,null,null,null,null,null,null,null,null,null,null,null,"1967-05-01",1.8,0.81200000000000006,null,"1975-04-30",2,3.0059999999999998,null,"2006-04-30",0,4.6682399999999999,0,4.6682399999999999,0,4.4665299999999997,null,"2016-04-29",0,4.7054499999999999,0,4.7054499999999999,0,4.44611,null,"2066-04-30",0,4.8915100000000002,0,4.8915100000000002,0,4.3440000000000003,null,null,null,2006,{"$error":"#DIV/0!"},null,46,{"$error":"#DIV/0!"},{"$error":"#DIV/0!"},{"$error":"#DIV/0!"}]
["1967-05-02",2.4,2.5089999999999999,5,1967,18,2.4,{"$f":"IF(B155<Parameters!$A$16,B155*Parameters!$B$16,IF(AND(B155>Parameters!$A$16,B155<Parameters!$A$17),B155*Parameters!$B$17,B155*Parameters!$B$18))","v":2.2799999999999998},{"$f":"IF(B155<Parameters!$A$20,B155*Parameters!$B$20,IF(AND(B155>Parameters!$A$20,B155<Parameters!$A$21),B155*Parameters!$B$21,B155*Parameters!$B$22))","v":1.7999999999999998},{"$error":"#DIV/0!"},{"$error":"#DIV/0!"},{"$error":"#DIV/0!"},{"$error":"#DIV/0!"},{"$error":"#DIV/0!"},2.3154516129032259,{"$error":"#DIV/0!"},{"$error":"#DIV/0!"},{"$f":"IF('Gegevens '!$G$20=\"Eigen waarden\",VLOOKUP($F155,'Gegevens '!$A$25:$C$77,3,FALSE),VLOOKUP($F155,Lijsten!$A$19:$B$71,2,FALSE))","v":33.340195028868571},{"$error":"#DIV/0!"},{"$error":"#DIV/0!"},{"$error":"#DIV/0!"},{"$error":"#DIV/0!"},{"$error":"#DIV/0!"},{"$error":"#DIV/0!"},{"$error":"#DIV/0!"},{"$error":"#DIV/0!"},{"$error":"#DIV/0!"},{"$error":"#DIV/0!"},{"$error":"#DIV/0!"},{"$error":"#DIV/0!"},{"$error":"#DIV/0!"},{"$error":"#DIV/0!"},{"$error":"#DIV/0!"},{"$error":"#DIV/0!"},{"$error":"#DIV/0!"},{"$error":"#DIV/0!"},{"$error":"#DIV/0!"},{"$error":"#DIV/0!"},{"$error":"#DIV/0!"},{"$error":"#DIV/0!"},{"$error":"#DIV/0!"},0,{"$error":"#DIV/0!"},null,null,null,null,null,null,null,null,null,null,null,null,null,null,null,null,null,null,null,null,null,"1967-05-02",2.4,2.5089999999999999,null,"1975-05-01",0,3.7229999999999999,null,"2006-05-01",2.0099999999999998,0.84553999999999996,2.0099999999999998,0.84553999999999996,2.0099999999999998,0.80688000000000004,null,"2016-04-30",1.97,0.85511999999999999,1.97,0.85511999999999999,1.97,0.80542000000000002,null,"2066-05-01",1.84,0.90303,1.84,0.90303,1.84,0.79810999999999999,null,null,null,2007,{"$error":"#DIV/0!"},null,47,{"$error":"#DIV/0!"},{"$error":"#DIV/0!"},{"$error":"#DIV/0!"}]
["1967-05-03",0,2.9319999999999999,5,1967,18,0,{"$f":"IF(B156<Parameters!$A$16,B156*Parameters!$B$16,IF(AND(B156>Parameters!$A$16,B156<Parameters!$A$17),B156*Parameters!$B$17,B156*Parameters!$B$18))","v":0},{"$f":"IF(B156<Parameters!$A$20,B156*Parameters!$B$20,IF(AND(B156>Parameters!$A$20,B156<Parameters!$A$21),B156*Parameters!$B$21,B156*Parameters!$B$22))","v":0},{"$error":"#DIV/0!"},"",0,"",0,2.7384516129032259,{"$error":"#DIV/0!"},{"$error":"#DIV/0!"},{"$f":"IF('Gegevens '!$G$20=\"Eigen waarden\",VLOOKUP($F156,'Gegevens '!$A$25:$C$77,3,FALSE),VLOOKUP($F156,Lijsten!$A$19:$B$71,2,FALSE))","v":33.340195028868571},{"$error":"#DIV/0!"},{"$error":"#DIV/0!"},{"$error":"#DIV/0!"},{"$error":"#DIV/0!"},{"$error":"#DIV/0!"},{"$error":"#DIV/0!"},{"$error":"#DIV/0!"},"","",{"$error":"#DIV/0!"},0,{"$error":"#DIV/0!"},0,{"$error":"#DIV/0!"},{"$error":"#DIV/0!"},{"$error":"#DIV/0!"},{"$error":"#DIV/0!"},{"$error":"#DIV/0!"},{"$error":"#DIV/0!"},"","","",{"$error":"#DIV/0!"},0,{"$error":"#DIV/0!"},null,null,null,null,null,null,null,null,null,null,null,null,null,null,null,null,null,null,null,null,null,"1967-05-03",0,2.9319999999999999,null,"1975-05-02",1.1000000000000001,3.214,null,"2006-05-02",2.69,2.6126200000000002,2.69,2.6126200000000002,2.69,2.4931899999999998,null,"2016-05-01",2.66,2.6422300000000001,2.66,2.6422300000000001,2.66,2.48868,null,"2066-05-02",2.5099999999999998,2.79026,2.5099999999999998,2.79026,2.5099999999999998,2.4661,null,null,null,2008,{"$error":"#DIV/0!"},null,48,{"$error":"#DIV/0!"},{"$error":"#DIV/0!"},{"$error":"#DIV/0!"}]
["1967-05-04",0,4.774,5,1967,18,0,{"$f":"IF(B157<Parameters!$A$16,B157*Parameters!$B$16,IF(AND(B157>Parameters!$A$16,B157<Parameters!$A$17),B157*Parameters!$B$17,B157*Parameters!$B$18))","v":0},{"$f":"IF(B157<Parameters!$A$20,B157*Parameters!$B$20,IF(AND(B157>Parameters!$A$20,B157<Parameters!$A$21),B157*Parameters!$B$21,B157*Parameters!$B$22))","v":0},{"$error":"#DIV/0!"},"",0,"",0,4.580451612903226,{"$error":"#DIV/0!"},{"$error":"#DIV/0!"},{"$f":"IF('Gegevens '!$G$20=\"Eigen waarden\",VLOOKUP($F157,'Gegevens '!$A$25:$C$77,3,FALSE),VLOOKUP($F157,Lijsten!$A$19:$B$71,2,FALSE))","v":33.340195028868571},{"$error":"#DIV/0!"},{"$error":"#DIV/0!"},{"$error":"#DIV/0!"},{"$error":"#DIV/0!"},{"$error":"#DIV/0!"},{"$error":"#DIV/0!"},{"$error":"#DIV/0!"},"","",{"$error":"#DIV/0!"},0,{"$error":"#DIV/0!"},0,{"$error":"#DIV/0!"},{"$error":"#DIV/0!"},{"$error":"#DIV/0!"},{"$error":"#DIV/0!"},{"$error":"#DIV/0!"},{"$error":"#DIV/0!"},"","","",{"$error":"#DIV/0!"},0,{"$error":"#DIV/0!"},null,null,null,null,null,null,null,null,null,null,null,null,null,null,null,null,null,null,null,null,null,"1967-05-04",0,4.774,null,"1975-05-03",5.0999999999999996,3.0129999999999999,null,"2006-05-03",0,3.0530900000000001,0,3.0530900000000001,0,2.9135300000000002,null,"2016-05-02",0,3.0876899999999998,0,3.0876899999999998,0,2.9082499999999998,null,"2066-05-03",0,3.2606799999999998,0,3.2606799999999998,0,2.8818600000000001,null,null,null,2009,{"$error":"#DIV/0!"},null,49,{"$error":"#DIV/0!"},{"$error":"#DIV/0!"},{"$error":"#DIV/0!"}]
["1967-05-05",1,4.5030000000000001,5,1967,18,1,{"$f":"IF(B158<Parameters!$A$16,B158*Parameters!$B$16,IF(AND(B158>Parameters!$A$16,B158<Parameters!$A$17),B158*Parameters!$B$17,B158*Parameters!$B$18))","v":0.95},{"$f":"IF(B158<Parameters!$A$20,B158*Parameters!$B$20,IF(AND(B158>Parameters!$A$20,B158<Parameters!$A$21),B158*Parameters!$B$21,B158*Parameters!$B$22))","v":0.75},{"$error":"#DIV/0!"},{"$error":"#DIV/0!"},{"$error":"#DIV/0!"},{"$error":"#DIV/0!"},{"$error":"#DIV/0!"},4.3094516129032261,{"$error":"#DIV/0!"},{"$error":"#DIV/0!"},{"$f":"IF('Gegevens '!$G$20=\"Eigen waarden\",VLOOKUP($F158,'Gegevens '!$A$25:$C$77,3,FALSE),VLOOKUP($F158,Lijsten!$A$19:$B$71,2,FALSE))","v":33.340195028868571},{"$error":"#DIV/0!"},{"$error":"#DIV/0!"},{"$error":"#DIV/0!"},{"$error":"#DIV/0!"},{"$error":"#DIV/0!"},{"$error":"#DIV/0!"},{"$error":"#DIV/0!"},{"$error":"#DIV/0!"},{"$error":"#DIV/0!"},{"$error":"#DIV/0!"},{"$error":"#DIV/0!"},{"$error":"#DIV/0!"},{"$error":"#DIV/0!"},{"$error":"#DIV/0!"},{"$error":"#DIV/0!"},{"$error":"#DIV/0!"},{"$error":"#DIV/0!"},{"$error":"#DIV/0!"},{"$error":"#DIV/0!"},{"$error":"#DIV/0!"},{"$error":"#DIV/0!"},{"$error":"#DIV/0!"},{"$error":"#DIV/0!"},0,{"$error":"#DIV/0!"},null,null,null,null,null,null,null,null,null,null,null,null,null,null,null,null,null,null,null,null,null,"1967-05-05",1,4.5030000000000001,null,"1975-05-04",0.7,2.5030000000000001,null,"2006-05-04",0,4.9711699999999999,0,4.9711699999999999,0,4.7439200000000001,null,"2016-05-03",0,5.0274999999999999,0,5.0274999999999999,0,4.7353300000000003,null,"2066-05-04",0,5.3091699999999999,0,5.3091699999999999,0,4.6923599999999999,null,null,null,2010,{"$error":"#DIV/0!"},null,50,{"$error":"#DIV/0!"},{"$error":"#DIV/0!"},{"$error":"#DIV/0!"}]
["1967-05-06",2.2999999999999998,2.3959999999999999,5,1967,18,2.2999999999999998,{"$f":"IF(B159<Parameters!$A$16,B159*Parameters!$B$16,IF(AND(B159>Parameters!$A$16,B159<Parameters!$A$17),B159*Parameters!$B$17,B159*Parameters!$B$18))","v":2.1849999999999996},{"$f":"IF(B159<Parameters!$A$20,B159*Parameters!$B$20,IF(AND(B159>Parameters!$A$20,B159<Parameters!$A$21),B159*Parameters!$B$21,B159*Parameters!$B$22))","v":1.7249999999999999},{"$error":"#DIV/0!"},{"$error":"#DIV/0!"},{"$error":"#DIV/0!"},{"$error":"#DIV/0!"},{"$error":"#DIV/0!"},2.2024516129032259,{"$error":"#DIV/0!"},{"$error":"#DIV/0!"},{"$f":"IF('Gegevens '!$G$20=\"Eigen waarden\",VLOOKUP($F159,'Gegevens '!$A$25:$C$77,3,FALSE),VLOOKUP($F159,Lijsten!$A$19:$B$71,2,FALSE))","v":33.340195028868571},{"$error":"#DIV/0!"},{"$error":"#DIV/0!"},{"$error":"#DIV/0!"},{"$error":"#DIV/0!"},{"$error":"#DIV/0!"},{"$error":"#DIV/0!"},{"$error":"#DIV/0!"},{"$error":"#DIV/0!"},{"$error":"#DIV/0!"},{"$error":"#DIV/0!"},{"$error":"#DIV/0!"},{"$error":"#DIV/0!"},{"$error":"#DIV/0!"},{"$error":"#DIV/0!"},{"$error":"#DIV/0!"},{"$error":"#DIV/0!"},{"$error":"#DIV/0!"},{"$error":"#DIV/0!"},{"$error":"#DIV/0!"},{"$error":"#DIV/0!"},{"$error":"#DIV/0!"},{"$error":"#DIV/0!"},{"$error":"#DIV/0!"},0,{"$error":"#DIV/0!"},null,null,null,null,null,null,null,null,null,null,null,null,null,null,null,null,null,null,null,null,null,"1967-05-06",2.2999999999999998,2.3959999999999999,null,"1975-05-05",0.2,3.7829999999999999,null,"2006-05-05",1.1000000000000001,4.6889700000000003,1.1000000000000001,4.6889700000000003,1.1000000000000001,4.4746300000000003,null,"2016-05-04",1.08,4.7421100000000003,1.08,4.7421100000000003,1.08,4.4665299999999997,null,"2066-05-05",1,5.00779,1,5.00779,1,4.4260000000000002,null,null,null,2011,{"$error":"#DIV/0!"},null,51,{"$error":"#DIV/0!"},{"$error":"#DIV/0!"},{"$error":"#DIV/0!"}]
["1967-05-07",1.3,2.5270000000000001,5,1967,18,1.3,{"$f":"IF(B160<Parameters!$A$16,B160*Parameters!$B$16,IF(AND(B160>Parameters!$A$16,B160<Parameters!$A$17),B160*Parameters!$B$17,B160*Parameters!$B$18))","v":1.04},{"$f":"IF(B160<Parameters!$A$20,B160*Parameters!$B$20,IF(AND(B160>Parameters!$A$20,B160<Parameters!$A$21),B160*Parameters!$B$21,B160*Parameters!$B$22))","v":0.78},{"$error":"#DIV/0!"},{"$error":"#DIV/0!"},{"$error":"#DIV/0!"},{"$error":"#DIV/0!"},{"$error":"#DIV/0!"},2.3334516129032261,{"$error":"#DIV/0!"},{"$error":"#DIV/0!"},{"$f":"IF('Gegevens '!$G$20=\"Eigen waarden\",VLOOKUP($F160,'Gegevens '!$A$25:$C$77,3,FALSE),VLOOKUP($F160,Lijsten!$A$19:$B$71,2,FALSE))","v":33.340195028868571},{"$error":"#DIV/0!"},{"$error":"#DIV/0!"},{"$error":"#DIV/0!"},{"$error":"#DIV/0!"},{"$error":"#DIV/0!"},{"$error":"#DIV/0!"},{"$error":"#DIV/0!"},{"$error":"#DIV/0!"},{"$error":"#DIV/0!"},{"$error":"#DIV/0!"},{"$error":"#DIV/0!"},{"$error":"#DIV/0!"},{"$error":"#DIV/0!"},{"$error":"#DIV/0!"},{"$error":"#DIV/0!"},{"$error":"#DIV/0!"},{"$error":"#DIV/0!"},{"$error":"#DIV/0!"},{"$error":"#DIV/0!"},{"$error":"#DIV/0!"},{"$error":"#DIV/0!"},{"$error":"#DIV/0!"},{"$error":"#DIV/0!"},0,{"$error":"#DIV/0!"},null,null,null,null,null,null,null,null,null,null,null,null,null,null,null,null,null,null,null,null,null,"1967-05-07",1.3,2.5270000000000001,null,"1975-05-06",0.2,3.0609999999999999,null,"2006-05-06",0,2.4949499999999998,0,2.4949499999999998,0,2.3809100000000001,null,"2016-05-05",2.54,2.5232299999999999,2.54,2.5232299999999999,2.54,2.3765900000000002,null,"2066-05-06",2.39,2.66459,2.39,2.66459,2.39,2.3550300000000002,null,null,null,2012,{"$error":"#DIV/0!"},null,52,{"$error":"#DIV/0!"},{"$error":"#DIV/0!"},{"$error":"#DIV/0!"}]
["1967-05-08",0.3,3.319,5,1967,19,0.3,{"$f":"IF(B161<Parameters!$A$16,B161*Parameters!$B$16,IF(AND(B161>Parameters!$A$16,B161<Parameters!$A$17),B161*Parameters!$B$17,B161*Parameters!$B$18))","v":0},{"$f":"IF(B161<Parameters!$A$20,B161*Parameters!$B$20,IF(AND(B161>Parameters!$A$20,B161<Parameters!$A$21),B161*Parameters!$B$21,B161*Parameters!$B$22))","v":0},{"$error":"#DIV/0!"},{"$error":"#DIV/0!"},{"$error":"#DIV/0!"},{"$error":"#DIV/0!"},{"$error":"#DIV/0!"},3.1254516129032259,{"$error":"#DIV/0!"},{"$error":"#DIV/0!"},{"$f":"IF('Gegevens '!$G$20=\"Eigen waarden\",VLOOKUP($F161,'Gegevens '!$A$25:$C$77,3,FALSE),VLOOKUP($F161,Lijsten!$A$19:$B$71,2,FALSE))","v":36.149555012451422},{"$error":"#DIV/0!"},{"$error":"#DIV/0!"},{"$error":"#DIV/0!"},{"$error":"#DIV/0!"},{"$error":"#DIV/0!"},{"$error":"#DIV/0!"},{"$error":"#DIV/0!"},{"$error":"#DIV/0!"},{"$error":"#DIV/0!"},{"$error":"#DIV/0!"},{"$error":"#DIV/0!"},{"$error":"#DIV/0!"},{"$error":"#DIV/0!"},{"$error":"#DIV/0!"},{"$error":"#DIV/0!"},{"$error":"#DIV/0!"},{"$error":"#DIV/0!"},{"$error":"#DIV/0!"},{"$error":"#DIV/0!"},{"$error":"#DIV/0!"},{"$error":"#DIV/0!"},{"$error":"#DIV/0!"},{"$error":"#DIV/0!"},0,{"$error":"#DIV/0!"},null,null,null,null,null,null,null,null,null,null,null,null,null,null,null,null,null,null,null,null,null,"1967-05-08",0.3,3.319,null,"1975-05-07",6.5,1.6739999999999999,null,"2006-05-07",1.44,2.63137,1.44,2.63137,1.44,2.5110800000000002,null,"2016-05-06",0,2.6611799999999999,0,2.6611799999999999,0,2.5065300000000001,null,"2066-05-07",1.31,2.8102800000000001,1.31,2.8102800000000001,1.31,2.4837899999999999,null,null,null,"Eindtotaal",{"$error":"#DIV/0!"},null,53,{"$error":"#DIV/0!"},{"$error":"#DIV/0!"},{"$error":"#DIV/0!"}]
["1967-05-09",0,5.218,5,1967,19,0,{"$f":"IF(B162<Parameters!$A$16,B162*Parameters!$B$16,IF(AND(B162>Parameters!$A$16,B162<Parameters!$A$17),B162*Parameters!$B$17,B162*Parameters!$B$18))","v":0},{"$f":"IF(B162<Parameters!$A$20,B162*Parameters!$B$20,IF(AND(B162>Parameters!$A$20,B162<Parameters!$A$21),B162*Parameters!$B$21,B162*Parameters!$B$22))","v":0},{"$error":"#DIV/0!"},"",0,"",0,5.0244516129032259,{"$error":"#DIV/0!"},{"$error":"#DIV/0!"},{"$f":"IF('Gegevens '!$G$20=\"Eigen waarden\",VLOOKUP($F162,'Gegevens '!$A$25:$C$77,3,FALSE),VLOOKUP($F162,Lijsten!$A$19:$B$71,2,FALSE))","v":36.149555012451422},{"$error":"#DIV/0!"},{"$error":"#DIV/0!"},{"$error":"#DIV/0!"},{"$error":"#DIV/0!"},{"$error":"#DIV/0!"},{"$error":"#DIV/0!"},{"$error":"#DIV/0!"},"","",{"$error":"#DIV/0!"},0,{"$error":"#DIV/0!"},0,{"$error":"#DIV/0!"},{"$error":"#DIV/0!"},{"$error":"#DIV/0!"},{"$error":"#DIV/0!"},{"$error":"#DIV/0!"},{"$error":"#DIV/0!"},"","","",{"$error":"#DIV/0!"},0,{"$error":"#DIV/0!"},null,null,null,null,null,null,null,null,null,null,null,null,null,null,null,null,null,null,null,null,null,"1967-05-09",0,5.218,null,"1975-05-08",1.3,3.552,null,"2006-05-08",0.34,3.45607,0.34,3.45607,0.34,3.2980900000000002,null,"2016-05-07",0.32,3.4952399999999999,0.32,3.4952399999999999,0.32,3.2921200000000002,null,"2066-05-08",0.3,3.6910599999999998,0.3,3.6910599999999998,0.3,3.2622499999999999,null,null,null,null,{"$f":"MAX(CV115:CV160)","v":{"$error":"#DIV/0!"}},null,"Eindtotaal",{"$error":"#DIV/0!"},{"$error":"#DIV/0!"},{"$error":"#DIV/0!"}]
["1967-05-10",0,5.9640000000000004,{"$f":"MONTH(A163)","v":5},1967,{"$f":"INT((A163-DATE(YEAR(A163-WEEKDAY(A163-1)+4),1,3)+WEEKDAY(DATE(YEAR(A163-WEEKDAY(A163-1)+4),1,3))+5)/7)","v":19},0,{"$f":"IF(B163<Parameters!$A$16,B163*Parameters!$B$16,IF(AND(B163>Parameters!$A$16,B163<Parameters!$A$17),B163*Parameters!$B$17,B163*Parameters!$B$18))","v":0},{"$f":"IF(B163<Parameters!$A$20,B163*Parameters!$B$20,IF(AND(B163>Parameters!$A$20,B163<Parameters!$A$21),B163*Parameters!$B$21,B163*Parameters!$B$22))","v":0},{"$error":"#DIV/0!"},{"$f":"IF(B163=0,\"\",SUM(J163/(B163*10)))","v":""},0,{"$f":"IF(B163=0,\"\",L163/J163)","v":""},{"$f":"IF(B163=0,0,SUM(J163-L163))","v":0},{"$f":"IF(OR($D163=1,$D163=12,$D163=8),C163+(2/31),IF($D163=2,C163-(1/28),IF($D163=3,C163-(3/31),IF($D163=4,C163-(5/30),IF($D163=5,C163-(6/31),IF($D163=6,C163-(4/30),IF($D163=7,C163-(1/31),IF($D163=9,C163+(4/30),IF($D163=10,C163+(5/31),IF($D163=11,C163+(5/30)))))))))))","v":5.7704516129032264},{"$f":"-(($BH$3-$BI$3)*($AN$3+$AK$3-U163)/($AK$3)-$BH$3)","v":{"$error":"#DIV/0!"}},{"$error":"#DIV/0!"},{"$f":"IF('Gegevens '!$G$20=\"Eigen waarden\",VLOOKUP($F163,'Gegevens '!$A$25:$C$77,3,FALSE),VLOOKUP($F163,Lijsten!$A$19:$B$71,2,FALSE))","v":36.149555012451422},{"$error":"#DIV/0!"},{"$error":"#DIV/0!"},{"$error":"#DIV/0!"},{"$error":"#DIV/0!"},{"$error":"#DIV/0!"},{"$error":"#DIV/0!"},{"$f":"IF(R163=0,\"\",((R163-W163)/R163))","v":{"$error":"#DIV/0!"}},{"$f":"IF(B163=0,\"\",X163/(B163*10))","v":""},"",{"$f":"J163/10","v":{"$error":"#DIV/0!"}},{"$f":"L163/10","v":0},{"$f":"X163/10","v":{"$error":"#DIV/0!"}},0,{"$error":"#DIV/0!"},{"$error":"#DIV/0!"},{"$f":"(R163-W163)/10","v":{"$error":"#DIV/0!"}},{"$f":"SUM(AC163-AF163-AG163-AD163)","v":{"$error":"#DIV/0!"}},{"$f":"IF(AB163=0,\"\",AE163/AB163)","v":{"$error":"#DIV/0!"}},{"$error":"#DIV/0!"},{"$f":"IF(AC163=0,\"\",AG163/AC163)","v":""},{"$f":"IF(AC163=0,\"\",AD163/AC163)","v":""},{"$f":"IF(AC163=0,\"\",AI163/AC163)","v":""},{"$error":"#DIV/0!"},0,{"$error":"#DIV/0!"},null,null,null,null,null,null,null,null,null,null,null,null,null,null,null,null,null,null,null,null,null,"1967-05-10",0,5.9640000000000004,null,"1975-05-09",0.4,2.226,null,"2006-05-09",0,5.4335000000000004,0,5.4335000000000004,0,5.18513,null,"2016-05-08",0,5.4950799999999997,0,5.4950799999999997,0,5.1757299999999997,null,"2066-05-09",0,5.8029400000000004,0,5.8029400000000004,0,5.1287700000000003]
["1967-05-11",6.9,4.7809999999999997,5,{"$f":"IF(AND((F163>1),(F164=1)),E163+1,E163)","v":1967},19,{"$f":"B164","v":6.9},{"$f":"IF(B164<Parameters!$A$16,B164*Parameters!$B$16,IF(AND(B164>Parameters!$A$16,B164<Parameters!$A$17),B164*Parameters!$B$17,B164*Parameters!$B$18))","v":6.5549999999999997},{"$f":"IF(B164<Parameters!$A$20,B164*Parameters!$B$20,IF(AND(B164>Parameters!$A$20,B164<Parameters!$A$21),B164*Parameters!$B$21,B164*Parameters!$B$22))","v":5.1750000000000007},{"$error":"#DIV/0!"},{"$error":"#DIV/0!"},{"$f":"IF(B164=0,0,SUM(B164*$D$3+H164*$B$3+I164*$C$3)/$E$3*10)","v":{"$error":"#DIV/0!"}},{"$error":"#DIV/0!"},{"$error":"#DIV/0!"},4.5874516129032257,{"$error":"#DIV/0!"},{"$error":"#DIV/0!"},{"$f":"IF('Gegevens '!$G$20=\"Eigen waarden\",VLOOKUP($F164,'Gegevens '!$A$25:$C$77,3,FALSE),VLOOKUP($F164,Lijsten!$A$19:$B$71,2,FALSE))","v":36.149555012451422},{"$f":"SUM(L164-R164-Q164)","v":{"$error":"#DIV/0!"}},{"$f":"L164-Q164","v":{"$error":"#DIV/0!"}},{"$f":"IF(U163<$AN$3,U163+T164,IF(AND((U163>$AN$3),(SUM(U163+S164)<$AN$3)),SUM($AN$3+T164),IF((SUM(U163+S164)>($AN$3+$AK$3)),$AN$3+$AK$3,U163+S164)))","v":{"$error":"#DIV/0!"}},{"$error":"#DIV/0!"},{"$error":"#DIV/0!"},{"$f":"R164-W164","v":{"$error":"#DIV/0!"}},{"$error":"#DIV/0!"},{"$error":"#DIV/0!"},{"$f":"K164","v":{"$error":"#DIV/0!"}},{"$error":"#DIV/0!"},{"$error":"#DIV/0!"},{"$error":"#DIV/0!"},{"$error":"#DIV/0!"},{"$error":"#DIV/0!"},{"$error":"#DIV/0!"},{"$error":"#DIV/0!"},{"$error":"#DIV/0!"},{"$error":"#DIV/0!"},{"$f":"IF(AB164=0,\"\",AF164/AB164)","v":{"$error":"#DIV/0!"}},{"$error":"#DIV/0!"},{"$error":"#DIV/0!"},{"$error":"#DIV/0!"},{"$f":"AI164*$E$5/1000","v":{"$error":"#DIV/0!"}},{"$f":"IF(OR(F164<=13,F164>=40),VALUE(AO164),0)","v":0},{"$f":"IF(OR(F164<=13,F164>=40),0,VALUE(AO164))","v":{"$error":"#DIV/0!"}},null,null,null,null,null,null,null,null,null,null,null,null,null,null,null,null,null,null,null,null,null,"1967-05-11",6.9,4.7809999999999997,null,"1975-05-10",0.8,2.0760000000000001,null,"2006-05-10",0,6.2103099999999998,0,6.2103099999999998,0,5.9264299999999999,null,"2016-05-09",0,6.2806899999999999,0,6.2806899999999999,0,5.9156899999999997,null,"2066-05-10",0,6.6325599999999998,0,6.6325599999999998,0,5.8620200000000002]
["1967-05-12",2.5,4.3819999999999997,5,1967,19,2.5,{"$f":"IF(B165<Parameters!$A$16,B165*Parameters!$B$16,IF(AND(B165>Parameters!$A$16,B165<Parameters!$A$17),B165*Parameters!$B$17,B165*Parameters!$B$18))","v":2.375},{"$f":"IF(B165<Parameters!$A$20,B165*Parameters!$B$20,IF(AND(B165>Parameters!$A$20,B165<Parameters!$A$21),B165*Parameters!$B$21,B165*Parameters!$B$22))","v":1.875},{"$f":"B165*SUM($B$3,$C$3,$D$3)/$E$3*10","v":{"$error":"#DIV/0!"}},{"$error":"#DIV/0!"},{"$error":"#DIV/0!"},{"$error":"#DIV/0!"},{"$error":"#DIV/0!"},4.1884516129032257,{"$error":"#DIV/0!"},{"$error":"#DIV/0!"},{"$f":"IF('Gegevens '!$G$20=\"Eigen waarden\",VLOOKUP($F165,'Gegevens '!$A$25:$C$77,3,FALSE),VLOOKUP($F165,Lijsten!$A$19:$B$71,2,FALSE))","v":36.149555012451422},{"$error":"#DIV/0!"},{"$error":"#DIV/0!"},{"$error":"#DIV/0!"},{"$f":"IF(SUM(U164+S165)>SUM($AK$3+$AN$3),SUM(U164+S165-($AK$3+$AN$3)),0)","v":{"$error":"#DIV/0!"}},{"$f":"IF(U164<$AN$3,R165,IF(SUM(U164-R165)>$AN$3,0,IF(SUM(U164+S165)<$AN$3,SUM(R165-(U164-$AN$3)),0)))","v":{"$error":"#DIV/0!"}},{"$error":"#DIV/0!"},{"$error":"#DIV/0!"},{"$error":"#DIV/0!"},{"$error":"#DIV/0!"},{"$error":"#DIV/0!"},{"$error":"#DIV/0!"},{"$error":"#DIV/0!"},{"$f":"N165/10","v":{"$error":"#DIV/0!"}},{"$error":"#DIV/0!"},{"$f":"Q165/10","v":{"$error":"#DIV/0!"}},{"$error":"#DIV/0!"},{"$error":"#DIV/0!"},{"$error":"#DIV/0!"},{"$error":"#DIV/0!"},{"$error":"#DIV/0!"},{"$error":"#DIV/0!"},{"$error":"#DIV/0!"},{"$error":"#DIV/0!"},0,{"$error":"#DIV/0!"},null,null,null,null,null,null,null,null,null,null,null,null,null,null,null,null,null,null,null,null,null,"1967-05-12",2.5,4.3819999999999997,null,"1975-05-11",0.1,2.6160000000000001,null,"2006-05-11",7.93,4.9784600000000001,7.93,4.9784600000000001,7.93,4.7508800000000004,null,"2016-05-10",7.89,5.0348699999999997,7.89,5.0348699999999997,7.89,4.7422700000000004,null,"2066-05-11",7.77,5.3169500000000003,7.77,5.3169500000000003,7.77,4.6992399999999996]
["1967-05-13",3.5,4.2770000000000001,5,1967,19,3.5,{"$f":"IF(B166<Parameters!$A$16,B166*Parameters!$B$16,IF(AND(B166>Parameters!$A$16,B166<Parameters!$A$17),B166*Parameters!$B$17,B166*Parameters!$B$18))","v":3.3249999999999997},{"$f":"IF(B166<Parameters!$A$20,B166*Parameters!$B$20,IF(AND(B166>Parameters!$A$20,B166<Parameters!$A$21),B166*Parameters!$B$21,B166*Parameters!$B$22))","v":2.625},{"$error":"#DIV/0!"},{"$error":"#DIV/0!"},{"$error":"#DIV/0!"},{"$error":"#DIV/0!"},{"$error":"#DIV/0!"},4.0834516129032261,{"$error":"#DIV/0!"},{"$f":"SUM(O166*P165)/$E$3*10","v":{"$error":"#DIV/0!"}},{"$f":"IF('Gegevens '!$G$20=\"Eigen waarden\",VLOOKUP($F166,'Gegevens '!$A$25:$C$77,3,FALSE),VLOOKUP($F166,Lijsten!$A$19:$B$71,2,FALSE))","v":36.149555012451422},{"$error":"#DIV/0!"},{"$error":"#DIV/0!"},{"$error":"#DIV/0!"},{"$error":"#DIV/0!"},{"$error":"#DIV/0!"},{"$error":"#DIV/0!"},{"$error":"#DIV/0!"},{"$error":"#DIV/0!"},{"$error":"#DIV/0!"},{"$error":"#DIV/0!"},{"$error":"#DIV/0!"},{"$error":"#DIV/0!"},{"$error":"#DIV/0!"},{"$error":"#DIV/0!"},{"$error":"#DIV/0!"},{"$error":"#DIV/0!"},{"$error":"#DIV/0!"},{"$error":"#DIV/0!"},{"$error":"#DIV/0!"},{"$error":"#DIV/0!"},{"$error":"#DIV/0!"},{"$error":"#DIV/0!"},{"$error":"#DIV/0!"},0,{"$error":"#DIV/0!"},null,null,null,null,null,null,null,null,null,null,null,null,null,null,null,null,null,null,null,null,null,"1967-05-13",3.5,4.2770000000000001,null,"1975-05-12",0,3.8980000000000001,null,"2006-05-12",2.8,4.5629799999999996,2.8,4.5629799999999996,2.8,4.3543900000000004,null,"2016-05-11",2.77,4.6146799999999999,2.77,4.6146799999999999,2.77,4.3465100000000003,null,"2066-05-12",2.61,4.8732199999999999,2.61,4.8732199999999999,2.61,4.3070700000000004]
["1967-05-14",0.3,4.7949999999999999,5,1967,19,0.3,{"$f":"IF(B167<Parameters!$A$16,B167*Parameters!$B$16,IF(AND(B167>Parameters!$A$16,B167<Parameters!$A$17),B167*Parameters!$B$17,B167*Parameters!$B$18))","v":0},{"$f":"IF(B167<Parameters!$A$20,B167*Parameters!$B$20,IF(AND(B167>Parameters!$A$20,B167<Parameters!$A$21),B167*Parameters!$B$21,B167*Parameters!$B$22))","v":0},{"$error":"#DIV/0!"},{"$error":"#DIV/0!"},{"$error":"#DIV/0!"},{"$error":"#DIV/0!"},{"$error":"#DIV/0!"},4.6014516129032259,{"$error":"#DIV/0!"},{"$error":"#DIV/0!"},{"$f":"IF('Gegevens '!$G$20=\"Eigen waarden\",VLOOKUP($F167,'Gegevens '!$A$25:$C$77,3,FALSE),VLOOKUP($F167,Lijsten!$A$19:$B$71,2,FALSE))","v":36.149555012451422},{"$error":"#DIV/0!"},{"$error":"#DIV/0!"},{"$error":"#DIV/0!"},{"$error":"#DIV/0!"},{"$error":"#DIV/0!"},{"$error":"#DIV/0!"},{"$error":"#DIV/0!"},{"$error":"#DIV/0!"},{"$error":"#DIV/0!"},{"$error":"#DIV/0!"},{"$error":"#DIV/0!"},{"$error":"#DIV/0!"},{"$error":"#DIV/0!"},{"$error":"#DIV/0!"},{"$error":"#DIV/0!"},{"$error":"#DIV/0!"},{"$error":"#DIV/0!"},{"$error":"#DIV/0!"},{"$error":"#DIV/0!"},{"$error":"#DIV/0!"},{"$error":"#DIV/0!"},{"$error":"#DIV/0!"},{"$error":"#DIV/0!"},0,{"$error":"#DIV/0!"},null,null,null,null,null,null,null,null,null,null,null,null,null,null,null,null,null,null,null,null,null,"1967-05-14",0.3,4.7949999999999999,null,"1975-05-13",0.7,2.3250000000000002,null,"2006-05-13",3.94,4.45364,3.94,4.45364,3.94,4.2500499999999999,null,"2016-05-12",3.91,4.5041099999999998,3.91,4.5041099999999998,3.91,4.2423599999999997,null,"2066-05-13",3.76,4.7564500000000001,3.76,4.7564500000000001,3.76,4.2038599999999997]
["1967-05-15",3.2,3.2240000000000002,5,1967,20,3.2,{"$f":"IF(B168<Parameters!$A$16,B168*Parameters!$B$16,IF(AND(B168>Parameters!$A$16,B168<Parameters!$A$17),B168*Parameters!$B$17,B168*Parameters!$B$18))","v":3.04},{"$f":"IF(B168<Parameters!$A$20,B168*Parameters!$B$20,IF(AND(B168>Parameters!$A$20,B168<Parameters!$A$21),B168*Parameters!$B$21,B168*Parameters!$B$22))","v":2.4000000000000004},{"$error":"#DIV/0!"},{"$error":"#DIV/0!"},{"$error":"#DIV/0!"},{"$error":"#DIV/0!"},{"$error":"#DIV/0!"},3.0304516129032262,{"$error":"#DIV/0!"},{"$error":"#DIV/0!"},{"$f":"IF('Gegevens '!$G$20=\"Eigen waarden\",VLOOKUP($F168,'Gegevens '!$A$25:$C$77,3,FALSE),VLOOKUP($F168,Lijsten!$A$19:$B$71,2,FALSE))","v":36.908247477731429},{"$error":"#DIV/0!"},{"$error":"#DIV/0!"},{"$error":"#DIV/0!"},{"$error":"#DIV/0!"},{"$error":"#DIV/0!"},{"$error":"#DIV/0!"},{"$error":"#DIV/0!"},{"$error":"#DIV/0!"},{"$error":"#DIV/0!"},{"$error":"#DIV/0!"},{"$error":"#DIV/0!"},{"$error":"#DIV/0!"},{"$error":"#DIV/0!"},{"$error":"#DIV/0!"},{"$error":"#DIV/0!"},{"$error":"#DIV/0!"},{"$error":"#DIV/0!"},{"$error":"#DIV/0!"},{"$error":"#DIV/0!"},{"$error":"#DIV/0!"},{"$error":"#DIV/0!"},{"$error":"#DIV/0!"},{"$error":"#DIV/0!"},0,{"$error":"#DIV/0!"},null,null,null,null,null,null,null,null,null,null,null,null,null,null,null,null,null,null,null,null,null,"1967-05-15",3.2,3.2240000000000002,null,"1975-05-14",0.2,3.5289999999999999,null,"2006-05-14",0.34,4.9930300000000001,0.34,4.9930300000000001,0.34,4.7647899999999996,null,"2016-05-13",0.32,5.0496100000000004,0.32,5.0496100000000004,0.32,4.7561600000000004,null,"2066-05-14",0.3,5.3325199999999997,0.3,5.3325199999999997,0.3,4.7130099999999997,null,null,null,"Rijlabels","Som van Bufferopbouw mm2"]
["1967-05-16",0,2.91,5,1967,20,0,{"$f":"IF(B169<Parameters!$A$16,B169*Parameters!$B$16,IF(AND(B169>Parameters!$A$16,B169<Parameters!$A$17),B169*Parameters!$B$17,B169*Parameters!$B$18))","v":0},{"$f":"IF(B169<Parameters!$A$20,B169*Parameters!$B$20,IF(AND(B169>Parameters!$A$20,B169<Parameters!$A$21),B169*Parameters!$B$21,B169*Parameters!$B$22))","v":0},{"$error":"#DIV/0!"},"",0,"",0,2.7164516129032261,{"$error":"#DIV/0!"},{"$error":"#DIV/0!"},{"$f":"IF('Gegevens '!$G$20=\"Eigen waarden\",VLOOKUP($F169,'Gegevens '!$A$25:$C$77,3,FALSE),VLOOKUP($F169,Lijsten!$A$19:$B$71,2,FALSE))","v":36.908247477731429},{"$error":"#DIV/0!"},{"$error":"#DIV/0!"},{"$error":"#DIV/0!"},{"$error":"#DIV/0!"},{"$error":"#DIV/0!"},{"$error":"#DIV/0!"},{"$error":"#DIV/0!"},"","",{"$error":"#DIV/0!"},0,{"$error":"#DIV/0!"},0,{"$f":"V169/10","v":{"$error":"#DIV/0!"}},{"$error":"#DIV/0!"},{"$error":"#DIV/0!"},{"$error":"#DIV/0!"},{"$error":"#DIV/0!"},{"$error":"#DIV/0!"},"","","",{"$error":"#DIV/0!"},0,{"$error":"#DIV/0!"},null,null,null,null,null,null,null,null,null,null,null,null,null,null,null,null,null,null,null,null,null,"1967-05-16",0,2.91,null,"1975-05-15",1.7,2.6349999999999998,null,"2006-05-15",3.6,3.3571499999999999,3.6,3.3571499999999999,3.6,3.2036899999999999,null,"2016-05-14",3.56,3.3951899999999999,3.56,3.3951899999999999,3.56,3.1978900000000001,null,"2066-05-15",3.38,3.58541,3.38,3.58541,3.38,3.1688700000000001,null,null,null,1,{"$error":"#DIV/0!"}]
["1967-05-17",5.6,3.3039999999999998,5,1967,20,5.6,{"$f":"IF(B170<Parameters!$A$16,B170*Parameters!$B$16,IF(AND(B170>Parameters!$A$16,B170<Parameters!$A$17),B170*Parameters!$B$17,B170*Parameters!$B$18))","v":5.3199999999999994},{"$f":"IF(B170<Parameters!$A$20,B170*Parameters!$B$20,IF(AND(B170>Parameters!$A$20,B170<Parameters!$A$21),B170*Parameters!$B$21,B170*Parameters!$B$22))","v":4.1999999999999993},{"$error":"#DIV/0!"},{"$error":"#DIV/0!"},{"$error":"#DIV/0!"},{"$error":"#DIV/0!"},{"$error":"#DIV/0!"},3.1104516129032258,{"$error":"#DIV/0!"},{"$error":"#DIV/0!"},{"$f":"IF('Gegevens '!$G$20=\"Eigen waarden\",VLOOKUP($F170,'Gegevens '!$A$25:$C$77,3,FALSE),VLOOKUP($F170,Lijsten!$A$19:$B$71,2,FALSE))","v":36.908247477731429},{"$error":"#DIV/0!"},{"$error":"#DIV/0!"},{"$error":"#DIV/0!"},{"$error":"#DIV/0!"},{"$error":"#DIV/0!"},{"$error":"#DIV/0!"},{"$error":"#DIV/0!"},{"$error":"#DIV/0!"},{"$error":"#DIV/0!"},{"$error":"#DIV/0!"},{"$error":"#DIV/0!"},{"$error":"#DIV/0!"},{"$error":"#DIV/0!"},{"$error":"#DIV/0!"},{"$error":"#DIV/0!"},{"$error":"#DIV/0!"},{"$error":"#DIV/0!"},{"$error":"#DIV/0!"},{"$error":"#DIV/0!"},{"$error":"#DIV/0!"},{"$error":"#DIV/0!"},{"$error":"#DIV/0!"},{"$error":"#DIV/0!"},0,{"$error":"#DIV/0!"},null,null,null,null,null,null,null,null,null,null,null,null,null,null,null,null,null,null,null,null,null,"1967-05-17",5.6,3.3039999999999998,null,"1975-05-16",0,4.5030000000000001,null,"2006-05-16",0,3.0301800000000001,0,3.0301800000000001,0,2.89167,null,"2016-05-15",0,3.0645199999999999,0,3.0645199999999999,0,2.8864299999999998,null,"2066-05-16",0,3.2362099999999998,0,3.2362099999999998,0,2.8602400000000001,null,null,null,2,{"$error":"#DIV/0!"}]
["1967-05-18",0.5,3.0009999999999999,5,1967,20,0.5,{"$f":"IF(B171<Parameters!$A$16,B171*Parameters!$B$16,IF(AND(B171>Parameters!$A$16,B171<Parameters!$A$17),B171*Parameters!$B$17,B171*Parameters!$B$18))","v":0},{"$f":"IF(B171<Parameters!$A$20,B171*Parameters!$B$20,IF(AND(B171>Parameters!$A$20,B171<Parameters!$A$21),B171*Parameters!$B$21,B171*Parameters!$B$22))","v":0},{"$error":"#DIV/0!"},{"$error":"#DIV/0!"},{"$error":"#DIV/0!"},{"$error":"#DIV/0!"},{"$error":"#DIV/0!"},2.8074516129032259,{"$error":"#DIV/0!"},{"$error":"#DIV/0!"},{"$f":"IF('Gegevens '!$G$20=\"Eigen waarden\",VLOOKUP($F171,'Gegevens '!$A$25:$C$77,3,FALSE),VLOOKUP($F171,Lijsten!$A$19:$B$71,2,FALSE))","v":36.908247477731429},{"$error":"#DIV/0!"},{"$error":"#DIV/0!"},{"$error":"#DIV/0!"},{"$error":"#DIV/0!"},{"$error":"#DIV/0!"},{"$error":"#DIV/0!"},{"$error":"#DIV/0!"},{"$error":"#DIV/0!"},{"$error":"#DIV/0!"},{"$error":"#DIV/0!"},{"$error":"#DIV/0!"},{"$error":"#DIV/0!"},{"$error":"#DIV/0!"},{"$error":"#DIV/0!"},{"$error":"#DIV/0!"},{"$error":"#DIV/0!"},{"$error":"#DIV/0!"},{"$error":"#DIV/0!"},{"$error":"#DIV/0!"},{"$error":"#DIV/0!"},{"$error":"#DIV/0!"},{"$error":"#DIV/0!"},{"$error":"#DIV/0!"},0,{"$error":"#DIV/0!"},null,null,null,null,null,null,null,null,null,null,null,null,null,null,null,null,null,null,null,null,null,"1967-05-18",0.5,3.0009999999999999,null,"1975-05-17",0.3,4.8680000000000003,null,"2006-05-17",6.39,3.4404599999999999,6.39,3.4404599999999999,6.39,3.2831800000000002,null,"2016-05-16",6.36,3.4794399999999999,6.36,3.4794399999999999,6.36,3.2772399999999999,null,"2066-05-17",6.19,3.6743800000000002,6.19,3.6743800000000002,6.19,3.2475000000000001,null,null,null,3,{"$error":"#DIV/0!"}]
["1967-05-19",0.9,3.3159999999999998,5,1967,20,0.9,{"$f":"IF(B172<Parameters!$A$16,B172*Parameters!$B$16,IF(AND(B172>Parameters!$A$16,B172<Parameters!$A$17),B172*Parameters!$B$17,B172*Parameters!$B$18))","v":0},{"$f":"IF(B172<Parameters!$A$20,B172*Parameters!$B$20,IF(AND(B172>Parameters!$A$20,B172<Parameters!$A$21),B172*Parameters!$B$21,B172*Parameters!$B$22))","v":0},{"$error":"#DIV/0!"},{"$error":"#DIV/0!"},{"$error":"#DIV/0!"},{"$error":"#DIV/0!"},{"$error":"#DIV/0!"},3.1224516129032258,{"$error":"#DIV/0!"},{"$error":"#DIV/0!"},{"$f":"IF('Gegevens '!$G$20=\"Eigen waarden\",VLOOKUP($F172,'Gegevens '!$A$25:$C$77,3,FALSE),VLOOKUP($F172,Lijsten!$A$19:$B$71,2,FALSE))","v":36.908247477731429},{"$error":"#DIV/0!"},{"$error":"#DIV/0!"},{"$error":"#DIV/0!"},{"$error":"#DIV/0!"},{"$error":"#DIV/0!"},{"$error":"#DIV/0!"},{"$error":"#DIV/0!"},{"$error":"#DIV/0!"},{"$error":"#DIV/0!"},{"$error":"#DIV/0!"},{"$error":"#DIV/0!"},{"$error":"#DIV/0!"},{"$error":"#DIV/0!"},{"$error":"#DIV/0!"},{"$error":"#DIV/0!"},{"$error":"#DIV/0!"},{"$error":"#DIV/0!"},{"$error":"#DIV/0!"},{"$error":"#DIV/0!"},{"$error":"#DIV/0!"},{"$error":"#DIV/0!"},{"$error":"#DIV/0!"},{"$error":"#DIV/0!"},0,{"$error":"#DIV/0!"},null,null,null,null,null,null,null,null,null,null,null,null,null,null,null,null,null,null,null,null,null,"1967-05-19",0.9,3.3159999999999998,null,"1975-05-18",0,3.6880000000000002,null,"2006-05-18",0.56000000000000005,3.1249400000000001,0.56000000000000005,3.1249400000000001,0.56000000000000005,2.9820899999999999,null,"2016-05-17",0.55000000000000004,3.1603500000000002,0.55000000000000004,3.1603500000000002,0.55000000000000004,2.9766900000000001,null,"2066-05-18",0.51,3.3374100000000002,0.51,3.3374100000000002,0.51,2.9496799999999999,null,null,null,4,{"$error":"#DIV/0!"}]
["1967-05-20",0,4.1040000000000001,5,1967,20,0,{"$f":"IF(B173<Parameters!$A$16,B173*Parameters!$B$16,IF(AND(B173>Parameters!$A$16,B173<Parameters!$A$17),B173*Parameters!$B$17,B173*Parameters!$B$18))","v":0},{"$f":"IF(B173<Parameters!$A$20,B173*Parameters!$B$20,IF(AND(B173>Parameters!$A$20,B173<Parameters!$A$21),B173*Parameters!$B$21,B173*Parameters!$B$22))","v":0},{"$error":"#DIV/0!"},"",0,"",0,3.9104516129032261,{"$error":"#DIV/0!"},{"$error":"#DIV/0!"},{"$f":"IF('Gegevens '!$G$20=\"Eigen waarden\",VLOOKUP($F173,'Gegevens '!$A$25:$C$77,3,FALSE),VLOOKUP($F173,Lijsten!$A$19:$B$71,2,FALSE))","v":36.908247477731429},{"$error":"#DIV/0!"},{"$error":"#DIV/0!"},{"$error":"#DIV/0!"},{"$error":"#DIV/0!"},{"$error":"#DIV/0!"},{"$error":"#DIV/0!"},{"$error":"#DIV/0!"},"","",{"$error":"#DIV/0!"},0,{"$error":"#DIV/0!"},0,{"$error":"#DIV/0!"},{"$error":"#DIV/0!"},{"$error":"#DIV/0!"},{"$error":"#DIV/0!"},{"$error":"#DIV/0!"},{"$error":"#DIV/0!"},"","","",{"$error":"#DIV/0!"},0,{"$error":"#DIV/0!"},null,null,null,null,null,null,null,null,null,null,null,null,null,null,null,null,null,null,null,null,null,"1967-05-20",0,4.1040000000000001,null,"1975-05-19",0,1.5229999999999999,null,"2006-05-19",0,3.45295,0,3.45295,0,3.2951100000000002,null,"2016-05-18",0,3.4920800000000001,0,3.4920800000000001,0,3.2891400000000002,null,"2066-05-19",0,3.6877200000000001,0,3.6877200000000001,0,3.2593000000000001,null,null,null,5,{"$error":"#DIV/0!"}]
["1967-05-21",0,5.3890000000000002,5,1967,20,0,{"$f":"IF(B174<Parameters!$A$16,B174*Parameters!$B$16,IF(AND(B174>Parameters!$A$16,B174<Parameters!$A$17),B174*Parameters!$B$17,B174*Parameters!$B$18))","v":0},{"$f":"IF(B174<Parameters!$A$20,B174*Parameters!$B$20,IF(AND(B174>Parameters!$A$20,B174<Parameters!$A$21),B174*Parameters!$B$21,B174*Parameters!$B$22))","v":0},{"$error":"#DIV/0!"},"",0,"",0,5.1954516129032262,{"$error":"#DIV/0!"},{"$error":"#DIV/0!"},{"$f":"IF('Gegevens '!$G$20=\"Eigen waarden\",VLOOKUP($F174,'Gegevens '!$A$25:$C$77,3,FALSE),VLOOKUP($F174,Lijsten!$A$19:$B$71,2,FALSE))","v":36.908247477731429},{"$error":"#DIV/0!"},{"$error":"#DIV/0!"},{"$error":"#DIV/0!"},{"$error":"#DIV/0!"},{"$error":"#DIV/0!"},{"$error":"#DIV/0!"},{"$error":"#DIV/0!"},"","",{"$error":"#DIV/0!"},0,{"$error":"#DIV/0!"},0,{"$error":"#DIV/0!"},{"$error":"#DIV/0!"},{"$error":"#DIV/0!"},{"$error":"#DIV/0!"},{"$error":"#DIV/0!"},{"$error":"#DIV/0!"},"","","",{"$error":"#DIV/0!"},0,{"$error":"#DIV/0!"},null,null,null,null,null,null,null,null,null,null,null,null,null,null,null,null,null,null,null,null,null,"1967-05-21",0,5.3890000000000002,null,"1975-05-20",0,5.7759999999999998,null,"2006-05-20",0,4.2735000000000003,0,4.2735000000000003,0,4.0781400000000003,null,"2016-05-19",0,4.3219200000000004,0,4.3219200000000004,0,4.0707599999999999,null,"2066-05-20",0,4.5640599999999996,0,4.5640599999999996,0,4.0338200000000004,null,null,null,6,{"$error":"#DIV/0!"}]
["1967-05-22",2.1,2.0390000000000001,5,1967,21,2.1,{"$f":"IF(B175<Parameters!$A$16,B175*Parameters!$B$16,IF(AND(B175>Parameters!$A$16,B175<Parameters!$A$17),B175*Parameters!$B$17,B175*Parameters!$B$18))","v":1.9949999999999999},{"$f":"IF(B175<Parameters!$A$20,B175*Parameters!$B$20,IF(AND(B175>Parameters!$A$20,B175<Parameters!$A$21),B175*Parameters!$B$21,B175*Parameters!$B$22))","v":1.5750000000000002},{"$error":"#DIV/0!"},{"$error":"#DIV/0!"},{"$error":"#DIV/0!"},{"$error":"#DIV/0!"},{"$error":"#DIV/0!"},1.8454516129032259,{"$error":"#DIV/0!"},{"$error":"#DIV/0!"},{"$f":"IF('Gegevens '!$G$20=\"Eigen waarden\",VLOOKUP($F175,'Gegevens '!$A$25:$C$77,3,FALSE),VLOOKUP($F175,Lijsten!$A$19:$B$71,2,FALSE))","v":38.569226396674274},{"$error":"#DIV/0!"},{"$error":"#DIV/0!"},{"$error":"#DIV/0!"},{"$error":"#DIV/0!"},{"$error":"#DIV/0!"},{"$error":"#DIV/0!"},{"$error":"#DIV/0!"},{"$error":"#DIV/0!"},{"$error":"#DIV/0!"},{"$error":"#DIV/0!"},{"$error":"#DIV/0!"},{"$error":"#DIV/0!"},{"$error":"#DIV/0!"},{"$error":"#DIV/0!"},{"$error":"#DIV/0!"},{"$error":"#DIV/0!"},{"$error":"#DIV/0!"},{"$error":"#DIV/0!"},{"$error":"#DIV/0!"},{"$error":"#DIV/0!"},{"$error":"#DIV/0!"},{"$error":"#DIV/0!"},{"$error":"#DIV/0!"},0,{"$error":"#DIV/0!"},null,null,null,null,null,null,null,null,null,null,null,null,null,null,null,null,null,null,null,null,null,"1967-05-22",2.1,2.0390000000000001,null,"1975-05-21",0,3.9729999999999999,null,"2006-05-21",0,5.6115700000000004,0,5.6115700000000004,0,5.3550500000000003,null,"2016-05-20",0,5.67516,0,5.67516,0,5.3453499999999998,null,"2066-05-21",0,5.9931099999999997,0,5.9931099999999997,0,5.2968500000000001,null,null,null,7,{"$error":"#DIV/0!"}]
["1967-05-23",0.1,3.52,5,1967,21,0.1,{"$f":"IF(B176<Parameters!$A$16,B176*Parameters!$B$16,IF(AND(B176>Parameters!$A$16,B176<Parameters!$A$17),B176*Parameters!$B$17,B176*Parameters!$B$18))","v":0},{"$f":"IF(B176<Parameters!$A$20,B176*Parameters!$B$20,IF(AND(B176>Parameters!$A$20,B176<Parameters!$A$21),B176*Parameters!$B$21,B176*Parameters!$B$22))","v":0},{"$error":"#DIV/0!"},{"$error":"#DIV/0!"},{"$error":"#DIV/0!"},{"$error":"#DIV/0!"},{"$error":"#DIV/0!"},3.326451612903226,{"$error":"#DIV/0!"},{"$error":"#DIV/0!"},{"$f":"IF('Gegevens '!$G$20=\"Eigen waarden\",VLOOKUP($F176,'Gegevens '!$A$25:$C$77,3,FALSE),VLOOKUP($F176,Lijsten!$A$19:$B$71,2,FALSE))","v":38.569226396674274},{"$error":"#DIV/0!"},{"$error":"#DIV/0!"},{"$error":"#DIV/0!"},{"$error":"#DIV/0!"},{"$error":"#DIV/0!"},{"$error":"#DIV/0!"},{"$error":"#DIV/0!"},{"$error":"#DIV/0!"},{"$error":"#DIV/0!"},{"$error":"#DIV/0!"},{"$error":"#DIV/0!"},{"$error":"#DIV/0!"},{"$error":"#DIV/0!"},{"$error":"#DIV/0!"},{"$error":"#DIV/0!"},{"$error":"#DIV/0!"},{"$error":"#DIV/0!"},{"$error":"#DIV/0!"},{"$error":"#DIV/0!"},{"$error":"#DIV/0!"},{"$error":"#DIV/0!"},{"$error":"#DIV/0!"},{"$error":"#DIV/0!"},0,{"$error":"#DIV/0!"},null,null,null,null,null,null,null,null,null,null,null,null,null,null,null,null,null,null,null,null,null,"1967-05-23",0.1,3.52,null,"1975-05-22",0,4.3179999999999996,null,"2006-05-22",2.34,2.1232099999999998,2.34,2.1232099999999998,2.34,2.0261499999999999,null,"2016-05-21",2.31,2.1472699999999998,2.31,2.1472699999999998,2.31,2.0224799999999998,null,"2066-05-22",2.17,2.2675700000000001,2.17,2.2675700000000001,2.17,2.00413,null,null,null,8,{"$error":"#DIV/0!"}]
["1967-05-24",5.2,1.7849999999999999,5,1967,21,5.2,{"$f":"IF(B177<Parameters!$A$16,B177*Parameters!$B$16,IF(AND(B177>Parameters!$A$16,B177<Parameters!$A$17),B177*Parameters!$B$17,B177*Parameters!$B$18))","v":4.9399999999999995},{"$f":"IF(B177<Parameters!$A$20,B177*Parameters!$B$20,IF(AND(B177>Parameters!$A$20,B177<Parameters!$A$21),B177*Parameters!$B$21,B177*Parameters!$B$22))","v":3.9000000000000004},{"$error":"#DIV/0!"},{"$error":"#DIV/0!"},{"$error":"#DIV/0!"},{"$error":"#DIV/0!"},{"$error":"#DIV/0!"},1.5914516129032257,{"$error":"#DIV/0!"},{"$error":"#DIV/0!"},{"$f":"IF('Gegevens '!$G$20=\"Eigen waarden\",VLOOKUP($F177,'Gegevens '!$A$25:$C$77,3,FALSE),VLOOKUP($F177,Lijsten!$A$19:$B$71,2,FALSE))","v":38.569226396674274},{"$error":"#DIV/0!"},{"$error":"#DIV/0!"},{"$error":"#DIV/0!"},{"$error":"#DIV/0!"},{"$error":"#DIV/0!"},{"$error":"#DIV/0!"},{"$error":"#DIV/0!"},{"$error":"#DIV/0!"},{"$error":"#DIV/0!"},{"$error":"#DIV/0!"},{"$error":"#DIV/0!"},{"$error":"#DIV/0!"},{"$error":"#DIV/0!"},{"$error":"#DIV/0!"},{"$error":"#DIV/0!"},{"$error":"#DIV/0!"},{"$error":"#DIV/0!"},{"$error":"#DIV/0!"},{"$error":"#DIV/0!"},{"$error":"#DIV/0!"},{"$error":"#DIV/0!"},{"$error":"#DIV/0!"},{"$error":"#DIV/0!"},0,{"$error":"#DIV/0!"},null,null,null,null,null,null,null,null,null,null,null,null,null,null,null,null,null,null,null,null,null,"1967-05-24",5.2,1.7849999999999999,null,"1975-05-23",0,2.669,null,"2006-05-23",0.12,3.6653799999999999,0.12,3.6653799999999999,0.12,3.4978199999999999,null,"2016-05-22",0.1,3.7069100000000001,0.1,3.7069100000000001,0.1,3.4914900000000002,null,"2066-05-23",0.1,3.91459,0.1,3.91459,0.1,3.4598100000000001,null,null,null,9,{"$error":"#DIV/0!"}]
["1967-05-25",15.9,2.0310000000000001,5,1967,21,15.9,{"$f":"IF(B178<Parameters!$A$16,B178*Parameters!$B$16,IF(AND(B178>Parameters!$A$16,B178<Parameters!$A$17),B178*Parameters!$B$17,B178*Parameters!$B$18))","v":15.105},{"$f":"IF(B178<Parameters!$A$20,B178*Parameters!$B$20,IF(AND(B178>Parameters!$A$20,B178<Parameters!$A$21),B178*Parameters!$B$21,B178*Parameters!$B$22))","v":11.925000000000001},{"$error":"#DIV/0!"},{"$error":"#DIV/0!"},{"$error":"#DIV/0!"},{"$error":"#DIV/0!"},{"$error":"#DIV/0!"},1.8374516129032259,{"$error":"#DIV/0!"},{"$error":"#DIV/0!"},{"$f":"IF('Gegevens '!$G$20=\"Eigen waarden\",VLOOKUP($F178,'Gegevens '!$A$25:$C$77,3,FALSE),VLOOKUP($F178,Lijsten!$A$19:$B$71,2,FALSE))","v":38.569226396674274},{"$error":"#DIV/0!"},{"$error":"#DIV/0!"},{"$error":"#DIV/0!"},{"$error":"#DIV/0!"},{"$error":"#DIV/0!"},{"$error":"#DIV/0!"},{"$error":"#DIV/0!"},{"$error":"#DIV/0!"},{"$error":"#DIV/0!"},{"$error":"#DIV/0!"},{"$error":"#DIV/0!"},{"$error":"#DIV/0!"},{"$error":"#DIV/0!"},{"$error":"#DIV/0!"},{"$error":"#DIV/0!"},{"$error":"#DIV/0!"},{"$error":"#DIV/0!"},{"$error":"#DIV/0!"},{"$error":"#DIV/0!"},{"$error":"#DIV/0!"},{"$error":"#DIV/0!"},{"$error":"#DIV/0!"},{"$error":"#DIV/0!"},0,{"$error":"#DIV/0!"},null,null,null,null,null,null,null,null,null,null,null,null,null,null,null,null,null,null,null,null,null,"1967-05-25",15.9,2.0310000000000001,null,"1975-05-24",0,2.3069999999999999,null,"2006-05-24",5.92,1.8587199999999999,5.92,1.8587199999999999,5.92,1.7737499999999999,null,"2016-05-23",5.9,1.87978,5.9,1.87978,5.9,1.77054,null,"2066-05-24",5.74,1.9851000000000001,5.74,1.9851000000000001,5.74,1.75448,null,null,null,10,{"$error":"#DIV/0!"}]
["1967-05-26",0.8,3.2120000000000002,5,1967,21,0.8,{"$f":"IF(B179<Parameters!$A$16,B179*Parameters!$B$16,IF(AND(B179>Parameters!$A$16,B179<Parameters!$A$17),B179*Parameters!$B$17,B179*Parameters!$B$18))","v":0},{"$f":"IF(B179<Parameters!$A$20,B179*Parameters!$B$20,IF(AND(B179>Parameters!$A$20,B179<Parameters!$A$21),B179*Parameters!$B$21,B179*Parameters!$B$22))","v":0},{"$error":"#DIV/0!"},{"$error":"#DIV/0!"},{"$error":"#DIV/0!"},{"$error":"#DIV/0!"},{"$error":"#DIV/0!"},3.0184516129032262,{"$error":"#DIV/0!"},{"$error":"#DIV/0!"},{"$f":"IF('Gegevens '!$G$20=\"Eigen waarden\",VLOOKUP($F179,'Gegevens '!$A$25:$C$77,3,FALSE),VLOOKUP($F179,Lijsten!$A$19:$B$71,2,FALSE))","v":38.569226396674274},{"$error":"#DIV/0!"},{"$error":"#DIV/0!"},{"$error":"#DIV/0!"},{"$error":"#DIV/0!"},{"$error":"#DIV/0!"},{"$error":"#DIV/0!"},{"$error":"#DIV/0!"},{"$error":"#DIV/0!"},{"$error":"#DIV/0!"},{"$error":"#DIV/0!"},{"$error":"#DIV/0!"},{"$error":"#DIV/0!"},{"$error":"#DIV/0!"},{"$error":"#DIV/0!"},{"$error":"#DIV/0!"},{"$error":"#DIV/0!"},{"$error":"#DIV/0!"},{"$error":"#DIV/0!"},{"$error":"#DIV/0!"},{"$error":"#DIV/0!"},{"$error":"#DIV/0!"},{"$error":"#DIV/0!"},{"$error":"#DIV/0!"},0,{"$error":"#DIV/0!"},null,null,null,null,null,null,null,null,null,null,null,null,null,null,null,null,null,null,null,null,null,"1967-05-26",0.8,3.2120000000000002,null,"1975-05-25",0,3.0369999999999999,null,"2006-05-25",18.899999999999999,2.1148799999999999,18.899999999999999,2.1148799999999999,18.899999999999999,2.0182000000000002,null,"2016-05-24",19.04,2.1388500000000001,19.04,2.1388500000000001,19.04,2.0145499999999998,null,"2066-05-25",0,2.25868,0,2.25868,0,1.99627,null,null,null,11,{"$error":"#DIV/0!"}]
["1967-05-27",0,5.2590000000000003,5,1967,21,0,{"$f":"IF(B180<Parameters!$A$16,B180*Parameters!$B$16,IF(AND(B180>Parameters!$A$16,B180<Parameters!$A$17),B180*Parameters!$B$17,B180*Parameters!$B$18))","v":0},{"$f":"IF(B180<Parameters!$A$20,B180*Parameters!$B$20,IF(AND(B180>Parameters!$A$20,B180<Parameters!$A$21),B180*Parameters!$B$21,B180*Parameters!$B$22))","v":0},{"$error":"#DIV/0!"},"",0,"",0,5.0654516129032263,{"$error":"#DIV/0!"},{"$error":"#DIV/0!"},{"$f":"IF('Gegevens '!$G$20=\"Eigen waarden\",VLOOKUP($F180,'Gegevens '!$A$25:$C$77,3,FALSE),VLOOKUP($F180,Lijsten!$A$19:$B$71,2,FALSE))","v":38.569226396674274},{"$error":"#DIV/0!"},{"$error":"#DIV/0!"},{"$error":"#DIV/0!"},{"$error":"#DIV/0!"},{"$error":"#DIV/0!"},{"$error":"#DIV/0!"},{"$error":"#DIV/0!"},"","",{"$error":"#DIV/0!"},0,{"$error":"#DIV/0!"},0,{"$error":"#DIV/0!"},{"$error":"#DIV/0!"},{"$error":"#DIV/0!"},{"$error":"#DIV/0!"},{"$error":"#DIV/0!"},{"$error":"#DIV/0!"},"","","",{"$error":"#DIV/0!"},0,{"$error":"#DIV/0!"},null,null,null,null,null,null,null,null,null,null,null,null,null,null,null,null,null,null,null,null,null,"1967-05-27",0,5.2590000000000003,null,"1975-05-26",0.1,4.5670000000000002,null,"2006-05-26",0.88,3.3446600000000002,0.88,3.3446600000000002,0.88,3.1917599999999999,null,"2016-05-25",0.87,3.3825599999999998,0.87,3.3825599999999998,0.87,3.1859799999999998,null,"2066-05-26",0.8,3.5720700000000001,0.8,3.5720700000000001,0.8,3.15707,null,null,null,12,{"$error":"#DIV/0!"}]
["1967-05-28",9.8000000000000007,5.0270000000000001,5,1967,21,9.8000000000000007,{"$f":"IF(B181<Parameters!$A$16,B181*Parameters!$B$16,IF(AND(B181>Parameters!$A$16,B181<Parameters!$A$17),B181*Parameters!$B$17,B181*Parameters!$B$18))","v":9.31},{"$f":"IF(B181<Parameters!$A$20,B181*Parameters!$B$20,IF(AND(B181>Parameters!$A$20,B181<Parameters!$A$21),B181*Parameters!$B$21,B181*Parameters!$B$22))","v":7.3500000000000005},{"$error":"#DIV/0!"},{"$error":"#DIV/0!"},{"$error":"#DIV/0!"},{"$error":"#DIV/0!"},{"$error":"#DIV/0!"},4.8334516129032261,{"$error":"#DIV/0!"},{"$error":"#DIV/0!"},{"$f":"IF('Gegevens '!$G$20=\"Eigen waarden\",VLOOKUP($F181,'Gegevens '!$A$25:$C$77,3,FALSE),VLOOKUP($F181,Lijsten!$A$19:$B$71,2,FALSE))","v":38.569226396674274},{"$error":"#DIV/0!"},{"$error":"#DIV/0!"},{"$error":"#DIV/0!"},{"$error":"#DIV/0!"},{"$error":"#DIV/0!"},{"$error":"#DIV/0!"},{"$error":"#DIV/0!"},{"$error":"#DIV/0!"},{"$error":"#DIV/0!"},{"$error":"#DIV/0!"},{"$error":"#DIV/0!"},{"$error":"#DIV/0!"},{"$error":"#DIV/0!"},{"$error":"#DIV/0!"},{"$error":"#DIV/0!"},{"$error":"#DIV/0!"},{"$error":"#DIV/0!"},{"$error":"#DIV/0!"},{"$error":"#DIV/0!"},{"$error":"#DIV/0!"},{"$error":"#DIV/0!"},{"$error":"#DIV/0!"},{"$error":"#DIV/0!"},0,{"$error":"#DIV/0!"},null,null,null,null,null,null,null,null,null,null,null,null,null,null,null,null,null,null,null,null,null,"1967-05-28",9.8000000000000007,5.0270000000000001,null,"1975-05-27",0,3.5950000000000002,null,"2006-05-27",0,5.4762000000000004,0,5.4762000000000004,0,5.2258699999999996,null,"2016-05-26",0,5.5382499999999997,0,5.5382499999999997,0,5.2164000000000001,null,"2066-05-27",0,5.8485300000000002,0,5.8485300000000002,0,5.1690699999999996,null,null,null,13,{"$error":"#DIV/0!"}]
["1967-05-29",0,3.8639999999999999,5,1967,22,0,{"$f":"IF(B182<Parameters!$A$16,B182*Parameters!$B$16,IF(AND(B182>Parameters!$A$16,B182<Parameters!$A$17),B182*Parameters!$B$17,B182*Parameters!$B$18))","v":0},{"$f":"IF(B182<Parameters!$A$20,B182*Parameters!$B$20,IF(AND(B182>Parameters!$A$20,B182<Parameters!$A$21),B182*Parameters!$B$21,B182*Parameters!$B$22))","v":0},{"$error":"#DIV/0!"},"",0,"",0,3.6704516129032259,{"$error":"#DIV/0!"},{"$error":"#DIV/0!"},{"$f":"IF('Gegevens '!$G$20=\"Eigen waarden\",VLOOKUP($F182,'Gegevens '!$A$25:$C$77,3,FALSE),VLOOKUP($F182,Lijsten!$A$19:$B$71,2,FALSE))","v":39.779582414171429},{"$error":"#DIV/0!"},{"$error":"#DIV/0!"},{"$error":"#DIV/0!"},{"$error":"#DIV/0!"},{"$error":"#DIV/0!"},{"$error":"#DIV/0!"},{"$error":"#DIV/0!"},"","",{"$error":"#DIV/0!"},0,{"$error":"#DIV/0!"},0,{"$error":"#DIV/0!"},{"$error":"#DIV/0!"},{"$error":"#DIV/0!"},{"$error":"#DIV/0!"},{"$error":"#DIV/0!"},{"$error":"#DIV/0!"},"","","",{"$error":"#DIV/0!"},0,{"$error":"#DIV/0!"},null,null,null,null,null,null,null,null,null,null,null,null,null,null,null,null,null,null,null,null,null,"1967-05-29",0,3.8639999999999999,null,"1975-05-28",0,4.96,null,"2006-05-28",11.45,5.2346199999999996,11.45,5.2346199999999996,11.45,4.99533,null,"2016-05-27",11.47,5.2939299999999996,11.47,5.2939299999999996,11.47,4.9862799999999998,null,"2066-05-28",11.6,5.5905300000000002,11.6,5.5905300000000002,11.6,4.9410400000000001,null,null,null,14,{"$error":"#DIV/0!"}]
["1967-05-30",1.8,3.0179999999999998,5,1967,22,1.8,{"$f":"IF(B183<Parameters!$A$16,B183*Parameters!$B$16,IF(AND(B183>Parameters!$A$16,B183<Parameters!$A$17),B183*Parameters!$B$17,B183*Parameters!$B$18))","v":1.4400000000000002},{"$f":"IF(B183<Parameters!$A$20,B183*Parameters!$B$20,IF(AND(B183>Parameters!$A$20,B183<Parameters!$A$21),B183*Parameters!$B$21,B183*Parameters!$B$22))","v":1.08},{"$error":"#DIV/0!"},{"$error":"#DIV/0!"},{"$error":"#DIV/0!"},{"$error":"#DIV/0!"},{"$error":"#DIV/0!"},2.8244516129032258,{"$error":"#DIV/0!"},{"$error":"#DIV/0!"},{"$f":"IF('Gegevens '!$G$20=\"Eigen waarden\",VLOOKUP($F183,'Gegevens '!$A$25:$C$77,3,FALSE),VLOOKUP($F183,Lijsten!$A$19:$B$71,2,FALSE))","v":39.779582414171429},{"$error":"#DIV/0!"},{"$error":"#DIV/0!"},{"$error":"#DIV/0!"},{"$error":"#DIV/0!"},{"$error":"#DIV/0!"},{"$error":"#DIV/0!"},{"$error":"#DIV/0!"},{"$error":"#DIV/0!"},{"$error":"#DIV/0!"},{"$error":"#DIV/0!"},{"$error":"#DIV/0!"},{"$error":"#DIV/0!"},{"$error":"#DIV/0!"},{"$error":"#DIV/0!"},{"$error":"#DIV/0!"},{"$error":"#DIV/0!"},{"$error":"#DIV/0!"},{"$error":"#DIV/0!"},{"$error":"#DIV/0!"},{"$error":"#DIV/0!"},{"$error":"#DIV/0!"},{"$error":"#DIV/0!"},{"$error":"#DIV/0!"},0,{"$error":"#DIV/0!"},null,null,null,null,null,null,null,null,null,null,null,null,null,null,null,null,null,null,null,null,null,"1967-05-30",1.8,3.0179999999999998,null,"1975-05-29",0,4.6760000000000002,null,"2006-05-29",0,4.0235799999999999,0,4.0235799999999999,0,3.8396599999999999,null,"2016-05-28",0,4.0691800000000002,0,4.0691800000000002,0,3.8327,null,"2066-05-29",0,4.2971500000000002,0,4.2971500000000002,0,3.79793,null,null,null,15,{"$error":"#DIV/0!"}]
["1967-05-31",0,2.3290000000000002,5,1967,22,0,{"$f":"IF(B184<Parameters!$A$16,B184*Parameters!$B$16,IF(AND(B184>Parameters!$A$16,B184<Parameters!$A$17),B184*Parameters!$B$17,B184*Parameters!$B$18))","v":0},{"$f":"IF(B184<Parameters!$A$20,B184*Parameters!$B$20,IF(AND(B184>Parameters!$A$20,B184<Parameters!$A$21),B184*Parameters!$B$21,B184*Parameters!$B$22))","v":0},{"$error":"#DIV/0!"},"",0,"",0,2.1354516129032262,{"$error":"#DIV/0!"},{"$error":"#DIV/0!"},{"$f":"IF('Gegevens '!$G$20=\"Eigen waarden\",VLOOKUP($F184,'Gegevens '!$A$25:$C$77,3,FALSE),VLOOKUP($F184,Lijsten!$A$19:$B$71,2,FALSE))","v":39.779582414171429},{"$error":"#DIV/0!"},{"$error":"#DIV/0!"},{"$error":"#DIV/0!"},{"$error":"#DIV/0!"},{"$error":"#DIV/0!"},{"$error":"#DIV/0!"},{"$error":"#DIV/0!"},"","",{"$error":"#DIV/0!"},0,{"$error":"#DIV/0!"},0,{"$error":"#DIV/0!"},{"$error":"#DIV/0!"},{"$error":"#DIV/0!"},{"$error":"#DIV/0!"},{"$error":"#DIV/0!"},{"$error":"#DIV/0!"},"","","",{"$error":"#DIV/0!"},0,{"$error":"#DIV/0!"},null,null,null,null,null,null,null,null,null,null,null,null,null,null,null,null,null,null,null,null,null,"1967-05-31",0,2.3290000000000002,null,"1975-05-30",0,2.165,null,"2006-05-30",2,3.1426400000000001,2,3.1426400000000001,2,2.99899,null,"2016-05-29",1.97,3.1782599999999999,1.97,3.1782599999999999,1.97,2.9935499999999999,null,"2066-05-30",1.83,3.3563200000000002,1.83,3.3563200000000002,1.83,2.9663900000000001,null,null,null,16,{"$error":"#DIV/0!"}]
["1967-06-01",0.2,1.534,6,1967,22,0.2,{"$f":"IF(B185<Parameters!$A$16,B185*Parameters!$B$16,IF(AND(B185>Parameters!$A$16,B185<Parameters!$A$17),B185*Parameters!$B$17,B185*Parameters!$B$18))","v":0},{"$f":"IF(B185<Parameters!$A$20,B185*Parameters!$B$20,IF(AND(B185>Parameters!$A$20,B185<Parameters!$A$21),B185*Parameters!$B$21,B185*Parameters!$B$22))","v":0},{"$error":"#DIV/0!"},{"$error":"#DIV/0!"},{"$error":"#DIV/0!"},{"$error":"#DIV/0!"},{"$error":"#DIV/0!"},1.4006666666666667,{"$error":"#DIV/0!"},{"$error":"#DIV/0!"},{"$f":"IF('Gegevens '!$G$20=\"Eigen waarden\",VLOOKUP($F185,'Gegevens '!$A$25:$C$77,3,FALSE),VLOOKUP($F185,Lijsten!$A$19:$B$71,2,FALSE))","v":39.779582414171429},{"$error":"#DIV/0!"},{"$error":"#DIV/0!"},{"$error":"#DIV/0!"},{"$error":"#DIV/0!"},{"$error":"#DIV/0!"},{"$error":"#DIV/0!"},{"$error":"#DIV/0!"},{"$error":"#DIV/0!"},{"$error":"#DIV/0!"},{"$error":"#DIV/0!"},{"$error":"#DIV/0!"},{"$error":"#DIV/0!"},{"$error":"#DIV/0!"},{"$error":"#DIV/0!"},{"$error":"#DIV/0!"},{"$error":"#DIV/0!"},{"$error":"#DIV/0!"},{"$error":"#DIV/0!"},{"$error":"#DIV/0!"},{"$error":"#DIV/0!"},{"$error":"#DIV/0!"},{"$error":"#DIV/0!"},{"$error":"#DIV/0!"},0,{"$error":"#DIV/0!"},null,null,null,null,null,null,null,null,null,null,null,null,null,null,null,null,null,null,null,null,null,"1967-06-01",0.2,1.534,null,"1975-05-31",0,3.694,null,"2006-05-31",0,2.4251900000000002,0,2.4251900000000002,0,2.31433,null,"2016-05-30",0,2.4526699999999999,0,2.4526699999999999,0,2.3101400000000001,null,"2066-05-31",0,2.5900799999999999,0,2.5900799999999999,0,2.2891699999999999,null,null,null,17,{"$error":"#DIV/0!"}]
["1967-06-02",0.2,1.893,6,1967,22,0.2,{"$f":"IF(B186<Parameters!$A$16,B186*Parameters!$B$16,IF(AND(B186>Parameters!$A$16,B186<Parameters!$A$17),B186*Parameters!$B$17,B186*Parameters!$B$18))","v":0},{"$f":"IF(B186<Parameters!$A$20,B186*Parameters!$B$20,IF(AND(B186>Parameters!$A$20,B186<Parameters!$A$21),B186*Parameters!$B$21,B186*Parameters!$B$22))","v":0},{"$error":"#DIV/0!"},{"$error":"#DIV/0!"},{"$error":"#DIV/0!"},{"$error":"#DIV/0!"},{"$error":"#DIV/0!"},1.7596666666666667,{"$error":"#DIV/0!"},{"$error":"#DIV/0!"},{"$f":"IF('Gegevens '!$G$20=\"Eigen waarden\",VLOOKUP($F186,'Gegevens '!$A$25:$C$77,3,FALSE),VLOOKUP($F186,Lijsten!$A$19:$B$71,2,FALSE))","v":39.779582414171429},{"$error":"#DIV/0!"},{"$error":"#DIV/0!"},{"$error":"#DIV/0!"},{"$error":"#DIV/0!"},{"$error":"#DIV/0!"},{"$error":"#DIV/0!"},{"$error":"#DIV/0!"},{"$error":"#DIV/0!"},{"$error":"#DIV/0!"},{"$error":"#DIV/0!"},{"$error":"#DIV/0!"},{"$error":"#DIV/0!"},{"$error":"#DIV/0!"},{"$error":"#DIV/0!"},{"$error":"#DIV/0!"},{"$error":"#DIV/0!"},{"$error":"#DIV/0!"},{"$error":"#DIV/0!"},{"$error":"#DIV/0!"},{"$error":"#DIV/0!"},{"$error":"#DIV/0!"},{"$error":"#DIV/0!"},{"$error":"#DIV/0!"},0,{"$error":"#DIV/0!"},null,null,null,null,null,null,null,null,null,null,null,null,null,null,null,null,null,null,null,null,null,"1967-06-02",0.2,1.893,null,"1975-06-01",0.1,2.6070000000000002,null,"2006-06-01",0.18,1.6607099999999999,0.22,1.58769,0.18,1.5195000000000001,null,"2016-05-31",0.17,1.6969099999999999,0.21,1.60303,0.17,1.51536,null,"2066-06-01",0.14000000000000001,1.87792,0,1.6797299999999999,0.14000000000000001,1.49465,null,null,null,18,{"$error":"#DIV/0!"}]
["1967-06-03",0,2.91,6,1967,22,0,{"$f":"IF(B187<Parameters!$A$16,B187*Parameters!$B$16,IF(AND(B187>Parameters!$A$16,B187<Parameters!$A$17),B187*Parameters!$B$17,B187*Parameters!$B$18))","v":0},{"$f":"IF(B187<Parameters!$A$20,B187*Parameters!$B$20,IF(AND(B187>Parameters!$A$20,B187<Parameters!$A$21),B187*Parameters!$B$21,B187*Parameters!$B$22))","v":0},{"$error":"#DIV/0!"},"",0,"",0,2.7766666666666668,{"$error":"#DIV/0!"},{"$error":"#DIV/0!"},{"$f":"IF('Gegevens '!$G$20=\"Eigen waarden\",VLOOKUP($F187,'Gegevens '!$A$25:$C$77,3,FALSE),VLOOKUP($F187,Lijsten!$A$19:$B$71,2,FALSE))","v":39.779582414171429},{"$error":"#DIV/0!"},{"$error":"#DIV/0!"},{"$error":"#DIV/0!"},{"$error":"#DIV/0!"},{"$error":"#DIV/0!"},{"$error":"#DIV/0!"},{"$error":"#DIV/0!"},"","",{"$error":"#DIV/0!"},0,{"$error":"#DIV/0!"},0,{"$error":"#DIV/0!"},{"$error":"#DIV/0!"},{"$error":"#DIV/0!"},{"$error":"#DIV/0!"},{"$error":"#DIV/0!"},{"$error":"#DIV/0!"},"","","",{"$error":"#DIV/0!"},0,{"$error":"#DIV/0!"},null,null,null,null,null,null,null,null,null,null,null,null,null,null,null,null,null,null,null,null,null,"1967-06-03",0,2.91,null,"1975-06-02",4.5,2.5169999999999999,null,"2006-06-02",0.18,2.0493600000000001,0.22,1.95926,0.18,1.8751100000000001,null,"2016-06-01",0,2.0940400000000001,0.22,1.97818,0,1.87,null,"2066-06-02",0.14000000000000001,2.3174100000000002,0.2,2.0728399999999998,0.14000000000000001,1.8444400000000001,null,null,null,19,{"$error":"#DIV/0!"}]
["1967-06-04",0,5.4470000000000001,6,1967,22,0,{"$f":"IF(B188<Parameters!$A$16,B188*Parameters!$B$16,IF(AND(B188>Parameters!$A$16,B188<Parameters!$A$17),B188*Parameters!$B$17,B188*Parameters!$B$18))","v":0},{"$f":"IF(B188<Parameters!$A$20,B188*Parameters!$B$20,IF(AND(B188>Parameters!$A$20,B188<Parameters!$A$21),B188*Parameters!$B$21,B188*Parameters!$B$22))","v":0},{"$error":"#DIV/0!"},"",0,"",0,5.3136666666666663,{"$error":"#DIV/0!"},{"$error":"#DIV/0!"},{"$f":"IF('Gegevens '!$G$20=\"Eigen waarden\",VLOOKUP($F188,'Gegevens '!$A$25:$C$77,3,FALSE),VLOOKUP($F188,Lijsten!$A$19:$B$71,2,FALSE))","v":39.779582414171429},{"$error":"#DIV/0!"},{"$error":"#DIV/0!"},{"$error":"#DIV/0!"},{"$error":"#DIV/0!"},{"$error":"#DIV/0!"},{"$error":"#DIV/0!"},{"$error":"#DIV/0!"},"","",{"$error":"#DIV/0!"},0,{"$error":"#DIV/0!"},0,{"$error":"#DIV/0!"},{"$error":"#DIV/0!"},{"$error":"#DIV/0!"},{"$error":"#DIV/0!"},{"$error":"#DIV/0!"},{"$error":"#DIV/0!"},"","","",{"$error":"#DIV/0!"},0,{"$error":"#DIV/0!"},null,null,null,null,null,null,null,null,null,null,null,null,null,null,null,null,null,null,null,null,null,"1967-06-04",0,5.4470000000000001,null,"1975-06-03",1.4,1.458,null,"2006-06-03",0,3.1503700000000001,0,3.0118499999999999,0,2.8824999999999998,null,"2016-06-02",0,3.2190400000000001,0,3.04095,0,2.8746399999999999,null,"2066-06-03",0,3.5624199999999999,0,3.1864499999999998,0,2.8353600000000001,null,null,null,20,{"$error":"#DIV/0!"}]
["1967-06-05",0,2.2450000000000001,6,1967,23,0,{"$f":"IF(B189<Parameters!$A$16,B189*Parameters!$B$16,IF(AND(B189>Parameters!$A$16,B189<Parameters!$A$17),B189*Parameters!$B$17,B189*Parameters!$B$18))","v":0},{"$f":"IF(B189<Parameters!$A$20,B189*Parameters!$B$20,IF(AND(B189>Parameters!$A$20,B189<Parameters!$A$21),B189*Parameters!$B$21,B189*Parameters!$B$22))","v":0},{"$error":"#DIV/0!"},"",0,"",0,2.1116666666666668,{"$error":"#DIV/0!"},{"$error":"#DIV/0!"},{"$f":"IF('Gegevens '!$G$20=\"Eigen waarden\",VLOOKUP($F189,'Gegevens '!$A$25:$C$77,3,FALSE),VLOOKUP($F189,Lijsten!$A$19:$B$71,2,FALSE))","v":40.291810686080005},{"$error":"#DIV/0!"},{"$error":"#DIV/0!"},{"$error":"#DIV/0!"},{"$error":"#DIV/0!"},{"$error":"#DIV/0!"},{"$error":"#DIV/0!"},{"$error":"#DIV/0!"},"","",{"$error":"#DIV/0!"},0,{"$error":"#DIV/0!"},0,{"$error":"#DIV/0!"},{"$error":"#DIV/0!"},{"$error":"#DIV/0!"},{"$error":"#DIV/0!"},{"$error":"#DIV/0!"},{"$error":"#DIV/0!"},"","","",{"$error":"#DIV/0!"},0,{"$error":"#DIV/0!"},null,null,null,null,null,null,null,null,null,null,null,null,null,null,null,null,null,null,null,null,null,"1967-06-05",0,2.2450000000000001,null,"1975-06-04",0.8,3.2240000000000002,null,"2006-06-04",0,5.8969199999999997,0,5.6376499999999998,0,5.3955299999999999,null,"2016-06-03",0,6.0254700000000003,0,5.6921099999999996,0,5.3808199999999999,null,"2066-06-04",0,6.6682199999999998,0,5.9644700000000004,0,5.3072800000000004,null,null,null,21,{"$error":"#DIV/0!"}]
["1967-06-06",0,5.048,6,1967,23,0,{"$f":"IF(B190<Parameters!$A$16,B190*Parameters!$B$16,IF(AND(B190>Parameters!$A$16,B190<Parameters!$A$17),B190*Parameters!$B$17,B190*Parameters!$B$18))","v":0},{"$f":"IF(B190<Parameters!$A$20,B190*Parameters!$B$20,IF(AND(B190>Parameters!$A$20,B190<Parameters!$A$21),B190*Parameters!$B$21,B190*Parameters!$B$22))","v":0},{"$error":"#DIV/0!"},"",0,"",0,4.9146666666666663,{"$error":"#DIV/0!"},{"$error":"#DIV/0!"},{"$f":"IF('Gegevens '!$G$20=\"Eigen waarden\",VLOOKUP($F190,'Gegevens '!$A$25:$C$77,3,FALSE),VLOOKUP($F190,Lijsten!$A$19:$B$71,2,FALSE))","v":40.291810686080005},{"$error":"#DIV/0!"},{"$error":"#DIV/0!"},{"$error":"#DIV/0!"},{"$error":"#DIV/0!"},{"$error":"#DIV/0!"},{"$error":"#DIV/0!"},{"$error":"#DIV/0!"},"","",{"$error":"#DIV/0!"},0,{"$error":"#DIV/0!"},0,{"$error":"#DIV/0!"},{"$error":"#DIV/0!"},{"$error":"#DIV/0!"},{"$error":"#DIV/0!"},{"$error":"#DIV/0!"},{"$error":"#DIV/0!"},"","","",{"$error":"#DIV/0!"},0,{"$error":"#DIV/0!"},null,null,null,null,null,null,null,null,null,null,null,null,null,null,null,null,null,null,null,null,null,"1967-06-06",0,5.048,null,"1975-06-05",0,4.6239999999999997,null,"2006-06-05",0,2.4304399999999999,0,2.3235800000000002,0,2.2237800000000001,null,"2016-06-04",0,2.4834200000000002,0,2.3460200000000002,0,2.2177199999999999,null,"2066-06-05",0,2.7483300000000002,0,2.4582799999999998,0,2.1874199999999999,null,null,null,22,{"$error":"#DIV/0!"}]
["1967-06-07",1.9,2.9849999999999999,6,1967,23,1.9,{"$f":"IF(B191<Parameters!$A$16,B191*Parameters!$B$16,IF(AND(B191>Parameters!$A$16,B191<Parameters!$A$17),B191*Parameters!$B$17,B191*Parameters!$B$18))","v":1.52},{"$f":"IF(B191<Parameters!$A$20,B191*Parameters!$B$20,IF(AND(B191>Parameters!$A$20,B191<Parameters!$A$21),B191*Parameters!$B$21,B191*Parameters!$B$22))","v":1.1399999999999999},{"$error":"#DIV/0!"},{"$error":"#DIV/0!"},{"$error":"#DIV/0!"},{"$error":"#DIV/0!"},{"$error":"#DIV/0!"},2.8516666666666666,{"$error":"#DIV/0!"},{"$error":"#DIV/0!"},{"$f":"IF('Gegevens '!$G$20=\"Eigen waarden\",VLOOKUP($F191,'Gegevens '!$A$25:$C$77,3,FALSE),VLOOKUP($F191,Lijsten!$A$19:$B$71,2,FALSE))","v":40.291810686080005},{"$error":"#DIV/0!"},{"$error":"#DIV/0!"},{"$error":"#DIV/0!"},{"$error":"#DIV/0!"},{"$error":"#DIV/0!"},{"$error":"#DIV/0!"},{"$error":"#DIV/0!"},{"$error":"#DIV/0!"},{"$error":"#DIV/0!"},{"$error":"#DIV/0!"},{"$error":"#DIV/0!"},{"$error":"#DIV/0!"},{"$error":"#DIV/0!"},{"$error":"#DIV/0!"},{"$error":"#DIV/0!"},{"$error":"#DIV/0!"},{"$error":"#DIV/0!"},{"$error":"#DIV/0!"},{"$error":"#DIV/0!"},{"$error":"#DIV/0!"},{"$error":"#DIV/0!"},{"$error":"#DIV/0!"},{"$error":"#DIV/0!"},0,{"$error":"#DIV/0!"},null,null,null,null,null,null,null,null,null,null,null,null,null,null,null,null,null,null,null,null,null,"1967-06-07",1.9,2.9849999999999999,null,"1975-06-06",0,5.9829999999999997,null,"2006-06-06",0,5.4649599999999996,0,5.2246800000000002,0,5.0003000000000002,null,"2016-06-05",0,5.5841000000000003,0,5.2751599999999996,0,4.9866700000000002,null,"2066-06-06",0,6.1797599999999999,0,5.5275600000000003,0,4.91852,null,null,null,23,{"$error":"#DIV/0!"}]
["1967-06-08",1.4,3.956,6,1967,23,1.4,{"$f":"IF(B192<Parameters!$A$16,B192*Parameters!$B$16,IF(AND(B192>Parameters!$A$16,B192<Parameters!$A$17),B192*Parameters!$B$17,B192*Parameters!$B$18))","v":1.1199999999999999},{"$f":"IF(B192<Parameters!$A$20,B192*Parameters!$B$20,IF(AND(B192>Parameters!$A$20,B192<Parameters!$A$21),B192*Parameters!$B$21,B192*Parameters!$B$22))","v":0.84},{"$error":"#DIV/0!"},{"$error":"#DIV/0!"},{"$error":"#DIV/0!"},{"$error":"#DIV/0!"},{"$error":"#DIV/0!"},3.8226666666666667,{"$error":"#DIV/0!"},{"$error":"#DIV/0!"},{"$f":"IF('Gegevens '!$G$20=\"Eigen waarden\",VLOOKUP($F192,'Gegevens '!$A$25:$C$77,3,FALSE),VLOOKUP($F192,Lijsten!$A$19:$B$71,2,FALSE))","v":40.291810686080005},{"$error":"#DIV/0!"},{"$error":"#DIV/0!"},{"$error":"#DIV/0!"},{"$error":"#DIV/0!"},{"$error":"#DIV/0!"},{"$error":"#DIV/0!"},{"$error":"#DIV/0!"},{"$error":"#DIV/0!"},{"$error":"#DIV/0!"},{"$error":"#DIV/0!"},{"$error":"#DIV/0!"},{"$error":"#DIV/0!"},{"$error":"#DIV/0!"},{"$error":"#DIV/0!"},{"$error":"#DIV/0!"},{"$error":"#DIV/0!"},{"$error":"#DIV/0!"},{"$error":"#DIV/0!"},{"$error":"#DIV/0!"},{"$error":"#DIV/0!"},{"$error":"#DIV/0!"},{"$error":"#DIV/0!"},{"$error":"#DIV/0!"},0,{"$error":"#DIV/0!"},null,null,null,null,null,null,null,null,null,null,null,null,null,null,null,null,null,null,null,null,null,"1967-06-08",1.4,3.956,null,"1975-06-07",0,6.3230000000000004,null,"2006-06-07",1.62,3.23156,2.04,3.08948,1.62,2.9567899999999998,null,"2016-06-06",1.55,3.3020100000000001,2,3.1193200000000001,1.55,2.9487299999999999,null,"2066-06-07",0,3.6542400000000002,1.77,3.26858,0,2.9084300000000001,null,null,null,24,{"$error":"#DIV/0!"}]
["1967-06-09",0,3.59,6,1967,23,0,{"$f":"IF(B193<Parameters!$A$16,B193*Parameters!$B$16,IF(AND(B193>Parameters!$A$16,B193<Parameters!$A$17),B193*Parameters!$B$17,B193*Parameters!$B$18))","v":0},{"$f":"IF(B193<Parameters!$A$20,B193*Parameters!$B$20,IF(AND(B193>Parameters!$A$20,B193<Parameters!$A$21),B193*Parameters!$B$21,B193*Parameters!$B$22))","v":0},{"$error":"#DIV/0!"},"",0,"",0,3.4566666666666666,{"$error":"#DIV/0!"},{"$error":"#DIV/0!"},{"$f":"IF('Gegevens '!$G$20=\"Eigen waarden\",VLOOKUP($F193,'Gegevens '!$A$25:$C$77,3,FALSE),VLOOKUP($F193,Lijsten!$A$19:$B$71,2,FALSE))","v":40.291810686080005},{"$error":"#DIV/0!"},{"$error":"#DIV/0!"},{"$error":"#DIV/0!"},{"$error":"#DIV/0!"},{"$error":"#DIV/0!"},{"$error":"#DIV/0!"},{"$error":"#DIV/0!"},"","",{"$error":"#DIV/0!"},0,{"$error":"#DIV/0!"},0,{"$error":"#DIV/0!"},{"$error":"#DIV/0!"},{"$error":"#DIV/0!"},{"$error":"#DIV/0!"},{"$error":"#DIV/0!"},{"$error":"#DIV/0!"},"","","",{"$error":"#DIV/0!"},0,{"$error":"#DIV/0!"},null,null,null,null,null,null,null,null,null,null,null,null,null,null,null,null,null,null,null,null,null,"1967-06-09",0,3.59,null,"1975-06-08",0,6.452,null,"2006-06-08",1.19,4.2827700000000002,1.5,4.0944599999999998,1.19,3.9186200000000002,null,"2016-06-07",1.1200000000000001,4.3761299999999999,1.46,4.1340199999999996,1.1200000000000001,3.9079299999999999,null,"2066-06-08",0.82,4.8429399999999996,1.29,4.3318199999999996,0.82,3.85453,null,null,null,25,{"$error":"#DIV/0!"}]
["1967-06-10",0,3.2909999999999999,6,1967,23,0,{"$f":"IF(B194<Parameters!$A$16,B194*Parameters!$B$16,IF(AND(B194>Parameters!$A$16,B194<Parameters!$A$17),B194*Parameters!$B$17,B194*Parameters!$B$18))","v":0},{"$f":"IF(B194<Parameters!$A$20,B194*Parameters!$B$20,IF(AND(B194>Parameters!$A$20,B194<Parameters!$A$21),B194*Parameters!$B$21,B194*Parameters!$B$22))","v":0},{"$error":"#DIV/0!"},"",0,"",0,3.1576666666666666,{"$error":"#DIV/0!"},{"$error":"#DIV/0!"},{"$f":"IF('Gegevens '!$G$20=\"Eigen waarden\",VLOOKUP($F194,'Gegevens '!$A$25:$C$77,3,FALSE),VLOOKUP($F194,Lijsten!$A$19:$B$71,2,FALSE))","v":40.291810686080005},{"$error":"#DIV/0!"},{"$error":"#DIV/0!"},{"$error":"#DIV/0!"},{"$error":"#DIV/0!"},{"$error":"#DIV/0!"},{"$error":"#DIV/0!"},{"$error":"#DIV/0!"},"","",{"$error":"#DIV/0!"},0,{"$error":"#DIV/0!"},0,{"$error":"#DIV/0!"},{"$error":"#DIV/0!"},{"$error":"#DIV/0!"},{"$error":"#DIV/0!"},{"$error":"#DIV/0!"},{"$error":"#DIV/0!"},"","","",{"$error":"#DIV/0!"},0,{"$error":"#DIV/0!"},null,null,null,null,null,null,null,null,null,null,null,null,null,null,null,null,null,null,null,null,null,"1967-06-10",0,3.2909999999999999,null,"1975-06-09",0,6.3650000000000002,null,"2006-06-09",0,3.88653,0,3.7156500000000001,0,3.5560700000000001,null,"2016-06-08",0,3.97126,0,3.7515499999999999,0,3.5463800000000001,null,"2066-06-09",0,4.3948799999999997,0,3.9310499999999999,0,3.4979200000000001,null,null,null,26,{"$error":"#DIV/0!"}]
["1967-06-11",0,2.169,6,1967,23,0,{"$f":"IF(B195<Parameters!$A$16,B195*Parameters!$B$16,IF(AND(B195>Parameters!$A$16,B195<Parameters!$A$17),B195*Parameters!$B$17,B195*Parameters!$B$18))","v":0},{"$f":"IF(B195<Parameters!$A$20,B195*Parameters!$B$20,IF(AND(B195>Parameters!$A$20,B195<Parameters!$A$21),B195*Parameters!$B$21,B195*Parameters!$B$22))","v":0},{"$error":"#DIV/0!"},"",0,"",0,2.0356666666666667,{"$error":"#DIV/0!"},{"$error":"#DIV/0!"},{"$f":"IF('Gegevens '!$G$20=\"Eigen waarden\",VLOOKUP($F195,'Gegevens '!$A$25:$C$77,3,FALSE),VLOOKUP($F195,Lijsten!$A$19:$B$71,2,FALSE))","v":40.291810686080005},{"$error":"#DIV/0!"},{"$error":"#DIV/0!"},{"$error":"#DIV/0!"},{"$error":"#DIV/0!"},{"$error":"#DIV/0!"},{"$error":"#DIV/0!"},{"$error":"#DIV/0!"},"","",{"$error":"#DIV/0!"},0,{"$error":"#DIV/0!"},0,{"$error":"#DIV/0!"},{"$error":"#DIV/0!"},{"$error":"#DIV/0!"},{"$error":"#DIV/0!"},{"$error":"#DIV/0!"},{"$error":"#DIV/0!"},"","","",{"$error":"#DIV/0!"},0,{"$error":"#DIV/0!"},null,null,null,null,null,null,null,null,null,null,null,null,null,null,null,null,null,null,null,null,null,"1967-06-11",0,2.169,null,"1975-06-10",0,4.7350000000000003,null,"2006-06-10",0,3.56284,0,3.40618,0,3.2599,null,"2016-06-09",0,3.6404999999999998,0,3.4390900000000002,0,3.25101,null,"2066-06-10",0,4.0288399999999998,0,3.60365,0,3.2065899999999998,null,null,null,27,{"$error":"#DIV/0!"}]
["1967-06-12",0,4.5659999999999998,6,1967,24,0,{"$f":"IF(B196<Parameters!$A$16,B196*Parameters!$B$16,IF(AND(B196>Parameters!$A$16,B196<Parameters!$A$17),B196*Parameters!$B$17,B196*Parameters!$B$18))","v":0},{"$f":"IF(B196<Parameters!$A$20,B196*Parameters!$B$20,IF(AND(B196>Parameters!$A$20,B196<Parameters!$A$21),B196*Parameters!$B$21,B196*Parameters!$B$22))","v":0},{"$error":"#DIV/0!"},"",0,"",0,4.4326666666666661,{"$error":"#DIV/0!"},{"$error":"#DIV/0!"},{"$f":"IF('Gegevens '!$G$20=\"Eigen waarden\",VLOOKUP($F196,'Gegevens '!$A$25:$C$77,3,FALSE),VLOOKUP($F196,Lijsten!$A$19:$B$71,2,FALSE))","v":43.951162369211438},{"$error":"#DIV/0!"},{"$error":"#DIV/0!"},{"$error":"#DIV/0!"},{"$error":"#DIV/0!"},{"$error":"#DIV/0!"},{"$error":"#DIV/0!"},{"$error":"#DIV/0!"},"","",{"$error":"#DIV/0!"},0,{"$error":"#DIV/0!"},0,{"$error":"#DIV/0!"},{"$error":"#DIV/0!"},{"$error":"#DIV/0!"},{"$error":"#DIV/0!"},{"$error":"#DIV/0!"},{"$error":"#DIV/0!"},"","","",{"$error":"#DIV/0!"},0,{"$error":"#DIV/0!"},null,null,null,null,null,null,null,null,null,null,null,null,null,null,null,null,null,null,null,null,null,"1967-06-12",0,4.5659999999999998,null,"1975-06-11",0,4.7510000000000003,null,"2006-06-11",0,2.34816,0,2.24492,0,2.1484999999999999,null,"2016-06-10",0,2.3993500000000001,0,2.2665999999999999,0,2.1426500000000002,null,"2066-06-11",0,2.6552899999999999,0,2.3750599999999999,0,2.1133700000000002,null,null,null,28,{"$error":"#DIV/0!"}]
["1967-06-13",0,4.7140000000000004,6,1967,24,0,{"$f":"IF(B197<Parameters!$A$16,B197*Parameters!$B$16,IF(AND(B197>Parameters!$A$16,B197<Parameters!$A$17),B197*Parameters!$B$17,B197*Parameters!$B$18))","v":0},{"$f":"IF(B197<Parameters!$A$20,B197*Parameters!$B$20,IF(AND(B197>Parameters!$A$20,B197<Parameters!$A$21),B197*Parameters!$B$21,B197*Parameters!$B$22))","v":0},{"$error":"#DIV/0!"},"",0,"",0,4.5806666666666667,{"$error":"#DIV/0!"},{"$error":"#DIV/0!"},{"$f":"IF('Gegevens '!$G$20=\"Eigen waarden\",VLOOKUP($F197,'Gegevens '!$A$25:$C$77,3,FALSE),VLOOKUP($F197,Lijsten!$A$19:$B$71,2,FALSE))","v":43.951162369211438},{"$error":"#DIV/0!"},{"$error":"#DIV/0!"},{"$error":"#DIV/0!"},{"$error":"#DIV/0!"},{"$error":"#DIV/0!"},{"$error":"#DIV/0!"},{"$error":"#DIV/0!"},"","",{"$error":"#DIV/0!"},0,{"$error":"#DIV/0!"},0,{"$error":"#DIV/0!"},{"$error":"#DIV/0!"},{"$error":"#DIV/0!"},{"$error":"#DIV/0!"},{"$error":"#DIV/0!"},{"$error":"#DIV/0!"},"","","",{"$error":"#DIV/0!"},0,{"$error":"#DIV/0!"},null,null,null,null,null,null,null,null,null,null,null,null,null,null,null,null,null,null,null,null,null,"1967-06-13",0,4.7140000000000004,null,"1975-06-12",0,5.9630000000000001,null,"2006-06-12",0,4.9431500000000002,0,4.7258100000000001,0,4.52285,null,"2016-06-11",0,5.05091,0,4.7714699999999999,0,4.5105199999999996,null,"2066-06-12",0,5.5896999999999997,0,4.9997699999999998,0,4.4488799999999999,null,null,null,29,{"$error":"#DIV/0!"}]
["1967-06-14",0,5.3680000000000003,6,1967,24,0,{"$f":"IF(B198<Parameters!$A$16,B198*Parameters!$B$16,IF(AND(B198>Parameters!$A$16,B198<Parameters!$A$17),B198*Parameters!$B$17,B198*Parameters!$B$18))","v":0},{"$f":"IF(B198<Parameters!$A$20,B198*Parameters!$B$20,IF(AND(B198>Parameters!$A$20,B198<Parameters!$A$21),B198*Parameters!$B$21,B198*Parameters!$B$22))","v":0},{"$error":"#DIV/0!"},"",0,"",0,5.2346666666666666,{"$error":"#DIV/0!"},{"$error":"#DIV/0!"},{"$f":"IF('Gegevens '!$G$20=\"Eigen waarden\",VLOOKUP($F198,'Gegevens '!$A$25:$C$77,3,FALSE),VLOOKUP($F198,Lijsten!$A$19:$B$71,2,FALSE))","v":43.951162369211438},{"$error":"#DIV/0!"},{"$error":"#DIV/0!"},{"$error":"#DIV/0!"},{"$error":"#DIV/0!"},{"$error":"#DIV/0!"},{"$error":"#DIV/0!"},{"$error":"#DIV/0!"},"","",{"$error":"#DIV/0!"},0,{"$error":"#DIV/0!"},0,{"$error":"#DIV/0!"},{"$error":"#DIV/0!"},{"$error":"#DIV/0!"},{"$error":"#DIV/0!"},{"$error":"#DIV/0!"},{"$error":"#DIV/0!"},"","","",{"$error":"#DIV/0!"},0,{"$error":"#DIV/0!"},null,null,null,null,null,null,null,null,null,null,null,null,null,null,null,null,null,null,null,null,null,"1967-06-14",0,5.3680000000000003,null,"1975-06-13",0,5.5359999999999996,null,"2006-06-13",0,5.1033799999999996,0,4.8789899999999999,0,4.6694500000000003,null,"2016-06-12",0,5.2146299999999997,0,4.9261299999999997,0,4.65672,null,"2066-06-13",0,5.77088,0,5.1618300000000001,0,4.5930900000000001,null,null,null,30,{"$error":"#DIV/0!"}]
["1967-06-15",1.4,3.8570000000000002,6,1967,24,1.4,{"$f":"IF(B199<Parameters!$A$16,B199*Parameters!$B$16,IF(AND(B199>Parameters!$A$16,B199<Parameters!$A$17),B199*Parameters!$B$17,B199*Parameters!$B$18))","v":1.1199999999999999},{"$f":"IF(B199<Parameters!$A$20,B199*Parameters!$B$20,IF(AND(B199>Parameters!$A$20,B199<Parameters!$A$21),B199*Parameters!$B$21,B199*Parameters!$B$22))","v":0.84},{"$error":"#DIV/0!"},{"$error":"#DIV/0!"},{"$error":"#DIV/0!"},{"$error":"#DIV/0!"},{"$error":"#DIV/0!"},3.7236666666666669,{"$error":"#DIV/0!"},{"$error":"#DIV/0!"},{"$f":"IF('Gegevens '!$G$20=\"Eigen waarden\",VLOOKUP($F199,'Gegevens '!$A$25:$C$77,3,FALSE),VLOOKUP($F199,Lijsten!$A$19:$B$71,2,FALSE))","v":43.951162369211438},{"$error":"#DIV/0!"},{"$error":"#DIV/0!"},{"$error":"#DIV/0!"},{"$error":"#DIV/0!"},{"$error":"#DIV/0!"},{"$error":"#DIV/0!"},{"$error":"#DIV/0!"},{"$error":"#DIV/0!"},{"$error":"#DIV/0!"},{"$error":"#DIV/0!"},{"$error":"#DIV/0!"},{"$error":"#DIV/0!"},{"$error":"#DIV/0!"},{"$error":"#DIV/0!"},{"$error":"#DIV/0!"},{"$error":"#DIV/0!"},{"$error":"#DIV/0!"},{"$error":"#DIV/0!"},{"$error":"#DIV/0!"},{"$error":"#DIV/0!"},{"$error":"#DIV/0!"},{"$error":"#DIV/0!"},{"$error":"#DIV/0!"},0,{"$error":"#DIV/0!"},null,null,null,null,null,null,null,null,null,null,null,null,null,null,null,null,null,null,null,null,null,"1967-06-15",1.4,3.8570000000000002,null,"1975-06-14",0,4.577,null,"2006-06-14",0,5.8113999999999999,0,5.5558800000000002,0,5.3172699999999997,null,"2016-06-13",0,5.9380800000000002,0,5.6095600000000001,0,5.3027800000000003,null,"2066-06-14",0,6.57151,0,5.8779599999999999,0,5.2303100000000002,null,null,null,31,{"$error":"#DIV/0!"}]
["1967-06-16",0.1,2.4260000000000002,6,1967,24,0.1,{"$f":"IF(B200<Parameters!$A$16,B200*Parameters!$B$16,IF(AND(B200>Parameters!$A$16,B200<Parameters!$A$17),B200*Parameters!$B$17,B200*Parameters!$B$18))","v":0},{"$f":"IF(B200<Parameters!$A$20,B200*Parameters!$B$20,IF(AND(B200>Parameters!$A$20,B200<Parameters!$A$21),B200*Parameters!$B$21,B200*Parameters!$B$22))","v":0},{"$error":"#DIV/0!"},{"$error":"#DIV/0!"},{"$error":"#DIV/0!"},{"$error":"#DIV/0!"},{"$error":"#DIV/0!"},2.2926666666666669,{"$error":"#DIV/0!"},{"$error":"#DIV/0!"},{"$f":"IF('Gegevens '!$G$20=\"Eigen waarden\",VLOOKUP($F200,'Gegevens '!$A$25:$C$77,3,FALSE),VLOOKUP($F200,Lijsten!$A$19:$B$71,2,FALSE))","v":43.951162369211438},{"$error":"#DIV/0!"},{"$error":"#DIV/0!"},{"$error":"#DIV/0!"},{"$error":"#DIV/0!"},{"$error":"#DIV/0!"},{"$error":"#DIV/0!"},{"$error":"#DIV/0!"},{"$error":"#DIV/0!"},{"$error":"#DIV/0!"},{"$error":"#DIV/0!"},{"$error":"#DIV/0!"},{"$error":"#DIV/0!"},{"$error":"#DIV/0!"},{"$error":"#DIV/0!"},{"$error":"#DIV/0!"},{"$error":"#DIV/0!"},{"$error":"#DIV/0!"},{"$error":"#DIV/0!"},{"$error":"#DIV/0!"},{"$error":"#DIV/0!"},{"$error":"#DIV/0!"},{"$error":"#DIV/0!"},{"$error":"#DIV/0!"},0,{"$error":"#DIV/0!"},null,null,null,null,null,null,null,null,null,null,null,null,null,null,null,null,null,null,null,null,null,"1967-06-16",0.1,2.4260000000000002,null,"1975-06-15",5,2.1930000000000001,null,"2006-06-15",1.18,4.1755899999999997,1.5,3.992,1.18,3.8205499999999999,null,"2016-06-14",1.1200000000000001,4.26661,1.46,4.0305600000000004,1.1200000000000001,3.8101400000000001,null,"2066-06-15",0.82,4.7217399999999996,1.29,4.22342,0.82,3.75807,null,null,null,32,{"$error":"#DIV/0!"}]
["1967-06-17",0,3.45,6,1967,24,0,{"$f":"IF(B201<Parameters!$A$16,B201*Parameters!$B$16,IF(AND(B201>Parameters!$A$16,B201<Parameters!$A$17),B201*Parameters!$B$17,B201*Parameters!$B$18))","v":0},{"$f":"IF(B201<Parameters!$A$20,B201*Parameters!$B$20,IF(AND(B201>Parameters!$A$20,B201<Parameters!$A$21),B201*Parameters!$B$21,B201*Parameters!$B$22))","v":0},{"$error":"#DIV/0!"},"",0,"",0,3.3166666666666669,{"$error":"#DIV/0!"},{"$error":"#DIV/0!"},{"$f":"IF('Gegevens '!$G$20=\"Eigen waarden\",VLOOKUP($F201,'Gegevens '!$A$25:$C$77,3,FALSE),VLOOKUP($F201,Lijsten!$A$19:$B$71,2,FALSE))","v":43.951162369211438},{"$error":"#DIV/0!"},{"$error":"#DIV/0!"},{"$error":"#DIV/0!"},{"$error":"#DIV/0!"},{"$error":"#DIV/0!"},{"$error":"#DIV/0!"},{"$error":"#DIV/0!"},"","",{"$error":"#DIV/0!"},0,{"$error":"#DIV/0!"},0,{"$error":"#DIV/0!"},{"$error":"#DIV/0!"},{"$error":"#DIV/0!"},{"$error":"#DIV/0!"},{"$error":"#DIV/0!"},{"$error":"#DIV/0!"},"","","",{"$error":"#DIV/0!"},0,{"$error":"#DIV/0!"},null,null,null,null,null,null,null,null,null,null,null,null,null,null,null,null,null,null,null,null,null,"1967-06-17",0,3.45,null,"1975-06-16",0.5,3.8540000000000001,null,"2006-06-16",0.09,2.6263899999999998,0.12,2.51091,0.09,2.40307,null,"2016-06-15",0,2.68364,0.1,2.5351699999999999,0,2.3965200000000002,null,"2066-06-16",7.0000000000000007E-2,2.96991,0.1,2.6564700000000001,7.0000000000000007E-2,2.3637700000000001,null,null,null,33,{"$error":"#DIV/0!"}]
["1967-06-18",0,4.3280000000000003,6,1967,24,0,{"$f":"IF(B202<Parameters!$A$16,B202*Parameters!$B$16,IF(AND(B202>Parameters!$A$16,B202<Parameters!$A$17),B202*Parameters!$B$17,B202*Parameters!$B$18))","v":0},{"$f":"IF(B202<Parameters!$A$20,B202*Parameters!$B$20,IF(AND(B202>Parameters!$A$20,B202<Parameters!$A$21),B202*Parameters!$B$21,B202*Parameters!$B$22))","v":0},{"$error":"#DIV/0!"},"",0,"",0,4.1946666666666665,{"$error":"#DIV/0!"},{"$error":"#DIV/0!"},{"$f":"IF('Gegevens '!$G$20=\"Eigen waarden\",VLOOKUP($F202,'Gegevens '!$A$25:$C$77,3,FALSE),VLOOKUP($F202,Lijsten!$A$19:$B$71,2,FALSE))","v":43.951162369211438},{"$error":"#DIV/0!"},{"$error":"#DIV/0!"},{"$error":"#DIV/0!"},{"$error":"#DIV/0!"},{"$error":"#DIV/0!"},{"$error":"#DIV/0!"},{"$error":"#DIV/0!"},"","",{"$error":"#DIV/0!"},0,{"$error":"#DIV/0!"},0,{"$error":"#DIV/0!"},{"$error":"#DIV/0!"},{"$error":"#DIV/0!"},{"$error":"#DIV/0!"},{"$error":"#DIV/0!"},{"$error":"#DIV/0!"},"","","",{"$error":"#DIV/0!"},0,{"$error":"#DIV/0!"},null,null,null,null,null,null,null,null,null,null,null,null,null,null,null,null,null,null,null,null,null,"1967-06-18",0,4.3280000000000003,null,"1975-06-17",4.9000000000000004,1.5169999999999999,null,"2006-06-17",0,3.7349700000000001,0,3.5707499999999999,0,3.4174000000000002,null,"2016-06-16",0,3.8163900000000002,0,3.6052499999999998,0,3.40808,null,"2066-06-17",0,4.22349,0,3.7777500000000002,0,3.36151,null,null,null,34,{"$error":"#DIV/0!"}]
["1967-06-19",0,3.9670000000000001,6,1967,25,0,{"$f":"IF(B203<Parameters!$A$16,B203*Parameters!$B$16,IF(AND(B203>Parameters!$A$16,B203<Parameters!$A$17),B203*Parameters!$B$17,B203*Parameters!$B$18))","v":0},{"$f":"IF(B203<Parameters!$A$20,B203*Parameters!$B$20,IF(AND(B203>Parameters!$A$20,B203<Parameters!$A$21),B203*Parameters!$B$21,B203*Parameters!$B$22))","v":0},{"$error":"#DIV/0!"},"",0,"",0,3.8336666666666668,{"$error":"#DIV/0!"},{"$error":"#DIV/0!"},{"$f":"IF('Gegevens '!$G$20=\"Eigen waarden\",VLOOKUP($F203,'Gegevens '!$A$25:$C$77,3,FALSE),VLOOKUP($F203,Lijsten!$A$19:$B$71,2,FALSE))","v":41.801906897514279},{"$error":"#DIV/0!"},{"$error":"#DIV/0!"},{"$error":"#DIV/0!"},{"$error":"#DIV/0!"},{"$error":"#DIV/0!"},{"$error":"#DIV/0!"},{"$error":"#DIV/0!"},"","",{"$error":"#DIV/0!"},0,{"$error":"#DIV/0!"},0,{"$error":"#DIV/0!"},{"$error":"#DIV/0!"},{"$error":"#DIV/0!"},{"$error":"#DIV/0!"},{"$error":"#DIV/0!"},{"$error":"#DIV/0!"},"","","",{"$error":"#DIV/0!"},0,{"$error":"#DIV/0!"},null,null,null,null,null,null,null,null,null,null,null,null,null,null,null,null,null,null,null,null,null,"1967-06-19",0,3.9670000000000001,null,"1975-06-18",5,1.9119999999999999,null,"2006-06-18",0,4.6854899999999997,0,4.4794799999999997,0,4.2870999999999997,null,"2016-06-17",0,4.7876300000000001,0,4.5227599999999999,0,4.2754099999999999,null,"2066-06-18",0,5.2983399999999996,0,4.73916,0,4.21699,null,null,null,35,{"$error":"#DIV/0!"}]
["1967-06-20",0,3.9670000000000001,6,1967,25,0,{"$f":"IF(B204<Parameters!$A$16,B204*Parameters!$B$16,IF(AND(B204>Parameters!$A$16,B204<Parameters!$A$17),B204*Parameters!$B$17,B204*Parameters!$B$18))","v":0},{"$f":"IF(B204<Parameters!$A$20,B204*Parameters!$B$20,IF(AND(B204>Parameters!$A$20,B204<Parameters!$A$21),B204*Parameters!$B$21,B204*Parameters!$B$22))","v":0},{"$error":"#DIV/0!"},"",0,"",0,3.8336666666666668,{"$error":"#DIV/0!"},{"$error":"#DIV/0!"},{"$f":"IF('Gegevens '!$G$20=\"Eigen waarden\",VLOOKUP($F204,'Gegevens '!$A$25:$C$77,3,FALSE),VLOOKUP($F204,Lijsten!$A$19:$B$71,2,FALSE))","v":41.801906897514279},{"$error":"#DIV/0!"},{"$error":"#DIV/0!"},{"$error":"#DIV/0!"},{"$error":"#DIV/0!"},{"$error":"#DIV/0!"},{"$error":"#DIV/0!"},{"$error":"#DIV/0!"},"","",{"$error":"#DIV/0!"},0,{"$error":"#DIV/0!"},0,{"$error":"#DIV/0!"},{"$error":"#DIV/0!"},{"$error":"#DIV/0!"},{"$error":"#DIV/0!"},{"$error":"#DIV/0!"},{"$error":"#DIV/0!"},"","","",{"$error":"#DIV/0!"},0,{"$error":"#DIV/0!"},null,null,null,null,null,null,null,null,null,null,null,null,null,null,null,null,null,null,null,null,null,"1967-06-20",0,3.9670000000000001,null,"1975-06-19",0,4.9210000000000003,null,"2006-06-19",0,4.29467,0,4.1058500000000002,0,3.9295100000000001,null,"2016-06-18",0,4.3883000000000001,0,4.1455099999999998,0,3.9188000000000001,null,"2066-06-19",0,4.8563999999999998,0,4.3438699999999999,0,3.8652500000000001,null,null,null,36,{"$error":"#DIV/0!"}]
["1967-06-21",0,4.1420000000000003,6,1967,25,0,{"$f":"IF(B205<Parameters!$A$16,B205*Parameters!$B$16,IF(AND(B205>Parameters!$A$16,B205<Parameters!$A$17),B205*Parameters!$B$17,B205*Parameters!$B$18))","v":0},{"$f":"IF(B205<Parameters!$A$20,B205*Parameters!$B$20,IF(AND(B205>Parameters!$A$20,B205<Parameters!$A$21),B205*Parameters!$B$21,B205*Parameters!$B$22))","v":0},{"$error":"#DIV/0!"},"",0,"",0,4.0086666666666666,{"$error":"#DIV/0!"},{"$error":"#DIV/0!"},{"$f":"IF('Gegevens '!$G$20=\"Eigen waarden\",VLOOKUP($F205,'Gegevens '!$A$25:$C$77,3,FALSE),VLOOKUP($F205,Lijsten!$A$19:$B$71,2,FALSE))","v":41.801906897514279},{"$error":"#DIV/0!"},{"$error":"#DIV/0!"},{"$error":"#DIV/0!"},{"$error":"#DIV/0!"},{"$error":"#DIV/0!"},{"$error":"#DIV/0!"},{"$error":"#DIV/0!"},"","",{"$error":"#DIV/0!"},0,{"$error":"#DIV/0!"},0,{"$error":"#DIV/0!"},{"$error":"#DIV/0!"},{"$error":"#DIV/0!"},{"$error":"#DIV/0!"},{"$error":"#DIV/0!"},{"$error":"#DIV/0!"},"","","",{"$error":"#DIV/0!"},0,{"$error":"#DIV/0!"},null,null,null,null,null,null,null,null,null,null,null,null,null,null,null,null,null,null,null,null,null,"1967-06-21",0,4.1420000000000003,null,"1975-06-20",0,5.0170000000000003,null,"2006-06-20",0,4.29467,0,4.1058500000000002,0,3.9295100000000001,null,"2016-06-19",0,4.3883000000000001,0,4.1455099999999998,0,3.9188000000000001,null,"2066-06-20",0,4.8563999999999998,0,4.3438699999999999,0,3.8652500000000001,null,null,null,37,{"$error":"#DIV/0!"}]
["1967-06-22",0,4.9550000000000001,6,1967,25,0,{"$f":"IF(B206<Parameters!$A$16,B206*Parameters!$B$16,IF(AND(B206>Parameters!$A$16,B206<Parameters!$A$17),B206*Parameters!$B$17,B206*Parameters!$B$18))","v":0},{"$f":"IF(B206<Parameters!$A$20,B206*Parameters!$B$20,IF(AND(B206>Parameters!$A$20,B206<Parameters!$A$21),B206*Parameters!$B$21,B206*Parameters!$B$22))","v":0},{"$error":"#DIV/0!"},"",0,"",0,4.8216666666666663,{"$error":"#DIV/0!"},{"$error":"#DIV/0!"},{"$f":"IF('Gegevens '!$G$20=\"Eigen waarden\",VLOOKUP($F206,'Gegevens '!$A$25:$C$77,3,FALSE),VLOOKUP($F206,Lijsten!$A$19:$B$71,2,FALSE))","v":41.801906897514279},{"$error":"#DIV/0!"},{"$error":"#DIV/0!"},{"$error":"#DIV/0!"},{"$error":"#DIV/0!"},{"$error":"#DIV/0!"},{"$error":"#DIV/0!"},{"$error":"#DIV/0!"},"","",{"$error":"#DIV/0!"},0,{"$error":"#DIV/0!"},0,{"$error":"#DIV/0!"},{"$error":"#DIV/0!"},{"$error":"#DIV/0!"},{"$error":"#DIV/0!"},{"$error":"#DIV/0!"},{"$error":"#DIV/0!"},"","","",{"$error":"#DIV/0!"},0,{"$error":"#DIV/0!"},null,null,null,null,null,null,null,null,null,null,null,null,null,null,null,null,null,null,null,null,null,"1967-06-22",0,4.9550000000000001,null,"1975-06-21",9.8000000000000007,2.5859999999999999,null,"2006-06-21",0,4.4841300000000004,0,4.2869700000000002,0,4.1028599999999997,null,"2016-06-20",0,4.58188,0,4.3283899999999997,0,4.0916699999999997,null,"2066-06-21",0,5.07064,0,4.5354900000000002,0,4.0357599999999998,null,null,null,38,{"$error":"#DIV/0!"}]
["1967-06-23",12.8,3.524,6,1967,25,12.8,{"$f":"IF(B207<Parameters!$A$16,B207*Parameters!$B$16,IF(AND(B207>Parameters!$A$16,B207<Parameters!$A$17),B207*Parameters!$B$17,B207*Parameters!$B$18))","v":12.16},{"$f":"IF(B207<Parameters!$A$20,B207*Parameters!$B$20,IF(AND(B207>Parameters!$A$20,B207<Parameters!$A$21),B207*Parameters!$B$21,B207*Parameters!$B$22))","v":9.6000000000000014},{"$error":"#DIV/0!"},{"$error":"#DIV/0!"},{"$error":"#DIV/0!"},{"$error":"#DIV/0!"},{"$error":"#DIV/0!"},3.3906666666666667,{"$error":"#DIV/0!"},{"$error":"#DIV/0!"},{"$f":"IF('Gegevens '!$G$20=\"Eigen waarden\",VLOOKUP($F207,'Gegevens '!$A$25:$C$77,3,FALSE),VLOOKUP($F207,Lijsten!$A$19:$B$71,2,FALSE))","v":41.801906897514279},{"$error":"#DIV/0!"},{"$error":"#DIV/0!"},{"$error":"#DIV/0!"},{"$error":"#DIV/0!"},{"$error":"#DIV/0!"},{"$error":"#DIV/0!"},{"$error":"#DIV/0!"},{"$error":"#DIV/0!"},{"$error":"#DIV/0!"},{"$error":"#DIV/0!"},{"$error":"#DIV/0!"},{"$error":"#DIV/0!"},{"$error":"#DIV/0!"},{"$error":"#DIV/0!"},{"$error":"#DIV/0!"},{"$error":"#DIV/0!"},{"$error":"#DIV/0!"},{"$error":"#DIV/0!"},{"$error":"#DIV/0!"},{"$error":"#DIV/0!"},{"$error":"#DIV/0!"},{"$error":"#DIV/0!"},{"$error":"#DIV/0!"},0,{"$error":"#DIV/0!"},null,null,null,null,null,null,null,null,null,null,null,null,null,null,null,null,null,null,null,null,null,"1967-06-23",12.8,3.524,null,"1975-06-22",11.6,0.95799999999999996,null,"2006-06-22",0,5.3642799999999999,0,5.1284299999999998,0,4.9081799999999998,null,"2016-06-21",0,5.4812200000000004,0,5.1779799999999998,0,4.8948,null,"2066-06-22",0,6.0659099999999997,0,5.4257299999999997,0,4.8278999999999996,null,null,null,39,{"$error":"#DIV/0!"}]
["1967-06-24",3.8,3.5350000000000001,6,1967,25,3.8,{"$f":"IF(B208<Parameters!$A$16,B208*Parameters!$B$16,IF(AND(B208>Parameters!$A$16,B208<Parameters!$A$17),B208*Parameters!$B$17,B208*Parameters!$B$18))","v":3.61},{"$f":"IF(B208<Parameters!$A$20,B208*Parameters!$B$20,IF(AND(B208>Parameters!$A$20,B208<Parameters!$A$21),B208*Parameters!$B$21,B208*Parameters!$B$22))","v":2.8499999999999996},{"$error":"#DIV/0!"},{"$error":"#DIV/0!"},{"$error":"#DIV/0!"},{"$error":"#DIV/0!"},{"$error":"#DIV/0!"},3.4016666666666668,{"$error":"#DIV/0!"},{"$error":"#DIV/0!"},{"$f":"IF('Gegevens '!$G$20=\"Eigen waarden\",VLOOKUP($F208,'Gegevens '!$A$25:$C$77,3,FALSE),VLOOKUP($F208,Lijsten!$A$19:$B$71,2,FALSE))","v":41.801906897514279},{"$error":"#DIV/0!"},{"$error":"#DIV/0!"},{"$error":"#DIV/0!"},{"$error":"#DIV/0!"},{"$error":"#DIV/0!"},{"$error":"#DIV/0!"},{"$error":"#DIV/0!"},{"$error":"#DIV/0!"},{"$error":"#DIV/0!"},{"$error":"#DIV/0!"},{"$error":"#DIV/0!"},{"$error":"#DIV/0!"},{"$error":"#DIV/0!"},{"$error":"#DIV/0!"},{"$error":"#DIV/0!"},{"$error":"#DIV/0!"},{"$error":"#DIV/0!"},{"$error":"#DIV/0!"},{"$error":"#DIV/0!"},{"$error":"#DIV/0!"},{"$error":"#DIV/0!"},{"$error":"#DIV/0!"},{"$error":"#DIV/0!"},0,{"$error":"#DIV/0!"},null,null,null,null,null,null,null,null,null,null,null,null,null,null,null,null,null,null,null,null,null,"1967-06-24",3.8,3.5350000000000001,null,"1975-06-23",2.2000000000000002,1.6180000000000001,null,"2006-06-23",11.88,3.81508,14.78,3.6473399999999998,11.88,3.4906999999999999,null,"2016-06-22",11.62,3.89825,14.76,3.6825800000000002,11.62,3.4811800000000002,null,"2066-06-23",0,4.3140799999999997,14.65,3.8587799999999999,0,3.4336099999999998,null,null,null,40,{"$error":"#DIV/0!"}]
["1967-06-25",0.1,3.649,6,1967,25,0.1,{"$f":"IF(B209<Parameters!$A$16,B209*Parameters!$B$16,IF(AND(B209>Parameters!$A$16,B209<Parameters!$A$17),B209*Parameters!$B$17,B209*Parameters!$B$18))","v":0},{"$f":"IF(B209<Parameters!$A$20,B209*Parameters!$B$20,IF(AND(B209>Parameters!$A$20,B209<Parameters!$A$21),B209*Parameters!$B$21,B209*Parameters!$B$22))","v":0},{"$error":"#DIV/0!"},{"$error":"#DIV/0!"},{"$error":"#DIV/0!"},{"$error":"#DIV/0!"},{"$error":"#DIV/0!"},3.5156666666666667,{"$error":"#DIV/0!"},{"$error":"#DIV/0!"},{"$f":"IF('Gegevens '!$G$20=\"Eigen waarden\",VLOOKUP($F209,'Gegevens '!$A$25:$C$77,3,FALSE),VLOOKUP($F209,Lijsten!$A$19:$B$71,2,FALSE))","v":41.801906897514279},{"$error":"#DIV/0!"},{"$error":"#DIV/0!"},{"$error":"#DIV/0!"},{"$error":"#DIV/0!"},{"$error":"#DIV/0!"},{"$error":"#DIV/0!"},{"$error":"#DIV/0!"},{"$error":"#DIV/0!"},{"$error":"#DIV/0!"},{"$error":"#DIV/0!"},{"$error":"#DIV/0!"},{"$error":"#DIV/0!"},{"$error":"#DIV/0!"},{"$error":"#DIV/0!"},{"$error":"#DIV/0!"},{"$error":"#DIV/0!"},{"$error":"#DIV/0!"},{"$error":"#DIV/0!"},{"$error":"#DIV/0!"},{"$error":"#DIV/0!"},{"$error":"#DIV/0!"},{"$error":"#DIV/0!"},{"$error":"#DIV/0!"},0,{"$error":"#DIV/0!"},null,null,null,null,null,null,null,null,null,null,null,null,null,null,null,null,null,null,null,null,null,"1967-06-25",0.1,3.649,null,"1975-06-24",1.9,0.69599999999999995,null,"2006-06-24",3.29,3.8269899999999999,4.13,3.6587299999999998,3.29,3.5015900000000002,null,"2016-06-23",3.15,3.9104199999999998,4.0599999999999996,3.69408,3.15,3.4920499999999999,null,"2066-06-24",2.42,4.3275499999999996,3.71,3.8708300000000002,2.42,3.4443299999999999,null,null,null,41,{"$error":"#DIV/0!"}]
["1967-06-26",0,4.2469999999999999,6,1967,26,0,{"$f":"IF(B210<Parameters!$A$16,B210*Parameters!$B$16,IF(AND(B210>Parameters!$A$16,B210<Parameters!$A$17),B210*Parameters!$B$17,B210*Parameters!$B$18))","v":0},{"$f":"IF(B210<Parameters!$A$20,B210*Parameters!$B$20,IF(AND(B210>Parameters!$A$20,B210<Parameters!$A$21),B210*Parameters!$B$21,B210*Parameters!$B$22))","v":0},{"$error":"#DIV/0!"},"",0,"",0,4.1136666666666661,{"$error":"#DIV/0!"},{"$error":"#DIV/0!"},{"$f":"IF('Gegevens '!$G$20=\"Eigen waarden\",VLOOKUP($F210,'Gegevens '!$A$25:$C$77,3,FALSE),VLOOKUP($F210,Lijsten!$A$19:$B$71,2,FALSE))","v":43.586624781491437},{"$error":"#DIV/0!"},{"$error":"#DIV/0!"},{"$error":"#DIV/0!"},{"$error":"#DIV/0!"},{"$error":"#DIV/0!"},{"$error":"#DIV/0!"},{"$error":"#DIV/0!"},"","",{"$error":"#DIV/0!"},0,{"$error":"#DIV/0!"},0,{"$error":"#DIV/0!"},{"$error":"#DIV/0!"},{"$error":"#DIV/0!"},{"$error":"#DIV/0!"},{"$error":"#DIV/0!"},{"$error":"#DIV/0!"},"","","",{"$error":"#DIV/0!"},0,{"$error":"#DIV/0!"},null,null,null,null,null,null,null,null,null,null,null,null,null,null,null,null,null,null,null,null,null,"1967-06-26",0,4.2469999999999999,null,"1975-06-25",0,4.984,null,"2006-06-25",0.09,3.9504100000000002,0.12,3.7767200000000001,0.09,3.6145200000000002,null,"2016-06-24",0,4.0365200000000003,0.1,3.8132000000000001,0,3.60466,null,"2066-06-25",0,4.4671099999999999,0.1,3.99566,0,3.5554000000000001,null,null,null,42,{"$error":"#DIV/0!"}]
["1967-06-27",7.4,2.681,6,1967,26,7.4,{"$f":"IF(B211<Parameters!$A$16,B211*Parameters!$B$16,IF(AND(B211>Parameters!$A$16,B211<Parameters!$A$17),B211*Parameters!$B$17,B211*Parameters!$B$18))","v":7.03},{"$f":"IF(B211<Parameters!$A$20,B211*Parameters!$B$20,IF(AND(B211>Parameters!$A$20,B211<Parameters!$A$21),B211*Parameters!$B$21,B211*Parameters!$B$22))","v":5.5500000000000007},{"$error":"#DIV/0!"},{"$error":"#DIV/0!"},{"$error":"#DIV/0!"},{"$error":"#DIV/0!"},{"$error":"#DIV/0!"},2.5476666666666667,{"$error":"#DIV/0!"},{"$error":"#DIV/0!"},{"$f":"IF('Gegevens '!$G$20=\"Eigen waarden\",VLOOKUP($F211,'Gegevens '!$A$25:$C$77,3,FALSE),VLOOKUP($F211,Lijsten!$A$19:$B$71,2,FALSE))","v":43.586624781491437},{"$error":"#DIV/0!"},{"$error":"#DIV/0!"},{"$error":"#DIV/0!"},{"$error":"#DIV/0!"},{"$error":"#DIV/0!"},{"$error":"#DIV/0!"},{"$error":"#DIV/0!"},{"$error":"#DIV/0!"},{"$error":"#DIV/0!"},{"$error":"#DIV/0!"},{"$error":"#DIV/0!"},{"$error":"#DIV/0!"},{"$error":"#DIV/0!"},{"$error":"#DIV/0!"},{"$error":"#DIV/0!"},{"$error":"#DIV/0!"},{"$error":"#DIV/0!"},{"$error":"#DIV/0!"},{"$error":"#DIV/0!"},{"$error":"#DIV/0!"},{"$error":"#DIV/0!"},{"$error":"#DIV/0!"},{"$error":"#DIV/0!"},0,{"$error":"#DIV/0!"},null,null,null,null,null,null,null,null,null,null,null,null,null,null,null,null,null,null,null,null,null,"1967-06-27",7.4,2.681,null,"1975-06-26",0,5.6139999999999999,null,"2006-06-26",0,4.5978000000000003,0,4.3956499999999998,0,4.2068700000000003,null,"2016-06-25",0,4.6980300000000002,0,4.4381199999999996,0,4.1954000000000002,null,"2066-06-26",0,5.1991800000000001,0,4.6504700000000003,0,4.1380600000000003,null,null,null,43,{"$error":"#DIV/0!"}]
["1967-06-28",0.4,3.516,6,1967,26,0.4,{"$f":"IF(B212<Parameters!$A$16,B212*Parameters!$B$16,IF(AND(B212>Parameters!$A$16,B212<Parameters!$A$17),B212*Parameters!$B$17,B212*Parameters!$B$18))","v":0},{"$f":"IF(B212<Parameters!$A$20,B212*Parameters!$B$20,IF(AND(B212>Parameters!$A$20,B212<Parameters!$A$21),B212*Parameters!$B$21,B212*Parameters!$B$22))","v":0},{"$error":"#DIV/0!"},{"$error":"#DIV/0!"},{"$error":"#DIV/0!"},{"$error":"#DIV/0!"},{"$error":"#DIV/0!"},3.3826666666666667,{"$error":"#DIV/0!"},{"$error":"#DIV/0!"},{"$f":"IF('Gegevens '!$G$20=\"Eigen waarden\",VLOOKUP($F212,'Gegevens '!$A$25:$C$77,3,FALSE),VLOOKUP($F212,Lijsten!$A$19:$B$71,2,FALSE))","v":43.586624781491437},{"$error":"#DIV/0!"},{"$error":"#DIV/0!"},{"$error":"#DIV/0!"},{"$error":"#DIV/0!"},{"$error":"#DIV/0!"},{"$error":"#DIV/0!"},{"$error":"#DIV/0!"},{"$error":"#DIV/0!"},{"$error":"#DIV/0!"},{"$error":"#DIV/0!"},{"$error":"#DIV/0!"},{"$error":"#DIV/0!"},{"$error":"#DIV/0!"},{"$error":"#DIV/0!"},{"$error":"#DIV/0!"},{"$error":"#DIV/0!"},{"$error":"#DIV/0!"},{"$error":"#DIV/0!"},{"$error":"#DIV/0!"},{"$error":"#DIV/0!"},{"$error":"#DIV/0!"},{"$error":"#DIV/0!"},{"$error":"#DIV/0!"},0,{"$error":"#DIV/0!"},null,null,null,null,null,null,null,null,null,null,null,null,null,null,null,null,null,null,null,null,null,"1967-06-28",0.4,3.516,null,"1975-06-27",0,4.3019999999999996,null,"2006-06-27",6.51,2.90245,8.25,2.7748400000000002,6.51,2.6556600000000001,null,"2016-06-26",6.24,2.9657200000000001,8.15,2.8016399999999999,6.24,2.6484299999999998,null,"2066-06-27",5.09,3.2820800000000001,7.73,2.9357000000000002,5.09,2.6122299999999998,null,null,null,44,{"$error":"#DIV/0!"}]
["1967-06-29",0,3.5190000000000001,6,1967,26,0,{"$f":"IF(B213<Parameters!$A$16,B213*Parameters!$B$16,IF(AND(B213>Parameters!$A$16,B213<Parameters!$A$17),B213*Parameters!$B$17,B213*Parameters!$B$18))","v":0},{"$f":"IF(B213<Parameters!$A$20,B213*Parameters!$B$20,IF(AND(B213>Parameters!$A$20,B213<Parameters!$A$21),B213*Parameters!$B$21,B213*Parameters!$B$22))","v":0},{"$error":"#DIV/0!"},"",0,"",0,3.3856666666666668,{"$error":"#DIV/0!"},{"$error":"#DIV/0!"},{"$f":"IF('Gegevens '!$G$20=\"Eigen waarden\",VLOOKUP($F213,'Gegevens '!$A$25:$C$77,3,FALSE),VLOOKUP($F213,Lijsten!$A$19:$B$71,2,FALSE))","v":43.586624781491437},{"$error":"#DIV/0!"},{"$error":"#DIV/0!"},{"$error":"#DIV/0!"},{"$error":"#DIV/0!"},{"$error":"#DIV/0!"},{"$error":"#DIV/0!"},{"$error":"#DIV/0!"},"","",{"$error":"#DIV/0!"},0,{"$error":"#DIV/0!"},0,{"$error":"#DIV/0!"},{"$error":"#DIV/0!"},{"$error":"#DIV/0!"},{"$error":"#DIV/0!"},{"$error":"#DIV/0!"},{"$error":"#DIV/0!"},"","","",{"$error":"#DIV/0!"},0,{"$error":"#DIV/0!"},null,null,null,null,null,null,null,null,null,null,null,null,null,null,null,null,null,null,null,null,null,"1967-06-29",0,3.5190000000000001,null,"1975-06-28",0,1.478,null,"2006-06-28",0.35,3.8064200000000001,0.44,3.6390600000000002,0.35,3.4827699999999999,null,"2016-06-27",0.34,3.8894000000000002,0.43,3.67422,0.34,3.4732799999999999,null,"2066-06-28",0,4.3042899999999999,0.38,3.8500200000000002,0,3.4258099999999998,null,null,null,45,{"$error":"#DIV/0!"}]
["1967-06-30",0,3.5369999999999999,6,1967,26,0,{"$f":"IF(B214<Parameters!$A$16,B214*Parameters!$B$16,IF(AND(B214>Parameters!$A$16,B214<Parameters!$A$17),B214*Parameters!$B$17,B214*Parameters!$B$18))","v":0},{"$f":"IF(B214<Parameters!$A$20,B214*Parameters!$B$20,IF(AND(B214>Parameters!$A$20,B214<Parameters!$A$21),B214*Parameters!$B$21,B214*Parameters!$B$22))","v":0},{"$error":"#DIV/0!"},"",0,"",0,3.4036666666666666,{"$error":"#DIV/0!"},{"$error":"#DIV/0!"},{"$f":"IF('Gegevens '!$G$20=\"Eigen waarden\",VLOOKUP($F214,'Gegevens '!$A$25:$C$77,3,FALSE),VLOOKUP($F214,Lijsten!$A$19:$B$71,2,FALSE))","v":43.586624781491437},{"$error":"#DIV/0!"},{"$error":"#DIV/0!"},{"$error":"#DIV/0!"},{"$error":"#DIV/0!"},{"$error":"#DIV/0!"},{"$error":"#DIV/0!"},{"$error":"#DIV/0!"},"","",{"$error":"#DIV/0!"},0,{"$error":"#DIV/0!"},0,{"$error":"#DIV/0!"},{"$error":"#DIV/0!"},{"$error":"#DIV/0!"},{"$error":"#DIV/0!"},{"$error":"#DIV/0!"},{"$error":"#DIV/0!"},"","","",{"$error":"#DIV/0!"},0,{"$error":"#DIV/0!"},null,null,null,null,null,null,null,null,null,null,null,null,null,null,null,null,null,null,null,null,null,"1967-06-30",0,3.5369999999999999,null,"1975-06-29",7.1,3.0449999999999999,null,"2006-06-29",0,3.8096700000000001,0,3.6421700000000001,0,3.4857499999999999,null,"2016-06-28",0,3.8927200000000002,0,3.6773600000000002,0,3.4762400000000002,null,"2066-06-29",0,4.3079599999999996,0,3.85331,0,3.4287399999999999,null,null,null,46,{"$error":"#DIV/0!"}]
["1967-07-01",0,5.3449999999999998,7,1967,26,0,{"$f":"IF(B215<Parameters!$A$16,B215*Parameters!$B$16,IF(AND(B215>Parameters!$A$16,B215<Parameters!$A$17),B215*Parameters!$B$17,B215*Parameters!$B$18))","v":0},{"$f":"IF(B215<Parameters!$A$20,B215*Parameters!$B$20,IF(AND(B215>Parameters!$A$20,B215<Parameters!$A$21),B215*Parameters!$B$21,B215*Parameters!$B$22))","v":0},{"$error":"#DIV/0!"},"",0,"",0,5.3127419354838707,{"$error":"#DIV/0!"},{"$error":"#DIV/0!"},{"$f":"IF('Gegevens '!$G$20=\"Eigen waarden\",VLOOKUP($F215,'Gegevens '!$A$25:$C$77,3,FALSE),VLOOKUP($F215,Lijsten!$A$19:$B$71,2,FALSE))","v":43.586624781491437},{"$error":"#DIV/0!"},{"$error":"#DIV/0!"},{"$error":"#DIV/0!"},{"$error":"#DIV/0!"},{"$error":"#DIV/0!"},{"$error":"#DIV/0!"},{"$error":"#DIV/0!"},"","",{"$error":"#DIV/0!"},0,{"$error":"#DIV/0!"},0,{"$error":"#DIV/0!"},{"$error":"#DIV/0!"},{"$error":"#DIV/0!"},{"$error":"#DIV/0!"},{"$error":"#DIV/0!"},{"$error":"#DIV/0!"},"","","",{"$error":"#DIV/0!"},0,{"$error":"#DIV/0!"},null,null,null,null,null,null,null,null,null,null,null,null,null,null,null,null,null,null,null,null,null,"1967-07-01",0,5.3449999999999998,null,"1975-06-30",0.3,3.133,null,"2006-06-30",0,3.8291599999999999,0,3.6608000000000001,0,3.5035799999999999,null,"2016-06-29",0,3.9126300000000001,0,3.6961599999999999,0,3.49403,null,"2066-06-30",0,4.33,0,3.8730199999999999,0,3.4462799999999998,null,null,null,47,{"$error":"#DIV/0!"}]
["1967-07-02",0.3,4.95,7,1967,26,0.3,{"$f":"IF(B216<Parameters!$A$16,B216*Parameters!$B$16,IF(AND(B216>Parameters!$A$16,B216<Parameters!$A$17),B216*Parameters!$B$17,B216*Parameters!$B$18))","v":0},{"$f":"IF(B216<Parameters!$A$20,B216*Parameters!$B$20,IF(AND(B216>Parameters!$A$20,B216<Parameters!$A$21),B216*Parameters!$B$21,B216*Parameters!$B$22))","v":0},{"$error":"#DIV/0!"},{"$error":"#DIV/0!"},{"$error":"#DIV/0!"},{"$error":"#DIV/0!"},{"$error":"#DIV/0!"},4.9177419354838712,{"$error":"#DIV/0!"},{"$error":"#DIV/0!"},{"$f":"IF('Gegevens '!$G$20=\"Eigen waarden\",VLOOKUP($F216,'Gegevens '!$A$25:$C$77,3,FALSE),VLOOKUP($F216,Lijsten!$A$19:$B$71,2,FALSE))","v":43.586624781491437},{"$error":"#DIV/0!"},{"$error":"#DIV/0!"},{"$error":"#DIV/0!"},{"$error":"#DIV/0!"},{"$error":"#DIV/0!"},{"$error":"#DIV/0!"},{"$error":"#DIV/0!"},{"$error":"#DIV/0!"},{"$error":"#DIV/0!"},{"$error":"#DIV/0!"},{"$error":"#DIV/0!"},{"$error":"#DIV/0!"},{"$error":"#DIV/0!"},{"$error":"#DIV/0!"},{"$error":"#DIV/0!"},{"$error":"#DIV/0!"},{"$error":"#DIV/0!"},{"$error":"#DIV/0!"},{"$error":"#DIV/0!"},{"$error":"#DIV/0!"},{"$error":"#DIV/0!"},{"$error":"#DIV/0!"},{"$error":"#DIV/0!"},0,{"$error":"#DIV/0!"},null,null,null,null,null,null,null,null,null,null,null,null,null,null,null,null,null,null,null,null,null,"1967-07-02",0.3,4.95,null,"1975-07-01",0,5.2069999999999999,null,"2006-07-01",0,5.8033299999999999,0,5.5994200000000003,0,5.3955099999999998,null,"2016-06-30",0,5.9342899999999998,0,5.67211,0,5.4099399999999997,null,"2066-07-01",0,6.5890500000000003,0,6.0355699999999999,0,5.4821,null,null,null,48,{"$error":"#DIV/0!"}]
["1967-07-03",0.7,4.3920000000000003,7,1967,27,0.7,{"$f":"IF(B217<Parameters!$A$16,B217*Parameters!$B$16,IF(AND(B217>Parameters!$A$16,B217<Parameters!$A$17),B217*Parameters!$B$17,B217*Parameters!$B$18))","v":0},{"$f":"IF(B217<Parameters!$A$20,B217*Parameters!$B$20,IF(AND(B217>Parameters!$A$20,B217<Parameters!$A$21),B217*Parameters!$B$21,B217*Parameters!$B$22))","v":0},{"$error":"#DIV/0!"},{"$error":"#DIV/0!"},{"$error":"#DIV/0!"},{"$error":"#DIV/0!"},{"$error":"#DIV/0!"},4.3597419354838713,{"$error":"#DIV/0!"},{"$error":"#DIV/0!"},{"$f":"IF('Gegevens '!$G$20=\"Eigen waarden\",VLOOKUP($F217,'Gegevens '!$A$25:$C$77,3,FALSE),VLOOKUP($F217,Lijsten!$A$19:$B$71,2,FALSE))","v":44.20203263918858},{"$error":"#DIV/0!"},{"$error":"#DIV/0!"},{"$error":"#DIV/0!"},{"$error":"#DIV/0!"},{"$error":"#DIV/0!"},{"$error":"#DIV/0!"},{"$error":"#DIV/0!"},{"$error":"#DIV/0!"},{"$error":"#DIV/0!"},{"$error":"#DIV/0!"},{"$error":"#DIV/0!"},{"$error":"#DIV/0!"},{"$error":"#DIV/0!"},{"$error":"#DIV/0!"},{"$error":"#DIV/0!"},{"$error":"#DIV/0!"},{"$error":"#DIV/0!"},{"$error":"#DIV/0!"},{"$error":"#DIV/0!"},{"$error":"#DIV/0!"},{"$error":"#DIV/0!"},{"$error":"#DIV/0!"},{"$error":"#DIV/0!"},0,{"$error":"#DIV/0!"},null,null,null,null,null,null,null,null,null,null,null,null,null,null,null,null,null,null,null,null,null,"1967-07-03",0.7,4.3920000000000003,null,"1975-07-02",0,4.633,null,"2006-07-02",0.25,5.37446,0.32,5.1856200000000001,0.25,4.9967800000000002,null,"2016-07-01",0.24,5.4957399999999996,0.31,5.2529399999999997,0.24,5.0101399999999998,null,"2066-07-02",0.17,6.1021099999999997,0.27,5.5895400000000004,0.17,5.0769700000000002,null,null,null,49,{"$error":"#DIV/0!"}]
["1967-07-04",0,3.762,7,1967,27,0,{"$f":"IF(B218<Parameters!$A$16,B218*Parameters!$B$16,IF(AND(B218>Parameters!$A$16,B218<Parameters!$A$17),B218*Parameters!$B$17,B218*Parameters!$B$18))","v":0},{"$f":"IF(B218<Parameters!$A$20,B218*Parameters!$B$20,IF(AND(B218>Parameters!$A$20,B218<Parameters!$A$21),B218*Parameters!$B$21,B218*Parameters!$B$22))","v":0},{"$error":"#DIV/0!"},"",0,"",0,3.729741935483871,{"$error":"#DIV/0!"},{"$error":"#DIV/0!"},{"$f":"IF('Gegevens '!$G$20=\"Eigen waarden\",VLOOKUP($F218,'Gegevens '!$A$25:$C$77,3,FALSE),VLOOKUP($F218,Lijsten!$A$19:$B$71,2,FALSE))","v":44.20203263918858},{"$error":"#DIV/0!"},{"$error":"#DIV/0!"},{"$error":"#DIV/0!"},{"$error":"#DIV/0!"},{"$error":"#DIV/0!"},{"$error":"#DIV/0!"},{"$error":"#DIV/0!"},"","",{"$error":"#DIV/0!"},0,{"$error":"#DIV/0!"},0,{"$error":"#DIV/0!"},{"$error":"#DIV/0!"},{"$error":"#DIV/0!"},{"$error":"#DIV/0!"},{"$error":"#DIV/0!"},{"$error":"#DIV/0!"},"","","",{"$error":"#DIV/0!"},0,{"$error":"#DIV/0!"},null,null,null,null,null,null,null,null,null,null,null,null,null,null,null,null,null,null,null,null,null,"1967-07-04",0,3.762,null,"1975-07-03",0,4.5220000000000002,null,"2006-07-03",0.59,4.7686099999999998,0.74,4.6010600000000004,0.59,4.4335000000000004,null,"2016-07-02",0.56000000000000005,4.87622,0.72,4.6607900000000004,0.56000000000000005,4.44536,null,"2066-07-03",0,5.4142400000000004,0.6,4.9594500000000004,0,4.5046499999999998,null,null,null,50,{"$error":"#DIV/0!"}]
["1967-07-05",0,3.6459999999999999,7,1967,27,0,{"$f":"IF(B219<Parameters!$A$16,B219*Parameters!$B$16,IF(AND(B219>Parameters!$A$16,B219<Parameters!$A$17),B219*Parameters!$B$17,B219*Parameters!$B$18))","v":0},{"$f":"IF(B219<Parameters!$A$20,B219*Parameters!$B$20,IF(AND(B219>Parameters!$A$20,B219<Parameters!$A$21),B219*Parameters!$B$21,B219*Parameters!$B$22))","v":0},{"$error":"#DIV/0!"},"",0,"",0,3.6137419354838709,{"$error":"#DIV/0!"},{"$error":"#DIV/0!"},{"$f":"IF('Gegevens '!$G$20=\"Eigen waarden\",VLOOKUP($F219,'Gegevens '!$A$25:$C$77,3,FALSE),VLOOKUP($F219,Lijsten!$A$19:$B$71,2,FALSE))","v":44.20203263918858},{"$error":"#DIV/0!"},{"$error":"#DIV/0!"},{"$error":"#DIV/0!"},{"$error":"#DIV/0!"},{"$error":"#DIV/0!"},{"$error":"#DIV/0!"},{"$error":"#DIV/0!"},"","",{"$error":"#DIV/0!"},0,{"$error":"#DIV/0!"},0,{"$error":"#DIV/0!"},{"$error":"#DIV/0!"},{"$error":"#DIV/0!"},{"$error":"#DIV/0!"},{"$error":"#DIV/0!"},{"$error":"#DIV/0!"},"","","",{"$error":"#DIV/0!"},0,{"$error":"#DIV/0!"},null,null,null,null,null,null,null,null,null,null,null,null,null,null,null,null,null,null,null,null,null,"1967-07-05",0,3.6459999999999999,null,"1975-07-04",2.6,3.827,null,"2006-07-04",0,4.0845900000000004,0,3.9410699999999999,0,3.7975500000000002,null,"2016-07-03",0,4.1767599999999998,0,3.9922300000000002,0,3.8077100000000002,null,"2066-07-04",0,4.6376099999999996,0,4.2480500000000001,0,3.8584999999999998,null,null,null,51,{"$error":"#DIV/0!"}]
["1967-07-06",0,5.4980000000000002,7,1967,27,0,{"$f":"IF(B220<Parameters!$A$16,B220*Parameters!$B$16,IF(AND(B220>Parameters!$A$16,B220<Parameters!$A$17),B220*Parameters!$B$17,B220*Parameters!$B$18))","v":0},{"$f":"IF(B220<Parameters!$A$20,B220*Parameters!$B$20,IF(AND(B220>Parameters!$A$20,B220<Parameters!$A$21),B220*Parameters!$B$21,B220*Parameters!$B$22))","v":0},{"$error":"#DIV/0!"},"",0,"",0,5.4657419354838712,{"$error":"#DIV/0!"},{"$error":"#DIV/0!"},{"$f":"IF('Gegevens '!$G$20=\"Eigen waarden\",VLOOKUP($F220,'Gegevens '!$A$25:$C$77,3,FALSE),VLOOKUP($F220,Lijsten!$A$19:$B$71,2,FALSE))","v":44.20203263918858},{"$error":"#DIV/0!"},{"$error":"#DIV/0!"},{"$error":"#DIV/0!"},{"$error":"#DIV/0!"},{"$error":"#DIV/0!"},{"$error":"#DIV/0!"},{"$error":"#DIV/0!"},"","",{"$error":"#DIV/0!"},0,{"$error":"#DIV/0!"},0,{"$error":"#DIV/0!"},{"$error":"#DIV/0!"},{"$error":"#DIV/0!"},{"$error":"#DIV/0!"},{"$error":"#DIV/0!"},{"$error":"#DIV/0!"},"","","",{"$error":"#DIV/0!"},0,{"$error":"#DIV/0!"},null,null,null,null,null,null,null,null,null,null,null,null,null,null,null,null,null,null,null,null,null,"1967-07-06",0,5.4980000000000002,null,"1975-07-05",5.7,2.0819999999999999,null,"2006-07-05",0,3.9586399999999999,0,3.81955,0,3.68045,null,"2016-07-04",0,4.0479700000000003,0,3.8691399999999998,0,3.6903000000000001,null,"2066-07-05",0,4.4946099999999998,0,4.1170600000000004,0,3.7395200000000002,null,null,null,52,{"$error":"#DIV/0!"}]
["1967-07-07",0,2.1629999999999998,7,1967,27,0,{"$f":"IF(B221<Parameters!$A$16,B221*Parameters!$B$16,IF(AND(B221>Parameters!$A$16,B221<Parameters!$A$17),B221*Parameters!$B$17,B221*Parameters!$B$18))","v":0},{"$f":"IF(B221<Parameters!$A$20,B221*Parameters!$B$20,IF(AND(B221>Parameters!$A$20,B221<Parameters!$A$21),B221*Parameters!$B$21,B221*Parameters!$B$22))","v":0},{"$error":"#DIV/0!"},"",0,"",0,2.1307419354838708,{"$error":"#DIV/0!"},{"$error":"#DIV/0!"},{"$f":"IF('Gegevens '!$G$20=\"Eigen waarden\",VLOOKUP($F221,'Gegevens '!$A$25:$C$77,3,FALSE),VLOOKUP($F221,Lijsten!$A$19:$B$71,2,FALSE))","v":44.20203263918858},{"$error":"#DIV/0!"},{"$error":"#DIV/0!"},{"$error":"#DIV/0!"},{"$error":"#DIV/0!"},{"$error":"#DIV/0!"},{"$error":"#DIV/0!"},{"$error":"#DIV/0!"},"","",{"$error":"#DIV/0!"},0,{"$error":"#DIV/0!"},0,{"$error":"#DIV/0!"},{"$error":"#DIV/0!"},{"$error":"#DIV/0!"},{"$error":"#DIV/0!"},{"$error":"#DIV/0!"},{"$error":"#DIV/0!"},"","","",{"$error":"#DIV/0!"},0,{"$error":"#DIV/0!"},null,null,null,null,null,null,null,null,null,null,null,null,null,null,null,null,null,null,null,null,null,"1967-07-07",0,2.1629999999999998,null,"1975-07-06",0,4.4790000000000001,null,"2006-07-06",0,5.9694500000000001,0,5.7596999999999996,0,5.5499599999999996,null,"2016-07-05",0,6.1041499999999997,0,5.8344800000000001,0,5.5648,null,"2066-07-06",0,6.77766,0,6.2083399999999997,0,5.6390200000000004,null,null,null,53,{"$error":"#DIV/0!"}]
["1967-07-08",2.2999999999999998,1.4350000000000001,7,1967,27,2.2999999999999998,{"$f":"IF(B222<Parameters!$A$16,B222*Parameters!$B$16,IF(AND(B222>Parameters!$A$16,B222<Parameters!$A$17),B222*Parameters!$B$17,B222*Parameters!$B$18))","v":2.1849999999999996},{"$f":"IF(B222<Parameters!$A$20,B222*Parameters!$B$20,IF(AND(B222>Parameters!$A$20,B222<Parameters!$A$21),B222*Parameters!$B$21,B222*Parameters!$B$22))","v":1.7249999999999999},{"$error":"#DIV/0!"},{"$error":"#DIV/0!"},{"$error":"#DIV/0!"},{"$error":"#DIV/0!"},{"$error":"#DIV/0!"},1.402741935483871,{"$error":"#DIV/0!"},{"$error":"#DIV/0!"},{"$f":"IF('Gegevens '!$G$20=\"Eigen waarden\",VLOOKUP($F222,'Gegevens '!$A$25:$C$77,3,FALSE),VLOOKUP($F222,Lijsten!$A$19:$B$71,2,FALSE))","v":44.20203263918858},{"$error":"#DIV/0!"},{"$error":"#DIV/0!"},{"$error":"#DIV/0!"},{"$error":"#DIV/0!"},{"$error":"#DIV/0!"},{"$error":"#DIV/0!"},{"$error":"#DIV/0!"},{"$error":"#DIV/0!"},{"$error":"#DIV/0!"},{"$error":"#DIV/0!"},{"$error":"#DIV/0!"},{"$error":"#DIV/0!"},{"$error":"#DIV/0!"},{"$error":"#DIV/0!"},{"$error":"#DIV/0!"},{"$error":"#DIV/0!"},{"$error":"#DIV/0!"},{"$error":"#DIV/0!"},{"$error":"#DIV/0!"},{"$error":"#DIV/0!"},{"$error":"#DIV/0!"},{"$error":"#DIV/0!"},{"$error":"#DIV/0!"},0,{"$error":"#DIV/0!"},null,null,null,null,null,null,null,null,null,null,null,null,null,null,null,null,null,null,null,null,null,"1967-07-08",2.2999999999999998,1.4350000000000001,null,"1975-07-07",0,5.8339999999999996,null,"2006-07-07",0,2.3484799999999999,0,2.2659600000000002,0,2.18344,null,"2016-07-06",0,2.4014700000000002,0,2.2953800000000002,0,2.1892800000000001,null,"2066-07-07",0,2.6664400000000001,0,2.4424600000000001,0,2.21848,null,null,null,"Eindtotaal",{"$error":"#DIV/0!"}]
["1967-07-09",0,3.617,7,1967,27,0,{"$f":"IF(B223<Parameters!$A$16,B223*Parameters!$B$16,IF(AND(B223>Parameters!$A$16,B223<Parameters!$A$17),B223*Parameters!$B$17,B223*Parameters!$B$18))","v":0},{"$f":"IF(B223<Parameters!$A$20,B223*Parameters!$B$20,IF(AND(B223>Parameters!$A$20,B223<Parameters!$A$21),B223*Parameters!$B$21,B223*Parameters!$B$22))","v":0},{"$error":"#DIV/0!"},"",0,"",0,3.584741935483871,{"$error":"#DIV/0!"},{"$error":"#DIV/0!"},{"$f":"IF('Gegevens '!$G$20=\"Eigen waarden\",VLOOKUP($F223,'Gegevens '!$A$25:$C$77,3,FALSE),VLOOKUP($F223,Lijsten!$A$19:$B$71,2,FALSE))","v":44.20203263918858},{"$error":"#DIV/0!"},{"$error":"#DIV/0!"},{"$error":"#DIV/0!"},{"$error":"#DIV/0!"},{"$error":"#DIV/0!"},{"$error":"#DIV/0!"},{"$error":"#DIV/0!"},"","",{"$error":"#DIV/0!"},0,{"$error":"#DIV/0!"},0,{"$error":"#DIV/0!"},{"$error":"#DIV/0!"},{"$error":"#DIV/0!"},{"$error":"#DIV/0!"},{"$error":"#DIV/0!"},{"$error":"#DIV/0!"},"","","",{"$error":"#DIV/0!"},0,{"$error":"#DIV/0!"},null,null,null,null,null,null,null,null,null,null,null,null,null,null,null,null,null,null,null,null,null,"1967-07-09",0,3.617,null,"1975-07-08",2.4,5.0599999999999996,null,"2006-07-08",1.89,1.5580499999999999,2.41,1.5033099999999999,1.89,1.4485600000000001,null,"2016-07-07",1.77,1.59321,2.34,1.5228200000000001,1.77,1.45244,null,"2066-07-08",1.19,1.7689999999999999,1.98,1.6204000000000001,1.19,1.4718100000000001]
["1967-07-10",0,5.7270000000000003,7,1967,28,0,{"$f":"IF(B224<Parameters!$A$16,B224*Parameters!$B$16,IF(AND(B224>Parameters!$A$16,B224<Parameters!$A$17),B224*Parameters!$B$17,B224*Parameters!$B$18))","v":0},{"$f":"IF(B224<Parameters!$A$20,B224*Parameters!$B$20,IF(AND(B224>Parameters!$A$20,B224<Parameters!$A$21),B224*Parameters!$B$21,B224*Parameters!$B$22))","v":0},{"$error":"#DIV/0!"},"",0,"",0,5.6947419354838713,{"$error":"#DIV/0!"},{"$error":"#DIV/0!"},{"$f":"IF('Gegevens '!$G$20=\"Eigen waarden\",VLOOKUP($F224,'Gegevens '!$A$25:$C$77,3,FALSE),VLOOKUP($F224,Lijsten!$A$19:$B$71,2,FALSE))","v":37.93215799035999},{"$error":"#DIV/0!"},{"$error":"#DIV/0!"},{"$error":"#DIV/0!"},{"$error":"#DIV/0!"},{"$error":"#DIV/0!"},{"$error":"#DIV/0!"},{"$error":"#DIV/0!"},"","",{"$error":"#DIV/0!"},0,{"$error":"#DIV/0!"},0,{"$error":"#DIV/0!"},{"$error":"#DIV/0!"},{"$error":"#DIV/0!"},{"$error":"#DIV/0!"},{"$error":"#DIV/0!"},{"$error":"#DIV/0!"},"","","",{"$error":"#DIV/0!"},0,{"$error":"#DIV/0!"},null,null,null,null,null,null,null,null,null,null,null,null,null,null,null,null,null,null,null,null,null,"1967-07-10",0,5.7270000000000003,null,"1975-07-09",3.4,3.9119999999999999,null,"2006-07-09",0,3.9271600000000002,0,3.7891699999999999,0,3.6511800000000001,null,"2016-07-08",0,4.0157699999999998,0,3.8383600000000002,0,3.6609500000000001,null,"2066-07-09",0,4.4588599999999996,0,4.08432,0,3.7097799999999999]
["1967-07-11",0,6.3650000000000002,7,1967,28,0,{"$f":"IF(B225<Parameters!$A$16,B225*Parameters!$B$16,IF(AND(B225>Parameters!$A$16,B225<Parameters!$A$17),B225*Parameters!$B$17,B225*Parameters!$B$18))","v":0},{"$f":"IF(B225<Parameters!$A$20,B225*Parameters!$B$20,IF(AND(B225>Parameters!$A$20,B225<Parameters!$A$21),B225*Parameters!$B$21,B225*Parameters!$B$22))","v":0},{"$error":"#DIV/0!"},"",0,"",0,6.3327419354838712,{"$error":"#DIV/0!"},{"$error":"#DIV/0!"},{"$f":"IF('Gegevens '!$G$20=\"Eigen waarden\",VLOOKUP($F225,'Gegevens '!$A$25:$C$77,3,FALSE),VLOOKUP($F225,Lijsten!$A$19:$B$71,2,FALSE))","v":37.93215799035999},{"$error":"#DIV/0!"},{"$error":"#DIV/0!"},{"$error":"#DIV/0!"},{"$error":"#DIV/0!"},{"$error":"#DIV/0!"},{"$error":"#DIV/0!"},{"$error":"#DIV/0!"},"","",{"$error":"#DIV/0!"},0,{"$error":"#DIV/0!"},0,{"$error":"#DIV/0!"},{"$error":"#DIV/0!"},{"$error":"#DIV/0!"},{"$error":"#DIV/0!"},{"$error":"#DIV/0!"},{"$error":"#DIV/0!"},"","","",{"$error":"#DIV/0!"},0,{"$error":"#DIV/0!"},null,null,null,null,null,null,null,null,null,null,null,null,null,null,null,null,null,null,null,null,null,"1967-07-11",0,6.3650000000000002,null,"1975-07-10",0,4.9429999999999996,null,"2006-07-10",0,6.2180900000000001,0,5.9996099999999997,0,5.7811199999999996,null,"2016-07-09",0,6.3583999999999996,0,6.0774900000000001,0,5.7965799999999996,null,"2066-07-10",0,7.0599600000000002,0,6.4669299999999996,0,5.8738999999999999]
["1967-07-12",0,6.3280000000000003,7,1967,28,0,{"$f":"IF(B226<Parameters!$A$16,B226*Parameters!$B$16,IF(AND(B226>Parameters!$A$16,B226<Parameters!$A$17),B226*Parameters!$B$17,B226*Parameters!$B$18))","v":0},{"$f":"IF(B226<Parameters!$A$20,B226*Parameters!$B$20,IF(AND(B226>Parameters!$A$20,B226<Parameters!$A$21),B226*Parameters!$B$21,B226*Parameters!$B$22))","v":0},{"$error":"#DIV/0!"},"",0,"",0,6.2957419354838713,{"$error":"#DIV/0!"},{"$error":"#DIV/0!"},{"$f":"IF('Gegevens '!$G$20=\"Eigen waarden\",VLOOKUP($F226,'Gegevens '!$A$25:$C$77,3,FALSE),VLOOKUP($F226,Lijsten!$A$19:$B$71,2,FALSE))","v":37.93215799035999},{"$error":"#DIV/0!"},{"$error":"#DIV/0!"},{"$error":"#DIV/0!"},{"$error":"#DIV/0!"},{"$error":"#DIV/0!"},{"$error":"#DIV/0!"},{"$error":"#DIV/0!"},"","",{"$error":"#DIV/0!"},0,{"$error":"#DIV/0!"},0,{"$error":"#DIV/0!"},{"$error":"#DIV/0!"},{"$error":"#DIV/0!"},{"$error":"#DIV/0!"},{"$error":"#DIV/0!"},{"$error":"#DIV/0!"},"","","",{"$error":"#DIV/0!"},0,{"$error":"#DIV/0!"},null,null,null,null,null,null,null,null,null,null,null,null,null,null,null,null,null,null,null,null,null,"1967-07-12",0,6.3280000000000003,null,"1975-07-11",0.8,3.5960000000000001,null,"2006-07-11",0,6.9108000000000001,0,6.6679700000000004,0,6.4251500000000004,null,"2016-07-10",0,7.0667400000000002,0,6.7545400000000004,0,6.4423300000000001,null,"2066-07-11",0,7.8464499999999999,0,7.18736,0,6.5282600000000004]
["1967-07-13",0,6.4080000000000004,{"$f":"MONTH(A227)","v":7},1967,{"$f":"INT((A227-DATE(YEAR(A227-WEEKDAY(A227-1)+4),1,3)+WEEKDAY(DATE(YEAR(A227-WEEKDAY(A227-1)+4),1,3))+5)/7)","v":28},0,{"$f":"IF(B227<Parameters!$A$16,B227*Parameters!$B$16,IF(AND(B227>Parameters!$A$16,B227<Parameters!$A$17),B227*Parameters!$B$17,B227*Parameters!$B$18))","v":0},{"$f":"IF(B227<Parameters!$A$20,B227*Parameters!$B$20,IF(AND(B227>Parameters!$A$20,B227<Parameters!$A$21),B227*Parameters!$B$21,B227*Parameters!$B$22))","v":0},{"$error":"#DIV/0!"},{"$f":"IF(B227=0,\"\",SUM(J227/(B227*10)))","v":""},0,{"$f":"IF(B227=0,\"\",L227/J227)","v":""},{"$f":"IF(B227=0,0,SUM(J227-L227))","v":0},{"$f":"IF(OR($D227=1,$D227=12,$D227=8),C227+(2/31),IF($D227=2,C227-(1/28),IF($D227=3,C227-(3/31),IF($D227=4,C227-(5/30),IF($D227=5,C227-(6/31),IF($D227=6,C227-(4/30),IF($D227=7,C227-(1/31),IF($D227=9,C227+(4/30),IF($D227=10,C227+(5/31),IF($D227=11,C227+(5/30)))))))))))","v":6.3757419354838714},{"$f":"-(($BH$3-$BI$3)*($AN$3+$AK$3-U227)/($AK$3)-$BH$3)","v":{"$error":"#DIV/0!"}},{"$error":"#DIV/0!"},{"$f":"IF('Gegevens '!$G$20=\"Eigen waarden\",VLOOKUP($F227,'Gegevens '!$A$25:$C$77,3,FALSE),VLOOKUP($F227,Lijsten!$A$19:$B$71,2,FALSE))","v":37.93215799035999},{"$error":"#DIV/0!"},{"$error":"#DIV/0!"},{"$error":"#DIV/0!"},{"$error":"#DIV/0!"},{"$error":"#DIV/0!"},{"$error":"#DIV/0!"},{"$f":"IF(R227=0,\"\",((R227-W227)/R227))","v":{"$error":"#DIV/0!"}},{"$f":"IF(B227=0,\"\",X227/(B227*10))","v":""},"",{"$f":"J227/10","v":{"$error":"#DIV/0!"}},{"$f":"L227/10","v":0},{"$f":"X227/10","v":{"$error":"#DIV/0!"}},0,{"$error":"#DIV/0!"},{"$error":"#DIV/0!"},{"$f":"(R227-W227)/10","v":{"$error":"#DIV/0!"}},{"$f":"SUM(AC227-AF227-AG227-AD227)","v":{"$error":"#DIV/0!"}},{"$f":"IF(AB227=0,\"\",AE227/AB227)","v":{"$error":"#DIV/0!"}},{"$error":"#DIV/0!"},{"$f":"IF(AC227=0,\"\",AG227/AC227)","v":""},{"$f":"IF(AC227=0,\"\",AD227/AC227)","v":""},{"$f":"IF(AC227=0,\"\",AI227/AC227)","v":""},{"$error":"#DIV/0!"},0,{"$error":"#DIV/0!"},null,null,null,null,null,null,null,null,null,null,null,null,null,null,null,null,null,null,null,null,null,"1967-07-13",0,6.4080000000000004,null,"1975-07-12",0.2,3.7250000000000001,null,"2006-07-12",0,6.8706300000000002,0,6.6292099999999996,0,6.3878000000000004,null,"2016-07-11",0,7.0256600000000002,0,6.7152700000000003,0,6.40489,null,"2066-07-12",0,7.80084,0,7.1455799999999998,0,6.49031]
["1967-07-14",0.4,3.3109999999999999,7,{"$f":"IF(AND((F227>1),(F228=1)),E227+1,E227)","v":1967},28,{"$f":"B228","v":0.4},{"$f":"IF(B228<Parameters!$A$16,B228*Parameters!$B$16,IF(AND(B228>Parameters!$A$16,B228<Parameters!$A$17),B228*Parameters!$B$17,B228*Parameters!$B$18))","v":0},{"$f":"IF(B228<Parameters!$A$20,B228*Parameters!$B$20,IF(AND(B228>Parameters!$A$20,B228<Parameters!$A$21),B228*Parameters!$B$21,B228*Parameters!$B$22))","v":0},{"$error":"#DIV/0!"},{"$error":"#DIV/0!"},{"$f":"IF(B228=0,0,SUM(B228*$D$3+H228*$B$3+I228*$C$3)/$E$3*10)","v":{"$error":"#DIV/0!"}},{"$error":"#DIV/0!"},{"$error":"#DIV/0!"},3.2787419354838709,{"$error":"#DIV/0!"},{"$error":"#DIV/0!"},{"$f":"IF('Gegevens '!$G$20=\"Eigen waarden\",VLOOKUP($F228,'Gegevens '!$A$25:$C$77,3,FALSE),VLOOKUP($F228,Lijsten!$A$19:$B$71,2,FALSE))","v":37.93215799035999},{"$f":"SUM(L228-R228-Q228)","v":{"$error":"#DIV/0!"}},{"$f":"L228-Q228","v":{"$error":"#DIV/0!"}},{"$f":"IF(U227<$AN$3,U227+T228,IF(AND((U227>$AN$3),(SUM(U227+S228)<$AN$3)),SUM($AN$3+T228),IF((SUM(U227+S228)>($AN$3+$AK$3)),$AN$3+$AK$3,U227+S228)))","v":{"$error":"#DIV/0!"}},{"$error":"#DIV/0!"},{"$error":"#DIV/0!"},{"$f":"R228-W228","v":{"$error":"#DIV/0!"}},{"$error":"#DIV/0!"},{"$error":"#DIV/0!"},{"$f":"K228","v":{"$error":"#DIV/0!"}},{"$error":"#DIV/0!"},{"$error":"#DIV/0!"},{"$error":"#DIV/0!"},{"$error":"#DIV/0!"},{"$error":"#DIV/0!"},{"$error":"#DIV/0!"},{"$error":"#DIV/0!"},{"$error":"#DIV/0!"},{"$error":"#DIV/0!"},{"$f":"IF(AB228=0,\"\",AF228/AB228)","v":{"$error":"#DIV/0!"}},{"$error":"#DIV/0!"},{"$error":"#DIV/0!"},{"$error":"#DIV/0!"},{"$f":"AI228*$E$5/1000","v":{"$error":"#DIV/0!"}},{"$f":"IF(OR(F228<=13,F228>=40),VALUE(AO228),0)","v":0},{"$f":"IF(OR(F228<=13,F228>=40),0,VALUE(AO228))","v":{"$error":"#DIV/0!"}},null,null,null,null,null,null,null,null,null,null,null,null,null,null,null,null,null,null,null,null,null,"1967-07-14",0.4,3.3109999999999999,null,"1975-07-13",0,4.1449999999999996,null,"2006-07-13",0,6.95749,0,6.7130200000000002,0,6.4685600000000001,null,"2016-07-12",0,7.1144800000000004,0,6.8001699999999996,0,6.4858599999999997,null,"2066-07-13",0,7.8994600000000004,0,7.2359099999999996,0,6.5723700000000003]
["1967-07-15",0,2.7309999999999999,7,1967,28,0,{"$f":"IF(B229<Parameters!$A$16,B229*Parameters!$B$16,IF(AND(B229>Parameters!$A$16,B229<Parameters!$A$17),B229*Parameters!$B$17,B229*Parameters!$B$18))","v":0},{"$f":"IF(B229<Parameters!$A$20,B229*Parameters!$B$20,IF(AND(B229>Parameters!$A$20,B229<Parameters!$A$21),B229*Parameters!$B$21,B229*Parameters!$B$22))","v":0},{"$f":"B229*SUM($B$3,$C$3,$D$3)/$E$3*10","v":{"$error":"#DIV/0!"}},"",0,"",0,2.6987419354838709,{"$error":"#DIV/0!"},{"$error":"#DIV/0!"},{"$f":"IF('Gegevens '!$G$20=\"Eigen waarden\",VLOOKUP($F229,'Gegevens '!$A$25:$C$77,3,FALSE),VLOOKUP($F229,Lijsten!$A$19:$B$71,2,FALSE))","v":37.93215799035999},{"$error":"#DIV/0!"},{"$error":"#DIV/0!"},{"$error":"#DIV/0!"},{"$f":"IF(SUM(U228+S229)>SUM($AK$3+$AN$3),SUM(U228+S229-($AK$3+$AN$3)),0)","v":{"$error":"#DIV/0!"}},{"$f":"IF(U228<$AN$3,R229,IF(SUM(U228-R229)>$AN$3,0,IF(SUM(U228+S229)<$AN$3,SUM(R229-(U228-$AN$3)),0)))","v":{"$error":"#DIV/0!"}},{"$error":"#DIV/0!"},{"$error":"#DIV/0!"},"","",{"$error":"#DIV/0!"},0,{"$error":"#DIV/0!"},{"$f":"N229/10","v":0},{"$error":"#DIV/0!"},{"$f":"Q229/10","v":{"$error":"#DIV/0!"}},{"$error":"#DIV/0!"},{"$error":"#DIV/0!"},{"$error":"#DIV/0!"},{"$error":"#DIV/0!"},"","","",{"$error":"#DIV/0!"},0,{"$error":"#DIV/0!"},null,null,null,null,null,null,null,null,null,null,null,null,null,null,null,null,null,null,null,null,null,"1967-07-15",0,2.7309999999999999,null,"1975-07-14",4.5,5.242,null,"2006-07-14",0.34,3.5949200000000001,0.43,3.4685999999999999,0.34,3.3422900000000002,null,"2016-07-13",0,3.67604,0.42,3.51363,0,3.3512300000000002,null,"2066-07-14",0.22,4.0816400000000002,0.36,3.7387800000000002,0.22,3.3959299999999999]
["1967-07-16",0,4.0149999999999997,7,1967,28,0,{"$f":"IF(B230<Parameters!$A$16,B230*Parameters!$B$16,IF(AND(B230>Parameters!$A$16,B230<Parameters!$A$17),B230*Parameters!$B$17,B230*Parameters!$B$18))","v":0},{"$f":"IF(B230<Parameters!$A$20,B230*Parameters!$B$20,IF(AND(B230>Parameters!$A$20,B230<Parameters!$A$21),B230*Parameters!$B$21,B230*Parameters!$B$22))","v":0},{"$error":"#DIV/0!"},"",0,"",0,3.9827419354838707,{"$error":"#DIV/0!"},{"$f":"SUM(O230*P229)/$E$3*10","v":{"$error":"#DIV/0!"}},{"$f":"IF('Gegevens '!$G$20=\"Eigen waarden\",VLOOKUP($F230,'Gegevens '!$A$25:$C$77,3,FALSE),VLOOKUP($F230,Lijsten!$A$19:$B$71,2,FALSE))","v":37.93215799035999},{"$error":"#DIV/0!"},{"$error":"#DIV/0!"},{"$error":"#DIV/0!"},{"$error":"#DIV/0!"},{"$error":"#DIV/0!"},{"$error":"#DIV/0!"},{"$error":"#DIV/0!"},"","",{"$error":"#DIV/0!"},0,{"$error":"#DIV/0!"},0,{"$error":"#DIV/0!"},{"$error":"#DIV/0!"},{"$error":"#DIV/0!"},{"$error":"#DIV/0!"},{"$error":"#DIV/0!"},{"$error":"#DIV/0!"},"","","",{"$error":"#DIV/0!"},0,{"$error":"#DIV/0!"},null,null,null,null,null,null,null,null,null,null,null,null,null,null,null,null,null,null,null,null,null,"1967-07-16",0,4.0149999999999997,null,"1975-07-15",0.1,3.2549999999999999,null,"2006-07-15",0,2.9651800000000001,0,2.8610000000000002,0,2.7568100000000002,null,"2016-07-14",0,3.0320900000000002,0,2.8981400000000002,0,2.7641800000000001,null,"2066-07-15",0,3.3666399999999999,0,3.08385,0,2.80105]
["1967-07-17",0,5.4669999999999996,7,1967,29,0,{"$f":"IF(B231<Parameters!$A$16,B231*Parameters!$B$16,IF(AND(B231>Parameters!$A$16,B231<Parameters!$A$17),B231*Parameters!$B$17,B231*Parameters!$B$18))","v":0},{"$f":"IF(B231<Parameters!$A$20,B231*Parameters!$B$20,IF(AND(B231>Parameters!$A$20,B231<Parameters!$A$21),B231*Parameters!$B$21,B231*Parameters!$B$22))","v":0},{"$error":"#DIV/0!"},"",0,"",0,5.4347419354838706,{"$error":"#DIV/0!"},{"$error":"#DIV/0!"},{"$f":"IF('Gegevens '!$G$20=\"Eigen waarden\",VLOOKUP($F231,'Gegevens '!$A$25:$C$77,3,FALSE),VLOOKUP($F231,Lijsten!$A$19:$B$71,2,FALSE))","v":41.402437318314284},{"$error":"#DIV/0!"},{"$error":"#DIV/0!"},{"$error":"#DIV/0!"},{"$error":"#DIV/0!"},{"$error":"#DIV/0!"},{"$error":"#DIV/0!"},{"$error":"#DIV/0!"},"","",{"$error":"#DIV/0!"},0,{"$error":"#DIV/0!"},0,{"$error":"#DIV/0!"},{"$error":"#DIV/0!"},{"$error":"#DIV/0!"},{"$error":"#DIV/0!"},{"$error":"#DIV/0!"},{"$error":"#DIV/0!"},"","","",{"$error":"#DIV/0!"},0,{"$error":"#DIV/0!"},null,null,null,null,null,null,null,null,null,null,null,null,null,null,null,null,null,null,null,null,null,"1967-07-17",0,5.4669999999999996,null,"1975-07-16",0,3.3940000000000001,null,"2006-07-16",0,4.3592899999999997,0,4.2061099999999998,0,4.0529400000000004,null,"2016-07-15",0,4.4576500000000001,0,4.2607200000000001,0,4.0637800000000004,null,"2066-07-16",0,4.9494899999999999,0,4.5337399999999999,0,4.1179800000000002]
["1967-07-18",1.8,5.8949999999999996,7,1967,29,1.8,{"$f":"IF(B232<Parameters!$A$16,B232*Parameters!$B$16,IF(AND(B232>Parameters!$A$16,B232<Parameters!$A$17),B232*Parameters!$B$17,B232*Parameters!$B$18))","v":1.4400000000000002},{"$f":"IF(B232<Parameters!$A$20,B232*Parameters!$B$20,IF(AND(B232>Parameters!$A$20,B232<Parameters!$A$21),B232*Parameters!$B$21,B232*Parameters!$B$22))","v":1.08},{"$error":"#DIV/0!"},{"$error":"#DIV/0!"},{"$error":"#DIV/0!"},{"$error":"#DIV/0!"},{"$error":"#DIV/0!"},5.8627419354838706,{"$error":"#DIV/0!"},{"$error":"#DIV/0!"},{"$f":"IF('Gegevens '!$G$20=\"Eigen waarden\",VLOOKUP($F232,'Gegevens '!$A$25:$C$77,3,FALSE),VLOOKUP($F232,Lijsten!$A$19:$B$71,2,FALSE))","v":41.402437318314284},{"$error":"#DIV/0!"},{"$error":"#DIV/0!"},{"$error":"#DIV/0!"},{"$error":"#DIV/0!"},{"$error":"#DIV/0!"},{"$error":"#DIV/0!"},{"$error":"#DIV/0!"},{"$error":"#DIV/0!"},{"$error":"#DIV/0!"},{"$error":"#DIV/0!"},{"$error":"#DIV/0!"},{"$error":"#DIV/0!"},{"$error":"#DIV/0!"},{"$error":"#DIV/0!"},{"$error":"#DIV/0!"},{"$error":"#DIV/0!"},{"$error":"#DIV/0!"},{"$error":"#DIV/0!"},{"$error":"#DIV/0!"},{"$error":"#DIV/0!"},{"$error":"#DIV/0!"},{"$error":"#DIV/0!"},{"$error":"#DIV/0!"},0,{"$error":"#DIV/0!"},null,null,null,null,null,null,null,null,null,null,null,null,null,null,null,null,null,null,null,null,null,"1967-07-18",1.8,5.8949999999999996,null,"1975-07-17",0.8,3.319,null,"2006-07-17",0,5.9358000000000004,0,5.7272299999999996,0,5.5186599999999997,null,"2016-07-16",0,6.0697400000000004,0,5.8015800000000004,0,5.5334199999999996,null,"2066-07-17",0,6.7394400000000001,0,6.1733399999999996,0,5.6072300000000004]
["1967-07-19",13.4,4.0369999999999999,7,1967,29,13.4,{"$f":"IF(B233<Parameters!$A$16,B233*Parameters!$B$16,IF(AND(B233>Parameters!$A$16,B233<Parameters!$A$17),B233*Parameters!$B$17,B233*Parameters!$B$18))","v":12.73},{"$f":"IF(B233<Parameters!$A$20,B233*Parameters!$B$20,IF(AND(B233>Parameters!$A$20,B233<Parameters!$A$21),B233*Parameters!$B$21,B233*Parameters!$B$22))","v":10.050000000000001},{"$error":"#DIV/0!"},{"$error":"#DIV/0!"},{"$error":"#DIV/0!"},{"$error":"#DIV/0!"},{"$error":"#DIV/0!"},4.0047419354838709,{"$error":"#DIV/0!"},{"$error":"#DIV/0!"},{"$f":"IF('Gegevens '!$G$20=\"Eigen waarden\",VLOOKUP($F233,'Gegevens '!$A$25:$C$77,3,FALSE),VLOOKUP($F233,Lijsten!$A$19:$B$71,2,FALSE))","v":41.402437318314284},{"$error":"#DIV/0!"},{"$error":"#DIV/0!"},{"$error":"#DIV/0!"},{"$error":"#DIV/0!"},{"$error":"#DIV/0!"},{"$error":"#DIV/0!"},{"$error":"#DIV/0!"},{"$error":"#DIV/0!"},{"$error":"#DIV/0!"},{"$error":"#DIV/0!"},{"$error":"#DIV/0!"},{"$error":"#DIV/0!"},{"$error":"#DIV/0!"},{"$f":"V233/10","v":{"$error":"#DIV/0!"}},{"$error":"#DIV/0!"},{"$error":"#DIV/0!"},{"$error":"#DIV/0!"},{"$error":"#DIV/0!"},{"$error":"#DIV/0!"},{"$error":"#DIV/0!"},{"$error":"#DIV/0!"},{"$error":"#DIV/0!"},{"$error":"#DIV/0!"},0,{"$error":"#DIV/0!"},null,null,null,null,null,null,null,null,null,null,null,null,null,null,null,null,null,null,null,null,null,"1967-07-19",13.4,4.0369999999999999,null,"1975-07-18",13.4,3.419,null,"2006-07-18",0,6.4005000000000001,1.88,6.1756000000000002,0,5.9507099999999999,null,"2016-07-17",1.39,6.5449200000000003,1.83,6.2557700000000001,1.39,5.9666199999999998,null,"2066-07-18",0.94,7.2670599999999999,1.53,6.6566299999999998,0.94,6.0462100000000003]
["1967-07-20",0.2,3.593,7,1967,29,0.2,{"$f":"IF(B234<Parameters!$A$16,B234*Parameters!$B$16,IF(AND(B234>Parameters!$A$16,B234<Parameters!$A$17),B234*Parameters!$B$17,B234*Parameters!$B$18))","v":0},{"$f":"IF(B234<Parameters!$A$20,B234*Parameters!$B$20,IF(AND(B234>Parameters!$A$20,B234<Parameters!$A$21),B234*Parameters!$B$21,B234*Parameters!$B$22))","v":0},{"$error":"#DIV/0!"},{"$error":"#DIV/0!"},{"$error":"#DIV/0!"},{"$error":"#DIV/0!"},{"$error":"#DIV/0!"},3.560741935483871,{"$error":"#DIV/0!"},{"$error":"#DIV/0!"},{"$f":"IF('Gegevens '!$G$20=\"Eigen waarden\",VLOOKUP($F234,'Gegevens '!$A$25:$C$77,3,FALSE),VLOOKUP($F234,Lijsten!$A$19:$B$71,2,FALSE))","v":41.402437318314284},{"$error":"#DIV/0!"},{"$error":"#DIV/0!"},{"$error":"#DIV/0!"},{"$error":"#DIV/0!"},{"$error":"#DIV/0!"},{"$error":"#DIV/0!"},{"$error":"#DIV/0!"},{"$error":"#DIV/0!"},{"$error":"#DIV/0!"},{"$error":"#DIV/0!"},{"$error":"#DIV/0!"},{"$error":"#DIV/0!"},{"$error":"#DIV/0!"},{"$error":"#DIV/0!"},{"$error":"#DIV/0!"},{"$error":"#DIV/0!"},{"$error":"#DIV/0!"},{"$error":"#DIV/0!"},{"$error":"#DIV/0!"},{"$error":"#DIV/0!"},{"$error":"#DIV/0!"},{"$error":"#DIV/0!"},{"$error":"#DIV/0!"},0,{"$error":"#DIV/0!"},null,null,null,null,null,null,null,null,null,null,null,null,null,null,null,null,null,null,null,null,null,"1967-07-20",0.2,3.593,null,"1975-07-19",0.9,3.6749999999999998,null,"2006-07-19",0,4.3831699999999998,15.09,4.2291600000000003,0,4.0751499999999998,null,"2016-07-18",11.21,4.4820799999999998,14.95,4.2840600000000002,11.21,4.0860500000000002,null,"2066-07-19",8.77,4.97661,14.22,4.5585800000000001,8.77,4.1405500000000002]
["1967-07-21",0.5,4.6740000000000004,7,1967,29,0.5,{"$f":"IF(B235<Parameters!$A$16,B235*Parameters!$B$16,IF(AND(B235>Parameters!$A$16,B235<Parameters!$A$17),B235*Parameters!$B$17,B235*Parameters!$B$18))","v":0},{"$f":"IF(B235<Parameters!$A$20,B235*Parameters!$B$20,IF(AND(B235>Parameters!$A$20,B235<Parameters!$A$21),B235*Parameters!$B$21,B235*Parameters!$B$22))","v":0},{"$error":"#DIV/0!"},{"$error":"#DIV/0!"},{"$error":"#DIV/0!"},{"$error":"#DIV/0!"},{"$error":"#DIV/0!"},4.6417419354838714,{"$error":"#DIV/0!"},{"$error":"#DIV/0!"},{"$f":"IF('Gegevens '!$G$20=\"Eigen waarden\",VLOOKUP($F235,'Gegevens '!$A$25:$C$77,3,FALSE),VLOOKUP($F235,Lijsten!$A$19:$B$71,2,FALSE))","v":41.402437318314284},{"$error":"#DIV/0!"},{"$error":"#DIV/0!"},{"$error":"#DIV/0!"},{"$error":"#DIV/0!"},{"$error":"#DIV/0!"},{"$error":"#DIV/0!"},{"$error":"#DIV/0!"},{"$error":"#DIV/0!"},{"$error":"#DIV/0!"},{"$error":"#DIV/0!"},{"$error":"#DIV/0!"},{"$error":"#DIV/0!"},{"$error":"#DIV/0!"},{"$error":"#DIV/0!"},{"$error":"#DIV/0!"},{"$error":"#DIV/0!"},{"$error":"#DIV/0!"},{"$error":"#DIV/0!"},{"$error":"#DIV/0!"},{"$error":"#DIV/0!"},{"$error":"#DIV/0!"},{"$error":"#DIV/0!"},{"$error":"#DIV/0!"},0,{"$error":"#DIV/0!"},null,null,null,null,null,null,null,null,null,null,null,null,null,null,null,null,null,null,null,null,null,"1967-07-21",0.5,4.6740000000000004,null,"1975-07-20",1.7,1.8580000000000001,null,"2006-07-20",0.17,3.9011,0.21,3.76403,0.17,3.6269499999999999,null,"2016-07-19",0,3.9891299999999998,0.21,3.8128899999999999,0,3.6366499999999999,null,"2066-07-20",0.12,4.4292699999999998,0.17,4.05722,0.12,3.6851600000000002]
["1967-07-22",1.7,2.4140000000000001,7,1967,29,1.7,{"$f":"IF(B236<Parameters!$A$16,B236*Parameters!$B$16,IF(AND(B236>Parameters!$A$16,B236<Parameters!$A$17),B236*Parameters!$B$17,B236*Parameters!$B$18))","v":1.36},{"$f":"IF(B236<Parameters!$A$20,B236*Parameters!$B$20,IF(AND(B236>Parameters!$A$20,B236<Parameters!$A$21),B236*Parameters!$B$21,B236*Parameters!$B$22))","v":1.02},{"$error":"#DIV/0!"},{"$error":"#DIV/0!"},{"$error":"#DIV/0!"},{"$error":"#DIV/0!"},{"$error":"#DIV/0!"},2.3817419354838711,{"$error":"#DIV/0!"},{"$error":"#DIV/0!"},{"$f":"IF('Gegevens '!$G$20=\"Eigen waarden\",VLOOKUP($F236,'Gegevens '!$A$25:$C$77,3,FALSE),VLOOKUP($F236,Lijsten!$A$19:$B$71,2,FALSE))","v":41.402437318314284},{"$error":"#DIV/0!"},{"$error":"#DIV/0!"},{"$error":"#DIV/0!"},{"$error":"#DIV/0!"},{"$error":"#DIV/0!"},{"$error":"#DIV/0!"},{"$error":"#DIV/0!"},{"$error":"#DIV/0!"},{"$error":"#DIV/0!"},{"$error":"#DIV/0!"},{"$error":"#DIV/0!"},{"$error":"#DIV/0!"},{"$error":"#DIV/0!"},{"$error":"#DIV/0!"},{"$error":"#DIV/0!"},{"$error":"#DIV/0!"},{"$error":"#DIV/0!"},{"$error":"#DIV/0!"},{"$error":"#DIV/0!"},{"$error":"#DIV/0!"},{"$error":"#DIV/0!"},{"$error":"#DIV/0!"},{"$error":"#DIV/0!"},0,{"$error":"#DIV/0!"},null,null,null,null,null,null,null,null,null,null,null,null,null,null,null,null,null,null,null,null,null,"1967-07-22",1.7,2.4140000000000001,null,"1975-07-21",0,2.782,null,"2006-07-21",0.42,5.0747999999999998,0,4.8964800000000004,0.42,4.7181699999999998,null,"2016-07-20",0.4,5.1893099999999999,0.51,4.9600499999999998,0.4,4.7307899999999998,null,"2066-07-21",0,5.76187,0.44,5.2778799999999997,0,4.7938900000000002]
["1967-07-23",0.2,3.085,7,1967,29,0.2,{"$f":"IF(B237<Parameters!$A$16,B237*Parameters!$B$16,IF(AND(B237>Parameters!$A$16,B237<Parameters!$A$17),B237*Parameters!$B$17,B237*Parameters!$B$18))","v":0},{"$f":"IF(B237<Parameters!$A$20,B237*Parameters!$B$20,IF(AND(B237>Parameters!$A$20,B237<Parameters!$A$21),B237*Parameters!$B$21,B237*Parameters!$B$22))","v":0},{"$error":"#DIV/0!"},{"$error":"#DIV/0!"},{"$error":"#DIV/0!"},{"$error":"#DIV/0!"},{"$error":"#DIV/0!"},3.052741935483871,{"$error":"#DIV/0!"},{"$error":"#DIV/0!"},{"$f":"IF('Gegevens '!$G$20=\"Eigen waarden\",VLOOKUP($F237,'Gegevens '!$A$25:$C$77,3,FALSE),VLOOKUP($F237,Lijsten!$A$19:$B$71,2,FALSE))","v":41.402437318314284},{"$error":"#DIV/0!"},{"$error":"#DIV/0!"},{"$error":"#DIV/0!"},{"$error":"#DIV/0!"},{"$error":"#DIV/0!"},{"$error":"#DIV/0!"},{"$error":"#DIV/0!"},{"$error":"#DIV/0!"},{"$error":"#DIV/0!"},{"$error":"#DIV/0!"},{"$error":"#DIV/0!"},{"$error":"#DIV/0!"},{"$error":"#DIV/0!"},{"$error":"#DIV/0!"},{"$error":"#DIV/0!"},{"$error":"#DIV/0!"},{"$error":"#DIV/0!"},{"$error":"#DIV/0!"},{"$error":"#DIV/0!"},{"$error":"#DIV/0!"},{"$error":"#DIV/0!"},{"$error":"#DIV/0!"},{"$error":"#DIV/0!"},0,{"$error":"#DIV/0!"},null,null,null,null,null,null,null,null,null,null,null,null,null,null,null,null,null,null,null,null,null,"1967-07-23",0.2,3.085,null,"1975-07-22",0.2,3.5150000000000001,null,"2006-07-22",0,2.621,1.77,2.5289100000000002,0,2.4368099999999999,null,"2016-07-21",1.32,2.6801400000000002,0,2.5617399999999999,1.32,2.44333,null,"2066-07-22",0.89,2.9758599999999999,0,2.7258900000000001,0.89,2.4759199999999999]
["1967-07-24",0,5.5460000000000003,7,1967,30,0,{"$f":"IF(B238<Parameters!$A$16,B238*Parameters!$B$16,IF(AND(B238>Parameters!$A$16,B238<Parameters!$A$17),B238*Parameters!$B$17,B238*Parameters!$B$18))","v":0},{"$f":"IF(B238<Parameters!$A$20,B238*Parameters!$B$20,IF(AND(B238>Parameters!$A$20,B238<Parameters!$A$21),B238*Parameters!$B$21,B238*Parameters!$B$22))","v":0},{"$error":"#DIV/0!"},"",0,"",0,5.5137419354838713,{"$error":"#DIV/0!"},{"$error":"#DIV/0!"},{"$f":"IF('Gegevens '!$G$20=\"Eigen waarden\",VLOOKUP($F238,'Gegevens '!$A$25:$C$77,3,FALSE),VLOOKUP($F238,Lijsten!$A$19:$B$71,2,FALSE))","v":38.460966477868567},{"$error":"#DIV/0!"},{"$error":"#DIV/0!"},{"$error":"#DIV/0!"},{"$error":"#DIV/0!"},{"$error":"#DIV/0!"},{"$error":"#DIV/0!"},{"$error":"#DIV/0!"},"","",{"$error":"#DIV/0!"},0,{"$error":"#DIV/0!"},0,{"$error":"#DIV/0!"},{"$error":"#DIV/0!"},{"$error":"#DIV/0!"},{"$error":"#DIV/0!"},{"$error":"#DIV/0!"},{"$error":"#DIV/0!"},"","","",{"$error":"#DIV/0!"},0,{"$error":"#DIV/0!"},null,null,null,null,null,null,null,null,null,null,null,null,null,null,null,null,null,null,null,null,null,"1967-07-24",0,5.5460000000000003,null,"1975-07-23",0.3,4.0209999999999999,null,"2006-07-23",0.17,3.3495400000000002,0.21,3.2318500000000001,0.17,3.11415,null,"2016-07-22",0.16,3.4251200000000002,0.21,3.2738,0.16,3.1224799999999999,null,"2066-07-23",0.12,3.8030300000000001,0.19,3.4835799999999999,0.12,3.1641300000000001]
["1967-07-25",0,4.7729999999999997,7,1967,30,0,{"$f":"IF(B239<Parameters!$A$16,B239*Parameters!$B$16,IF(AND(B239>Parameters!$A$16,B239<Parameters!$A$17),B239*Parameters!$B$17,B239*Parameters!$B$18))","v":0},{"$f":"IF(B239<Parameters!$A$20,B239*Parameters!$B$20,IF(AND(B239>Parameters!$A$20,B239<Parameters!$A$21),B239*Parameters!$B$21,B239*Parameters!$B$22))","v":0},{"$error":"#DIV/0!"},"",0,"",0,4.7407419354838707,{"$error":"#DIV/0!"},{"$error":"#DIV/0!"},{"$f":"IF('Gegevens '!$G$20=\"Eigen waarden\",VLOOKUP($F239,'Gegevens '!$A$25:$C$77,3,FALSE),VLOOKUP($F239,Lijsten!$A$19:$B$71,2,FALSE))","v":38.460966477868567},{"$error":"#DIV/0!"},{"$error":"#DIV/0!"},{"$error":"#DIV/0!"},{"$error":"#DIV/0!"},{"$error":"#DIV/0!"},{"$error":"#DIV/0!"},{"$error":"#DIV/0!"},"","",{"$error":"#DIV/0!"},0,{"$error":"#DIV/0!"},0,{"$error":"#DIV/0!"},{"$error":"#DIV/0!"},{"$error":"#DIV/0!"},{"$error":"#DIV/0!"},{"$error":"#DIV/0!"},{"$error":"#DIV/0!"},"","","",{"$error":"#DIV/0!"},0,{"$error":"#DIV/0!"},null,null,null,null,null,null,null,null,null,null,null,null,null,null,null,null,null,null,null,null,null,"1967-07-25",0,4.7729999999999997,null,"1975-07-24",0.7,3.8849999999999998,null,"2006-07-24",0,6.0215699999999996,0,5.80999,0,5.5984100000000003,null,"2016-07-23",0,6.1574499999999999,0,5.8854199999999999,0,5.6133800000000003,null,"2066-07-24",0,6.83683,0,6.2625400000000004,0,5.68825]
["1967-07-26",0,3.1869999999999998,7,1967,30,0,{"$f":"IF(B240<Parameters!$A$16,B240*Parameters!$B$16,IF(AND(B240>Parameters!$A$16,B240<Parameters!$A$17),B240*Parameters!$B$17,B240*Parameters!$B$18))","v":0},{"$f":"IF(B240<Parameters!$A$20,B240*Parameters!$B$20,IF(AND(B240>Parameters!$A$20,B240<Parameters!$A$21),B240*Parameters!$B$21,B240*Parameters!$B$22))","v":0},{"$error":"#DIV/0!"},"",0,"",0,3.1547419354838708,{"$error":"#DIV/0!"},{"$error":"#DIV/0!"},{"$f":"IF('Gegevens '!$G$20=\"Eigen waarden\",VLOOKUP($F240,'Gegevens '!$A$25:$C$77,3,FALSE),VLOOKUP($F240,Lijsten!$A$19:$B$71,2,FALSE))","v":38.460966477868567},{"$error":"#DIV/0!"},{"$error":"#DIV/0!"},{"$error":"#DIV/0!"},{"$error":"#DIV/0!"},{"$error":"#DIV/0!"},{"$error":"#DIV/0!"},{"$error":"#DIV/0!"},"","",{"$error":"#DIV/0!"},0,{"$error":"#DIV/0!"},0,{"$error":"#DIV/0!"},{"$error":"#DIV/0!"},{"$error":"#DIV/0!"},{"$error":"#DIV/0!"},{"$error":"#DIV/0!"},{"$error":"#DIV/0!"},"","","",{"$error":"#DIV/0!"},0,{"$error":"#DIV/0!"},null,null,null,null,null,null,null,null,null,null,null,null,null,null,null,null,null,null,null,null,null,"1967-07-26",0,3.1869999999999998,null,"1975-07-25",3.6,3.2959999999999998,null,"2006-07-25",0,5.1822800000000004,0,5.0001899999999999,0,4.8181000000000003,null,"2016-07-24",0,5.29922,0,5.0651099999999998,0,4.8309899999999999,null,"2066-07-25",0,5.8839199999999998,0,5.3896699999999997,0,4.8954300000000002]
["1967-07-27",0,5.7770000000000001,7,1967,30,0,{"$f":"IF(B241<Parameters!$A$16,B241*Parameters!$B$16,IF(AND(B241>Parameters!$A$16,B241<Parameters!$A$17),B241*Parameters!$B$17,B241*Parameters!$B$18))","v":0},{"$f":"IF(B241<Parameters!$A$20,B241*Parameters!$B$20,IF(AND(B241>Parameters!$A$20,B241<Parameters!$A$21),B241*Parameters!$B$21,B241*Parameters!$B$22))","v":0},{"$error":"#DIV/0!"},"",0,"",0,5.7447419354838711,{"$error":"#DIV/0!"},{"$error":"#DIV/0!"},{"$f":"IF('Gegevens '!$G$20=\"Eigen waarden\",VLOOKUP($F241,'Gegevens '!$A$25:$C$77,3,FALSE),VLOOKUP($F241,Lijsten!$A$19:$B$71,2,FALSE))","v":38.460966477868567},{"$error":"#DIV/0!"},{"$error":"#DIV/0!"},{"$error":"#DIV/0!"},{"$error":"#DIV/0!"},{"$error":"#DIV/0!"},{"$error":"#DIV/0!"},{"$error":"#DIV/0!"},"","",{"$error":"#DIV/0!"},0,{"$error":"#DIV/0!"},0,{"$error":"#DIV/0!"},{"$error":"#DIV/0!"},{"$error":"#DIV/0!"},{"$error":"#DIV/0!"},{"$error":"#DIV/0!"},{"$error":"#DIV/0!"},"","","",{"$error":"#DIV/0!"},0,{"$error":"#DIV/0!"},null,null,null,null,null,null,null,null,null,null,null,null,null,null,null,null,null,null,null,null,null,"1967-07-27",0,5.7770000000000001,null,"1975-07-26",0,3.8889999999999998,null,"2006-07-26",0,3.4602900000000001,0,3.3386999999999998,0,3.21712,null,"2016-07-25",0,3.53837,0,3.3820399999999999,0,3.2257199999999999,null,"2066-07-26",0,3.9287700000000001,0,3.59876,0,3.2687499999999998]
["1967-07-28",2.6,3.6549999999999998,7,1967,30,2.6,{"$f":"IF(B242<Parameters!$A$16,B242*Parameters!$B$16,IF(AND(B242>Parameters!$A$16,B242<Parameters!$A$17),B242*Parameters!$B$17,B242*Parameters!$B$18))","v":2.4699999999999998},{"$f":"IF(B242<Parameters!$A$20,B242*Parameters!$B$20,IF(AND(B242>Parameters!$A$20,B242<Parameters!$A$21),B242*Parameters!$B$21,B242*Parameters!$B$22))","v":1.9500000000000002},{"$error":"#DIV/0!"},{"$error":"#DIV/0!"},{"$error":"#DIV/0!"},{"$error":"#DIV/0!"},{"$error":"#DIV/0!"},3.6227419354838708,{"$error":"#DIV/0!"},{"$error":"#DIV/0!"},{"$f":"IF('Gegevens '!$G$20=\"Eigen waarden\",VLOOKUP($F242,'Gegevens '!$A$25:$C$77,3,FALSE),VLOOKUP($F242,Lijsten!$A$19:$B$71,2,FALSE))","v":38.460966477868567},{"$error":"#DIV/0!"},{"$error":"#DIV/0!"},{"$error":"#DIV/0!"},{"$error":"#DIV/0!"},{"$error":"#DIV/0!"},{"$error":"#DIV/0!"},{"$error":"#DIV/0!"},{"$error":"#DIV/0!"},{"$error":"#DIV/0!"},{"$error":"#DIV/0!"},{"$error":"#DIV/0!"},{"$error":"#DIV/0!"},{"$error":"#DIV/0!"},{"$error":"#DIV/0!"},{"$error":"#DIV/0!"},{"$error":"#DIV/0!"},{"$error":"#DIV/0!"},{"$error":"#DIV/0!"},{"$error":"#DIV/0!"},{"$error":"#DIV/0!"},{"$error":"#DIV/0!"},{"$error":"#DIV/0!"},{"$error":"#DIV/0!"},0,{"$error":"#DIV/0!"},null,null,null,null,null,null,null,null,null,null,null,null,null,null,null,null,null,null,null,null,null,"1967-07-28",2.6,3.6549999999999998,null,"1975-07-27",0.1,2.9969999999999999,null,"2006-07-27",0,6.2723800000000001,0,6.05199,0,5.8315900000000003,null,"2016-07-26",0,6.4139099999999996,0,6.1305500000000004,0,5.8471900000000003,null,"2066-07-27",0,7.1215999999999999,0,6.52339,0,5.9251800000000001]
["1967-07-29",3.4,3.79,7,1967,30,3.4,{"$f":"IF(B243<Parameters!$A$16,B243*Parameters!$B$16,IF(AND(B243>Parameters!$A$16,B243<Parameters!$A$17),B243*Parameters!$B$17,B243*Parameters!$B$18))","v":3.23},{"$f":"IF(B243<Parameters!$A$20,B243*Parameters!$B$20,IF(AND(B243>Parameters!$A$20,B243<Parameters!$A$21),B243*Parameters!$B$21,B243*Parameters!$B$22))","v":2.5499999999999998},{"$error":"#DIV/0!"},{"$error":"#DIV/0!"},{"$error":"#DIV/0!"},{"$error":"#DIV/0!"},{"$error":"#DIV/0!"},3.757741935483871,{"$error":"#DIV/0!"},{"$error":"#DIV/0!"},{"$f":"IF('Gegevens '!$G$20=\"Eigen waarden\",VLOOKUP($F243,'Gegevens '!$A$25:$C$77,3,FALSE),VLOOKUP($F243,Lijsten!$A$19:$B$71,2,FALSE))","v":38.460966477868567},{"$error":"#DIV/0!"},{"$error":"#DIV/0!"},{"$error":"#DIV/0!"},{"$error":"#DIV/0!"},{"$error":"#DIV/0!"},{"$error":"#DIV/0!"},{"$error":"#DIV/0!"},{"$error":"#DIV/0!"},{"$error":"#DIV/0!"},{"$error":"#DIV/0!"},{"$error":"#DIV/0!"},{"$error":"#DIV/0!"},{"$error":"#DIV/0!"},{"$error":"#DIV/0!"},{"$error":"#DIV/0!"},{"$error":"#DIV/0!"},{"$error":"#DIV/0!"},{"$error":"#DIV/0!"},{"$error":"#DIV/0!"},{"$error":"#DIV/0!"},{"$error":"#DIV/0!"},{"$error":"#DIV/0!"},{"$error":"#DIV/0!"},0,{"$error":"#DIV/0!"},null,null,null,null,null,null,null,null,null,null,null,null,null,null,null,null,null,null,null,null,null,"1967-07-29",3.4,3.79,null,"1975-07-28",0,4.6639999999999997,null,"2006-07-28",2.14,3.9684200000000001,2.74,3.8289800000000001,2.14,3.68954,null,"2016-07-27",2,4.0579599999999996,2.66,3.8786900000000002,2,3.6994099999999999,null,"2066-07-28",0,4.5057,0,4.12723,0,3.7487499999999998]
["1967-07-30",0,3.6059999999999999,7,1967,30,0,{"$f":"IF(B244<Parameters!$A$16,B244*Parameters!$B$16,IF(AND(B244>Parameters!$A$16,B244<Parameters!$A$17),B244*Parameters!$B$17,B244*Parameters!$B$18))","v":0},{"$f":"IF(B244<Parameters!$A$20,B244*Parameters!$B$20,IF(AND(B244>Parameters!$A$20,B244<Parameters!$A$21),B244*Parameters!$B$21,B244*Parameters!$B$22))","v":0},{"$error":"#DIV/0!"},"",0,"",0,3.5737419354838709,{"$error":"#DIV/0!"},{"$error":"#DIV/0!"},{"$f":"IF('Gegevens '!$G$20=\"Eigen waarden\",VLOOKUP($F244,'Gegevens '!$A$25:$C$77,3,FALSE),VLOOKUP($F244,Lijsten!$A$19:$B$71,2,FALSE))","v":38.460966477868567},{"$error":"#DIV/0!"},{"$error":"#DIV/0!"},{"$error":"#DIV/0!"},{"$error":"#DIV/0!"},{"$error":"#DIV/0!"},{"$error":"#DIV/0!"},{"$error":"#DIV/0!"},"","",{"$error":"#DIV/0!"},0,{"$error":"#DIV/0!"},0,{"$error":"#DIV/0!"},{"$error":"#DIV/0!"},{"$error":"#DIV/0!"},{"$error":"#DIV/0!"},{"$error":"#DIV/0!"},{"$error":"#DIV/0!"},"","","",{"$error":"#DIV/0!"},0,{"$error":"#DIV/0!"},null,null,null,null,null,null,null,null,null,null,null,null,null,null,null,null,null,null,null,null,null,"1967-07-30",0,3.6059999999999999,null,"1975-07-29",0,5.1609999999999996,null,"2006-07-29",2.77,4.1149899999999997,3.57,3.9704000000000002,2.77,3.8258200000000002,null,"2016-07-28",2.59,4.2078499999999996,0,4.0219500000000004,2.59,3.8360500000000002,null,"2066-07-29",0,4.6721199999999996,2.92,4.2796700000000003,0,3.8872100000000001]
["1967-07-31",0,4.8239999999999998,7,1967,31,0,{"$f":"IF(B245<Parameters!$A$16,B245*Parameters!$B$16,IF(AND(B245>Parameters!$A$16,B245<Parameters!$A$17),B245*Parameters!$B$17,B245*Parameters!$B$18))","v":0},{"$f":"IF(B245<Parameters!$A$20,B245*Parameters!$B$20,IF(AND(B245>Parameters!$A$20,B245<Parameters!$A$21),B245*Parameters!$B$21,B245*Parameters!$B$22))","v":0},{"$error":"#DIV/0!"},"",0,"",0,4.7917419354838708,{"$error":"#DIV/0!"},{"$error":"#DIV/0!"},{"$f":"IF('Gegevens '!$G$20=\"Eigen waarden\",VLOOKUP($F245,'Gegevens '!$A$25:$C$77,3,FALSE),VLOOKUP($F245,Lijsten!$A$19:$B$71,2,FALSE))","v":36.543125282102856},{"$error":"#DIV/0!"},{"$error":"#DIV/0!"},{"$error":"#DIV/0!"},{"$error":"#DIV/0!"},{"$error":"#DIV/0!"},{"$error":"#DIV/0!"},{"$error":"#DIV/0!"},"","",{"$error":"#DIV/0!"},0,{"$error":"#DIV/0!"},0,{"$error":"#DIV/0!"},{"$error":"#DIV/0!"},{"$error":"#DIV/0!"},{"$error":"#DIV/0!"},{"$error":"#DIV/0!"},{"$error":"#DIV/0!"},"","","",{"$error":"#DIV/0!"},0,{"$error":"#DIV/0!"},null,null,null,null,null,null,null,null,null,null,null,null,null,null,null,null,null,null,null,null,null,"1967-07-31",0,4.8239999999999998,null,"1975-07-30",0,5.4770000000000003,null,"2006-07-30",0,3.9152100000000001,0,3.77765,0,3.6400800000000002,null,"2016-07-29",0,4.0035600000000002,0,3.8266900000000001,0,3.64981,null,"2066-07-30",0,4.4452999999999996,0,4.0719000000000003,0,3.6984900000000001]
["1967-08-01",14.9,3.6070000000000002,8,1967,31,14.9,{"$f":"IF(B246<Parameters!$A$16,B246*Parameters!$B$16,IF(AND(B246>Parameters!$A$16,B246<Parameters!$A$17),B246*Parameters!$B$17,B246*Parameters!$B$18))","v":14.154999999999999},{"$f":"IF(B246<Parameters!$A$20,B246*Parameters!$B$20,IF(AND(B246>Parameters!$A$20,B246<Parameters!$A$21),B246*Parameters!$B$21,B246*Parameters!$B$22))","v":11.175000000000001},{"$error":"#DIV/0!"},{"$error":"#DIV/0!"},{"$error":"#DIV/0!"},{"$error":"#DIV/0!"},{"$error":"#DIV/0!"},3.6715161290322582,{"$error":"#DIV/0!"},{"$error":"#DIV/0!"},{"$f":"IF('Gegevens '!$G$20=\"Eigen waarden\",VLOOKUP($F246,'Gegevens '!$A$25:$C$77,3,FALSE),VLOOKUP($F246,Lijsten!$A$19:$B$71,2,FALSE))","v":36.543125282102856},{"$error":"#DIV/0!"},{"$error":"#DIV/0!"},{"$error":"#DIV/0!"},{"$error":"#DIV/0!"},{"$error":"#DIV/0!"},{"$error":"#DIV/0!"},{"$error":"#DIV/0!"},{"$error":"#DIV/0!"},{"$error":"#DIV/0!"},{"$error":"#DIV/0!"},{"$error":"#DIV/0!"},{"$error":"#DIV/0!"},{"$error":"#DIV/0!"},{"$error":"#DIV/0!"},{"$error":"#DIV/0!"},{"$error":"#DIV/0!"},{"$error":"#DIV/0!"},{"$error":"#DIV/0!"},{"$error":"#DIV/0!"},{"$error":"#DIV/0!"},{"$error":"#DIV/0!"},{"$error":"#DIV/0!"},{"$error":"#DIV/0!"},0,{"$error":"#DIV/0!"},null,null,null,null,null,null,null,null,null,null,null,null,null,null,null,null,null,null,null,null,null,"1967-08-01",14.9,3.6070000000000002,null,"1975-07-31",0.1,4.867,null,"2006-07-31",0,5.23766,0,5.0536199999999996,0,4.8695899999999996,null,"2016-07-30",0,5.3558500000000002,0,5.1192299999999999,0,4.8826099999999997,null,"2066-07-31",0,5.94679,0,5.44726,0,4.9477399999999996]
["1967-08-02",1.2,3.2810000000000001,8,1967,31,1.2,{"$f":"IF(B247<Parameters!$A$16,B247*Parameters!$B$16,IF(AND(B247>Parameters!$A$16,B247<Parameters!$A$17),B247*Parameters!$B$17,B247*Parameters!$B$18))","v":0.96},{"$f":"IF(B247<Parameters!$A$20,B247*Parameters!$B$20,IF(AND(B247>Parameters!$A$20,B247<Parameters!$A$21),B247*Parameters!$B$21,B247*Parameters!$B$22))","v":0.72},{"$error":"#DIV/0!"},{"$error":"#DIV/0!"},{"$error":"#DIV/0!"},{"$error":"#DIV/0!"},{"$error":"#DIV/0!"},3.3455161290322581,{"$error":"#DIV/0!"},{"$error":"#DIV/0!"},{"$f":"IF('Gegevens '!$G$20=\"Eigen waarden\",VLOOKUP($F247,'Gegevens '!$A$25:$C$77,3,FALSE),VLOOKUP($F247,Lijsten!$A$19:$B$71,2,FALSE))","v":36.543125282102856},{"$error":"#DIV/0!"},{"$error":"#DIV/0!"},{"$error":"#DIV/0!"},{"$error":"#DIV/0!"},{"$error":"#DIV/0!"},{"$error":"#DIV/0!"},{"$error":"#DIV/0!"},{"$error":"#DIV/0!"},{"$error":"#DIV/0!"},{"$error":"#DIV/0!"},{"$error":"#DIV/0!"},{"$error":"#DIV/0!"},{"$error":"#DIV/0!"},{"$error":"#DIV/0!"},{"$error":"#DIV/0!"},{"$error":"#DIV/0!"},{"$error":"#DIV/0!"},{"$error":"#DIV/0!"},{"$error":"#DIV/0!"},{"$error":"#DIV/0!"},{"$error":"#DIV/0!"},{"$error":"#DIV/0!"},{"$error":"#DIV/0!"},0,{"$error":"#DIV/0!"},null,null,null,null,null,null,null,null,null,null,null,null,null,null,null,null,null,null,null,null,null,"1967-08-02",1.2,3.2810000000000001,null,"1975-08-01",4.5,5.0419999999999998,null,"2006-08-01",12.96,4.0084600000000004,16.66,3.8481299999999998,12.96,3.6878000000000002,null,"2016-07-31",12.36,4.1231600000000004,16.38,3.9170199999999999,12.36,3.71088,null,"2066-08-01",9.56,4.6966700000000001,15.46,4.2614900000000002,9.56,3.8263099999999999]
["1967-08-03",0,3.9449999999999998,8,1967,31,0,{"$f":"IF(B248<Parameters!$A$16,B248*Parameters!$B$16,IF(AND(B248>Parameters!$A$16,B248<Parameters!$A$17),B248*Parameters!$B$17,B248*Parameters!$B$18))","v":0},{"$f":"IF(B248<Parameters!$A$20,B248*Parameters!$B$20,IF(AND(B248>Parameters!$A$20,B248<Parameters!$A$21),B248*Parameters!$B$21,B248*Parameters!$B$22))","v":0},{"$error":"#DIV/0!"},"",0,"",0,4.0095161290322583,{"$error":"#DIV/0!"},{"$error":"#DIV/0!"},{"$f":"IF('Gegevens '!$G$20=\"Eigen waarden\",VLOOKUP($F248,'Gegevens '!$A$25:$C$77,3,FALSE),VLOOKUP($F248,Lijsten!$A$19:$B$71,2,FALSE))","v":36.543125282102856},{"$error":"#DIV/0!"},{"$error":"#DIV/0!"},{"$error":"#DIV/0!"},{"$error":"#DIV/0!"},{"$error":"#DIV/0!"},{"$error":"#DIV/0!"},{"$error":"#DIV/0!"},"","",{"$error":"#DIV/0!"},0,{"$error":"#DIV/0!"},0,{"$error":"#DIV/0!"},{"$error":"#DIV/0!"},{"$error":"#DIV/0!"},{"$error":"#DIV/0!"},{"$error":"#DIV/0!"},{"$error":"#DIV/0!"},"","","",{"$error":"#DIV/0!"},0,{"$error":"#DIV/0!"},null,null,null,null,null,null,null,null,null,null,null,null,null,null,null,null,null,null,null,null,null,"1967-08-03",0,3.9449999999999998,null,"1975-08-02",0,5.532,null,"2006-08-02",0.94,3.6461800000000002,1.28,3.5003299999999999,0.94,3.3544900000000002,null,"2016-08-01",0.87,3.7505099999999998,1.24,3.5630000000000002,0.87,3.3754900000000001,null,"2066-08-02",0,4.2721900000000002,1.0900000000000001,3.8763399999999999,0,3.48048]
["1967-08-04",0,3.8450000000000002,8,1967,31,0,{"$f":"IF(B249<Parameters!$A$16,B249*Parameters!$B$16,IF(AND(B249>Parameters!$A$16,B249<Parameters!$A$17),B249*Parameters!$B$17,B249*Parameters!$B$18))","v":0},{"$f":"IF(B249<Parameters!$A$20,B249*Parameters!$B$20,IF(AND(B249>Parameters!$A$20,B249<Parameters!$A$21),B249*Parameters!$B$21,B249*Parameters!$B$22))","v":0},{"$error":"#DIV/0!"},"",0,"",0,3.9095161290322582,{"$error":"#DIV/0!"},{"$error":"#DIV/0!"},{"$f":"IF('Gegevens '!$G$20=\"Eigen waarden\",VLOOKUP($F249,'Gegevens '!$A$25:$C$77,3,FALSE),VLOOKUP($F249,Lijsten!$A$19:$B$71,2,FALSE))","v":36.543125282102856},{"$error":"#DIV/0!"},{"$error":"#DIV/0!"},{"$error":"#DIV/0!"},{"$error":"#DIV/0!"},{"$error":"#DIV/0!"},{"$error":"#DIV/0!"},{"$error":"#DIV/0!"},"","",{"$error":"#DIV/0!"},0,{"$error":"#DIV/0!"},0,{"$error":"#DIV/0!"},{"$error":"#DIV/0!"},{"$error":"#DIV/0!"},{"$error":"#DIV/0!"},{"$error":"#DIV/0!"},{"$error":"#DIV/0!"},"","","",{"$error":"#DIV/0!"},0,{"$error":"#DIV/0!"},null,null,null,null,null,null,null,null,null,null,null,null,null,null,null,null,null,null,null,null,null,"1967-08-04",0,3.8450000000000002,null,"1975-08-03",0,5.9039999999999999,null,"2006-08-03",0,4.38408,0,4.2087199999999996,0,4.0333699999999997,null,"2016-08-02",0,4.5095299999999998,0,4.2840699999999998,0,4.0586200000000003,null,"2066-08-03",0,5.1367799999999999,0,4.6608200000000002,0,4.1848599999999996]
["1967-08-05",0.5,4.3330000000000002,8,1967,31,0.5,{"$f":"IF(B250<Parameters!$A$16,B250*Parameters!$B$16,IF(AND(B250>Parameters!$A$16,B250<Parameters!$A$17),B250*Parameters!$B$17,B250*Parameters!$B$18))","v":0},{"$f":"IF(B250<Parameters!$A$20,B250*Parameters!$B$20,IF(AND(B250>Parameters!$A$20,B250<Parameters!$A$21),B250*Parameters!$B$21,B250*Parameters!$B$22))","v":0},{"$error":"#DIV/0!"},{"$error":"#DIV/0!"},{"$error":"#DIV/0!"},{"$error":"#DIV/0!"},{"$error":"#DIV/0!"},4.3975161290322582,{"$error":"#DIV/0!"},{"$error":"#DIV/0!"},{"$f":"IF('Gegevens '!$G$20=\"Eigen waarden\",VLOOKUP($F250,'Gegevens '!$A$25:$C$77,3,FALSE),VLOOKUP($F250,Lijsten!$A$19:$B$71,2,FALSE))","v":36.543125282102856},{"$error":"#DIV/0!"},{"$error":"#DIV/0!"},{"$error":"#DIV/0!"},{"$error":"#DIV/0!"},{"$error":"#DIV/0!"},{"$error":"#DIV/0!"},{"$error":"#DIV/0!"},{"$error":"#DIV/0!"},{"$error":"#DIV/0!"},{"$error":"#DIV/0!"},{"$error":"#DIV/0!"},{"$error":"#DIV/0!"},{"$error":"#DIV/0!"},{"$error":"#DIV/0!"},{"$error":"#DIV/0!"},{"$error":"#DIV/0!"},{"$error":"#DIV/0!"},{"$error":"#DIV/0!"},{"$error":"#DIV/0!"},{"$error":"#DIV/0!"},{"$error":"#DIV/0!"},{"$error":"#DIV/0!"},{"$error":"#DIV/0!"},0,{"$error":"#DIV/0!"},null,null,null,null,null,null,null,null,null,null,null,null,null,null,null,null,null,null,null,null,null,"1967-08-05",0.5,4.3330000000000002,null,"1975-08-04",0,6.3339999999999996,null,"2006-08-04",0,4.2729499999999998,0,4.1020399999999997,0,3.93113,null,"2016-08-03",0,4.3952200000000001,0,4.1754800000000003,0,3.95574,null,"2066-08-04",0,5.00657,0,4.5426799999999998,0,4.0787800000000001]
["1967-08-09",0.4,2.371,8,1967,32,0.4,{"$f":"IF(B254<Parameters!$A$16,B254*Parameters!$B$16,IF(AND(B254>Parameters!$A$16,B254<Parameters!$A$17),B254*Parameters!$B$17,B254*Parameters!$B$18))","v":0},{"$f":"IF(B254<Parameters!$A$20,B254*Parameters!$B$20,IF(AND(B254>Parameters!$A$20,B254<Parameters!$A$21),B254*Parameters!$B$21,B254*Parameters!$B$22))","v":0},{"$error":"#DIV/0!"},{"$error":"#DIV/0!"},{"$error":"#DIV/0!"},{"$error":"#DIV/0!"},{"$error":"#DIV/0!"},2.435516129032258,{"$error":"#DIV/0!"},{"$error":"#DIV/0!"},{"$f":"IF('Gegevens '!$G$20=\"Eigen waarden\",VLOOKUP($F254,'Gegevens '!$A$25:$C$77,3,FALSE),VLOOKUP($F254,Lijsten!$A$19:$B$71,2,FALSE))","v":35.235564143205707},{"$error":"#DIV/0!"},{"$error":"#DIV/0!"},{"$error":"#DIV/0!"},{"$error":"#DIV/0!"},{"$error":"#DIV/0!"},{"$error":"#DIV/0!"},{"$error":"#DIV/0!"},{"$error":"#DIV/0!"},{"$error":"#DIV/0!"},{"$error":"#DIV/0!"},{"$error":"#DIV/0!"},{"$error":"#DIV/0!"},{"$error":"#DIV/0!"},{"$error":"#DIV/0!"},{"$error":"#DIV/0!"},{"$error":"#DIV/0!"},{"$error":"#DIV/0!"},{"$error":"#DIV/0!"},{"$error":"#DIV/0!"},{"$error":"#DIV/0!"},{"$error":"#DIV/0!"},{"$error":"#DIV/0!"},{"$error":"#DIV/0!"},0,{"$error":"#DIV/0!"},null,null,null,null,null,null,null,null,null,null,null,null,null,null,null,null,null,null,null,null,null,"1967-08-09",0.4,2.371,null,"1975-08-08",0,5.6680000000000001,null,"2006-08-08",2.9,4.1795999999999998,3.94,4.0124199999999997,2.9,3.8452500000000001,null,"2016-08-07",2.67,4.2991999999999999,3.84,4.0842599999999996,2.67,3.8693200000000001,null,"2066-08-08",0,4.8971999999999998,0,4.4434300000000002,0,3.9896699999999998]
["1967-11-26",3,0,11,1967,47,3,{"$f":"IF(B363<Parameters!$A$16,B363*Parameters!$B$16,IF(AND(B363>Parameters!$A$16,B363<Parameters!$A$17),B363*Parameters!$B$17,B363*Parameters!$B$18))","v":2.8499999999999996},{"$f":"IF(B363<Parameters!$A$20,B363*Parameters!$B$20,IF(AND(B363>Parameters!$A$20,B363<Parameters!$A$21),B363*Parameters!$B$21,B363*Parameters!$B$22))","v":2.25},{"$error":"#DIV/0!"},{"$error":"#DIV/0!"},{"$error":"#DIV/0!"},{"$error":"#DIV/0!"},{"$error":"#DIV/0!"},0.16666666666666666,{"$error":"#DIV/0!"},{"$error":"#DIV/0!"},{"$f":"IF('Gegevens '!$G$20=\"Eigen waarden\",VLOOKUP($F363,'Gegevens '!$A$25:$C$77,3,FALSE),VLOOKUP($F363,Lijsten!$A$19:$B$71,2,FALSE))","v":7.1842085238095237},{"$error":"#DIV/0!"},{"$error":"#DIV/0!"},{"$error":"#DIV/0!"},{"$error":"#DIV/0!"},{"$error":"#DIV/0!"},{"$error":"#DIV/0!"},{"$error":"#DIV/0!"},{"$error":"#DIV/0!"},{"$error":"#DIV/0!"},{"$error":"#DIV/0!"},{"$error":"#DIV/0!"},{"$error":"#DIV/0!"},{"$error":"#DIV/0!"},{"$error":"#DIV/0!"},{"$error":"#DIV/0!"},{"$error":"#DIV/0!"},{"$error":"#DIV/0!"},{"$error":"#DIV/0!"},{"$error":"#DIV/0!"},{"$error":"#DIV/0!"},{"$error":"#DIV/0!"},{"$error":"#DIV/0!"},{"$error":"#DIV/0!"},{"$error":"#DIV/0!"},0,null,null,null,null,null,null,null,null,null,null,null,null,null,null,null,null,null,null,null,null,null,"1967-11-26",3,0,null,"1975-11-25",8.3000000000000007,0.35599999999999998,null,"2006-11-25",0.3,0,0.3,0,0.3,0,null,"2016-11-24",0.3,0,0.3,0,0.3,0,null,"2066-11-25",0.3,0,0.3,0,0.3,0,null,null,null,null,19,481.81499999999977,611.73499999999979]
["1968-01-04",0.9,0.27100000000000002,1,1968,1,0.9,{"$f":"IF(B402<Parameters!$A$16,B402*Parameters!$B$16,IF(AND(B402>Parameters!$A$16,B402<Parameters!$A$17),B402*Parameters!$B$17,B402*Parameters!$B$18))","v":0},{"$f":"IF(B402<Parameters!$A$20,B402*Parameters!$B$20,IF(AND(B402>Parameters!$A$20,B402<Parameters!$A$21),B402*Parameters!$B$21,B402*Parameters!$B$22))","v":0},{"$error":"#DIV/0!"},{"$error":"#DIV/0!"},{"$error":"#DIV/0!"},{"$error":"#DIV/0!"},{"$error":"#DIV/0!"},0.33551612903225808,{"$error":"#DIV/0!"},{"$error":"#DIV/0!"},{"$f":"IF('Gegevens '!$G$20=\"Eigen waarden\",VLOOKUP($F402,'Gegevens '!$A$25:$C$77,3,FALSE),VLOOKUP($F402,Lijsten!$A$19:$B$71,2,FALSE))","v":3.0894753415257137},{"$error":"#DIV/0!"},{"$error":"#DIV/0!"},{"$error":"#DIV/0!"},{"$error":"#DIV/0!"},{"$error":"#DIV/0!"},{"$error":"#DIV/0!"},{"$error":"#DIV/0!"},{"$error":"#DIV/0!"},{"$error":"#DIV/0!"},{"$error":"#DIV/0!"},{"$error":"#DIV/0!"},{"$error":"#DIV/0!"},{"$error":"#DIV/0!"},{"$error":"#DIV/0!"},{"$error":"#DIV/0!"},{"$error":"#DIV/0!"},{"$error":"#DIV/0!"},{"$error":"#DIV/0!"},{"$error":"#DIV/0!"},{"$error":"#DIV/0!"},{"$error":"#DIV/0!"},{"$error":"#DIV/0!"},{"$error":"#DIV/0!"},{"$error":"#DIV/0!"},0,null,null,null,null,null,null,null,null,null,null,null,null,null,null,null,null,null,null,null,null,null,"1968-01-04",0.9,0.27100000000000002,null,"1976-01-03",0.9,0.57699999999999996,null,"2007-01-03",4.3099999999999996,0.13219,3.67,0.12414,0,0.11609,null,"2017-01-02",4.45,0.1371,3.72,0.12675,3.23,0.1164,null,"2067-01-03",5.14,0.16164999999999999,3.97,0.13980000000000001,3.08,0.11795]
["1968-04-22",5.3,3.8849999999999998,4,1968,17,5.3,{"$f":"IF(B511<Parameters!$A$16,B511*Parameters!$B$16,IF(AND(B511>Parameters!$A$16,B511<Parameters!$A$17),B511*Parameters!$B$17,B511*Parameters!$B$18))","v":5.0349999999999993},{"$f":"IF(B511<Parameters!$A$20,B511*Parameters!$B$20,IF(AND(B511>Parameters!$A$20,B511<Parameters!$A$21),B511*Parameters!$B$21,B511*Parameters!$B$22))","v":3.9749999999999996},{"$error":"#DIV/0!"},{"$error":"#DIV/0!"},{"$error":"#DIV/0!"},{"$error":"#DIV/0!"},{"$error":"#DIV/0!"},3.7183333333333333,{"$error":"#DIV/0!"},{"$error":"#DIV/0!"},{"$f":"IF('Gegevens '!$G$20=\"Eigen waarden\",VLOOKUP($F511,'Gegevens '!$A$25:$C$77,3,FALSE),VLOOKUP($F511,Lijsten!$A$19:$B$71,2,FALSE))","v":34.009844090885714},{"$error":"#DIV/0!"},{"$error":"#DIV/0!"},{"$error":"#DIV/0!"},{"$error":"#DIV/0!"},{"$error":"#DIV/0!"},{"$error":"#DIV/0!"},{"$error":"#DIV/0!"},{"$error":"#DIV/0!"},{"$error":"#DIV/0!"},{"$error":"#DIV/0!"},{"$error":"#DIV/0!"},{"$error":"#DIV/0!"},{"$error":"#DIV/0!"},{"$error":"#DIV/0!"},{"$error":"#DIV/0!"},{"$error":"#DIV/0!"},{"$error":"#DIV/0!"},{"$error":"#DIV/0!"},{"$error":"#DIV/0!"},{"$error":"#DIV/0!"},{"$error":"#DIV/0!"},{"$error":"#DIV/0!"},{"$error":"#DIV/0!"},0,{"$error":"#DIV/0!"},null,null,null,null,null,null,null,null,null,null,null,null,null,null,null,null,null,null,null,null,null,"1968-04-22",5.3,3.8849999999999998,null,"1976-04-21",0,1.7769999999999999,null,"2007-04-22",0,4.6188599999999997,0,4.6188599999999997,0,4.4192799999999997,null,"2017-04-21",0,4.6556800000000003,0,4.6556800000000003,0,4.3990799999999997,null,"2067-04-22",0,4.8397699999999997,0,4.8397699999999997,0,4.2980499999999999,null,null,null,1992,568.97716262975769,41.75069204152252,527.22647058823532,0,8.067702788436323,622.86949003953453,-103.7107222397357]
["1968-05-31",0,6.0330000000000004,5,1968,22,0,{"$f":"IF(B550<Parameters!$A$16,B550*Parameters!$B$16,IF(AND(B550>Parameters!$A$16,B550<Parameters!$A$17),B550*Parameters!$B$17,B550*Parameters!$B$18))","v":0},{"$f":"IF(B550<Parameters!$A$20,B550*Parameters!$B$20,IF(AND(B550>Parameters!$A$20,B550<Parameters!$A$21),B550*Parameters!$B$21,B550*Parameters!$B$22))","v":0},{"$error":"#DIV/0!"},"",0,"",0,5.8394516129032263,{"$error":"#DIV/0!"},{"$f":"SUM(O550*P549)/$E$3*10","v":{"$error":"#DIV/0!"}},{"$f":"IF('Gegevens '!$G$20=\"Eigen waarden\",VLOOKUP($F550,'Gegevens '!$A$25:$C$77,3,FALSE),VLOOKUP($F550,Lijsten!$A$19:$B$71,2,FALSE))","v":39.779582414171429},{"$error":"#DIV/0!"},{"$error":"#DIV/0!"},{"$error":"#DIV/0!"},{"$error":"#DIV/0!"},{"$error":"#DIV/0!"},{"$error":"#DIV/0!"},{"$error":"#DIV/0!"},"","",{"$error":"#DIV/0!"},0,{"$error":"#DIV/0!"},0,{"$error":"#DIV/0!"},{"$error":"#DIV/0!"},{"$error":"#DIV/0!"},{"$error":"#DIV/0!"},{"$error":"#DIV/0!"},{"$error":"#DIV/0!"},"","","",{"$error":"#DIV/0!"},0,{"$error":"#DIV/0!"},null,null,null,null,null,null,null,null,null,null,null,null,null,null,null,null,null,null,null,null,null,"1968-05-31",0,6.0330000000000004,null,"1976-05-30",0,3.698,null,"2007-05-31",0,4.8420500000000004,0,4.8420500000000004,0,4.6207000000000003,null,"2017-05-30",0,4.8969199999999997,0,4.8969199999999997,0,4.6123399999999997,null,"2067-05-31",0,5.1712699999999998,0,5.1712699999999998,0,4.5704900000000004,null,null,null,1977,964.91487889273242,92.509342560553648,872.40553633217985,127.92532832471964,9.3338315275775798,715.48178924975412,19.66458723012925,null,null,1986,176.92295434806715,-126.59335115424605,50.3296031938211]
["1968-07-09",0,5.05,7,1968,28,0,{"$f":"IF(B589<Parameters!$A$16,B589*Parameters!$B$16,IF(AND(B589>Parameters!$A$16,B589<Parameters!$A$17),B589*Parameters!$B$17,B589*Parameters!$B$18))","v":0},{"$f":"IF(B589<Parameters!$A$20,B589*Parameters!$B$20,IF(AND(B589>Parameters!$A$20,B589<Parameters!$A$21),B589*Parameters!$B$21,B589*Parameters!$B$22))","v":0},{"$error":"#DIV/0!"},"",0,"",0,5.0177419354838708,{"$error":"#DIV/0!"},{"$error":"#DIV/0!"},{"$f":"IF('Gegevens '!$G$20=\"Eigen waarden\",VLOOKUP($F589,'Gegevens '!$A$25:$C$77,3,FALSE),VLOOKUP($F589,Lijsten!$A$19:$B$71,2,FALSE))","v":37.93215799035999},{"$error":"#DIV/0!"},{"$error":"#DIV/0!"},{"$error":"#DIV/0!"},{"$error":"#DIV/0!"},{"$error":"#DIV/0!"},{"$error":"#DIV/0!"},{"$error":"#DIV/0!"},"","",{"$error":"#DIV/0!"},0,{"$error":"#DIV/0!"},0,{"$error":"#DIV/0!"},{"$error":"#DIV/0!"},{"$error":"#DIV/0!"},{"$error":"#DIV/0!"},{"$error":"#DIV/0!"},{"$error":"#DIV/0!"},"","","",{"$error":"#DIV/0!"},0,{"$error":"#DIV/0!"},null,null,null,null,null,null,null,null,null,null,null,null,null,null,null,null,null,null,null,null,null,"1968-07-09",0,5.05,null,"1976-07-08",0,6.3339999999999996,null,"2007-07-09",0,4.2637400000000003,0,4.1139299999999999,0,3.9641099999999998,null,"2017-07-08",0,4.3599500000000004,0,4.1673299999999998,0,3.97471,null,"2067-07-09",0,4.8410099999999998,0,4.4343700000000004,0,4.02773,null,null,null,null,{"$f":"SUM(CV588/COUNT(CU540:CU585))","v":932.38354144726884},{"$f":"SUM(CW588/COUNT(CV540:CV585))","v":80.74141718068303},851.64212426658707,158.04562201361904,9.6669255871074569,682.6780459425205,1.2515307233397244]
["1968-10-26",0.1,0.23499999999999999,10,1968,43,0.1,{"$f":"IF(B698<Parameters!$A$16,B698*Parameters!$B$16,IF(AND(B698>Parameters!$A$16,B698<Parameters!$A$17),B698*Parameters!$B$17,B698*Parameters!$B$18))","v":0},{"$f":"IF(B698<Parameters!$A$20,B698*Parameters!$B$20,IF(AND(B698>Parameters!$A$20,B698<Parameters!$A$21),B698*Parameters!$B$21,B698*Parameters!$B$22))","v":0},{"$error":"#DIV/0!"},{"$error":"#DIV/0!"},{"$error":"#DIV/0!"},{"$error":"#DIV/0!"},{"$error":"#DIV/0!"},0.39629032258064512,{"$error":"#DIV/0!"},{"$error":"#DIV/0!"},{"$f":"IF('Gegevens '!$G$20=\"Eigen waarden\",VLOOKUP($F698,'Gegevens '!$A$25:$C$77,3,FALSE),VLOOKUP($F698,Lijsten!$A$19:$B$71,2,FALSE))","v":15.056100159581629},{"$error":"#DIV/0!"},{"$error":"#DIV/0!"},{"$error":"#DIV/0!"},{"$error":"#DIV/0!"},{"$error":"#DIV/0!"},{"$error":"#DIV/0!"},{"$error":"#DIV/0!"},{"$error":"#DIV/0!"},{"$error":"#DIV/0!"},{"$error":"#DIV/0!"},{"$error":"#DIV/0!"},{"$error":"#DIV/0!"},{"$error":"#DIV/0!"},{"$error":"#DIV/0!"},{"$error":"#DIV/0!"},{"$error":"#DIV/0!"},{"$error":"#DIV/0!"},{"$error":"#DIV/0!"},{"$error":"#DIV/0!"},{"$error":"#DIV/0!"},{"$error":"#DIV/0!"},{"$error":"#DIV/0!"},{"$error":"#DIV/0!"},{"$error":"#DIV/0!"},0,null,null,null,null,null,null,null,null,null,null,null,null,null,null,null,null,null,null,null,null,null,"1968-10-26",0.1,0.23499999999999999,null,"1976-10-25",0.2,0.73,null,"2007-10-26",0,0.40114,0,0.40114,0,0.37718000000000002,null,"2017-10-25",0,0.40832000000000002,0,0.40832000000000002,0,0.37752000000000002,null,"2067-10-26",0,0.44423000000000001,0,0.44423000000000001,0,0.37920999999999999]
["1968-12-04",0,0,12,1968,49,0,{"$f":"IF(B737<Parameters!$A$16,B737*Parameters!$B$16,IF(AND(B737>Parameters!$A$16,B737<Parameters!$A$17),B737*Parameters!$B$17,B737*Parameters!$B$18))","v":0},{"$f":"IF(B737<Parameters!$A$20,B737*Parameters!$B$20,IF(AND(B737>Parameters!$A$20,B737<Parameters!$A$21),B737*Parameters!$B$21,B737*Parameters!$B$22))","v":0},{"$error":"#DIV/0!"},"",0,"",0,6.4516129032258063E-2,{"$error":"#DIV/0!"},{"$error":"#DIV/0!"},{"$f":"IF('Gegevens '!$G$20=\"Eigen waarden\",VLOOKUP($F737,'Gegevens '!$A$25:$C$77,3,FALSE),VLOOKUP($F737,Lijsten!$A$19:$B$71,2,FALSE))","v":3.2736734693877558},{"$error":"#DIV/0!"},{"$error":"#DIV/0!"},{"$error":"#DIV/0!"},{"$error":"#DIV/0!"},{"$error":"#DIV/0!"},{"$error":"#DIV/0!"},{"$error":"#DIV/0!"},"","",{"$error":"#DIV/0!"},0,{"$error":"#DIV/0!"},0,{"$error":"#DIV/0!"},{"$error":"#DIV/0!"},{"$error":"#DIV/0!"},{"$error":"#DIV/0!"},{"$error":"#DIV/0!"},{"$error":"#DIV/0!"},"","","",{"$error":"#DIV/0!"},{"$error":"#DIV/0!"},0,null,null,null,null,null,null,null,null,null,null,null,null,null,null,null,null,null,null,null,null,null,"1968-12-04",0,0,null,"1976-12-03",0,0.16200000000000001,null,"2007-12-04",0,0,0,0,0,0,null,"2017-12-03",0,0,0,0,0,0,null,"2067-12-04",0,0,0,0,0,0]
["1969-01-16",1,0.25900000000000001,1,1969,3,1,{"$f":"IF(B780<Parameters!$A$16,B780*Parameters!$B$16,IF(AND(B780>Parameters!$A$16,B780<Parameters!$A$17),B780*Parameters!$B$17,B780*Parameters!$B$18))","v":0.95},{"$f":"IF(B780<Parameters!$A$20,B780*Parameters!$B$20,IF(AND(B780>Parameters!$A$20,B780<Parameters!$A$21),B780*Parameters!$B$21,B780*Parameters!$B$22))","v":0.75},{"$error":"#DIV/0!"},{"$error":"#DIV/0!"},{"$error":"#DIV/0!"},{"$error":"#DIV/0!"},{"$error":"#DIV/0!"},0.32351612903225807,{"$error":"#DIV/0!"},{"$error":"#DIV/0!"},{"$f":"IF('Gegevens '!$G$20=\"Eigen waarden\",VLOOKUP($F780,'Gegevens '!$A$25:$C$77,3,FALSE),VLOOKUP($F780,Lijsten!$A$19:$B$71,2,FALSE))","v":5.3886624347828569},{"$error":"#DIV/0!"},{"$error":"#DIV/0!"},{"$error":"#DIV/0!"},{"$error":"#DIV/0!"},{"$error":"#DIV/0!"},{"$error":"#DIV/0!"},{"$error":"#DIV/0!"},{"$error":"#DIV/0!"},{"$error":"#DIV/0!"},{"$error":"#DIV/0!"},{"$error":"#DIV/0!"},{"$error":"#DIV/0!"},{"$error":"#DIV/0!"},{"$error":"#DIV/0!"},{"$error":"#DIV/0!"},{"$error":"#DIV/0!"},{"$error":"#DIV/0!"},{"$error":"#DIV/0!"},{"$error":"#DIV/0!"},{"$error":"#DIV/0!"},{"$error":"#DIV/0!"},{"$error":"#DIV/0!"},{"$error":"#DIV/0!"},{"$error":"#DIV/0!"},0,null,null,null,null,null,null,null,null,null,null,null,null,null,null,null,null,null,null,null,null,null,"1969-01-16",1,0.25900000000000001,null,"1977-01-15",6.4,0.11,null,"2008-01-16",11.13,0.35288000000000003,9.5399999999999991,0.33139000000000002,8.51,0.30990000000000001,null,"2018-01-15",11.43,0.36598999999999998,9.6300000000000008,0.33835999999999999,8.42,0.31073000000000001,null,"2068-01-16",13,0.43153000000000002,10.11,0.37319999999999998,7.97,0.31486999999999998]
["1969-05-01",1.7,0.44400000000000001,5,1969,18,1.7,{"$f":"IF(B885<Parameters!$A$16,B885*Parameters!$B$16,IF(AND(B885>Parameters!$A$16,B885<Parameters!$A$17),B885*Parameters!$B$17,B885*Parameters!$B$18))","v":1.36},{"$f":"IF(B885<Parameters!$A$20,B885*Parameters!$B$20,IF(AND(B885>Parameters!$A$20,B885<Parameters!$A$21),B885*Parameters!$B$21,B885*Parameters!$B$22))","v":1.02},{"$error":"#DIV/0!"},{"$error":"#DIV/0!"},{"$error":"#DIV/0!"},{"$error":"#DIV/0!"},{"$error":"#DIV/0!"},0.25045161290322582,{"$error":"#DIV/0!"},{"$error":"#DIV/0!"},{"$f":"IF('Gegevens '!$G$20=\"Eigen waarden\",VLOOKUP($F885,'Gegevens '!$A$25:$C$77,3,FALSE),VLOOKUP($F885,Lijsten!$A$19:$B$71,2,FALSE))","v":33.340195028868571},{"$error":"#DIV/0!"},{"$error":"#DIV/0!"},{"$error":"#DIV/0!"},{"$error":"#DIV/0!"},{"$error":"#DIV/0!"},{"$error":"#DIV/0!"},{"$error":"#DIV/0!"},{"$error":"#DIV/0!"},{"$error":"#DIV/0!"},{"$error":"#DIV/0!"},{"$error":"#DIV/0!"},{"$error":"#DIV/0!"},{"$error":"#DIV/0!"},{"$error":"#DIV/0!"},{"$error":"#DIV/0!"},{"$error":"#DIV/0!"},{"$error":"#DIV/0!"},{"$error":"#DIV/0!"},{"$error":"#DIV/0!"},{"$error":"#DIV/0!"},{"$error":"#DIV/0!"},{"$error":"#DIV/0!"},{"$error":"#DIV/0!"},0,{"$error":"#DIV/0!"},null,null,null,null,null,null,null,null,null,null,null,null,null,null,null,null,null,null,null,null,null,"1969-05-01",1.7,0.44400000000000001,null,"1977-04-30",0.3,2.5659999999999998,null,"2008-04-30",0,4.4892500000000002,0,4.4892500000000002,0,4.2952700000000004,null,"2018-04-30",0,4.5250300000000001,0,4.5250300000000001,0,4.2756299999999996,null,"2068-04-30",0,4.7039600000000004,0,4.7039600000000004,0,4.1774399999999998]
["1969-06-12",0,5.8529999999999998,6,1969,24,0,{"$f":"IF(B927<Parameters!$A$16,B927*Parameters!$B$16,IF(AND(B927>Parameters!$A$16,B927<Parameters!$A$17),B927*Parameters!$B$17,B927*Parameters!$B$18))","v":0},{"$f":"IF(B927<Parameters!$A$20,B927*Parameters!$B$20,IF(AND(B927>Parameters!$A$20,B927<Parameters!$A$21),B927*Parameters!$B$21,B927*Parameters!$B$22))","v":0},{"$error":"#DIV/0!"},"",0,"",0,5.719666666666666,{"$error":"#DIV/0!"},{"$error":"#DIV/0!"},{"$f":"IF('Gegevens '!$G$20=\"Eigen waarden\",VLOOKUP($F927,'Gegevens '!$A$25:$C$77,3,FALSE),VLOOKUP($F927,Lijsten!$A$19:$B$71,2,FALSE))","v":43.951162369211438},{"$error":"#DIV/0!"},{"$error":"#DIV/0!"},{"$error":"#DIV/0!"},{"$error":"#DIV/0!"},{"$error":"#DIV/0!"},{"$error":"#DIV/0!"},{"$error":"#DIV/0!"},"","",{"$error":"#DIV/0!"},0,{"$error":"#DIV/0!"},0,{"$error":"#DIV/0!"},{"$error":"#DIV/0!"},{"$error":"#DIV/0!"},{"$error":"#DIV/0!"},{"$error":"#DIV/0!"},{"$error":"#DIV/0!"},"","","",{"$error":"#DIV/0!"},0,{"$error":"#DIV/0!"},null,null,null,null,null,null,null,null,null,null,null,null,null,null,null,null,null,null,null,null,null,"1969-06-12",0,5.8529999999999998,null,"1977-06-11",1.1000000000000001,3.5750000000000002,null,"2008-06-11",0,6.8539399999999997,0,6.5525900000000004,0,6.2711699999999997,null,"2018-06-11",0,7.0033500000000002,0,6.6158999999999999,0,6.2540800000000001,null,"2068-06-11",0,7.7504099999999996,0,6.9324500000000002,0,6.1686100000000001]
["1969-09-27",1.1000000000000001,1.036,9,1969,39,1.1000000000000001,{"$f":"IF(B1034<Parameters!$A$16,B1034*Parameters!$B$16,IF(AND(B1034>Parameters!$A$16,B1034<Parameters!$A$17),B1034*Parameters!$B$17,B1034*Parameters!$B$18))","v":0.88000000000000012},{"$f":"IF(B1034<Parameters!$A$20,B1034*Parameters!$B$20,IF(AND(B1034>Parameters!$A$20,B1034<Parameters!$A$21),B1034*Parameters!$B$21,B1034*Parameters!$B$22))","v":0.66},{"$error":"#DIV/0!"},{"$error":"#DIV/0!"},{"$error":"#DIV/0!"},{"$error":"#DIV/0!"},{"$error":"#DIV/0!"},1.1693333333333333,{"$error":"#DIV/0!"},{"$error":"#DIV/0!"},{"$f":"IF('Gegevens '!$G$20=\"Eigen waarden\",VLOOKUP($F1034,'Gegevens '!$A$25:$C$77,3,FALSE),VLOOKUP($F1034,Lijsten!$A$19:$B$71,2,FALSE))","v":23.128696279329191},{"$error":"#DIV/0!"},{"$error":"#DIV/0!"},{"$error":"#DIV/0!"},{"$error":"#DIV/0!"},{"$error":"#DIV/0!"},{"$error":"#DIV/0!"},{"$error":"#DIV/0!"},{"$error":"#DIV/0!"},{"$error":"#DIV/0!"},{"$error":"#DIV/0!"},{"$error":"#DIV/0!"},{"$error":"#DIV/0!"},{"$error":"#DIV/0!"},{"$error":"#DIV/0!"},{"$error":"#DIV/0!"},{"$error":"#DIV/0!"},{"$error":"#DIV/0!"},{"$error":"#DIV/0!"},{"$error":"#DIV/0!"},{"$error":"#DIV/0!"},{"$error":"#DIV/0!"},{"$error":"#DIV/0!"},{"$error":"#DIV/0!"},0,{"$error":"#DIV/0!"},null,null,null,null,null,null,null,null,null,null,null,null,null,null,null,null,null,null,null,null,null,"1969-09-27",1.1000000000000001,1.036,null,"1977-09-26",0,1.81,null,"2008-09-26",0,2.2947899999999999,0,2.2947899999999999,0,2.1991800000000001,null,"2018-09-26",0,2.33588,0,2.33588,0,2.2129500000000002,null,"2068-09-26",0,2.5413000000000001,0,2.5413000000000001,0,2.2817799999999999]
["1969-11-05",1.1000000000000001,0.4,11,1969,45,1.1000000000000001,{"$f":"IF(B1073<Parameters!$A$16,B1073*Parameters!$B$16,IF(AND(B1073>Parameters!$A$16,B1073<Parameters!$A$17),B1073*Parameters!$B$17,B1073*Parameters!$B$18))","v":0.88000000000000012},{"$f":"IF(B1073<Parameters!$A$20,B1073*Parameters!$B$20,IF(AND(B1073>Parameters!$A$20,B1073<Parameters!$A$21),B1073*Parameters!$B$21,B1073*Parameters!$B$22))","v":0.66},{"$error":"#DIV/0!"},{"$error":"#DIV/0!"},{"$error":"#DIV/0!"},{"$error":"#DIV/0!"},{"$error":"#DIV/0!"},0.56666666666666665,{"$error":"#DIV/0!"},{"$error":"#DIV/0!"},{"$f":"IF('Gegevens '!$G$20=\"Eigen waarden\",VLOOKUP($F1073,'Gegevens '!$A$25:$C$77,3,FALSE),VLOOKUP($F1073,Lijsten!$A$19:$B$71,2,FALSE))","v":11.050358269480521},{"$error":"#DIV/0!"},{"$error":"#DIV/0!"},{"$error":"#DIV/0!"},{"$error":"#DIV/0!"},{"$error":"#DIV/0!"},{"$error":"#DIV/0!"},{"$error":"#DIV/0!"},{"$error":"#DIV/0!"},{"$error":"#DIV/0!"},{"$error":"#DIV/0!"},{"$error":"#DIV/0!"},{"$error":"#DIV/0!"},{"$error":"#DIV/0!"},{"$error":"#DIV/0!"},{"$error":"#DIV/0!"},{"$error":"#DIV/0!"},{"$error":"#DIV/0!"},{"$error":"#DIV/0!"},{"$error":"#DIV/0!"},{"$error":"#DIV/0!"},{"$error":"#DIV/0!"},{"$error":"#DIV/0!"},{"$error":"#DIV/0!"},{"$error":"#DIV/0!"},0,null,null,null,null,null,null,null,null,null,null,null,null,null,null,null,null,null,null,null,null,null,"1969-11-05",1.1000000000000001,0.4,null,"1977-11-04",5.0999999999999996,0.49099999999999999,null,"2008-11-04",8.01,0.38192999999999999,8.01,0.38192999999999999,8.01,0.35461999999999999,null,"2018-11-04",8.0500000000000007,0.38877,8.0500000000000007,0.38877,8.0500000000000007,0.35365000000000002,null,"2068-11-04",8.2100000000000009,0.42296,8.2100000000000009,0.42296,8.2100000000000009,0.34882000000000002]
["1969-12-14",10.3,0.185,12,1969,50,10.3,{"$f":"IF(B1112<Parameters!$A$16,B1112*Parameters!$B$16,IF(AND(B1112>Parameters!$A$16,B1112<Parameters!$A$17),B1112*Parameters!$B$17,B1112*Parameters!$B$18))","v":9.7850000000000001},{"$f":"IF(B1112<Parameters!$A$20,B1112*Parameters!$B$20,IF(AND(B1112>Parameters!$A$20,B1112<Parameters!$A$21),B1112*Parameters!$B$21,B1112*Parameters!$B$22))","v":7.7250000000000005},{"$error":"#DIV/0!"},{"$error":"#DIV/0!"},{"$error":"#DIV/0!"},{"$error":"#DIV/0!"},{"$error":"#DIV/0!"},0.24951612903225806,{"$error":"#DIV/0!"},{"$error":"#DIV/0!"},{"$f":"IF('Gegevens '!$G$20=\"Eigen waarden\",VLOOKUP($F1112,'Gegevens '!$A$25:$C$77,3,FALSE),VLOOKUP($F1112,Lijsten!$A$19:$B$71,2,FALSE))","v":6.1862244897959169},{"$error":"#DIV/0!"},{"$error":"#DIV/0!"},{"$error":"#DIV/0!"},{"$error":"#DIV/0!"},{"$error":"#DIV/0!"},{"$error":"#DIV/0!"},{"$error":"#DIV/0!"},{"$error":"#DIV/0!"},{"$error":"#DIV/0!"},{"$error":"#DIV/0!"},{"$error":"#DIV/0!"},{"$error":"#DIV/0!"},{"$error":"#DIV/0!"},{"$error":"#DIV/0!"},{"$error":"#DIV/0!"},{"$error":"#DIV/0!"},{"$error":"#DIV/0!"},{"$error":"#DIV/0!"},{"$error":"#DIV/0!"},{"$error":"#DIV/0!"},{"$error":"#DIV/0!"},{"$error":"#DIV/0!"},{"$error":"#DIV/0!"},{"$error":"#DIV/0!"},0,null,null,null,null,null,null,null,null,null,null,null,null,null,null,null,null,null,null,null,null,null,"1969-12-14",10.3,0.185,null,"1977-12-13",0.7,0.45600000000000002,null,"2008-12-13",0,0,0,0,0,0,null,"2018-12-13",0,0,0,0,0,0,null,"2068-12-13",0,0,0,0,0,0]
["1970-04-02",3.7,1.139,4,1970,14,3.7,{"$f":"IF(B1221<Parameters!$A$16,B1221*Parameters!$B$16,IF(AND(B1221>Parameters!$A$16,B1221<Parameters!$A$17),B1221*Parameters!$B$17,B1221*Parameters!$B$18))","v":3.5150000000000001},{"$f":"IF(B1221<Parameters!$A$20,B1221*Parameters!$B$20,IF(AND(B1221>Parameters!$A$20,B1221<Parameters!$A$21),B1221*Parameters!$B$21,B1221*Parameters!$B$22))","v":2.7750000000000004},{"$error":"#DIV/0!"},{"$error":"#DIV/0!"},{"$error":"#DIV/0!"},{"$error":"#DIV/0!"},{"$error":"#DIV/0!"},0.97233333333333338,{"$error":"#DIV/0!"},{"$error":"#DIV/0!"},{"$f":"IF('Gegevens '!$G$20=\"Eigen waarden\",VLOOKUP($F1221,'Gegevens '!$A$25:$C$77,3,FALSE),VLOOKUP($F1221,Lijsten!$A$19:$B$71,2,FALSE))","v":27.019937776034283},{"$error":"#DIV/0!"},{"$error":"#DIV/0!"},{"$error":"#DIV/0!"},{"$error":"#DIV/0!"},{"$error":"#DIV/0!"},{"$error":"#DIV/0!"},{"$error":"#DIV/0!"},{"$error":"#DIV/0!"},{"$error":"#DIV/0!"},{"$error":"#DIV/0!"},{"$error":"#DIV/0!"},{"$error":"#DIV/0!"},{"$error":"#DIV/0!"},{"$error":"#DIV/0!"},{"$error":"#DIV/0!"},{"$error":"#DIV/0!"},{"$error":"#DIV/0!"},{"$error":"#DIV/0!"},{"$error":"#DIV/0!"},{"$error":"#DIV/0!"},{"$error":"#DIV/0!"},{"$error":"#DIV/0!"},{"$error":"#DIV/0!"},0,{"$error":"#DIV/0!"},null,null,null,null,null,null,null,null,null,null,null,null,null,null,null,null,null,null,null,null,null,"1970-04-02",3.7,1.139,null,"1978-04-01",0,1.994,null,"2009-04-01",0.8,0.89393999999999996,0.8,0.89393999999999996,0.8,0.85531000000000001,null,"2019-04-01",0.8,0.90107000000000004,0.8,0.90107000000000004,0.8,0.85140000000000005,null,"2069-04-01",0.78,0.93669999999999998,0.78,0.93669999999999998,0.78,0.83184999999999998]
["1970-05-11",1.3,0.91900000000000004,5,1970,20,1.3,{"$f":"IF(B1260<Parameters!$A$16,B1260*Parameters!$B$16,IF(AND(B1260>Parameters!$A$16,B1260<Parameters!$A$17),B1260*Parameters!$B$17,B1260*Parameters!$B$18))","v":1.04},{"$f":"IF(B1260<Parameters!$A$20,B1260*Parameters!$B$20,IF(AND(B1260>Parameters!$A$20,B1260<Parameters!$A$21),B1260*Parameters!$B$21,B1260*Parameters!$B$22))","v":0.78},{"$error":"#DIV/0!"},{"$error":"#DIV/0!"},{"$error":"#DIV/0!"},{"$error":"#DIV/0!"},{"$error":"#DIV/0!"},0.7254516129032258,{"$error":"#DIV/0!"},{"$error":"#DIV/0!"},{"$f":"IF('Gegevens '!$G$20=\"Eigen waarden\",VLOOKUP($F1260,'Gegevens '!$A$25:$C$77,3,FALSE),VLOOKUP($F1260,Lijsten!$A$19:$B$71,2,FALSE))","v":36.908247477731429},{"$error":"#DIV/0!"},{"$error":"#DIV/0!"},{"$error":"#DIV/0!"},{"$error":"#DIV/0!"},{"$error":"#DIV/0!"},{"$error":"#DIV/0!"},{"$error":"#DIV/0!"},{"$error":"#DIV/0!"},{"$error":"#DIV/0!"},{"$error":"#DIV/0!"},{"$error":"#DIV/0!"},{"$error":"#DIV/0!"},{"$error":"#DIV/0!"},{"$error":"#DIV/0!"},{"$error":"#DIV/0!"},{"$error":"#DIV/0!"},{"$error":"#DIV/0!"},{"$error":"#DIV/0!"},{"$error":"#DIV/0!"},{"$error":"#DIV/0!"},{"$error":"#DIV/0!"},{"$error":"#DIV/0!"},{"$error":"#DIV/0!"},0,{"$error":"#DIV/0!"},null,null,null,null,null,null,null,null,null,null,null,null,null,null,null,null,null,null,null,null,null,"1970-05-11",1.3,0.91900000000000004,null,"1978-05-10",0,4.2210000000000001,null,"2009-05-10",0.12,2.36375,0.12,2.36375,0.12,2.2557,null,"2019-05-10",0.1,2.3905400000000001,0.1,2.3905400000000001,0.1,2.2516099999999999,null,"2069-05-10",0,2.52447,0,2.52447,0,2.2311800000000002]
["1970-08-28",0,3.6869999999999998,8,1970,35,0,{"$f":"IF(B1369<Parameters!$A$16,B1369*Parameters!$B$16,IF(AND(B1369>Parameters!$A$16,B1369<Parameters!$A$17),B1369*Parameters!$B$17,B1369*Parameters!$B$18))","v":0},{"$f":"IF(B1369<Parameters!$A$20,B1369*Parameters!$B$20,IF(AND(B1369>Parameters!$A$20,B1369<Parameters!$A$21),B1369*Parameters!$B$21,B1369*Parameters!$B$22))","v":0},{"$error":"#DIV/0!"},"",0,"",0,3.7515161290322578,{"$error":"#DIV/0!"},{"$error":"#DIV/0!"},{"$f":"IF('Gegevens '!$G$20=\"Eigen waarden\",VLOOKUP($F1369,'Gegevens '!$A$25:$C$77,3,FALSE),VLOOKUP($F1369,Lijsten!$A$19:$B$71,2,FALSE))","v":31.823036754388561},{"$error":"#DIV/0!"},{"$error":"#DIV/0!"},{"$error":"#DIV/0!"},{"$error":"#DIV/0!"},{"$error":"#DIV/0!"},{"$error":"#DIV/0!"},{"$error":"#DIV/0!"},"","",{"$error":"#DIV/0!"},0,{"$error":"#DIV/0!"},0,{"$error":"#DIV/0!"},{"$error":"#DIV/0!"},{"$error":"#DIV/0!"},{"$error":"#DIV/0!"},{"$error":"#DIV/0!"},{"$error":"#DIV/0!"},"","","",{"$error":"#DIV/0!"},0,{"$error":"#DIV/0!"},null,null,null,null,null,null,null,null,null,null,null,null,null,null,null,null,null,null,null,null,null,"1970-08-28",0,3.6869999999999998,null,"1978-08-27",0,1.41,null,"2009-08-27",0,4.3496300000000003,0,4.1756500000000001,0,4.0016699999999998,null,"2019-08-27",0,4.4740900000000003,0,4.2504099999999996,0,4.0267200000000001,null,"2069-08-27",0,5.0964200000000002,0,4.6242000000000001,0,4.1519700000000004]
["1970-10-06",7,1.113,10,1970,41,7,{"$f":"IF(B1408<Parameters!$A$16,B1408*Parameters!$B$16,IF(AND(B1408>Parameters!$A$16,B1408<Parameters!$A$17),B1408*Parameters!$B$17,B1408*Parameters!$B$18))","v":6.6499999999999995},{"$f":"IF(B1408<Parameters!$A$20,B1408*Parameters!$B$20,IF(AND(B1408>Parameters!$A$20,B1408<Parameters!$A$21),B1408*Parameters!$B$21,B1408*Parameters!$B$22))","v":5.25},{"$error":"#DIV/0!"},{"$error":"#DIV/0!"},{"$error":"#DIV/0!"},{"$error":"#DIV/0!"},{"$error":"#DIV/0!"},1.2742903225806452,{"$error":"#DIV/0!"},{"$error":"#DIV/0!"},{"$f":"IF('Gegevens '!$G$20=\"Eigen waarden\",VLOOKUP($F1408,'Gegevens '!$A$25:$C$77,3,FALSE),VLOOKUP($F1408,Lijsten!$A$19:$B$71,2,FALSE))","v":17.237476837457141},{"$error":"#DIV/0!"},{"$error":"#DIV/0!"},{"$error":"#DIV/0!"},{"$error":"#DIV/0!"},{"$error":"#DIV/0!"},{"$error":"#DIV/0!"},{"$error":"#DIV/0!"},{"$error":"#DIV/0!"},{"$error":"#DIV/0!"},{"$error":"#DIV/0!"},{"$error":"#DIV/0!"},{"$error":"#DIV/0!"},{"$error":"#DIV/0!"},{"$error":"#DIV/0!"},{"$error":"#DIV/0!"},{"$error":"#DIV/0!"},{"$error":"#DIV/0!"},{"$error":"#DIV/0!"},{"$error":"#DIV/0!"},{"$error":"#DIV/0!"},{"$error":"#DIV/0!"},{"$error":"#DIV/0!"},{"$error":"#DIV/0!"},{"$error":"#DIV/0!"},0,null,null,null,null,null,null,null,null,null,null,null,null,null,null,null,null,null,null,null,null,null,"1970-10-06",7,1.113,null,"1978-10-05",0,1.024,null,"2009-10-05",0,1.19594,0,1.19594,0,1.12453,null,"2019-10-05",0,1.2173499999999999,0,1.2173499999999999,0,1.12554,null,"2069-10-05",0,1.3244100000000001,0,1.3244100000000001,0,1.1305799999999999]
["1970-11-14",0.6,0.55700000000000005,11,1970,46,0.6,{"$f":"IF(B1447<Parameters!$A$16,B1447*Parameters!$B$16,IF(AND(B1447>Parameters!$A$16,B1447<Parameters!$A$17),B1447*Parameters!$B$17,B1447*Parameters!$B$18))","v":0},{"$f":"IF(B1447<Parameters!$A$20,B1447*Parameters!$B$20,IF(AND(B1447>Parameters!$A$20,B1447<Parameters!$A$21),B1447*Parameters!$B$21,B1447*Parameters!$B$22))","v":0},{"$error":"#DIV/0!"},{"$error":"#DIV/0!"},{"$error":"#DIV/0!"},{"$error":"#DIV/0!"},{"$error":"#DIV/0!"},0.72366666666666668,{"$error":"#DIV/0!"},{"$error":"#DIV/0!"},{"$f":"IF('Gegevens '!$G$20=\"Eigen waarden\",VLOOKUP($F1447,'Gegevens '!$A$25:$C$77,3,FALSE),VLOOKUP($F1447,Lijsten!$A$19:$B$71,2,FALSE))","v":9.880531666666668},{"$error":"#DIV/0!"},{"$error":"#DIV/0!"},{"$error":"#DIV/0!"},{"$error":"#DIV/0!"},{"$error":"#DIV/0!"},{"$error":"#DIV/0!"},{"$error":"#DIV/0!"},{"$error":"#DIV/0!"},{"$error":"#DIV/0!"},{"$error":"#DIV/0!"},{"$error":"#DIV/0!"},{"$error":"#DIV/0!"},{"$error":"#DIV/0!"},{"$error":"#DIV/0!"},{"$error":"#DIV/0!"},{"$error":"#DIV/0!"},{"$error":"#DIV/0!"},{"$error":"#DIV/0!"},{"$error":"#DIV/0!"},{"$error":"#DIV/0!"},{"$error":"#DIV/0!"},{"$error":"#DIV/0!"},{"$error":"#DIV/0!"},{"$error":"#DIV/0!"},0,null,null,null,null,null,null,null,null,null,null,null,null,null,null,null,null,null,null,null,null,null,"1970-11-14",0.6,0.55700000000000005,null,"1978-11-13",2.9,0.378,null,"2009-11-13",0.59,0.73933000000000004,0.59,0.73933000000000004,0.59,0.68645,null,"2019-11-13",0.59,0.75256000000000001,0.59,0.75256000000000001,0.59,0.68457999999999997,null,"2069-11-13",0.56999999999999995,0.81874000000000002,0.56999999999999995,0.81874000000000002,0.56999999999999995,0.67522000000000004]
["1971-03-03",0,0,3,1971,9,0,{"$f":"IF(B1556<Parameters!$A$16,B1556*Parameters!$B$16,IF(AND(B1556>Parameters!$A$16,B1556<Parameters!$A$17),B1556*Parameters!$B$17,B1556*Parameters!$B$18))","v":0},{"$f":"IF(B1556<Parameters!$A$20,B1556*Parameters!$B$20,IF(AND(B1556>Parameters!$A$20,B1556<Parameters!$A$21),B1556*Parameters!$B$21,B1556*Parameters!$B$22))","v":0},{"$error":"#DIV/0!"},"",0,"",0,-9.6774193548387094E-2,{"$error":"#DIV/0!"},{"$error":"#DIV/0!"},{"$f":"IF('Gegevens '!$G$20=\"Eigen waarden\",VLOOKUP($F1556,'Gegevens '!$A$25:$C$77,3,FALSE),VLOOKUP($F1556,Lijsten!$A$19:$B$71,2,FALSE))","v":14.865981240331429},{"$error":"#DIV/0!"},{"$error":"#DIV/0!"},{"$error":"#DIV/0!"},{"$error":"#DIV/0!"},{"$error":"#DIV/0!"},{"$error":"#DIV/0!"},{"$error":"#DIV/0!"},"","",{"$error":"#DIV/0!"},0,{"$error":"#DIV/0!"},0,{"$error":"#DIV/0!"},{"$error":"#DIV/0!"},{"$error":"#DIV/0!"},{"$error":"#DIV/0!"},{"$error":"#DIV/0!"},{"$error":"#DIV/0!"},"","","",{"$error":"#DIV/0!"},{"$error":"#DIV/0!"},0,null,null,null,null,null,null,null,null,null,null,null,null,null,null,null,null,null,null,null,null,null,"1971-03-03",0,0,null,"1979-03-02",6.4,0.123,null,"2010-03-02",2.82,0,2.82,0,2.82,0,null,"2020-03-01",2.86,0,2.86,0,2.86,0,null,"2070-03-02",3.04,0,3.04,0,3.04,0]
["1971-04-03",0,0.32,4,1971,13,0,{"$f":"IF(B1587<Parameters!$A$16,B1587*Parameters!$B$16,IF(AND(B1587>Parameters!$A$16,B1587<Parameters!$A$17),B1587*Parameters!$B$17,B1587*Parameters!$B$18))","v":0},{"$f":"IF(B1587<Parameters!$A$20,B1587*Parameters!$B$20,IF(AND(B1587>Parameters!$A$20,B1587<Parameters!$A$21),B1587*Parameters!$B$21,B1587*Parameters!$B$22))","v":0},{"$error":"#DIV/0!"},"",0,"",0,0.15333333333333335,{"$error":"#DIV/0!"},{"$error":"#DIV/0!"},{"$f":"IF('Gegevens '!$G$20=\"Eigen waarden\",VLOOKUP($F1587,'Gegevens '!$A$25:$C$77,3,FALSE),VLOOKUP($F1587,Lijsten!$A$19:$B$71,2,FALSE))","v":23.460342198480003},{"$error":"#DIV/0!"},{"$error":"#DIV/0!"},{"$error":"#DIV/0!"},{"$error":"#DIV/0!"},{"$error":"#DIV/0!"},{"$error":"#DIV/0!"},{"$error":"#DIV/0!"},"","",{"$error":"#DIV/0!"},0,{"$error":"#DIV/0!"},0,{"$error":"#DIV/0!"},{"$error":"#DIV/0!"},{"$error":"#DIV/0!"},{"$error":"#DIV/0!"},{"$error":"#DIV/0!"},{"$error":"#DIV/0!"},"","","",{"$error":"#DIV/0!"},{"$error":"#DIV/0!"},0,null,null,null,null,null,null,null,null,null,null,null,null,null,null,null,null,null,null,null,null,null,"1971-04-03",0,0.32,null,"1979-04-02",3.3,1.4059999999999999,null,"2010-04-02",0,2.6478700000000002,0,2.6478700000000002,0,2.5334599999999998,null,"2020-04-01",0,2.6689799999999999,0,2.6689799999999999,0,2.5218799999999999,null,"2070-04-02",0,2.7745099999999998,0,2.7745099999999998,0,2.4639600000000002]
["1971-05-25",5.0999999999999996,2.2709999999999999,5,1971,21,5.0999999999999996,{"$f":"IF(B1639<Parameters!$A$16,B1639*Parameters!$B$16,IF(AND(B1639>Parameters!$A$16,B1639<Parameters!$A$17),B1639*Parameters!$B$17,B1639*Parameters!$B$18))","v":4.8449999999999998},{"$f":"IF(B1639<Parameters!$A$20,B1639*Parameters!$B$20,IF(AND(B1639>Parameters!$A$20,B1639<Parameters!$A$21),B1639*Parameters!$B$21,B1639*Parameters!$B$22))","v":3.8249999999999997},{"$error":"#DIV/0!"},{"$error":"#DIV/0!"},{"$error":"#DIV/0!"},{"$error":"#DIV/0!"},{"$error":"#DIV/0!"},2.0774516129032259,{"$error":"#DIV/0!"},{"$error":"#DIV/0!"},{"$f":"IF('Gegevens '!$G$20=\"Eigen waarden\",VLOOKUP($F1639,'Gegevens '!$A$25:$C$77,3,FALSE),VLOOKUP($F1639,Lijsten!$A$19:$B$71,2,FALSE))","v":38.569226396674274},{"$error":"#DIV/0!"},{"$error":"#DIV/0!"},{"$error":"#DIV/0!"},{"$error":"#DIV/0!"},{"$error":"#DIV/0!"},{"$error":"#DIV/0!"},{"$error":"#DIV/0!"},{"$error":"#DIV/0!"},{"$error":"#DIV/0!"},{"$error":"#DIV/0!"},{"$error":"#DIV/0!"},{"$error":"#DIV/0!"},{"$error":"#DIV/0!"},{"$error":"#DIV/0!"},{"$error":"#DIV/0!"},{"$error":"#DIV/0!"},{"$error":"#DIV/0!"},{"$error":"#DIV/0!"},{"$error":"#DIV/0!"},{"$error":"#DIV/0!"},{"$error":"#DIV/0!"},{"$error":"#DIV/0!"},{"$error":"#DIV/0!"},0,{"$error":"#DIV/0!"},null,null,null,null,null,null,null,null,null,null,null,null,null,null,null,null,null,null,null,null,null,"1971-05-25",5.0999999999999996,2.2709999999999999,null,"1979-05-24",0.4,3.0859999999999999,null,"2010-05-24",12.52,2.4834999999999998,12.52,2.4834999999999998,12.52,2.3699699999999999,null,"2020-05-23",12.56,2.5116399999999999,12.56,2.5116399999999999,12.56,2.3656799999999998,null,"2070-05-24",12.85,2.6523599999999998,12.85,2.6523599999999998,12.85,2.34422]
["1971-09-07",0,4.258,9,1971,36,0,{"$f":"IF(B1744<Parameters!$A$16,B1744*Parameters!$B$16,IF(AND(B1744>Parameters!$A$16,B1744<Parameters!$A$17),B1744*Parameters!$B$17,B1744*Parameters!$B$18))","v":0},{"$f":"IF(B1744<Parameters!$A$20,B1744*Parameters!$B$20,IF(AND(B1744>Parameters!$A$20,B1744<Parameters!$A$21),B1744*Parameters!$B$21,B1744*Parameters!$B$22))","v":0},{"$error":"#DIV/0!"},"",0,"",0,4.3913333333333338,{"$error":"#DIV/0!"},{"$error":"#DIV/0!"},{"$f":"IF('Gegevens '!$G$20=\"Eigen waarden\",VLOOKUP($F1744,'Gegevens '!$A$25:$C$77,3,FALSE),VLOOKUP($F1744,Lijsten!$A$19:$B$71,2,FALSE))","v":30.026641895863094},{"$error":"#DIV/0!"},{"$error":"#DIV/0!"},{"$error":"#DIV/0!"},{"$error":"#DIV/0!"},{"$error":"#DIV/0!"},{"$error":"#DIV/0!"},{"$error":"#DIV/0!"},"","",{"$error":"#DIV/0!"},0,{"$error":"#DIV/0!"},0,{"$error":"#DIV/0!"},{"$error":"#DIV/0!"},{"$error":"#DIV/0!"},{"$error":"#DIV/0!"},{"$error":"#DIV/0!"},{"$error":"#DIV/0!"},"","","",{"$error":"#DIV/0!"},0,{"$error":"#DIV/0!"},null,null,null,null,null,null,null,null,null,null,null,null,null,null,null,null,null,null,null,null,null,"1971-09-07",0,4.258,null,"1979-09-06",0,4.0570000000000004,null,"2010-09-06",0,3.72437,0,3.72437,0,3.5691999999999999,null,"2020-09-05",0,3.7910499999999998,0,3.7910499999999998,0,3.5915400000000002,null,"2070-09-06",0,4.1244399999999999,0,4.1244399999999999,0,3.7032500000000002]
["1971-10-16",0,1.81,10,1971,41,0,{"$f":"IF(B1783<Parameters!$A$16,B1783*Parameters!$B$16,IF(AND(B1783>Parameters!$A$16,B1783<Parameters!$A$17),B1783*Parameters!$B$17,B1783*Parameters!$B$18))","v":0},{"$f":"IF(B1783<Parameters!$A$20,B1783*Parameters!$B$20,IF(AND(B1783>Parameters!$A$20,B1783<Parameters!$A$21),B1783*Parameters!$B$21,B1783*Parameters!$B$22))","v":0},{"$error":"#DIV/0!"},"",0,"",0,1.9712903225806453,{"$error":"#DIV/0!"},{"$error":"#DIV/0!"},{"$f":"IF('Gegevens '!$G$20=\"Eigen waarden\",VLOOKUP($F1783,'Gegevens '!$A$25:$C$77,3,FALSE),VLOOKUP($F1783,Lijsten!$A$19:$B$71,2,FALSE))","v":17.237476837457141},{"$error":"#DIV/0!"},{"$error":"#DIV/0!"},{"$error":"#DIV/0!"},{"$error":"#DIV/0!"},{"$error":"#DIV/0!"},{"$error":"#DIV/0!"},{"$error":"#DIV/0!"},"","",{"$error":"#DIV/0!"},0,{"$error":"#DIV/0!"},0,{"$error":"#DIV/0!"},{"$error":"#DIV/0!"},{"$error":"#DIV/0!"},{"$error":"#DIV/0!"},{"$error":"#DIV/0!"},{"$error":"#DIV/0!"},"","","",{"$error":"#DIV/0!"},{"$error":"#DIV/0!"},0,null,null,null,null,null,null,null,null,null,null,null,null,null,null,null,null,null,null,null,null,null,"1971-10-16",0,1.81,null,"1979-10-15",6.4,0.67200000000000004,null,"2010-10-15",0,1.5021199999999999,0,1.5021199999999999,0,1.4124399999999999,null,"2020-10-14",0,1.52902,0,1.52902,0,1.4137,null,"2070-10-15",0,1.6634800000000001,0,1.6634800000000001,0,1.42004]
["1972-02-02",1.3,0.81899999999999995,2,{"$f":"IF(AND((F1891>1),(F1892=1)),E1891+1,E1891)","v":1972},5,{"$f":"B1892","v":1.3},{"$f":"IF(B1892<Parameters!$A$16,B1892*Parameters!$B$16,IF(AND(B1892>Parameters!$A$16,B1892<Parameters!$A$17),B1892*Parameters!$B$17,B1892*Parameters!$B$18))","v":1.04},{"$f":"IF(B1892<Parameters!$A$20,B1892*Parameters!$B$20,IF(AND(B1892>Parameters!$A$20,B1892<Parameters!$A$21),B1892*Parameters!$B$21,B1892*Parameters!$B$22))","v":0.78},{"$error":"#DIV/0!"},{"$error":"#DIV/0!"},{"$f":"IF(B1892=0,0,SUM(B1892*$D$3+H1892*$B$3+I1892*$C$3)/$E$3*10)","v":{"$error":"#DIV/0!"}},{"$error":"#DIV/0!"},{"$error":"#DIV/0!"},0.78328571428571425,{"$error":"#DIV/0!"},{"$error":"#DIV/0!"},{"$f":"IF('Gegevens '!$G$20=\"Eigen waarden\",VLOOKUP($F1892,'Gegevens '!$A$25:$C$77,3,FALSE),VLOOKUP($F1892,Lijsten!$A$19:$B$71,2,FALSE))","v":8.252917930462857},{"$f":"SUM(L1892-R1892-Q1892)","v":{"$error":"#DIV/0!"}},{"$f":"L1892-Q1892","v":{"$error":"#DIV/0!"}},{"$f":"IF(U1891<$AN$3,U1891+T1892,IF(AND((U1891>$AN$3),(SUM(U1891+S1892)<$AN$3)),SUM($AN$3+T1892),IF((SUM(U1891+S1892)>($AN$3+$AK$3)),$AN$3+$AK$3,U1891+S1892)))","v":{"$error":"#DIV/0!"}},{"$error":"#DIV/0!"},{"$error":"#DIV/0!"},{"$f":"R1892-W1892","v":{"$error":"#DIV/0!"}},{"$error":"#DIV/0!"},{"$error":"#DIV/0!"},{"$f":"K1892","v":{"$error":"#DIV/0!"}},{"$error":"#DIV/0!"},{"$error":"#DIV/0!"},{"$error":"#DIV/0!"},{"$error":"#DIV/0!"},{"$error":"#DIV/0!"},{"$error":"#DIV/0!"},{"$error":"#DIV/0!"},{"$error":"#DIV/0!"},{"$error":"#DIV/0!"},{"$f":"IF(AB1892=0,\"\",AF1892/AB1892)","v":{"$error":"#DIV/0!"}},{"$error":"#DIV/0!"},{"$error":"#DIV/0!"},{"$error":"#DIV/0!"},{"$f":"AI1892*$E$5/1000","v":{"$error":"#DIV/0!"}},{"$f":"IF(OR(F1892<=13,F1892>=40),VALUE(AO1892),0)","v":{"$error":"#DIV/0!"}},{"$f":"IF(OR(F1892<=13,F1892>=40),0,VALUE(AO1892))","v":0},null,null,null,null,null,null,null,null,null,null,null,null,null,null,null,null,null,null,null,null,null,"1972-02-02",1.3,0.81899999999999995,null,"1980-02-01",1,0.73499999999999999,null,"2011-02-01",0.27,0,0.22,0,0.18,0,null,"2021-01-31",0.28999999999999998,0,0.23,0,0.18,0,null,"2071-02-01",0.37,0,0.25,0,0.16,0]
["1972-03-12",0,0,3,1972,10,0,{"$f":"IF(B1931<Parameters!$A$16,B1931*Parameters!$B$16,IF(AND(B1931>Parameters!$A$16,B1931<Parameters!$A$17),B1931*Parameters!$B$17,B1931*Parameters!$B$18))","v":0},{"$f":"IF(B1931<Parameters!$A$20,B1931*Parameters!$B$20,IF(AND(B1931>Parameters!$A$20,B1931<Parameters!$A$21),B1931*Parameters!$B$21,B1931*Parameters!$B$22))","v":0},{"$error":"#DIV/0!"},"",0,"",0,-9.6774193548387094E-2,{"$error":"#DIV/0!"},{"$error":"#DIV/0!"},{"$f":"IF('Gegevens '!$G$20=\"Eigen waarden\",VLOOKUP($F1931,'Gegevens '!$A$25:$C$77,3,FALSE),VLOOKUP($F1931,Lijsten!$A$19:$B$71,2,FALSE))","v":16.951002269891429},{"$error":"#DIV/0!"},{"$error":"#DIV/0!"},{"$error":"#DIV/0!"},{"$error":"#DIV/0!"},{"$error":"#DIV/0!"},{"$error":"#DIV/0!"},{"$error":"#DIV/0!"},"","",{"$error":"#DIV/0!"},0,{"$error":"#DIV/0!"},0,{"$error":"#DIV/0!"},{"$error":"#DIV/0!"},{"$error":"#DIV/0!"},{"$error":"#DIV/0!"},{"$error":"#DIV/0!"},{"$error":"#DIV/0!"},"","","",{"$error":"#DIV/0!"},{"$error":"#DIV/0!"},0,null,null,null,null,null,null,null,null,null,null,null,null,null,null,null,null,null,null,null,null,null,"1972-03-12",0,0,null,"1980-03-11",1,0.66400000000000003,null,"2011-03-12",2.5299999999999998,0.33716000000000002,2.5299999999999998,0.33716000000000002,2.5299999999999998,0.31705,null,"2021-03-11",2.56,0.33806000000000003,2.56,0.33806000000000003,2.56,0.31220999999999999,null,"2071-03-12",2.74,0.34256999999999999,2.74,0.34256999999999999,2.74,0.28799000000000002]
["1972-04-20",0,1.45,4,1972,16,0,{"$f":"IF(B1970<Parameters!$A$16,B1970*Parameters!$B$16,IF(AND(B1970>Parameters!$A$16,B1970<Parameters!$A$17),B1970*Parameters!$B$17,B1970*Parameters!$B$18))","v":0},{"$f":"IF(B1970<Parameters!$A$20,B1970*Parameters!$B$20,IF(AND(B1970>Parameters!$A$20,B1970<Parameters!$A$21),B1970*Parameters!$B$21,B1970*Parameters!$B$22))","v":0},{"$error":"#DIV/0!"},"",0,"",0,1.2833333333333332,{"$error":"#DIV/0!"},{"$error":"#DIV/0!"},{"$f":"IF('Gegevens '!$G$20=\"Eigen waarden\",VLOOKUP($F1970,'Gegevens '!$A$25:$C$77,3,FALSE),VLOOKUP($F1970,Lijsten!$A$19:$B$71,2,FALSE))","v":32.719747675074295},{"$error":"#DIV/0!"},{"$error":"#DIV/0!"},{"$error":"#DIV/0!"},{"$error":"#DIV/0!"},{"$error":"#DIV/0!"},{"$error":"#DIV/0!"},{"$error":"#DIV/0!"},"","",{"$error":"#DIV/0!"},0,{"$error":"#DIV/0!"},0,{"$error":"#DIV/0!"},{"$error":"#DIV/0!"},{"$error":"#DIV/0!"},{"$error":"#DIV/0!"},{"$error":"#DIV/0!"},{"$error":"#DIV/0!"},"","","",{"$error":"#DIV/0!"},0,{"$error":"#DIV/0!"},null,null,null,null,null,null,null,null,null,null,null,null,null,null,null,null,null,null,null,null,null,"1972-04-20",0,1.45,null,"1980-04-19",0.8,1.232,null,"2011-04-20",4.16,1.41035,4.16,1.41035,4.16,1.34941,null,"2021-04-19",4.16,1.4215899999999999,4.16,1.4215899999999999,4.16,1.34324,null,"2071-04-20",4.1500000000000004,1.4778,4.1500000000000004,1.4778,4.1500000000000004,1.3123899999999999]
["1972-08-07",1.8,4.1550000000000002,8,1972,32,1.8,{"$f":"IF(B2079<Parameters!$A$16,B2079*Parameters!$B$16,IF(AND(B2079>Parameters!$A$16,B2079<Parameters!$A$17),B2079*Parameters!$B$17,B2079*Parameters!$B$18))","v":1.4400000000000002},{"$f":"IF(B2079<Parameters!$A$20,B2079*Parameters!$B$20,IF(AND(B2079>Parameters!$A$20,B2079<Parameters!$A$21),B2079*Parameters!$B$21,B2079*Parameters!$B$22))","v":1.08},{"$error":"#DIV/0!"},{"$error":"#DIV/0!"},{"$error":"#DIV/0!"},{"$error":"#DIV/0!"},{"$error":"#DIV/0!"},4.2195161290322583,{"$error":"#DIV/0!"},{"$error":"#DIV/0!"},{"$f":"IF('Gegevens '!$G$20=\"Eigen waarden\",VLOOKUP($F2079,'Gegevens '!$A$25:$C$77,3,FALSE),VLOOKUP($F2079,Lijsten!$A$19:$B$71,2,FALSE))","v":35.235564143205707},{"$error":"#DIV/0!"},{"$error":"#DIV/0!"},{"$error":"#DIV/0!"},{"$error":"#DIV/0!"},{"$error":"#DIV/0!"},{"$error":"#DIV/0!"},{"$error":"#DIV/0!"},{"$error":"#DIV/0!"},{"$error":"#DIV/0!"},{"$error":"#DIV/0!"},{"$error":"#DIV/0!"},{"$error":"#DIV/0!"},{"$error":"#DIV/0!"},{"$error":"#DIV/0!"},{"$error":"#DIV/0!"},{"$error":"#DIV/0!"},{"$error":"#DIV/0!"},{"$error":"#DIV/0!"},{"$error":"#DIV/0!"},{"$error":"#DIV/0!"},{"$error":"#DIV/0!"},{"$error":"#DIV/0!"},{"$error":"#DIV/0!"},0,{"$error":"#DIV/0!"},null,null,null,null,null,null,null,null,null,null,null,null,null,null,null,null,null,null,null,null,null,"1972-08-07",1.8,4.1550000000000002,null,"1980-08-06",0,2.8889999999999998,null,"2011-08-07",0.08,4.90639,0.1,4.71014,0.08,4.5138999999999996,null,"2021-08-06",0,5.0467899999999997,0.1,4.7944699999999996,0,4.5421500000000004,null,"2071-08-07",0,5.7487700000000004,0.1,5.2161,0,4.6834300000000004]
["1972-09-15",0.1,2.0880000000000001,9,1972,37,0.1,{"$f":"IF(B2118<Parameters!$A$16,B2118*Parameters!$B$16,IF(AND(B2118>Parameters!$A$16,B2118<Parameters!$A$17),B2118*Parameters!$B$17,B2118*Parameters!$B$18))","v":0},{"$f":"IF(B2118<Parameters!$A$20,B2118*Parameters!$B$20,IF(AND(B2118>Parameters!$A$20,B2118<Parameters!$A$21),B2118*Parameters!$B$21,B2118*Parameters!$B$22))","v":0},{"$error":"#DIV/0!"},{"$error":"#DIV/0!"},{"$error":"#DIV/0!"},{"$error":"#DIV/0!"},{"$error":"#DIV/0!"},2.2213333333333334,{"$error":"#DIV/0!"},{"$error":"#DIV/0!"},{"$f":"IF('Gegevens '!$G$20=\"Eigen waarden\",VLOOKUP($F2118,'Gegevens '!$A$25:$C$77,3,FALSE),VLOOKUP($F2118,Lijsten!$A$19:$B$71,2,FALSE))","v":29.316349609488093},{"$error":"#DIV/0!"},{"$error":"#DIV/0!"},{"$error":"#DIV/0!"},{"$error":"#DIV/0!"},{"$error":"#DIV/0!"},{"$error":"#DIV/0!"},{"$error":"#DIV/0!"},{"$error":"#DIV/0!"},{"$error":"#DIV/0!"},{"$error":"#DIV/0!"},{"$error":"#DIV/0!"},{"$error":"#DIV/0!"},{"$error":"#DIV/0!"},{"$error":"#DIV/0!"},{"$error":"#DIV/0!"},{"$error":"#DIV/0!"},{"$error":"#DIV/0!"},{"$error":"#DIV/0!"},{"$error":"#DIV/0!"},{"$error":"#DIV/0!"},{"$error":"#DIV/0!"},{"$error":"#DIV/0!"},{"$error":"#DIV/0!"},0,{"$error":"#DIV/0!"},null,null,null,null,null,null,null,null,null,null,null,null,null,null,null,null,null,null,null,null,null,"1972-09-15",0.1,2.0880000000000001,null,"1980-09-14",0.2,1.798,null,"2011-09-15",0,1.12446,0,1.12446,0,1.07761,null,"2021-09-14",0,1.14459,0,1.14459,0,1.08436,null,"2071-09-15",0,1.24525,0,1.24525,0,1.11808]
["1973-01-02",0,0.25800000000000001,1,1973,1,0,{"$f":"IF(B2227<Parameters!$A$16,B2227*Parameters!$B$16,IF(AND(B2227>Parameters!$A$16,B2227<Parameters!$A$17),B2227*Parameters!$B$17,B2227*Parameters!$B$18))","v":0},{"$f":"IF(B2227<Parameters!$A$20,B2227*Parameters!$B$20,IF(AND(B2227>Parameters!$A$20,B2227<Parameters!$A$21),B2227*Parameters!$B$21,B2227*Parameters!$B$22))","v":0},{"$error":"#DIV/0!"},"",0,"",0,0.32251612903225807,{"$error":"#DIV/0!"},{"$error":"#DIV/0!"},{"$f":"IF('Gegevens '!$G$20=\"Eigen waarden\",VLOOKUP($F2227,'Gegevens '!$A$25:$C$77,3,FALSE),VLOOKUP($F2227,Lijsten!$A$19:$B$71,2,FALSE))","v":3.0894753415257137},{"$error":"#DIV/0!"},{"$error":"#DIV/0!"},{"$error":"#DIV/0!"},{"$error":"#DIV/0!"},{"$error":"#DIV/0!"},{"$error":"#DIV/0!"},{"$error":"#DIV/0!"},"","",{"$error":"#DIV/0!"},0,{"$error":"#DIV/0!"},0,{"$error":"#DIV/0!"},{"$error":"#DIV/0!"},{"$error":"#DIV/0!"},{"$error":"#DIV/0!"},{"$error":"#DIV/0!"},{"$error":"#DIV/0!"},"","","",{"$error":"#DIV/0!"},{"$error":"#DIV/0!"},0,null,null,null,null,null,null,null,null,null,null,null,null,null,null,null,null,null,null,null,null,null,"1973-01-02",0,0.25800000000000001,null,"1981-01-01",0.7,0.43,null,"2012-01-02",14.61,0.26667000000000002,0,0.25042999999999999,0,0.23419000000000001,null,"2022-01-01",0,0.27657999999999999,0,0.25569999999999998,0,0.23482,null,"2072-01-02",0,0.32611000000000001,0,0.28203,0,0.23794999999999999]
["1973-02-10",2.6,0.26,2,1973,6,2.6,{"$f":"IF(B2266<Parameters!$A$16,B2266*Parameters!$B$16,IF(AND(B2266>Parameters!$A$16,B2266<Parameters!$A$17),B2266*Parameters!$B$17,B2266*Parameters!$B$18))","v":2.4699999999999998},{"$f":"IF(B2266<Parameters!$A$20,B2266*Parameters!$B$20,IF(AND(B2266>Parameters!$A$20,B2266<Parameters!$A$21),B2266*Parameters!$B$21,B2266*Parameters!$B$22))","v":1.9500000000000002},{"$error":"#DIV/0!"},{"$error":"#DIV/0!"},{"$error":"#DIV/0!"},{"$error":"#DIV/0!"},{"$error":"#DIV/0!"},0.22428571428571431,{"$error":"#DIV/0!"},{"$error":"#DIV/0!"},{"$f":"IF('Gegevens '!$G$20=\"Eigen waarden\",VLOOKUP($F2266,'Gegevens '!$A$25:$C$77,3,FALSE),VLOOKUP($F2266,Lijsten!$A$19:$B$71,2,FALSE))","v":9.1430429772914277},{"$error":"#DIV/0!"},{"$error":"#DIV/0!"},{"$error":"#DIV/0!"},{"$error":"#DIV/0!"},{"$error":"#DIV/0!"},{"$error":"#DIV/0!"},{"$error":"#DIV/0!"},{"$error":"#DIV/0!"},{"$error":"#DIV/0!"},{"$error":"#DIV/0!"},{"$error":"#DIV/0!"},{"$error":"#DIV/0!"},{"$error":"#DIV/0!"},{"$error":"#DIV/0!"},{"$error":"#DIV/0!"},{"$error":"#DIV/0!"},{"$error":"#DIV/0!"},{"$error":"#DIV/0!"},{"$error":"#DIV/0!"},{"$error":"#DIV/0!"},{"$error":"#DIV/0!"},{"$error":"#DIV/0!"},{"$error":"#DIV/0!"},{"$error":"#DIV/0!"},0,null,null,null,null,null,null,null,null,null,null,null,null,null,null,null,null,null,null,null,null,null,"1973-02-10",2.6,0.26,null,"1981-02-09",0,0.65500000000000003,null,"2012-02-10",6.64,0.62007999999999996,5.79,0.58938000000000001,5.25,0.55886999999999998,null,"2022-02-09",6.83,0.63553000000000004,5.87,0.59604999999999997,5.24,0.55683000000000005,null,"2072-02-10",7.83,0.71279000000000003,6.29,0.62944999999999995,5.19,0.54664000000000001]
["1973-05-15",0.1,4.1989999999999998,5,1973,20,0.1,{"$f":"IF(B2360<Parameters!$A$16,B2360*Parameters!$B$16,IF(AND(B2360>Parameters!$A$16,B2360<Parameters!$A$17),B2360*Parameters!$B$17,B2360*Parameters!$B$18))","v":0},{"$f":"IF(B2360<Parameters!$A$20,B2360*Parameters!$B$20,IF(AND(B2360>Parameters!$A$20,B2360<Parameters!$A$21),B2360*Parameters!$B$21,B2360*Parameters!$B$22))","v":0},{"$error":"#DIV/0!"},{"$error":"#DIV/0!"},{"$error":"#DIV/0!"},{"$error":"#DIV/0!"},{"$error":"#DIV/0!"},4.0054516129032258,{"$error":"#DIV/0!"},{"$error":"#DIV/0!"},{"$f":"IF('Gegevens '!$G$20=\"Eigen waarden\",VLOOKUP($F2360,'Gegevens '!$A$25:$C$77,3,FALSE),VLOOKUP($F2360,Lijsten!$A$19:$B$71,2,FALSE))","v":36.908247477731429},{"$error":"#DIV/0!"},{"$error":"#DIV/0!"},{"$error":"#DIV/0!"},{"$error":"#DIV/0!"},{"$error":"#DIV/0!"},{"$error":"#DIV/0!"},{"$error":"#DIV/0!"},{"$error":"#DIV/0!"},{"$error":"#DIV/0!"},{"$error":"#DIV/0!"},{"$error":"#DIV/0!"},{"$error":"#DIV/0!"},{"$error":"#DIV/0!"},{"$error":"#DIV/0!"},{"$error":"#DIV/0!"},{"$error":"#DIV/0!"},{"$error":"#DIV/0!"},{"$error":"#DIV/0!"},{"$error":"#DIV/0!"},{"$error":"#DIV/0!"},{"$error":"#DIV/0!"},{"$error":"#DIV/0!"},{"$error":"#DIV/0!"},0,{"$error":"#DIV/0!"},null,null,null,null,null,null,null,null,null,null,null,null,null,null,null,null,null,null,null,null,null,"1973-05-15",0.1,4.1989999999999998,null,"1981-05-14",0,3.8460000000000001,null,"2012-05-14",4.62,1.26206,4.62,1.26206,4.62,1.2043600000000001,null,"2022-05-14",4.57,1.2763599999999999,4.57,1.2763599999999999,4.57,1.20218,null,"2072-05-14",4.3600000000000003,1.3478699999999999,4.3600000000000003,1.3478699999999999,4.3600000000000003,1.1912700000000001]
["1973-07-09",0,5.89,7,1973,28,0,{"$f":"IF(B2415<Parameters!$A$16,B2415*Parameters!$B$16,IF(AND(B2415>Parameters!$A$16,B2415<Parameters!$A$17),B2415*Parameters!$B$17,B2415*Parameters!$B$18))","v":0},{"$f":"IF(B2415<Parameters!$A$20,B2415*Parameters!$B$20,IF(AND(B2415>Parameters!$A$20,B2415<Parameters!$A$21),B2415*Parameters!$B$21,B2415*Parameters!$B$22))","v":0},{"$error":"#DIV/0!"},"",0,"",0,5.8577419354838707,{"$error":"#DIV/0!"},{"$error":"#DIV/0!"},{"$f":"IF('Gegevens '!$G$20=\"Eigen waarden\",VLOOKUP($F2415,'Gegevens '!$A$25:$C$77,3,FALSE),VLOOKUP($F2415,Lijsten!$A$19:$B$71,2,FALSE))","v":37.93215799035999},{"$error":"#DIV/0!"},{"$error":"#DIV/0!"},{"$error":"#DIV/0!"},{"$error":"#DIV/0!"},{"$error":"#DIV/0!"},{"$error":"#DIV/0!"},{"$error":"#DIV/0!"},"","",{"$error":"#DIV/0!"},0,{"$error":"#DIV/0!"},0,{"$error":"#DIV/0!"},{"$error":"#DIV/0!"},{"$error":"#DIV/0!"},{"$error":"#DIV/0!"},{"$error":"#DIV/0!"},{"$error":"#DIV/0!"},"","","",{"$error":"#DIV/0!"},0,{"$error":"#DIV/0!"},null,null,null,null,null,null,null,null,null,null,null,null,null,null,null,null,null,null,null,null,null,"1973-07-09",0,5.89,null,"1981-07-08",0,5.9649999999999999,null,"2012-07-08",0,5.0183400000000002,0,4.8420100000000001,0,4.66568,null,"2022-07-08",0,5.1315799999999996,0,4.9048699999999998,0,4.6781600000000001,null,"2072-07-08",0,5.6977700000000002,0,5.2191599999999996,0,4.7405499999999998]
["1973-08-17",0,3.7519999999999998,8,1973,33,0,{"$f":"IF(B2454<Parameters!$A$16,B2454*Parameters!$B$16,IF(AND(B2454>Parameters!$A$16,B2454<Parameters!$A$17),B2454*Parameters!$B$17,B2454*Parameters!$B$18))","v":0},{"$f":"IF(B2454<Parameters!$A$20,B2454*Parameters!$B$20,IF(AND(B2454>Parameters!$A$20,B2454<Parameters!$A$21),B2454*Parameters!$B$21,B2454*Parameters!$B$22))","v":0},{"$error":"#DIV/0!"},"",0,"",0,3.8165161290322578,{"$error":"#DIV/0!"},{"$error":"#DIV/0!"},{"$f":"IF('Gegevens '!$G$20=\"Eigen waarden\",VLOOKUP($F2454,'Gegevens '!$A$25:$C$77,3,FALSE),VLOOKUP($F2454,Lijsten!$A$19:$B$71,2,FALSE))","v":36.379063958805723},{"$error":"#DIV/0!"},{"$error":"#DIV/0!"},{"$error":"#DIV/0!"},{"$error":"#DIV/0!"},{"$error":"#DIV/0!"},{"$error":"#DIV/0!"},{"$error":"#DIV/0!"},"","",{"$error":"#DIV/0!"},0,{"$error":"#DIV/0!"},0,{"$error":"#DIV/0!"},{"$error":"#DIV/0!"},{"$error":"#DIV/0!"},{"$error":"#DIV/0!"},{"$error":"#DIV/0!"},{"$error":"#DIV/0!"},"","","",{"$error":"#DIV/0!"},0,{"$error":"#DIV/0!"},null,null,null,null,null,null,null,null,null,null,null,null,null,null,null,null,null,null,null,null,null,"1973-08-17",0,3.7519999999999998,null,"1981-08-16",0.1,2.706,null,"2012-08-16",0,4.7919299999999998,0,4.6002599999999996,0,4.4085900000000002,null,"2022-08-16",0,4.9290500000000002,0,4.68262,0,4.4361899999999999,null,"2072-08-16",0,5.6146599999999998,0,5.0944099999999999,0,4.5741699999999996]
["1973-11-30",1.6,0.23,11,1973,48,1.6,{"$f":"IF(B2559<Parameters!$A$16,B2559*Parameters!$B$16,IF(AND(B2559>Parameters!$A$16,B2559<Parameters!$A$17),B2559*Parameters!$B$17,B2559*Parameters!$B$18))","v":1.2800000000000002},{"$f":"IF(B2559<Parameters!$A$20,B2559*Parameters!$B$20,IF(AND(B2559>Parameters!$A$20,B2559<Parameters!$A$21),B2559*Parameters!$B$21,B2559*Parameters!$B$22))","v":0.96},{"$error":"#DIV/0!"},{"$error":"#DIV/0!"},{"$error":"#DIV/0!"},{"$error":"#DIV/0!"},{"$error":"#DIV/0!"},0.39666666666666667,{"$error":"#DIV/0!"},{"$error":"#DIV/0!"},{"$f":"IF('Gegevens '!$G$20=\"Eigen waarden\",VLOOKUP($F2559,'Gegevens '!$A$25:$C$77,3,FALSE),VLOOKUP($F2559,Lijsten!$A$19:$B$71,2,FALSE))","v":8.6779285714285717},{"$error":"#DIV/0!"},{"$error":"#DIV/0!"},{"$error":"#DIV/0!"},{"$error":"#DIV/0!"},{"$error":"#DIV/0!"},{"$error":"#DIV/0!"},{"$error":"#DIV/0!"},{"$error":"#DIV/0!"},{"$error":"#DIV/0!"},{"$error":"#DIV/0!"},{"$error":"#DIV/0!"},{"$error":"#DIV/0!"},{"$error":"#DIV/0!"},{"$error":"#DIV/0!"},{"$error":"#DIV/0!"},{"$error":"#DIV/0!"},{"$error":"#DIV/0!"},{"$error":"#DIV/0!"},{"$error":"#DIV/0!"},{"$error":"#DIV/0!"},{"$error":"#DIV/0!"},{"$error":"#DIV/0!"},{"$error":"#DIV/0!"},{"$error":"#DIV/0!"},0,null,null,null,null,null,null,null,null,null,null,null,null,null,null,null,null,null,null,null,null,null,"1973-11-30",1.6,0.23,null,"1981-11-29",5.2,9.0999999999999998E-2,null,"2012-11-29",3.91,0.26990999999999998,3.91,0.26990999999999998,3.91,0.25061,null,"2022-11-29",3.92,0.27474999999999999,3.92,0.27474999999999999,3.92,0.24993000000000001,null,"2072-11-29",3.94,0.29891000000000001,3.94,0.29891000000000001,3.94,0.24651000000000001]
["1974-01-12",0.5,0.83499999999999996,1,1974,2,0.5,{"$f":"IF(B2602<Parameters!$A$16,B2602*Parameters!$B$16,IF(AND(B2602>Parameters!$A$16,B2602<Parameters!$A$17),B2602*Parameters!$B$17,B2602*Parameters!$B$18))","v":0},{"$f":"IF(B2602<Parameters!$A$20,B2602*Parameters!$B$20,IF(AND(B2602>Parameters!$A$20,B2602<Parameters!$A$21),B2602*Parameters!$B$21,B2602*Parameters!$B$22))","v":0},{"$error":"#DIV/0!"},{"$error":"#DIV/0!"},{"$error":"#DIV/0!"},{"$error":"#DIV/0!"},{"$error":"#DIV/0!"},0.89951612903225797,{"$error":"#DIV/0!"},{"$error":"#DIV/0!"},{"$f":"IF('Gegevens '!$G$20=\"Eigen waarden\",VLOOKUP($F2602,'Gegevens '!$A$25:$C$77,3,FALSE),VLOOKUP($F2602,Lijsten!$A$19:$B$71,2,FALSE))","v":4.3012032855657143},{"$error":"#DIV/0!"},{"$error":"#DIV/0!"},{"$error":"#DIV/0!"},{"$error":"#DIV/0!"},{"$error":"#DIV/0!"},{"$error":"#DIV/0!"},{"$error":"#DIV/0!"},{"$error":"#DIV/0!"},{"$error":"#DIV/0!"},{"$error":"#DIV/0!"},{"$error":"#DIV/0!"},{"$error":"#DIV/0!"},{"$error":"#DIV/0!"},{"$error":"#DIV/0!"},{"$error":"#DIV/0!"},{"$error":"#DIV/0!"},{"$error":"#DIV/0!"},{"$error":"#DIV/0!"},{"$error":"#DIV/0!"},{"$error":"#DIV/0!"},{"$error":"#DIV/0!"},{"$error":"#DIV/0!"},{"$error":"#DIV/0!"},{"$error":"#DIV/0!"},0,null,null,null,null,null,null,null,null,null,null,null,null,null,null,null,null,null,null,null,null,null,"1974-01-12",0.5,0.83499999999999996,null,"1982-01-11",18.3,0,null,"2013-01-11",1.25,0.67013,1.05,0.62931999999999999,0.92,0.58850999999999998,null,"2023-01-11",1.3,0.69501999999999997,1.06,0.64254999999999995,0.9,0.59008000000000005,null,"2073-01-11",1.53,0.81949000000000005,1.1399999999999999,0.70872000000000002,0.84,0.59794999999999998]
["1974-02-20",0,1.097,2,1974,8,0,{"$f":"IF(B2641<Parameters!$A$16,B2641*Parameters!$B$16,IF(AND(B2641>Parameters!$A$16,B2641<Parameters!$A$17),B2641*Parameters!$B$17,B2641*Parameters!$B$18))","v":0},{"$f":"IF(B2641<Parameters!$A$20,B2641*Parameters!$B$20,IF(AND(B2641>Parameters!$A$20,B2641<Parameters!$A$21),B2641*Parameters!$B$21,B2641*Parameters!$B$22))","v":0},{"$error":"#DIV/0!"},"",0,"",0,1.0612857142857142,{"$error":"#DIV/0!"},{"$error":"#DIV/0!"},{"$f":"IF('Gegevens '!$G$20=\"Eigen waarden\",VLOOKUP($F2641,'Gegevens '!$A$25:$C$77,3,FALSE),VLOOKUP($F2641,Lijsten!$A$19:$B$71,2,FALSE))","v":13.231023004605714},{"$error":"#DIV/0!"},{"$error":"#DIV/0!"},{"$error":"#DIV/0!"},{"$error":"#DIV/0!"},{"$error":"#DIV/0!"},{"$error":"#DIV/0!"},{"$error":"#DIV/0!"},"","",{"$error":"#DIV/0!"},0,{"$error":"#DIV/0!"},0,{"$error":"#DIV/0!"},{"$error":"#DIV/0!"},{"$error":"#DIV/0!"},{"$error":"#DIV/0!"},{"$error":"#DIV/0!"},{"$error":"#DIV/0!"},"","","",{"$error":"#DIV/0!"},{"$error":"#DIV/0!"},0,null,null,null,null,null,null,null,null,null,null,null,null,null,null,null,null,null,null,null,null,null,"1974-02-20",0,1.097,null,"1982-02-19",0,0.315,null,"2013-02-19",1.4,0.15557000000000001,1.1100000000000001,0.14785999999999999,0.89,0.14021,null,"2023-02-19",1.48,0.15944,1.1399999999999999,0.14954000000000001,0.88,0.13969999999999999,null,"2073-02-19",1.92,0.17882999999999999,1.29,0.15792,0.79,0.13714000000000001]
["1974-06-09",3.2,3.66,6,1974,23,3.2,{"$f":"IF(B2750<Parameters!$A$16,B2750*Parameters!$B$16,IF(AND(B2750>Parameters!$A$16,B2750<Parameters!$A$17),B2750*Parameters!$B$17,B2750*Parameters!$B$18))","v":3.04},{"$f":"IF(B2750<Parameters!$A$20,B2750*Parameters!$B$20,IF(AND(B2750>Parameters!$A$20,B2750<Parameters!$A$21),B2750*Parameters!$B$21,B2750*Parameters!$B$22))","v":2.4000000000000004},{"$error":"#DIV/0!"},{"$error":"#DIV/0!"},{"$error":"#DIV/0!"},{"$error":"#DIV/0!"},{"$error":"#DIV/0!"},3.5266666666666668,{"$error":"#DIV/0!"},{"$error":"#DIV/0!"},{"$f":"IF('Gegevens '!$G$20=\"Eigen waarden\",VLOOKUP($F2750,'Gegevens '!$A$25:$C$77,3,FALSE),VLOOKUP($F2750,Lijsten!$A$19:$B$71,2,FALSE))","v":40.291810686080005},{"$error":"#DIV/0!"},{"$error":"#DIV/0!"},{"$error":"#DIV/0!"},{"$error":"#DIV/0!"},{"$error":"#DIV/0!"},{"$error":"#DIV/0!"},{"$error":"#DIV/0!"},{"$error":"#DIV/0!"},{"$error":"#DIV/0!"},{"$error":"#DIV/0!"},{"$error":"#DIV/0!"},{"$error":"#DIV/0!"},{"$error":"#DIV/0!"},{"$error":"#DIV/0!"},{"$error":"#DIV/0!"},{"$error":"#DIV/0!"},{"$error":"#DIV/0!"},{"$error":"#DIV/0!"},{"$error":"#DIV/0!"},{"$error":"#DIV/0!"},{"$error":"#DIV/0!"},{"$error":"#DIV/0!"},{"$error":"#DIV/0!"},0,{"$error":"#DIV/0!"},null,null,null,null,null,null,null,null,null,null,null,null,null,null,null,null,null,null,null,null,null,"1974-06-09",3.2,3.66,null,"1982-06-08",0,4.3289999999999997,null,"2013-06-08",0,1.3889800000000001,6.38,1.3279000000000001,0,1.27088,null,"2023-06-08",0,1.4192499999999999,6.28,1.34073,0,1.2674099999999999,null,"2073-06-08",0,1.5706500000000001,5.78,1.40489,0,1.2500899999999999]
["1974-07-18",0.1,3.9460000000000002,7,1974,29,0.1,{"$f":"IF(B2789<Parameters!$A$16,B2789*Parameters!$B$16,IF(AND(B2789>Parameters!$A$16,B2789<Parameters!$A$17),B2789*Parameters!$B$17,B2789*Parameters!$B$18))","v":0},{"$f":"IF(B2789<Parameters!$A$20,B2789*Parameters!$B$20,IF(AND(B2789>Parameters!$A$20,B2789<Parameters!$A$21),B2789*Parameters!$B$21,B2789*Parameters!$B$22))","v":0},{"$f":"B2789*SUM($B$3,$C$3,$D$3)/$E$3*10","v":{"$error":"#DIV/0!"}},{"$error":"#DIV/0!"},{"$error":"#DIV/0!"},{"$error":"#DIV/0!"},{"$error":"#DIV/0!"},3.9137419354838712,{"$error":"#DIV/0!"},{"$error":"#DIV/0!"},{"$f":"IF('Gegevens '!$G$20=\"Eigen waarden\",VLOOKUP($F2789,'Gegevens '!$A$25:$C$77,3,FALSE),VLOOKUP($F2789,Lijsten!$A$19:$B$71,2,FALSE))","v":41.402437318314284},{"$error":"#DIV/0!"},{"$error":"#DIV/0!"},{"$error":"#DIV/0!"},{"$f":"IF(SUM(U2788+S2789)>SUM($AK$3+$AN$3),SUM(U2788+S2789-($AK$3+$AN$3)),0)","v":{"$error":"#DIV/0!"}},{"$f":"IF(U2788<$AN$3,R2789,IF(SUM(U2788-R2789)>$AN$3,0,IF(SUM(U2788+S2789)<$AN$3,SUM(R2789-(U2788-$AN$3)),0)))","v":{"$error":"#DIV/0!"}},{"$error":"#DIV/0!"},{"$error":"#DIV/0!"},{"$error":"#DIV/0!"},{"$error":"#DIV/0!"},{"$error":"#DIV/0!"},{"$error":"#DIV/0!"},{"$error":"#DIV/0!"},{"$f":"N2789/10","v":{"$error":"#DIV/0!"}},{"$error":"#DIV/0!"},{"$f":"Q2789/10","v":{"$error":"#DIV/0!"}},{"$error":"#DIV/0!"},{"$error":"#DIV/0!"},{"$error":"#DIV/0!"},{"$error":"#DIV/0!"},{"$error":"#DIV/0!"},{"$error":"#DIV/0!"},{"$error":"#DIV/0!"},{"$error":"#DIV/0!"},0,{"$error":"#DIV/0!"},null,null,null,null,null,null,null,null,null,null,null,null,null,null,null,null,null,null,null,null,null,"1974-07-18",0.1,3.9460000000000002,null,"1982-07-17",0.1,4.2160000000000002,null,"2013-07-17",10.029999999999999,1.6850799999999999,12.9,1.62588,10.029999999999999,1.56667,null,"2023-07-17",9.6,1.7231099999999999,0,1.6469800000000001,9.6,1.5708599999999999,null,"2073-07-17",0,1.91323,0,1.7525200000000001,0,1.5918099999999999]
["1974-08-26",1.7,2.6760000000000002,8,1974,35,1.7,{"$f":"IF(B2828<Parameters!$A$16,B2828*Parameters!$B$16,IF(AND(B2828>Parameters!$A$16,B2828<Parameters!$A$17),B2828*Parameters!$B$17,B2828*Parameters!$B$18))","v":1.36},{"$f":"IF(B2828<Parameters!$A$20,B2828*Parameters!$B$20,IF(AND(B2828>Parameters!$A$20,B2828<Parameters!$A$21),B2828*Parameters!$B$21,B2828*Parameters!$B$22))","v":1.02},{"$error":"#DIV/0!"},{"$error":"#DIV/0!"},{"$error":"#DIV/0!"},{"$error":"#DIV/0!"},{"$error":"#DIV/0!"},2.7405161290322582,{"$error":"#DIV/0!"},{"$error":"#DIV/0!"},{"$f":"IF('Gegevens '!$G$20=\"Eigen waarden\",VLOOKUP($F2828,'Gegevens '!$A$25:$C$77,3,FALSE),VLOOKUP($F2828,Lijsten!$A$19:$B$71,2,FALSE))","v":31.823036754388561},{"$error":"#DIV/0!"},{"$error":"#DIV/0!"},{"$error":"#DIV/0!"},{"$error":"#DIV/0!"},{"$error":"#DIV/0!"},{"$error":"#DIV/0!"},{"$error":"#DIV/0!"},{"$error":"#DIV/0!"},{"$error":"#DIV/0!"},{"$error":"#DIV/0!"},{"$error":"#DIV/0!"},{"$error":"#DIV/0!"},{"$error":"#DIV/0!"},{"$error":"#DIV/0!"},{"$error":"#DIV/0!"},{"$error":"#DIV/0!"},{"$error":"#DIV/0!"},{"$error":"#DIV/0!"},{"$error":"#DIV/0!"},{"$error":"#DIV/0!"},{"$error":"#DIV/0!"},{"$error":"#DIV/0!"},{"$error":"#DIV/0!"},0,{"$error":"#DIV/0!"},null,null,null,null,null,null,null,null,null,null,null,null,null,null,null,null,null,null,null,null,null,"1974-08-26",1.7,2.6760000000000002,null,"1982-08-25",3.9,2.9710000000000001,null,"2013-08-25",0,4.0506900000000003,0,3.8886699999999998,0,3.7266499999999998,null,"2023-08-25",0,4.1665999999999999,0,3.9582899999999999,0,3.7499799999999999,null,"2073-08-25",0,4.7461500000000001,0,4.3063900000000004,0,3.8666200000000002]
["1974-12-13",5.8,0.14799999999999999,12,1974,50,5.8,{"$f":"IF(B2937<Parameters!$A$16,B2937*Parameters!$B$16,IF(AND(B2937>Parameters!$A$16,B2937<Parameters!$A$17),B2937*Parameters!$B$17,B2937*Parameters!$B$18))","v":5.51},{"$f":"IF(B2937<Parameters!$A$20,B2937*Parameters!$B$20,IF(AND(B2937>Parameters!$A$20,B2937<Parameters!$A$21),B2937*Parameters!$B$21,B2937*Parameters!$B$22))","v":4.3499999999999996},{"$error":"#DIV/0!"},{"$error":"#DIV/0!"},{"$error":"#DIV/0!"},{"$error":"#DIV/0!"},{"$error":"#DIV/0!"},0.21251612903225806,{"$error":"#DIV/0!"},{"$error":"#DIV/0!"},{"$f":"IF('Gegevens '!$G$20=\"Eigen waarden\",VLOOKUP($F2937,'Gegevens '!$A$25:$C$77,3,FALSE),VLOOKUP($F2937,Lijsten!$A$19:$B$71,2,FALSE))","v":6.1862244897959169},{"$error":"#DIV/0!"},{"$error":"#DIV/0!"},{"$error":"#DIV/0!"},{"$error":"#DIV/0!"},{"$error":"#DIV/0!"},{"$error":"#DIV/0!"},{"$error":"#DIV/0!"},{"$error":"#DIV/0!"},{"$error":"#DIV/0!"},{"$error":"#DIV/0!"},{"$error":"#DIV/0!"},{"$error":"#DIV/0!"},{"$error":"#DIV/0!"},{"$error":"#DIV/0!"},{"$error":"#DIV/0!"},{"$error":"#DIV/0!"},{"$error":"#DIV/0!"},{"$error":"#DIV/0!"},{"$error":"#DIV/0!"},{"$error":"#DIV/0!"},{"$error":"#DIV/0!"},{"$error":"#DIV/0!"},{"$error":"#DIV/0!"},{"$error":"#DIV/0!"},0,null,null,null,null,null,null,null,null,null,null,null,null,null,null,null,null,null,null,null,null,null,"1974-12-13",5.8,0.14799999999999999,null,"1982-12-12",8.6999999999999993,0.17399999999999999,null,"2013-12-12",8.69,0.19137000000000001,7.4,0.17748,6.56,0.16353000000000001,null,"2023-12-12",8.99,0.19975999999999999,7.52,0.18190000000000001,6.5,0.16397,null,"2073-12-12",10.5,0.24171999999999999,8.1,0.20401,6.29,0.16616]
["1975-03-06",2.1,0.92200000000000004,3,1975,10,2.1,{"$f":"IF(B3020<Parameters!$A$16,B3020*Parameters!$B$16,IF(AND(B3020>Parameters!$A$16,B3020<Parameters!$A$17),B3020*Parameters!$B$17,B3020*Parameters!$B$18))","v":1.9949999999999999},{"$f":"IF(B3020<Parameters!$A$20,B3020*Parameters!$B$20,IF(AND(B3020>Parameters!$A$20,B3020<Parameters!$A$21),B3020*Parameters!$B$21,B3020*Parameters!$B$22))","v":1.5750000000000002},{"$error":"#DIV/0!"},{"$error":"#DIV/0!"},{"$error":"#DIV/0!"},{"$error":"#DIV/0!"},{"$error":"#DIV/0!"},0.82522580645161292,{"$error":"#DIV/0!"},{"$error":"#DIV/0!"},{"$f":"IF('Gegevens '!$G$20=\"Eigen waarden\",VLOOKUP($F3020,'Gegevens '!$A$25:$C$77,3,FALSE),VLOOKUP($F3020,Lijsten!$A$19:$B$71,2,FALSE))","v":16.951002269891429},{"$error":"#DIV/0!"},{"$error":"#DIV/0!"},{"$error":"#DIV/0!"},{"$error":"#DIV/0!"},{"$error":"#DIV/0!"},{"$error":"#DIV/0!"},{"$error":"#DIV/0!"},{"$error":"#DIV/0!"},{"$error":"#DIV/0!"},{"$error":"#DIV/0!"},{"$error":"#DIV/0!"},{"$error":"#DIV/0!"},{"$error":"#DIV/0!"},{"$error":"#DIV/0!"},{"$error":"#DIV/0!"},{"$error":"#DIV/0!"},{"$error":"#DIV/0!"},{"$error":"#DIV/0!"},{"$error":"#DIV/0!"},{"$error":"#DIV/0!"},{"$error":"#DIV/0!"},{"$error":"#DIV/0!"},{"$error":"#DIV/0!"},{"$error":"#DIV/0!"},0,null,null,null,null,null,null,null,null,null,null,null,null,null,null,null,null,null,null,null,null,null,"1975-03-06",2.1,0.92200000000000004,null,"1983-03-05",0,1.163,null,"2014-03-05",1.37,0.89537999999999995,1.37,0.89537999999999995,1.37,0.84197999999999995,null,"2024-03-04",1.39,0.89778000000000002,1.39,0.89778000000000002,1.39,0.82911999999999997,null,"2074-03-05",1.49,0.90974999999999995,1.49,0.90974999999999995,1.49,0.76482000000000006]
["1975-05-11",0.1,2.6160000000000001,5,1975,19,0.1,{"$f":"IF(B3086<Parameters!$A$16,B3086*Parameters!$B$16,IF(AND(B3086>Parameters!$A$16,B3086<Parameters!$A$17),B3086*Parameters!$B$17,B3086*Parameters!$B$18))","v":0},{"$f":"IF(B3086<Parameters!$A$20,B3086*Parameters!$B$20,IF(AND(B3086>Parameters!$A$20,B3086<Parameters!$A$21),B3086*Parameters!$B$21,B3086*Parameters!$B$22))","v":0},{"$error":"#DIV/0!"},{"$error":"#DIV/0!"},{"$error":"#DIV/0!"},{"$error":"#DIV/0!"},{"$error":"#DIV/0!"},2.4224516129032261,{"$error":"#DIV/0!"},{"$error":"#DIV/0!"},{"$f":"IF('Gegevens '!$G$20=\"Eigen waarden\",VLOOKUP($F3086,'Gegevens '!$A$25:$C$77,3,FALSE),VLOOKUP($F3086,Lijsten!$A$19:$B$71,2,FALSE))","v":36.149555012451422},{"$error":"#DIV/0!"},{"$error":"#DIV/0!"},{"$error":"#DIV/0!"},{"$error":"#DIV/0!"},{"$error":"#DIV/0!"},{"$error":"#DIV/0!"},{"$error":"#DIV/0!"},{"$error":"#DIV/0!"},{"$error":"#DIV/0!"},{"$error":"#DIV/0!"},{"$error":"#DIV/0!"},{"$error":"#DIV/0!"},{"$error":"#DIV/0!"},{"$error":"#DIV/0!"},{"$error":"#DIV/0!"},{"$error":"#DIV/0!"},{"$error":"#DIV/0!"},{"$error":"#DIV/0!"},{"$error":"#DIV/0!"},{"$error":"#DIV/0!"},{"$error":"#DIV/0!"},{"$error":"#DIV/0!"},{"$error":"#DIV/0!"},0,{"$error":"#DIV/0!"},null,null,null,null,null,null,null,null,null,null,null,null,null,null,null,null,null,null,null,null,null,"1975-05-11",0.1,2.6160000000000001,null,"1983-05-10",1.1000000000000001,2.875,null,"2014-05-10",0.88,2.16174,0.88,2.16174,0.88,2.0629200000000001,null,"2024-05-09",0.87,2.1862400000000002,0.87,2.1862400000000002,0.87,2.05918,null,"2074-05-10",0.8,2.3087200000000001,0.8,2.3087200000000001,0.8,2.0405000000000002]
["1975-06-19",0,4.9210000000000003,6,1975,25,0,{"$f":"IF(B3125<Parameters!$A$16,B3125*Parameters!$B$16,IF(AND(B3125>Parameters!$A$16,B3125<Parameters!$A$17),B3125*Parameters!$B$17,B3125*Parameters!$B$18))","v":0},{"$f":"IF(B3125<Parameters!$A$20,B3125*Parameters!$B$20,IF(AND(B3125>Parameters!$A$20,B3125<Parameters!$A$21),B3125*Parameters!$B$21,B3125*Parameters!$B$22))","v":0},{"$error":"#DIV/0!"},"",0,"",0,4.7876666666666665,{"$error":"#DIV/0!"},{"$error":"#DIV/0!"},{"$f":"IF('Gegevens '!$G$20=\"Eigen waarden\",VLOOKUP($F3125,'Gegevens '!$A$25:$C$77,3,FALSE),VLOOKUP($F3125,Lijsten!$A$19:$B$71,2,FALSE))","v":41.801906897514279},{"$error":"#DIV/0!"},{"$error":"#DIV/0!"},{"$error":"#DIV/0!"},{"$error":"#DIV/0!"},{"$error":"#DIV/0!"},{"$error":"#DIV/0!"},{"$error":"#DIV/0!"},"","",{"$error":"#DIV/0!"},0,{"$error":"#DIV/0!"},0,{"$error":"#DIV/0!"},{"$error":"#DIV/0!"},{"$error":"#DIV/0!"},{"$error":"#DIV/0!"},{"$error":"#DIV/0!"},{"$error":"#DIV/0!"},"","","",{"$error":"#DIV/0!"},0,{"$error":"#DIV/0!"},null,null,null,null,null,null,null,null,null,null,null,null,null,null,null,null,null,null,null,null,null,"1975-06-19",0,4.9210000000000003,null,"1983-06-18",0,3.452,null,"2014-06-18",4.34,2.0699299999999998,5.48,1.97892,4.34,1.8939299999999999,null,"2024-06-17",4.16,2.1150500000000001,5.38,1.99804,4.16,1.8887700000000001,null,"2074-06-18",3.15,2.3406699999999998,4.92,2.0936400000000002,3.15,1.8629599999999999]
["1975-07-28",0,4.6639999999999997,7,1975,31,0,{"$f":"IF(B3164<Parameters!$A$16,B3164*Parameters!$B$16,IF(AND(B3164>Parameters!$A$16,B3164<Parameters!$A$17),B3164*Parameters!$B$17,B3164*Parameters!$B$18))","v":0},{"$f":"IF(B3164<Parameters!$A$20,B3164*Parameters!$B$20,IF(AND(B3164>Parameters!$A$20,B3164<Parameters!$A$21),B3164*Parameters!$B$21,B3164*Parameters!$B$22))","v":0},{"$error":"#DIV/0!"},"",0,"",0,4.6317419354838707,{"$error":"#DIV/0!"},{"$error":"#DIV/0!"},{"$f":"IF('Gegevens '!$G$20=\"Eigen waarden\",VLOOKUP($F3164,'Gegevens '!$A$25:$C$77,3,FALSE),VLOOKUP($F3164,Lijsten!$A$19:$B$71,2,FALSE))","v":36.543125282102856},{"$error":"#DIV/0!"},{"$error":"#DIV/0!"},{"$error":"#DIV/0!"},{"$error":"#DIV/0!"},{"$error":"#DIV/0!"},{"$error":"#DIV/0!"},{"$error":"#DIV/0!"},"","",{"$error":"#DIV/0!"},0,{"$error":"#DIV/0!"},0,{"$error":"#DIV/0!"},{"$error":"#DIV/0!"},{"$error":"#DIV/0!"},{"$error":"#DIV/0!"},{"$error":"#DIV/0!"},{"$error":"#DIV/0!"},"","","",{"$error":"#DIV/0!"},0,{"$error":"#DIV/0!"},null,null,null,null,null,null,null,null,null,null,null,null,null,null,null,null,null,null,null,null,null,"1975-07-28",0,4.6639999999999997,null,"1983-07-27",8.6999999999999993,3.657,null,"2014-07-27",0.09,3.2539899999999999,0.1,3.1396600000000001,0.09,3.0253199999999998,null,"2024-07-26",0.08,3.32742,0,3.1804199999999998,0.08,3.0334099999999999,null,"2074-07-27",0.06,3.69455,0.09,3.3842099999999999,0.06,3.0738699999999999]
["1975-11-14",0,0,11,1975,46,0,{"$f":"IF(B3273<Parameters!$A$16,B3273*Parameters!$B$16,IF(AND(B3273>Parameters!$A$16,B3273<Parameters!$A$17),B3273*Parameters!$B$17,B3273*Parameters!$B$18))","v":0},{"$f":"IF(B3273<Parameters!$A$20,B3273*Parameters!$B$20,IF(AND(B3273>Parameters!$A$20,B3273<Parameters!$A$21),B3273*Parameters!$B$21,B3273*Parameters!$B$22))","v":0},{"$error":"#DIV/0!"},"",0,"",0,0.16666666666666666,{"$error":"#DIV/0!"},{"$error":"#DIV/0!"},{"$f":"IF('Gegevens '!$G$20=\"Eigen waarden\",VLOOKUP($F3273,'Gegevens '!$A$25:$C$77,3,FALSE),VLOOKUP($F3273,Lijsten!$A$19:$B$71,2,FALSE))","v":9.880531666666668},{"$error":"#DIV/0!"},{"$error":"#DIV/0!"},{"$error":"#DIV/0!"},{"$error":"#DIV/0!"},{"$error":"#DIV/0!"},{"$error":"#DIV/0!"},{"$error":"#DIV/0!"},"","",{"$error":"#DIV/0!"},0,{"$error":"#DIV/0!"},0,{"$error":"#DIV/0!"},{"$error":"#DIV/0!"},{"$error":"#DIV/0!"},{"$error":"#DIV/0!"},{"$error":"#DIV/0!"},{"$error":"#DIV/0!"},"","","",{"$error":"#DIV/0!"},{"$error":"#DIV/0!"},0,null,null,null,null,null,null,null,null,null,null,null,null,null,null,null,null,null,null,null,null,null,"1975-11-14",0,0,null,"1983-11-13",0,0.54200000000000004,null,"2014-11-13",0,0,0,0,0,0,null,"2024-11-12",0,0,0,0,0,0,null,"2074-11-13",0,0,0,0,0,0]
["1975-12-23",0,0.30499999999999999,12,1975,52,0,{"$f":"IF(B3312<Parameters!$A$16,B3312*Parameters!$B$16,IF(AND(B3312>Parameters!$A$16,B3312<Parameters!$A$17),B3312*Parameters!$B$17,B3312*Parameters!$B$18))","v":0},{"$f":"IF(B3312<Parameters!$A$20,B3312*Parameters!$B$20,IF(AND(B3312>Parameters!$A$20,B3312<Parameters!$A$21),B3312*Parameters!$B$21,B3312*Parameters!$B$22))","v":0},{"$error":"#DIV/0!"},"",0,"",0,0.36951612903225806,{"$error":"#DIV/0!"},{"$error":"#DIV/0!"},{"$f":"IF('Gegevens '!$G$20=\"Eigen waarden\",VLOOKUP($F3312,'Gegevens '!$A$25:$C$77,3,FALSE),VLOOKUP($F3312,Lijsten!$A$19:$B$71,2,FALSE))","v":0},{"$error":"#DIV/0!"},{"$error":"#DIV/0!"},{"$error":"#DIV/0!"},{"$error":"#DIV/0!"},{"$error":"#DIV/0!"},{"$error":"#DIV/0!"},"","","",{"$error":"#DIV/0!"},0,{"$error":"#DIV/0!"},0,{"$error":"#DIV/0!"},{"$error":"#DIV/0!"},{"$error":"#DIV/0!"},{"$error":"#DIV/0!"},{"$error":"#DIV/0!"},{"$error":"#DIV/0!"},"","","",{"$error":"#DIV/0!"},{"$error":"#DIV/0!"},0,null,null,null,null,null,null,null,null,null,null,null,null,null,null,null,null,null,null,null,null,null,"1975-12-23",0,0.30499999999999999,null,"1983-12-22",9,0.41399999999999998,null,"2014-12-22",0,0.23153000000000001,0,0.21473,0,0.19785,null,"2024-12-21",0,0.24168999999999999,0,0.22008,0,0.19838,null,"2074-12-22",0,0.29244999999999999,0,0.24682999999999999,0,0.20102999999999999]
["1976-04-06",0,0.83599999999999997,4,1976,15,0,{"$f":"IF(B3417<Parameters!$A$16,B3417*Parameters!$B$16,IF(AND(B3417>Parameters!$A$16,B3417<Parameters!$A$17),B3417*Parameters!$B$17,B3417*Parameters!$B$18))","v":0},{"$f":"IF(B3417<Parameters!$A$20,B3417*Parameters!$B$20,IF(AND(B3417>Parameters!$A$20,B3417<Parameters!$A$21),B3417*Parameters!$B$21,B3417*Parameters!$B$22))","v":0},{"$error":"#DIV/0!"},"",0,"",0,0.66933333333333334,{"$error":"#DIV/0!"},{"$error":"#DIV/0!"},{"$f":"IF('Gegevens '!$G$20=\"Eigen waarden\",VLOOKUP($F3417,'Gegevens '!$A$25:$C$77,3,FALSE),VLOOKUP($F3417,Lijsten!$A$19:$B$71,2,FALSE))","v":28.925363264788576},{"$error":"#DIV/0!"},{"$error":"#DIV/0!"},{"$error":"#DIV/0!"},{"$error":"#DIV/0!"},{"$error":"#DIV/0!"},{"$error":"#DIV/0!"},{"$error":"#DIV/0!"},"","",{"$error":"#DIV/0!"},0,{"$error":"#DIV/0!"},0,{"$error":"#DIV/0!"},{"$error":"#DIV/0!"},{"$error":"#DIV/0!"},{"$error":"#DIV/0!"},{"$error":"#DIV/0!"},{"$error":"#DIV/0!"},"","","",{"$error":"#DIV/0!"},0,{"$error":"#DIV/0!"},null,null,null,null,null,null,null,null,null,null,null,null,null,null,null,null,null,null,null,null,null,"1976-04-06",0,0.83599999999999997,null,"1984-04-05",10,9.8000000000000004E-2,null,"2015-04-06",0,2.6437599999999999,0,2.6437599999999999,0,2.5295200000000002,null,"2025-04-05",0,2.6648299999999998,0,2.6648299999999998,0,2.51796,null,"2075-04-06",0,2.7702,0,2.7702,0,2.4601299999999999]
["1976-05-19",0.2,2.9710000000000001,5,1976,21,0.2,{"$f":"IF(B3460<Parameters!$A$16,B3460*Parameters!$B$16,IF(AND(B3460>Parameters!$A$16,B3460<Parameters!$A$17),B3460*Parameters!$B$17,B3460*Parameters!$B$18))","v":0},{"$f":"IF(B3460<Parameters!$A$20,B3460*Parameters!$B$20,IF(AND(B3460>Parameters!$A$20,B3460<Parameters!$A$21),B3460*Parameters!$B$21,B3460*Parameters!$B$22))","v":0},{"$error":"#DIV/0!"},{"$error":"#DIV/0!"},{"$error":"#DIV/0!"},{"$error":"#DIV/0!"},{"$error":"#DIV/0!"},2.7774516129032261,{"$error":"#DIV/0!"},{"$error":"#DIV/0!"},{"$f":"IF('Gegevens '!$G$20=\"Eigen waarden\",VLOOKUP($F3460,'Gegevens '!$A$25:$C$77,3,FALSE),VLOOKUP($F3460,Lijsten!$A$19:$B$71,2,FALSE))","v":38.569226396674274},{"$error":"#DIV/0!"},{"$error":"#DIV/0!"},{"$error":"#DIV/0!"},{"$error":"#DIV/0!"},{"$error":"#DIV/0!"},{"$error":"#DIV/0!"},{"$error":"#DIV/0!"},{"$error":"#DIV/0!"},{"$error":"#DIV/0!"},{"$error":"#DIV/0!"},{"$error":"#DIV/0!"},{"$error":"#DIV/0!"},{"$error":"#DIV/0!"},{"$error":"#DIV/0!"},{"$error":"#DIV/0!"},{"$error":"#DIV/0!"},{"$error":"#DIV/0!"},{"$error":"#DIV/0!"},{"$error":"#DIV/0!"},{"$error":"#DIV/0!"},{"$error":"#DIV/0!"},{"$error":"#DIV/0!"},{"$error":"#DIV/0!"},0,{"$error":"#DIV/0!"},null,null,null,null,null,null,null,null,null,null,null,null,null,null,null,null,null,null,null,null,null,"1976-05-19",0.2,2.9710000000000001,null,"1984-05-18",0,4.2140000000000004,null,"2015-05-19",2.68,5.0398899999999998,2.68,5.0398899999999998,2.68,4.8095100000000004,null,"2025-05-18",2.66,5.0970000000000004,2.66,5.0970000000000004,2.66,4.8007999999999997,null,"2075-05-19",0,5.3825599999999998,0,5.3825599999999998,0,4.7572400000000004]
["1976-06-27",0,6.59,6,1976,26,0,{"$f":"IF(B3499<Parameters!$A$16,B3499*Parameters!$B$16,IF(AND(B3499>Parameters!$A$16,B3499<Parameters!$A$17),B3499*Parameters!$B$17,B3499*Parameters!$B$18))","v":0},{"$f":"IF(B3499<Parameters!$A$20,B3499*Parameters!$B$20,IF(AND(B3499>Parameters!$A$20,B3499<Parameters!$A$21),B3499*Parameters!$B$21,B3499*Parameters!$B$22))","v":0},{"$error":"#DIV/0!"},"",0,"",0,6.4566666666666661,{"$error":"#DIV/0!"},{"$error":"#DIV/0!"},{"$f":"IF('Gegevens '!$G$20=\"Eigen waarden\",VLOOKUP($F3499,'Gegevens '!$A$25:$C$77,3,FALSE),VLOOKUP($F3499,Lijsten!$A$19:$B$71,2,FALSE))","v":43.586624781491437},{"$error":"#DIV/0!"},{"$error":"#DIV/0!"},{"$error":"#DIV/0!"},{"$error":"#DIV/0!"},{"$error":"#DIV/0!"},{"$error":"#DIV/0!"},{"$error":"#DIV/0!"},"","",{"$error":"#DIV/0!"},0,{"$error":"#DIV/0!"},0,{"$error":"#DIV/0!"},{"$error":"#DIV/0!"},{"$error":"#DIV/0!"},{"$error":"#DIV/0!"},{"$error":"#DIV/0!"},{"$error":"#DIV/0!"},"","","",{"$error":"#DIV/0!"},0,{"$error":"#DIV/0!"},null,null,null,null,null,null,null,null,null,null,null,null,null,null,null,null,null,null,null,null,null,"1976-06-27",0,6.59,null,"1984-06-26",0,3.7690000000000001,null,"2015-06-27",0,6.8441999999999998,0,6.5432699999999997,0,6.2622600000000004,null,"2025-06-26",0,6.9934000000000003,0,6.60649,0,6.24519,null,"2075-06-27",0,7.7393900000000002,0,6.9225899999999996,0,6.15984]
["1976-10-14",2.5,0.82199999999999995,10,1976,42,2.5,{"$f":"IF(B3608<Parameters!$A$16,B3608*Parameters!$B$16,IF(AND(B3608>Parameters!$A$16,B3608<Parameters!$A$17),B3608*Parameters!$B$17,B3608*Parameters!$B$18))","v":2.375},{"$f":"IF(B3608<Parameters!$A$20,B3608*Parameters!$B$20,IF(AND(B3608>Parameters!$A$20,B3608<Parameters!$A$21),B3608*Parameters!$B$21,B3608*Parameters!$B$22))","v":1.875},{"$error":"#DIV/0!"},{"$error":"#DIV/0!"},{"$error":"#DIV/0!"},{"$error":"#DIV/0!"},{"$error":"#DIV/0!"},0.98329032258064508,{"$error":"#DIV/0!"},{"$error":"#DIV/0!"},{"$f":"IF('Gegevens '!$G$20=\"Eigen waarden\",VLOOKUP($F3608,'Gegevens '!$A$25:$C$77,3,FALSE),VLOOKUP($F3608,Lijsten!$A$19:$B$71,2,FALSE))","v":14.997021876739499},{"$error":"#DIV/0!"},{"$error":"#DIV/0!"},{"$error":"#DIV/0!"},{"$error":"#DIV/0!"},{"$error":"#DIV/0!"},{"$error":"#DIV/0!"},{"$error":"#DIV/0!"},{"$error":"#DIV/0!"},{"$error":"#DIV/0!"},{"$error":"#DIV/0!"},{"$error":"#DIV/0!"},{"$error":"#DIV/0!"},{"$error":"#DIV/0!"},{"$error":"#DIV/0!"},{"$error":"#DIV/0!"},{"$error":"#DIV/0!"},{"$error":"#DIV/0!"},{"$error":"#DIV/0!"},{"$error":"#DIV/0!"},{"$error":"#DIV/0!"},{"$error":"#DIV/0!"},{"$error":"#DIV/0!"},{"$error":"#DIV/0!"},{"$error":"#DIV/0!"},0,null,null,null,null,null,null,null,null,null,null,null,null,null,null,null,null,null,null,null,null,null,"1976-10-14",2.5,0.82199999999999995,null,"1984-10-13",0.1,1.2110000000000001,null,"2015-10-14",0,1.2962199999999999,0,1.2962199999999999,0,1.2188300000000001,null,"2025-10-13",0,1.3194300000000001,0,1.3194300000000001,0,1.2199199999999999,null,"2075-10-14",0,1.43546,0,1.43546,0,1.22539]
["1976-11-22",3.5,0.19900000000000001,11,1976,48,3.5,{"$f":"IF(B3647<Parameters!$A$16,B3647*Parameters!$B$16,IF(AND(B3647>Parameters!$A$16,B3647<Parameters!$A$17),B3647*Parameters!$B$17,B3647*Parameters!$B$18))","v":3.3249999999999997},{"$f":"IF(B3647<Parameters!$A$20,B3647*Parameters!$B$20,IF(AND(B3647>Parameters!$A$20,B3647<Parameters!$A$21),B3647*Parameters!$B$21,B3647*Parameters!$B$22))","v":2.625},{"$error":"#DIV/0!"},{"$error":"#DIV/0!"},{"$error":"#DIV/0!"},{"$error":"#DIV/0!"},{"$error":"#DIV/0!"},0.3656666666666667,{"$error":"#DIV/0!"},{"$error":"#DIV/0!"},{"$f":"IF('Gegevens '!$G$20=\"Eigen waarden\",VLOOKUP($F3647,'Gegevens '!$A$25:$C$77,3,FALSE),VLOOKUP($F3647,Lijsten!$A$19:$B$71,2,FALSE))","v":8.6779285714285717},{"$error":"#DIV/0!"},{"$error":"#DIV/0!"},{"$error":"#DIV/0!"},{"$error":"#DIV/0!"},{"$error":"#DIV/0!"},{"$error":"#DIV/0!"},{"$error":"#DIV/0!"},{"$error":"#DIV/0!"},{"$error":"#DIV/0!"},{"$error":"#DIV/0!"},{"$error":"#DIV/0!"},{"$error":"#DIV/0!"},{"$error":"#DIV/0!"},{"$error":"#DIV/0!"},{"$error":"#DIV/0!"},{"$error":"#DIV/0!"},{"$error":"#DIV/0!"},{"$error":"#DIV/0!"},{"$error":"#DIV/0!"},{"$error":"#DIV/0!"},{"$error":"#DIV/0!"},{"$error":"#DIV/0!"},{"$error":"#DIV/0!"},{"$error":"#DIV/0!"},0,null,null,null,null,null,null,null,null,null,null,null,null,null,null,null,null,null,null,null,null,null,"1976-11-22",3.5,0.19900000000000001,null,"1984-11-21",9.1,0.438,null,"2015-11-22",0,0.17283000000000001,0,0.17283000000000001,0,0.16047,null,"2025-11-21",0,0.17591999999999999,0,0.17591999999999999,0,0.16003000000000001,null,"2075-11-22",0,0.19139,0,0.19139,0,0.15784000000000001]
["1977-02-09",0.1,0.745,2,1977,6,0.1,{"$f":"IF(B3726<Parameters!$A$16,B3726*Parameters!$B$16,IF(AND(B3726>Parameters!$A$16,B3726<Parameters!$A$17),B3726*Parameters!$B$17,B3726*Parameters!$B$18))","v":0},{"$f":"IF(B3726<Parameters!$A$20,B3726*Parameters!$B$20,IF(AND(B3726>Parameters!$A$20,B3726<Parameters!$A$21),B3726*Parameters!$B$21,B3726*Parameters!$B$22))","v":0},{"$error":"#DIV/0!"},{"$error":"#DIV/0!"},{"$error":"#DIV/0!"},{"$error":"#DIV/0!"},{"$error":"#DIV/0!"},0.7092857142857143,{"$error":"#DIV/0!"},{"$error":"#DIV/0!"},{"$f":"IF('Gegevens '!$G$20=\"Eigen waarden\",VLOOKUP($F3726,'Gegevens '!$A$25:$C$77,3,FALSE),VLOOKUP($F3726,Lijsten!$A$19:$B$71,2,FALSE))","v":9.1430429772914277},{"$error":"#DIV/0!"},{"$error":"#DIV/0!"},{"$error":"#DIV/0!"},{"$error":"#DIV/0!"},{"$error":"#DIV/0!"},{"$error":"#DIV/0!"},{"$error":"#DIV/0!"},{"$error":"#DIV/0!"},{"$error":"#DIV/0!"},{"$error":"#DIV/0!"},{"$error":"#DIV/0!"},{"$error":"#DIV/0!"},{"$error":"#DIV/0!"},{"$error":"#DIV/0!"},{"$error":"#DIV/0!"},{"$error":"#DIV/0!"},{"$error":"#DIV/0!"},{"$error":"#DIV/0!"},{"$error":"#DIV/0!"},{"$error":"#DIV/0!"},{"$error":"#DIV/0!"},{"$error":"#DIV/0!"},{"$error":"#DIV/0!"},{"$error":"#DIV/0!"},0,null,null,null,null,null,null,null,null,null,null,null,null,null,null,null,null,null,null,null,null,null,"1977-02-09",0.1,0.745,null,"1985-02-08",7.8,0.11600000000000001,null,"2016-02-09",0.27,0.78222000000000003,0.22,0.74348999999999998,0.18,0.70499999999999996,null,"2026-02-08",0.28000000000000003,0.80171000000000003,0.22,0.75190999999999997,0.18,0.70243,null,"2076-02-09",0.36,0.89917999999999998,0.25,0.79403999999999997,0.16,0.68957999999999997]
["1977-04-20",1.1000000000000001,2.9140000000000001,4,1977,16,1.1000000000000001,{"$f":"IF(B3796<Parameters!$A$16,B3796*Parameters!$B$16,IF(AND(B3796>Parameters!$A$16,B3796<Parameters!$A$17),B3796*Parameters!$B$17,B3796*Parameters!$B$18))","v":0.88000000000000012},{"$f":"IF(B3796<Parameters!$A$20,B3796*Parameters!$B$20,IF(AND(B3796>Parameters!$A$20,B3796<Parameters!$A$21),B3796*Parameters!$B$21,B3796*Parameters!$B$22))","v":0.66},{"$error":"#DIV/0!"},{"$error":"#DIV/0!"},{"$error":"#DIV/0!"},{"$error":"#DIV/0!"},{"$error":"#DIV/0!"},2.7473333333333336,{"$error":"#DIV/0!"},{"$error":"#DIV/0!"},{"$f":"IF('Gegevens '!$G$20=\"Eigen waarden\",VLOOKUP($F3796,'Gegevens '!$A$25:$C$77,3,FALSE),VLOOKUP($F3796,Lijsten!$A$19:$B$71,2,FALSE))","v":32.719747675074295},{"$error":"#DIV/0!"},{"$error":"#DIV/0!"},{"$error":"#DIV/0!"},{"$error":"#DIV/0!"},{"$error":"#DIV/0!"},{"$error":"#DIV/0!"},{"$error":"#DIV/0!"},{"$error":"#DIV/0!"},{"$error":"#DIV/0!"},{"$error":"#DIV/0!"},{"$error":"#DIV/0!"},{"$error":"#DIV/0!"},{"$error":"#DIV/0!"},{"$error":"#DIV/0!"},{"$error":"#DIV/0!"},{"$error":"#DIV/0!"},{"$error":"#DIV/0!"},{"$error":"#DIV/0!"},{"$error":"#DIV/0!"},{"$error":"#DIV/0!"},{"$error":"#DIV/0!"},{"$error":"#DIV/0!"},{"$error":"#DIV/0!"},0,{"$error":"#DIV/0!"},null,null,null,null,null,null,null,null,null,null,null,null,null,null,null,null,null,null,null,null,null,"1977-04-20",1.1000000000000001,2.9140000000000001,null,"1985-04-19",0,3.7909999999999999,null,"2016-04-19",0,3.3072699999999999,0,3.3072699999999999,0,3.1643599999999998,null,"2026-04-19",0,3.3336299999999999,0,3.3336299999999999,0,3.1499000000000001,null,"2076-04-19",0,3.4654500000000001,0,3.4654500000000001,0,3.0775600000000001]
["1977-05-29",0,5.7679999999999998,5,1977,21,0,{"$f":"IF(B3835<Parameters!$A$16,B3835*Parameters!$B$16,IF(AND(B3835>Parameters!$A$16,B3835<Parameters!$A$17),B3835*Parameters!$B$17,B3835*Parameters!$B$18))","v":0},{"$f":"IF(B3835<Parameters!$A$20,B3835*Parameters!$B$20,IF(AND(B3835>Parameters!$A$20,B3835<Parameters!$A$21),B3835*Parameters!$B$21,B3835*Parameters!$B$22))","v":0},{"$error":"#DIV/0!"},"",0,"",0,5.5744516129032258,{"$error":"#DIV/0!"},{"$error":"#DIV/0!"},{"$f":"IF('Gegevens '!$G$20=\"Eigen waarden\",VLOOKUP($F3835,'Gegevens '!$A$25:$C$77,3,FALSE),VLOOKUP($F3835,Lijsten!$A$19:$B$71,2,FALSE))","v":38.569226396674274},{"$error":"#DIV/0!"},{"$error":"#DIV/0!"},{"$error":"#DIV/0!"},{"$error":"#DIV/0!"},{"$error":"#DIV/0!"},{"$error":"#DIV/0!"},{"$error":"#DIV/0!"},"","",{"$error":"#DIV/0!"},0,{"$error":"#DIV/0!"},0,{"$error":"#DIV/0!"},{"$error":"#DIV/0!"},{"$error":"#DIV/0!"},{"$error":"#DIV/0!"},{"$error":"#DIV/0!"},{"$error":"#DIV/0!"},"","","",{"$error":"#DIV/0!"},0,{"$error":"#DIV/0!"},null,null,null,null,null,null,null,null,null,null,null,null,null,null,null,null,null,null,null,null,null,"1977-05-29",0,5.7679999999999998,null,"1985-05-28",0,3.7509999999999999,null,"2016-05-28",0,6.2738300000000002,0,6.2738300000000002,0,5.9870400000000004,null,"2026-05-28",0,6.3449299999999997,0,6.3449299999999997,0,5.9762000000000004,null,"2076-05-28",0,6.7004000000000001,0,6.7004000000000001,0,5.92197]
["1977-09-15",0.1,2.0739999999999998,9,1977,37,0.1,{"$f":"IF(B3944<Parameters!$A$16,B3944*Parameters!$B$16,IF(AND(B3944>Parameters!$A$16,B3944<Parameters!$A$17),B3944*Parameters!$B$17,B3944*Parameters!$B$18))","v":0},{"$f":"IF(B3944<Parameters!$A$20,B3944*Parameters!$B$20,IF(AND(B3944>Parameters!$A$20,B3944<Parameters!$A$21),B3944*Parameters!$B$21,B3944*Parameters!$B$22))","v":0},{"$error":"#DIV/0!"},{"$error":"#DIV/0!"},{"$error":"#DIV/0!"},{"$error":"#DIV/0!"},{"$error":"#DIV/0!"},2.2073333333333331,{"$error":"#DIV/0!"},{"$error":"#DIV/0!"},{"$f":"IF('Gegevens '!$G$20=\"Eigen waarden\",VLOOKUP($F3944,'Gegevens '!$A$25:$C$77,3,FALSE),VLOOKUP($F3944,Lijsten!$A$19:$B$71,2,FALSE))","v":29.316349609488093},{"$error":"#DIV/0!"},{"$error":"#DIV/0!"},{"$error":"#DIV/0!"},{"$error":"#DIV/0!"},{"$error":"#DIV/0!"},{"$error":"#DIV/0!"},{"$error":"#DIV/0!"},{"$error":"#DIV/0!"},{"$error":"#DIV/0!"},{"$error":"#DIV/0!"},{"$error":"#DIV/0!"},{"$error":"#DIV/0!"},{"$error":"#DIV/0!"},{"$error":"#DIV/0!"},{"$error":"#DIV/0!"},{"$error":"#DIV/0!"},{"$error":"#DIV/0!"},{"$error":"#DIV/0!"},{"$error":"#DIV/0!"},{"$error":"#DIV/0!"},{"$error":"#DIV/0!"},{"$error":"#DIV/0!"},{"$error":"#DIV/0!"},0,{"$error":"#DIV/0!"},null,null,null,null,null,null,null,null,null,null,null,null,null,null,null,null,null,null,null,null,null,"1977-09-15",0.1,2.0739999999999998,null,"1985-09-14",0.2,1.919,null,"2016-09-14",0,3.0213199999999998,0,3.0213199999999998,0,2.8954399999999998,null,"2026-09-14",0,3.0754100000000002,0,3.0754100000000002,0,2.9135599999999999,null,"2076-09-14",0,3.3458700000000001,0,3.3458700000000001,0,3.0041899999999999]
["1977-10-24",0.2,1.367,10,1977,43,0.2,{"$f":"IF(B3983<Parameters!$A$16,B3983*Parameters!$B$16,IF(AND(B3983>Parameters!$A$16,B3983<Parameters!$A$17),B3983*Parameters!$B$17,B3983*Parameters!$B$18))","v":0},{"$f":"IF(B3983<Parameters!$A$20,B3983*Parameters!$B$20,IF(AND(B3983>Parameters!$A$20,B3983<Parameters!$A$21),B3983*Parameters!$B$21,B3983*Parameters!$B$22))","v":0},{"$error":"#DIV/0!"},{"$error":"#DIV/0!"},{"$error":"#DIV/0!"},{"$error":"#DIV/0!"},{"$error":"#DIV/0!"},1.5282903225806452,{"$error":"#DIV/0!"},{"$error":"#DIV/0!"},{"$f":"IF('Gegevens '!$G$20=\"Eigen waarden\",VLOOKUP($F3983,'Gegevens '!$A$25:$C$77,3,FALSE),VLOOKUP($F3983,Lijsten!$A$19:$B$71,2,FALSE))","v":15.056100159581629},{"$error":"#DIV/0!"},{"$error":"#DIV/0!"},{"$error":"#DIV/0!"},{"$error":"#DIV/0!"},{"$error":"#DIV/0!"},{"$error":"#DIV/0!"},{"$error":"#DIV/0!"},{"$error":"#DIV/0!"},{"$error":"#DIV/0!"},{"$error":"#DIV/0!"},{"$error":"#DIV/0!"},{"$error":"#DIV/0!"},{"$error":"#DIV/0!"},{"$error":"#DIV/0!"},{"$error":"#DIV/0!"},{"$error":"#DIV/0!"},{"$error":"#DIV/0!"},{"$error":"#DIV/0!"},{"$error":"#DIV/0!"},{"$error":"#DIV/0!"},{"$error":"#DIV/0!"},{"$error":"#DIV/0!"},{"$error":"#DIV/0!"},{"$error":"#DIV/0!"},0,null,null,null,null,null,null,null,null,null,null,null,null,null,null,null,null,null,null,null,null,null,"1977-10-24",0.2,1.367,null,"1985-10-23",0,1.1020000000000001,null,"2016-10-23",0.28999999999999998,0.94203000000000003,0.28999999999999998,0.94203000000000003,0.28999999999999998,0.88578000000000001,null,"2026-10-23",0.28999999999999998,0.95889000000000002,0.28999999999999998,0.95889000000000002,0.28999999999999998,0.88658000000000003,null,"2076-10-23",0.28000000000000003,1.04322,0.28000000000000003,1.04322,0.28000000000000003,0.89054999999999995]
["1977-12-02",0,0,12,1977,48,0,{"$f":"IF(B4022<Parameters!$A$16,B4022*Parameters!$B$16,IF(AND(B4022>Parameters!$A$16,B4022<Parameters!$A$17),B4022*Parameters!$B$17,B4022*Parameters!$B$18))","v":0},{"$f":"IF(B4022<Parameters!$A$20,B4022*Parameters!$B$20,IF(AND(B4022>Parameters!$A$20,B4022<Parameters!$A$21),B4022*Parameters!$B$21,B4022*Parameters!$B$22))","v":0},{"$error":"#DIV/0!"},"",0,"",0,6.4516129032258063E-2,{"$error":"#DIV/0!"},{"$error":"#DIV/0!"},{"$f":"IF('Gegevens '!$G$20=\"Eigen waarden\",VLOOKUP($F4022,'Gegevens '!$A$25:$C$77,3,FALSE),VLOOKUP($F4022,Lijsten!$A$19:$B$71,2,FALSE))","v":8.6779285714285717},{"$error":"#DIV/0!"},{"$error":"#DIV/0!"},{"$error":"#DIV/0!"},{"$error":"#DIV/0!"},{"$error":"#DIV/0!"},{"$error":"#DIV/0!"},{"$error":"#DIV/0!"},"","",{"$error":"#DIV/0!"},0,{"$error":"#DIV/0!"},0,{"$error":"#DIV/0!"},{"$error":"#DIV/0!"},{"$error":"#DIV/0!"},{"$error":"#DIV/0!"},{"$error":"#DIV/0!"},{"$error":"#DIV/0!"},"","","",{"$error":"#DIV/0!"},{"$error":"#DIV/0!"},0,null,null,null,null,null,null,null,null,null,null,null,null,null,null,null,null,null,null,null,null,null,"1977-12-02",0,0,null,"1985-12-01",0,0.89300000000000002,null,"2016-12-01",0.52,0.12876000000000001,0.42,0.11941,0.35,0.11003,null,"2026-12-01",0.56000000000000005,0.13441,0.43,0.12239,0.34,0.11032,null,"2076-12-01",0.68,0.16264000000000001,0.46,0.13727,0.28999999999999998,0.1118]
["1978-03-21",7.7,0.47299999999999998,{"$f":"MONTH(A4131)","v":3},1978,{"$f":"INT((A4131-DATE(YEAR(A4131-WEEKDAY(A4131-1)+4),1,3)+WEEKDAY(DATE(YEAR(A4131-WEEKDAY(A4131-1)+4),1,3))+5)/7)","v":12},7.7,{"$f":"IF(B4131<Parameters!$A$16,B4131*Parameters!$B$16,IF(AND(B4131>Parameters!$A$16,B4131<Parameters!$A$17),B4131*Parameters!$B$17,B4131*Parameters!$B$18))","v":7.3149999999999995},{"$f":"IF(B4131<Parameters!$A$20,B4131*Parameters!$B$20,IF(AND(B4131>Parameters!$A$20,B4131<Parameters!$A$21),B4131*Parameters!$B$21,B4131*Parameters!$B$22))","v":5.7750000000000004},{"$error":"#DIV/0!"},{"$f":"IF(B4131=0,\"\",SUM(J4131/(B4131*10)))","v":{"$error":"#DIV/0!"}},{"$error":"#DIV/0!"},{"$f":"IF(B4131=0,\"\",L4131/J4131)","v":{"$error":"#DIV/0!"}},{"$f":"IF(B4131=0,0,SUM(J4131-L4131))","v":{"$error":"#DIV/0!"}},{"$f":"IF(OR($D4131=1,$D4131=12,$D4131=8),C4131+(2/31),IF($D4131=2,C4131-(1/28),IF($D4131=3,C4131-(3/31),IF($D4131=4,C4131-(5/30),IF($D4131=5,C4131-(6/31),IF($D4131=6,C4131-(4/30),IF($D4131=7,C4131-(1/31),IF($D4131=9,C4131+(4/30),IF($D4131=10,C4131+(5/31),IF($D4131=11,C4131+(5/30)))))))))))","v":0.37622580645161285},{"$f":"-(($BH$3-$BI$3)*($AN$3+$AK$3-U4131)/($AK$3)-$BH$3)","v":{"$error":"#DIV/0!"}},{"$error":"#DIV/0!"},{"$f":"IF('Gegevens '!$G$20=\"Eigen waarden\",VLOOKUP($F4131,'Gegevens '!$A$25:$C$77,3,FALSE),VLOOKUP($F4131,Lijsten!$A$19:$B$71,2,FALSE))","v":22.555070739851423},{"$error":"#DIV/0!"},{"$error":"#DIV/0!"},{"$error":"#DIV/0!"},{"$error":"#DIV/0!"},{"$error":"#DIV/0!"},{"$error":"#DIV/0!"},{"$f":"IF(R4131=0,\"\",((R4131-W4131)/R4131))","v":{"$error":"#DIV/0!"}},{"$f":"IF(B4131=0,\"\",X4131/(B4131*10))","v":{"$error":"#DIV/0!"}},{"$error":"#DIV/0!"},{"$f":"J4131/10","v":{"$error":"#DIV/0!"}},{"$f":"L4131/10","v":{"$error":"#DIV/0!"}},{"$f":"X4131/10","v":{"$error":"#DIV/0!"}},{"$error":"#DIV/0!"},{"$error":"#DIV/0!"},{"$error":"#DIV/0!"},{"$f":"(R4131-W4131)/10","v":{"$error":"#DIV/0!"}},{"$f":"SUM(AC4131-AF4131-AG4131-AD4131)","v":{"$error":"#DIV/0!"}},{"$f":"IF(AB4131=0,\"\",AE4131/AB4131)","v":{"$error":"#DIV/0!"}},{"$error":"#DIV/0!"},{"$f":"IF(AC4131=0,\"\",AG4131/AC4131)","v":{"$error":"#DIV/0!"}},{"$f":"IF(AC4131=0,\"\",AD4131/AC4131)","v":{"$error":"#DIV/0!"}},{"$f":"IF(AC4131=0,\"\",AI4131/AC4131)","v":{"$error":"#DIV/0!"}},{"$error":"#DIV/0!"},{"$error":"#DIV/0!"},0,null,null,null,null,null,null,null,null,null,null,null,null,null,null,null,null,null,null,null,null,null,"1978-03-21",7.7,0.47299999999999998,null,"1986-03-20",1.9,0.67200000000000004,null,"2017-03-20",5.74,0.71065,5.74,0.71065,5.74,0.66827000000000003,null,"2027-03-20",5.8,0.71255000000000002,5.8,0.71255000000000002,5.8,0.65805999999999998,null,"2077-03-20",6.15,0.72206000000000004,6.15,0.72206000000000004,6.15,0.60702]
["1978-04-29",8,3.347,4,1978,17,8,{"$f":"IF(B4170<Parameters!$A$16,B4170*Parameters!$B$16,IF(AND(B4170>Parameters!$A$16,B4170<Parameters!$A$17),B4170*Parameters!$B$17,B4170*Parameters!$B$18))","v":7.6},{"$f":"IF(B4170<Parameters!$A$20,B4170*Parameters!$B$20,IF(AND(B4170>Parameters!$A$20,B4170<Parameters!$A$21),B4170*Parameters!$B$21,B4170*Parameters!$B$22))","v":6},{"$error":"#DIV/0!"},{"$error":"#DIV/0!"},{"$error":"#DIV/0!"},{"$error":"#DIV/0!"},{"$error":"#DIV/0!"},3.1803333333333335,{"$error":"#DIV/0!"},{"$error":"#DIV/0!"},{"$f":"IF('Gegevens '!$G$20=\"Eigen waarden\",VLOOKUP($F4170,'Gegevens '!$A$25:$C$77,3,FALSE),VLOOKUP($F4170,Lijsten!$A$19:$B$71,2,FALSE))","v":34.009844090885714},{"$error":"#DIV/0!"},{"$error":"#DIV/0!"},{"$error":"#DIV/0!"},{"$error":"#DIV/0!"},{"$error":"#DIV/0!"},{"$error":"#DIV/0!"},{"$error":"#DIV/0!"},{"$error":"#DIV/0!"},{"$error":"#DIV/0!"},{"$error":"#DIV/0!"},{"$error":"#DIV/0!"},{"$error":"#DIV/0!"},{"$error":"#DIV/0!"},{"$error":"#DIV/0!"},{"$error":"#DIV/0!"},{"$error":"#DIV/0!"},{"$error":"#DIV/0!"},{"$error":"#DIV/0!"},{"$error":"#DIV/0!"},{"$error":"#DIV/0!"},{"$error":"#DIV/0!"},{"$error":"#DIV/0!"},{"$error":"#DIV/0!"},0,{"$error":"#DIV/0!"},null,null,null,null,null,null,null,null,null,null,null,null,null,null,null,null,null,null,null,null,null,"1978-04-29",8,3.347,null,"1986-04-28",0,2.5070000000000001,null,"2017-04-28",11.6,2.01111,11.6,2.01111,11.6,1.92421,null,"2027-04-28",11.66,2.0271400000000002,11.66,2.0271400000000002,11.66,1.9154100000000001,null,"2077-04-28",11.99,2.1072899999999999,11.99,2.1072899999999999,11.99,1.8714200000000001]
["1978-08-12",0.2,2.9660000000000002,8,1978,32,0.2,{"$f":"IF(B4275<Parameters!$A$16,B4275*Parameters!$B$16,IF(AND(B4275>Parameters!$A$16,B4275<Parameters!$A$17),B4275*Parameters!$B$17,B4275*Parameters!$B$18))","v":0},{"$f":"IF(B4275<Parameters!$A$20,B4275*Parameters!$B$20,IF(AND(B4275>Parameters!$A$20,B4275<Parameters!$A$21),B4275*Parameters!$B$21,B4275*Parameters!$B$22))","v":0},{"$error":"#DIV/0!"},{"$error":"#DIV/0!"},{"$error":"#DIV/0!"},{"$error":"#DIV/0!"},{"$error":"#DIV/0!"},3.0305161290322582,{"$error":"#DIV/0!"},{"$error":"#DIV/0!"},{"$f":"IF('Gegevens '!$G$20=\"Eigen waarden\",VLOOKUP($F4275,'Gegevens '!$A$25:$C$77,3,FALSE),VLOOKUP($F4275,Lijsten!$A$19:$B$71,2,FALSE))","v":35.235564143205707},{"$error":"#DIV/0!"},{"$error":"#DIV/0!"},{"$error":"#DIV/0!"},{"$error":"#DIV/0!"},{"$error":"#DIV/0!"},{"$error":"#DIV/0!"},{"$error":"#DIV/0!"},{"$error":"#DIV/0!"},{"$error":"#DIV/0!"},{"$error":"#DIV/0!"},{"$error":"#DIV/0!"},{"$error":"#DIV/0!"},{"$error":"#DIV/0!"},{"$error":"#DIV/0!"},{"$error":"#DIV/0!"},{"$error":"#DIV/0!"},{"$error":"#DIV/0!"},{"$error":"#DIV/0!"},{"$error":"#DIV/0!"},{"$error":"#DIV/0!"},{"$error":"#DIV/0!"},{"$error":"#DIV/0!"},{"$error":"#DIV/0!"},0,{"$error":"#DIV/0!"},null,null,null,null,null,null,null,null,null,null,null,null,null,null,null,null,null,null,null,null,null,"1978-08-12",0.2,2.9660000000000002,null,"1986-08-11",0,3.5310000000000001,null,"2017-08-11",0,2.3092800000000002,0,2.2169099999999999,0,2.1245500000000002,null,"2027-08-11",0,2.3753600000000001,0,2.2566000000000002,0,2.1378499999999998,null,"2077-08-11",0,2.7057600000000002,0,2.45505,0,2.2043400000000002]
["1978-09-24",0,1.7829999999999999,9,1978,38,0,{"$f":"IF(B4318<Parameters!$A$16,B4318*Parameters!$B$16,IF(AND(B4318>Parameters!$A$16,B4318<Parameters!$A$17),B4318*Parameters!$B$17,B4318*Parameters!$B$18))","v":0},{"$f":"IF(B4318<Parameters!$A$20,B4318*Parameters!$B$20,IF(AND(B4318>Parameters!$A$20,B4318<Parameters!$A$21),B4318*Parameters!$B$21,B4318*Parameters!$B$22))","v":0},{"$error":"#DIV/0!"},"",0,"",0,1.9163333333333332,{"$error":"#DIV/0!"},{"$error":"#DIV/0!"},{"$f":"IF('Gegevens '!$G$20=\"Eigen waarden\",VLOOKUP($F4318,'Gegevens '!$A$25:$C$77,3,FALSE),VLOOKUP($F4318,Lijsten!$A$19:$B$71,2,FALSE))","v":26.077190661357143},{"$error":"#DIV/0!"},{"$error":"#DIV/0!"},{"$error":"#DIV/0!"},{"$error":"#DIV/0!"},{"$error":"#DIV/0!"},{"$error":"#DIV/0!"},{"$error":"#DIV/0!"},"","",{"$error":"#DIV/0!"},0,{"$error":"#DIV/0!"},0,{"$error":"#DIV/0!"},{"$error":"#DIV/0!"},{"$error":"#DIV/0!"},{"$error":"#DIV/0!"},{"$error":"#DIV/0!"},{"$error":"#DIV/0!"},"","","",{"$error":"#DIV/0!"},0,{"$error":"#DIV/0!"},null,null,null,null,null,null,null,null,null,null,null,null,null,null,null,null,null,null,null,null,null,"1978-09-24",0,1.7829999999999999,null,"1986-09-23",0,2.226,null,"2017-09-23",0,2.76634,0,2.76634,0,2.6510799999999999,null,"2027-09-23",0,2.8158699999999999,0,2.8158699999999999,0,2.6676799999999998,null,"2077-09-23",0,3.0634999999999999,0,3.0634999999999999,0,2.7506499999999998]
["1978-12-01",0,0,12,1978,48,0,{"$f":"IF(B4386<Parameters!$A$16,B4386*Parameters!$B$16,IF(AND(B4386>Parameters!$A$16,B4386<Parameters!$A$17),B4386*Parameters!$B$17,B4386*Parameters!$B$18))","v":0},{"$f":"IF(B4386<Parameters!$A$20,B4386*Parameters!$B$20,IF(AND(B4386>Parameters!$A$20,B4386<Parameters!$A$21),B4386*Parameters!$B$21,B4386*Parameters!$B$22))","v":0},{"$error":"#DIV/0!"},"",0,"",0,6.4516129032258063E-2,{"$error":"#DIV/0!"},{"$error":"#DIV/0!"},{"$f":"IF('Gegevens '!$G$20=\"Eigen waarden\",VLOOKUP($F4386,'Gegevens '!$A$25:$C$77,3,FALSE),VLOOKUP($F4386,Lijsten!$A$19:$B$71,2,FALSE))","v":8.6779285714285717},{"$error":"#DIV/0!"},{"$error":"#DIV/0!"},{"$error":"#DIV/0!"},{"$error":"#DIV/0!"},{"$error":"#DIV/0!"},{"$error":"#DIV/0!"},{"$error":"#DIV/0!"},"","",{"$error":"#DIV/0!"},0,{"$error":"#DIV/0!"},0,{"$error":"#DIV/0!"},{"$error":"#DIV/0!"},{"$error":"#DIV/0!"},{"$error":"#DIV/0!"},{"$error":"#DIV/0!"},{"$error":"#DIV/0!"},"","","",{"$error":"#DIV/0!"},{"$error":"#DIV/0!"},0,null,null,null,null,null,null,null,null,null,null,null,null,null,null,null,null,null,null,null,null,null,"1978-12-01",0,0,null,"1986-11-30",0.2,0.30099999999999999,null,"2017-11-30",0.1,0,0.1,0,0.1,0,null,"2027-11-30",0.1,0,0.1,0,0.1,0,null,"2077-11-30",0.1,0,0.1,0,0.1,0]
["1979-02-20",0,0,2,1979,8,0,{"$f":"IF(B4467<Parameters!$A$16,B4467*Parameters!$B$16,IF(AND(B4467>Parameters!$A$16,B4467<Parameters!$A$17),B4467*Parameters!$B$17,B4467*Parameters!$B$18))","v":0},{"$f":"IF(B4467<Parameters!$A$20,B4467*Parameters!$B$20,IF(AND(B4467>Parameters!$A$20,B4467<Parameters!$A$21),B4467*Parameters!$B$21,B4467*Parameters!$B$22))","v":0},{"$error":"#DIV/0!"},"",0,"",0,-3.5714285714285712E-2,{"$error":"#DIV/0!"},{"$error":"#DIV/0!"},{"$f":"IF('Gegevens '!$G$20=\"Eigen waarden\",VLOOKUP($F4467,'Gegevens '!$A$25:$C$77,3,FALSE),VLOOKUP($F4467,Lijsten!$A$19:$B$71,2,FALSE))","v":13.231023004605714},{"$error":"#DIV/0!"},{"$error":"#DIV/0!"},{"$error":"#DIV/0!"},{"$error":"#DIV/0!"},{"$error":"#DIV/0!"},{"$error":"#DIV/0!"},{"$error":"#DIV/0!"},"","",{"$error":"#DIV/0!"},0,{"$error":"#DIV/0!"},0,{"$error":"#DIV/0!"},{"$error":"#DIV/0!"},{"$error":"#DIV/0!"},{"$error":"#DIV/0!"},{"$error":"#DIV/0!"},{"$error":"#DIV/0!"},"","","",{"$error":"#DIV/0!"},{"$error":"#DIV/0!"},0,null,null,null,null,null,null,null,null,null,null,null,null,null,null,null,null,null,null,null,null,null,"1979-02-20",0,0,null,"1987-02-19",1.2,0,null,"2018-02-19",0,0,8.6,0,0,0,null,"2028-02-19",0,0,0,0,0,0,null,"2078-02-19",0,0,0,0,0,0]
["1979-03-31",0.2,1.224,3,1979,13,0.2,{"$f":"IF(B4506<Parameters!$A$16,B4506*Parameters!$B$16,IF(AND(B4506>Parameters!$A$16,B4506<Parameters!$A$17),B4506*Parameters!$B$17,B4506*Parameters!$B$18))","v":0},{"$f":"IF(B4506<Parameters!$A$20,B4506*Parameters!$B$20,IF(AND(B4506>Parameters!$A$20,B4506<Parameters!$A$21),B4506*Parameters!$B$21,B4506*Parameters!$B$22))","v":0},{"$error":"#DIV/0!"},{"$error":"#DIV/0!"},{"$error":"#DIV/0!"},{"$error":"#DIV/0!"},{"$error":"#DIV/0!"},1.127225806451613,{"$error":"#DIV/0!"},{"$error":"#DIV/0!"},{"$f":"IF('Gegevens '!$G$20=\"Eigen waarden\",VLOOKUP($F4506,'Gegevens '!$A$25:$C$77,3,FALSE),VLOOKUP($F4506,Lijsten!$A$19:$B$71,2,FALSE))","v":23.460342198480003},{"$error":"#DIV/0!"},{"$error":"#DIV/0!"},{"$error":"#DIV/0!"},{"$error":"#DIV/0!"},{"$error":"#DIV/0!"},{"$error":"#DIV/0!"},{"$error":"#DIV/0!"},{"$error":"#DIV/0!"},{"$error":"#DIV/0!"},{"$error":"#DIV/0!"},{"$error":"#DIV/0!"},{"$error":"#DIV/0!"},{"$error":"#DIV/0!"},{"$error":"#DIV/0!"},{"$error":"#DIV/0!"},{"$error":"#DIV/0!"},{"$error":"#DIV/0!"},{"$error":"#DIV/0!"},{"$error":"#DIV/0!"},{"$error":"#DIV/0!"},{"$error":"#DIV/0!"},{"$error":"#DIV/0!"},{"$error":"#DIV/0!"},{"$error":"#DIV/0!"},0,null,null,null,null,null,null,null,null,null,null,null,null,null,null,null,null,null,null,null,null,null,"1979-03-31",0.2,1.224,null,"1987-03-30",0.5,0.35499999999999998,null,"2018-03-30",4.2699999999999996,0.20996999999999999,4.2699999999999996,0.20996999999999999,4.2699999999999996,0.19744,null,"2028-03-29",4.3099999999999996,0.21052999999999999,4.3099999999999996,0.21052999999999999,4.3099999999999996,0.19442999999999999,null,"2078-03-30",4.5599999999999996,0.21334,4.5599999999999996,0.21334,4.5599999999999996,0.17935000000000001]
["1979-07-14",0.1,3.319,7,1979,28,0.1,{"$f":"IF(B4611<Parameters!$A$16,B4611*Parameters!$B$16,IF(AND(B4611>Parameters!$A$16,B4611<Parameters!$A$17),B4611*Parameters!$B$17,B4611*Parameters!$B$18))","v":0},{"$f":"IF(B4611<Parameters!$A$20,B4611*Parameters!$B$20,IF(AND(B4611>Parameters!$A$20,B4611<Parameters!$A$21),B4611*Parameters!$B$21,B4611*Parameters!$B$22))","v":0},{"$error":"#DIV/0!"},{"$error":"#DIV/0!"},{"$error":"#DIV/0!"},{"$error":"#DIV/0!"},{"$error":"#DIV/0!"},3.2867419354838709,{"$error":"#DIV/0!"},{"$error":"#DIV/0!"},{"$f":"IF('Gegevens '!$G$20=\"Eigen waarden\",VLOOKUP($F4611,'Gegevens '!$A$25:$C$77,3,FALSE),VLOOKUP($F4611,Lijsten!$A$19:$B$71,2,FALSE))","v":37.93215799035999},{"$error":"#DIV/0!"},{"$error":"#DIV/0!"},{"$error":"#DIV/0!"},{"$error":"#DIV/0!"},{"$error":"#DIV/0!"},{"$error":"#DIV/0!"},{"$error":"#DIV/0!"},{"$error":"#DIV/0!"},{"$error":"#DIV/0!"},{"$error":"#DIV/0!"},{"$error":"#DIV/0!"},{"$error":"#DIV/0!"},{"$error":"#DIV/0!"},{"$error":"#DIV/0!"},{"$error":"#DIV/0!"},{"$error":"#DIV/0!"},{"$error":"#DIV/0!"},{"$error":"#DIV/0!"},{"$error":"#DIV/0!"},{"$error":"#DIV/0!"},{"$error":"#DIV/0!"},{"$error":"#DIV/0!"},{"$error":"#DIV/0!"},0,{"$error":"#DIV/0!"},null,null,null,null,null,null,null,null,null,null,null,null,null,null,null,null,null,null,null,null,null,"1979-07-14",0.1,3.319,null,"1987-07-13",0,3.6309999999999998,null,"2018-07-13",0.17,0.88597000000000004,0.22,0.85484000000000004,0.17,0.82371000000000005,null,"2028-07-12",0.16,0.90595999999999999,0.21,0.86594000000000004,0.16,0.82591000000000003,null,"2078-07-13",0,1.0059199999999999,0.19,0.92142999999999997,0,0.83692999999999995]
["1979-08-26",5.5,2.1429999999999998,8,1979,34,5.5,{"$f":"IF(B4654<Parameters!$A$16,B4654*Parameters!$B$16,IF(AND(B4654>Parameters!$A$16,B4654<Parameters!$A$17),B4654*Parameters!$B$17,B4654*Parameters!$B$18))","v":5.2249999999999996},{"$f":"IF(B4654<Parameters!$A$20,B4654*Parameters!$B$20,IF(AND(B4654>Parameters!$A$20,B4654<Parameters!$A$21),B4654*Parameters!$B$21,B4654*Parameters!$B$22))","v":4.125},{"$error":"#DIV/0!"},{"$error":"#DIV/0!"},{"$error":"#DIV/0!"},{"$error":"#DIV/0!"},{"$error":"#DIV/0!"},2.2075161290322578,{"$error":"#DIV/0!"},{"$error":"#DIV/0!"},{"$f":"IF('Gegevens '!$G$20=\"Eigen waarden\",VLOOKUP($F4654,'Gegevens '!$A$25:$C$77,3,FALSE),VLOOKUP($F4654,Lijsten!$A$19:$B$71,2,FALSE))","v":32.292939745809527},{"$error":"#DIV/0!"},{"$error":"#DIV/0!"},{"$error":"#DIV/0!"},{"$error":"#DIV/0!"},{"$error":"#DIV/0!"},{"$error":"#DIV/0!"},{"$error":"#DIV/0!"},{"$error":"#DIV/0!"},{"$error":"#DIV/0!"},{"$error":"#DIV/0!"},{"$error":"#DIV/0!"},{"$error":"#DIV/0!"},{"$error":"#DIV/0!"},{"$error":"#DIV/0!"},{"$error":"#DIV/0!"},{"$error":"#DIV/0!"},{"$error":"#DIV/0!"},{"$error":"#DIV/0!"},{"$error":"#DIV/0!"},{"$error":"#DIV/0!"},{"$error":"#DIV/0!"},{"$error":"#DIV/0!"},{"$error":"#DIV/0!"},0,{"$error":"#DIV/0!"},null,null,null,null,null,null,null,null,null,null,null,null,null,null,null,null,null,null,null,null,null,"1979-08-26",5.5,2.1429999999999998,null,"1987-08-25",14,0.72399999999999998,null,"2018-08-25",1.5,3.0994199999999998,2.02,2.9754399999999999,1.5,2.8514699999999999,null,"2028-08-24",1.39,3.18811,1.96,3.0287099999999998,1.39,2.8693200000000001,null,"2078-08-25",0,3.6315599999999999,1.68,3.2950599999999999,0,2.9585699999999999]
["1979-10-04",0.7,1.7509999999999999,10,1979,40,0.7,{"$f":"IF(B4693<Parameters!$A$16,B4693*Parameters!$B$16,IF(AND(B4693>Parameters!$A$16,B4693<Parameters!$A$17),B4693*Parameters!$B$17,B4693*Parameters!$B$18))","v":0},{"$f":"IF(B4693<Parameters!$A$20,B4693*Parameters!$B$20,IF(AND(B4693>Parameters!$A$20,B4693<Parameters!$A$21),B4693*Parameters!$B$21,B4693*Parameters!$B$22))","v":0},{"$error":"#DIV/0!"},{"$error":"#DIV/0!"},{"$error":"#DIV/0!"},{"$error":"#DIV/0!"},{"$error":"#DIV/0!"},1.9122903225806451,{"$error":"#DIV/0!"},{"$error":"#DIV/0!"},{"$f":"IF('Gegevens '!$G$20=\"Eigen waarden\",VLOOKUP($F4693,'Gegevens '!$A$25:$C$77,3,FALSE),VLOOKUP($F4693,Lijsten!$A$19:$B$71,2,FALSE))","v":19.161461678190477},{"$error":"#DIV/0!"},{"$error":"#DIV/0!"},{"$error":"#DIV/0!"},{"$error":"#DIV/0!"},{"$error":"#DIV/0!"},{"$error":"#DIV/0!"},{"$error":"#DIV/0!"},{"$error":"#DIV/0!"},{"$error":"#DIV/0!"},{"$error":"#DIV/0!"},{"$error":"#DIV/0!"},{"$error":"#DIV/0!"},{"$error":"#DIV/0!"},{"$error":"#DIV/0!"},{"$error":"#DIV/0!"},{"$error":"#DIV/0!"},{"$error":"#DIV/0!"},{"$error":"#DIV/0!"},{"$error":"#DIV/0!"},{"$error":"#DIV/0!"},{"$error":"#DIV/0!"},{"$error":"#DIV/0!"},{"$error":"#DIV/0!"},{"$error":"#DIV/0!"},0,null,null,null,null,null,null,null,null,null,null,null,null,null,null,null,null,null,null,null,null,null,"1979-10-04",0.7,1.7509999999999999,null,"1987-10-03",0,1.9219999999999999,null,"2018-10-03",0.2,2.3492000000000002,0.2,2.3492000000000002,0.2,2.2089400000000001,null,"2028-10-02",0.2,2.3912599999999999,0.2,2.3912599999999999,0.2,2.2109200000000002,null,"2078-10-03",0.19,2.60155,0.19,2.60155,0.19,2.2208299999999999]
["1980-01-17",0,0,1,1980,3,0,{"$f":"IF(B4798<Parameters!$A$16,B4798*Parameters!$B$16,IF(AND(B4798>Parameters!$A$16,B4798<Parameters!$A$17),B4798*Parameters!$B$17,B4798*Parameters!$B$18))","v":0},{"$f":"IF(B4798<Parameters!$A$20,B4798*Parameters!$B$20,IF(AND(B4798>Parameters!$A$20,B4798<Parameters!$A$21),B4798*Parameters!$B$21,B4798*Parameters!$B$22))","v":0},{"$error":"#DIV/0!"},"",0,"",0,6.4516129032258063E-2,{"$error":"#DIV/0!"},{"$error":"#DIV/0!"},{"$f":"IF('Gegevens '!$G$20=\"Eigen waarden\",VLOOKUP($F4798,'Gegevens '!$A$25:$C$77,3,FALSE),VLOOKUP($F4798,Lijsten!$A$19:$B$71,2,FALSE))","v":5.3886624347828569},{"$error":"#DIV/0!"},{"$error":"#DIV/0!"},{"$error":"#DIV/0!"},{"$error":"#DIV/0!"},{"$error":"#DIV/0!"},{"$error":"#DIV/0!"},{"$error":"#DIV/0!"},"","",{"$error":"#DIV/0!"},0,{"$error":"#DIV/0!"},0,{"$error":"#DIV/0!"},{"$error":"#DIV/0!"},{"$error":"#DIV/0!"},{"$error":"#DIV/0!"},{"$error":"#DIV/0!"},{"$error":"#DIV/0!"},"","","",{"$error":"#DIV/0!"},{"$error":"#DIV/0!"},0,null,null,null,null,null,null,null,null,null,null,null,null,null,null,null,null,null,null,null,null,null,"1980-01-17",0,0,null,"1988-01-16",0.1,0.19900000000000001,null,"2019-01-16",0,0,0,0,0,0,null,"2029-01-15",0,0,0,0,0,0,null,"2079-01-16",0,0,0,0,0,0]
["1980-02-29",0,0.503,2,1980,9,0,{"$f":"IF(B4841<Parameters!$A$16,B4841*Parameters!$B$16,IF(AND(B4841>Parameters!$A$16,B4841<Parameters!$A$17),B4841*Parameters!$B$17,B4841*Parameters!$B$18))","v":0},{"$f":"IF(B4841<Parameters!$A$20,B4841*Parameters!$B$20,IF(AND(B4841>Parameters!$A$20,B4841<Parameters!$A$21),B4841*Parameters!$B$21,B4841*Parameters!$B$22))","v":0},{"$error":"#DIV/0!"},"",0,"",0,0.4672857142857143,{"$error":"#DIV/0!"},{"$error":"#DIV/0!"},{"$f":"IF('Gegevens '!$G$20=\"Eigen waarden\",VLOOKUP($F4841,'Gegevens '!$A$25:$C$77,3,FALSE),VLOOKUP($F4841,Lijsten!$A$19:$B$71,2,FALSE))","v":14.865981240331429},{"$error":"#DIV/0!"},{"$error":"#DIV/0!"},{"$error":"#DIV/0!"},{"$error":"#DIV/0!"},{"$error":"#DIV/0!"},{"$error":"#DIV/0!"},{"$error":"#DIV/0!"},"","",{"$error":"#DIV/0!"},0,{"$error":"#DIV/0!"},0,{"$f":"V4841/10","v":{"$error":"#DIV/0!"}},{"$error":"#DIV/0!"},{"$error":"#DIV/0!"},{"$error":"#DIV/0!"},{"$error":"#DIV/0!"},{"$error":"#DIV/0!"},"","","",{"$error":"#DIV/0!"},{"$error":"#DIV/0!"},0,null,null,null,null,null,null,null,null,null,null,null,null,null,null,null,null,null,null,null,null,null,"1980-02-29",0,0.503,null,"1988-02-28",3.9,0.622,null,"2019-02-28",0.26,0.48094999999999999,0.22,0.45712999999999998,0.18,0.43347000000000002,null,"2029-02-27",0.27,0.49292999999999998,0.22,0.46231,0.18,0.43189,null,"2079-02-28",0.34,0.55284999999999995,0.25,0.48820999999999998,0.16,0.42398999999999998]
["1980-04-08",1.1000000000000001,1.5589999999999999,4,1980,15,1.1000000000000001,{"$f":"IF(B4880<Parameters!$A$16,B4880*Parameters!$B$16,IF(AND(B4880>Parameters!$A$16,B4880<Parameters!$A$17),B4880*Parameters!$B$17,B4880*Parameters!$B$18))","v":0.88000000000000012},{"$f":"IF(B4880<Parameters!$A$20,B4880*Parameters!$B$20,IF(AND(B4880>Parameters!$A$20,B4880<Parameters!$A$21),B4880*Parameters!$B$21,B4880*Parameters!$B$22))","v":0.66},{"$error":"#DIV/0!"},{"$error":"#DIV/0!"},{"$error":"#DIV/0!"},{"$error":"#DIV/0!"},{"$error":"#DIV/0!"},1.3923333333333332,{"$error":"#DIV/0!"},{"$error":"#DIV/0!"},{"$f":"IF('Gegevens '!$G$20=\"Eigen waarden\",VLOOKUP($F4880,'Gegevens '!$A$25:$C$77,3,FALSE),VLOOKUP($F4880,Lijsten!$A$19:$B$71,2,FALSE))","v":28.925363264788576},{"$error":"#DIV/0!"},{"$error":"#DIV/0!"},{"$error":"#DIV/0!"},{"$error":"#DIV/0!"},{"$error":"#DIV/0!"},{"$error":"#DIV/0!"},{"$error":"#DIV/0!"},{"$error":"#DIV/0!"},{"$error":"#DIV/0!"},{"$error":"#DIV/0!"},{"$error":"#DIV/0!"},{"$error":"#DIV/0!"},{"$error":"#DIV/0!"},{"$error":"#DIV/0!"},{"$error":"#DIV/0!"},{"$error":"#DIV/0!"},{"$error":"#DIV/0!"},{"$error":"#DIV/0!"},{"$error":"#DIV/0!"},{"$error":"#DIV/0!"},{"$error":"#DIV/0!"},{"$error":"#DIV/0!"},{"$error":"#DIV/0!"},0,{"$error":"#DIV/0!"},null,null,null,null,null,null,null,null,null,null,null,null,null,null,null,null,null,null,null,null,null,"1980-04-08",1.1000000000000001,1.5589999999999999,null,"1988-04-07",0,2.76,null,"2019-04-08",0,1.33525,0,1.33525,0,1.27756,null,"2029-04-07",0,1.3459000000000001,0,1.3459000000000001,0,1.27172,null,"2079-04-08",0,1.3991100000000001,0,1.3991100000000001,0,1.24251]
["1980-07-26",0,4.6239999999999997,7,1980,30,0,{"$f":"IF(B4989<Parameters!$A$16,B4989*Parameters!$B$16,IF(AND(B4989>Parameters!$A$16,B4989<Parameters!$A$17),B4989*Parameters!$B$17,B4989*Parameters!$B$18))","v":0},{"$f":"IF(B4989<Parameters!$A$20,B4989*Parameters!$B$20,IF(AND(B4989>Parameters!$A$20,B4989<Parameters!$A$21),B4989*Parameters!$B$21,B4989*Parameters!$B$22))","v":0},{"$error":"#DIV/0!"},"",0,"",0,4.5917419354838707,{"$error":"#DIV/0!"},{"$error":"#DIV/0!"},{"$f":"IF('Gegevens '!$G$20=\"Eigen waarden\",VLOOKUP($F4989,'Gegevens '!$A$25:$C$77,3,FALSE),VLOOKUP($F4989,Lijsten!$A$19:$B$71,2,FALSE))","v":38.460966477868567},{"$error":"#DIV/0!"},{"$error":"#DIV/0!"},{"$error":"#DIV/0!"},{"$error":"#DIV/0!"},{"$error":"#DIV/0!"},{"$error":"#DIV/0!"},{"$error":"#DIV/0!"},"","",{"$error":"#DIV/0!"},0,{"$error":"#DIV/0!"},0,{"$error":"#DIV/0!"},{"$error":"#DIV/0!"},{"$error":"#DIV/0!"},{"$error":"#DIV/0!"},{"$error":"#DIV/0!"},{"$error":"#DIV/0!"},"","","",{"$error":"#DIV/0!"},0,{"$error":"#DIV/0!"},null,null,null,null,null,null,null,null,null,null,null,null,null,null,null,null,null,null,null,null,null,"1980-07-26",0,4.6239999999999997,null,"1988-07-25",0,5.577,null,"2019-07-26",0,5.5872700000000002,0,5.3909500000000001,0,5.1946300000000001,null,"2029-07-25",0,5.7133500000000002,0,5.4609399999999999,0,5.20852,null,"2079-07-26",0,6.3437299999999999,0,5.8108599999999999,0,5.27799]
["1980-09-21",0,3.0470000000000002,9,1980,38,0,{"$f":"IF(B5046<Parameters!$A$16,B5046*Parameters!$B$16,IF(AND(B5046>Parameters!$A$16,B5046<Parameters!$A$17),B5046*Parameters!$B$17,B5046*Parameters!$B$18))","v":0},{"$f":"IF(B5046<Parameters!$A$20,B5046*Parameters!$B$20,IF(AND(B5046>Parameters!$A$20,B5046<Parameters!$A$21),B5046*Parameters!$B$21,B5046*Parameters!$B$22))","v":0},{"$error":"#DIV/0!"},"",0,"",0,3.1803333333333335,{"$error":"#DIV/0!"},{"$error":"#DIV/0!"},{"$f":"IF('Gegevens '!$G$20=\"Eigen waarden\",VLOOKUP($F5046,'Gegevens '!$A$25:$C$77,3,FALSE),VLOOKUP($F5046,Lijsten!$A$19:$B$71,2,FALSE))","v":26.077190661357143},{"$error":"#DIV/0!"},{"$error":"#DIV/0!"},{"$error":"#DIV/0!"},{"$error":"#DIV/0!"},{"$error":"#DIV/0!"},{"$error":"#DIV/0!"},{"$error":"#DIV/0!"},"","",{"$error":"#DIV/0!"},0,{"$error":"#DIV/0!"},0,{"$error":"#DIV/0!"},{"$error":"#DIV/0!"},{"$error":"#DIV/0!"},{"$error":"#DIV/0!"},{"$error":"#DIV/0!"},{"$error":"#DIV/0!"},"","","",{"$error":"#DIV/0!"},0,{"$error":"#DIV/0!"},null,null,null,null,null,null,null,null,null,null,null,null,null,null,null,null,null,null,null,null,null,"1980-09-21",0,3.0470000000000002,null,"1988-09-20",0,1.419,null,"2019-09-21",0,3.5878199999999998,0,3.5878199999999998,0,3.4383300000000001,null,"2029-09-20",0,3.65205,0,3.65205,0,3.4598499999999999,null,"2079-09-21",0,3.97322,0,3.97322,0,3.5674700000000001]
["1980-12-18",6.2,0.20399999999999999,12,1980,51,6.2,{"$f":"IF(B5134<Parameters!$A$16,B5134*Parameters!$B$16,IF(AND(B5134>Parameters!$A$16,B5134<Parameters!$A$17),B5134*Parameters!$B$17,B5134*Parameters!$B$18))","v":5.89},{"$f":"IF(B5134<Parameters!$A$20,B5134*Parameters!$B$20,IF(AND(B5134>Parameters!$A$20,B5134<Parameters!$A$21),B5134*Parameters!$B$21,B5134*Parameters!$B$22))","v":4.6500000000000004},{"$error":"#DIV/0!"},{"$error":"#DIV/0!"},{"$error":"#DIV/0!"},{"$error":"#DIV/0!"},{"$error":"#DIV/0!"},0.26851612903225808,{"$error":"#DIV/0!"},{"$error":"#DIV/0!"},{"$f":"IF('Gegevens '!$G$20=\"Eigen waarden\",VLOOKUP($F5134,'Gegevens '!$A$25:$C$77,3,FALSE),VLOOKUP($F5134,Lijsten!$A$19:$B$71,2,FALSE))","v":6.588010204081634},{"$error":"#DIV/0!"},{"$error":"#DIV/0!"},{"$error":"#DIV/0!"},{"$error":"#DIV/0!"},{"$error":"#DIV/0!"},{"$error":"#DIV/0!"},{"$error":"#DIV/0!"},{"$error":"#DIV/0!"},{"$error":"#DIV/0!"},{"$error":"#DIV/0!"},{"$error":"#DIV/0!"},{"$error":"#DIV/0!"},{"$error":"#DIV/0!"},{"$error":"#DIV/0!"},{"$error":"#DIV/0!"},{"$error":"#DIV/0!"},{"$error":"#DIV/0!"},{"$error":"#DIV/0!"},{"$error":"#DIV/0!"},{"$error":"#DIV/0!"},{"$error":"#DIV/0!"},{"$error":"#DIV/0!"},{"$error":"#DIV/0!"},{"$error":"#DIV/0!"},0,null,null,null,null,null,null,null,null,null,null,null,null,null,null,null,null,null,null,null,null,null,"1980-12-18",6.2,0.20399999999999999,null,"1988-12-17",1.9,0.13500000000000001,null,"2019-12-18",14.86,0.33667000000000002,12.82,0.31223000000000001,11.56,0.28769,null,"2029-12-17",15.25,0.35143000000000002,12.97,0.32001000000000002,11.46,0.28845999999999999,null,"2079-12-18",17.32,0.42525000000000002,13.7,0.35891000000000001,10.97,0.29231000000000001]
["1981-01-30",0,0.42199999999999999,1,1981,5,0,{"$f":"IF(B5177<Parameters!$A$16,B5177*Parameters!$B$16,IF(AND(B5177>Parameters!$A$16,B5177<Parameters!$A$17),B5177*Parameters!$B$17,B5177*Parameters!$B$18))","v":0},{"$f":"IF(B5177<Parameters!$A$20,B5177*Parameters!$B$20,IF(AND(B5177>Parameters!$A$20,B5177<Parameters!$A$21),B5177*Parameters!$B$21,B5177*Parameters!$B$22))","v":0},{"$error":"#DIV/0!"},"",0,"",0,0.48651612903225805,{"$error":"#DIV/0!"},{"$error":"#DIV/0!"},{"$f":"IF('Gegevens '!$G$20=\"Eigen waarden\",VLOOKUP($F5177,'Gegevens '!$A$25:$C$77,3,FALSE),VLOOKUP($F5177,Lijsten!$A$19:$B$71,2,FALSE))","v":8.252917930462857},{"$error":"#DIV/0!"},{"$error":"#DIV/0!"},{"$error":"#DIV/0!"},{"$error":"#DIV/0!"},{"$error":"#DIV/0!"},{"$error":"#DIV/0!"},{"$error":"#DIV/0!"},"","",{"$error":"#DIV/0!"},0,{"$error":"#DIV/0!"},0,{"$error":"#DIV/0!"},{"$error":"#DIV/0!"},{"$error":"#DIV/0!"},{"$error":"#DIV/0!"},{"$error":"#DIV/0!"},{"$error":"#DIV/0!"},"","","",{"$error":"#DIV/0!"},{"$error":"#DIV/0!"},0,null,null,null,null,null,null,null,null,null,null,null,null,null,null,null,null,null,null,null,null,null,"1981-01-30",0,0.42199999999999999,null,"1989-01-29",0.3,0.315,null,"2020-01-30",0.38,0.45978000000000002,0.31,0.43178,0.26,0.40377999999999997,null,"2030-01-29",0.4,0.47686000000000001,0.31,0.44085999999999997,0.25,0.40486,null,"2080-01-30",0.48,0.56225999999999998,0.33,0.48626000000000003,0.21,0.41026000000000001]
["1981-03-10",10.6,0.97199999999999998,3,1981,11,10.6,{"$f":"IF(B5216<Parameters!$A$16,B5216*Parameters!$B$16,IF(AND(B5216>Parameters!$A$16,B5216<Parameters!$A$17),B5216*Parameters!$B$17,B5216*Parameters!$B$18))","v":10.069999999999999},{"$f":"IF(B5216<Parameters!$A$20,B5216*Parameters!$B$20,IF(AND(B5216>Parameters!$A$20,B5216<Parameters!$A$21),B5216*Parameters!$B$21,B5216*Parameters!$B$22))","v":7.9499999999999993},{"$error":"#DIV/0!"},{"$error":"#DIV/0!"},{"$error":"#DIV/0!"},{"$error":"#DIV/0!"},{"$error":"#DIV/0!"},0.87522580645161285,{"$error":"#DIV/0!"},{"$error":"#DIV/0!"},{"$f":"IF('Gegevens '!$G$20=\"Eigen waarden\",VLOOKUP($F5216,'Gegevens '!$A$25:$C$77,3,FALSE),VLOOKUP($F5216,Lijsten!$A$19:$B$71,2,FALSE))","v":19.509069665199995},{"$error":"#DIV/0!"},{"$error":"#DIV/0!"},{"$error":"#DIV/0!"},{"$error":"#DIV/0!"},{"$error":"#DIV/0!"},{"$error":"#DIV/0!"},{"$error":"#DIV/0!"},{"$error":"#DIV/0!"},{"$error":"#DIV/0!"},{"$error":"#DIV/0!"},{"$error":"#DIV/0!"},{"$error":"#DIV/0!"},{"$error":"#DIV/0!"},{"$error":"#DIV/0!"},{"$error":"#DIV/0!"},{"$error":"#DIV/0!"},{"$error":"#DIV/0!"},{"$error":"#DIV/0!"},{"$error":"#DIV/0!"},{"$error":"#DIV/0!"},{"$error":"#DIV/0!"},{"$error":"#DIV/0!"},{"$error":"#DIV/0!"},{"$error":"#DIV/0!"},0,null,null,null,null,null,null,null,null,null,null,null,null,null,null,null,null,null,null,null,null,null,"1981-03-10",10.6,0.97199999999999998,null,"1989-03-09",0,1.819,null,"2020-03-09",24.42,0.69854000000000005,24.42,0.69854000000000005,24.42,0.65688000000000002,null,"2030-03-09",24.76,0.70040999999999998,24.76,0.70040999999999998,24.76,0.64685000000000004,null,"2080-03-09",26.5,0.70974999999999999,26.5,0.70974999999999999,26.5,0.59667999999999999]
["1981-06-27",0,1.0389999999999999,6,1981,26,0,{"$f":"IF(B5325<Parameters!$A$16,B5325*Parameters!$B$16,IF(AND(B5325>Parameters!$A$16,B5325<Parameters!$A$17),B5325*Parameters!$B$17,B5325*Parameters!$B$18))","v":0},{"$f":"IF(B5325<Parameters!$A$20,B5325*Parameters!$B$20,IF(AND(B5325>Parameters!$A$20,B5325<Parameters!$A$21),B5325*Parameters!$B$21,B5325*Parameters!$B$22))","v":0},{"$error":"#DIV/0!"},"",0,"",0,0.90566666666666662,{"$error":"#DIV/0!"},{"$error":"#DIV/0!"},{"$f":"IF('Gegevens '!$G$20=\"Eigen waarden\",VLOOKUP($F5325,'Gegevens '!$A$25:$C$77,3,FALSE),VLOOKUP($F5325,Lijsten!$A$19:$B$71,2,FALSE))","v":43.586624781491437},{"$error":"#DIV/0!"},{"$error":"#DIV/0!"},{"$error":"#DIV/0!"},{"$error":"#DIV/0!"},{"$error":"#DIV/0!"},{"$error":"#DIV/0!"},{"$error":"#DIV/0!"},"","",{"$error":"#DIV/0!"},0,{"$error":"#DIV/0!"},0,{"$error":"#DIV/0!"},{"$error":"#DIV/0!"},{"$error":"#DIV/0!"},{"$error":"#DIV/0!"},{"$error":"#DIV/0!"},{"$error":"#DIV/0!"},"","","",{"$error":"#DIV/0!"},0,{"$error":"#DIV/0!"},null,null,null,null,null,null,null,null,null,null,null,null,null,null,null,null,null,null,null,null,null,"1981-06-27",0,1.0389999999999999,null,"1989-06-26",0,5.4790000000000001,null,"2020-06-26",11.13,1.48858,13.83,1.42313,11.13,1.3620099999999999,null,"2030-06-26",10.77,1.52102,13.8,1.4368799999999999,10.77,1.35829,null,"2080-06-26",0,1.6832800000000001,13.66,1.50563,0,1.3397300000000001]
["1981-08-05",0,4.6070000000000002,8,1981,32,0,{"$f":"IF(B5364<Parameters!$A$16,B5364*Parameters!$B$16,IF(AND(B5364>Parameters!$A$16,B5364<Parameters!$A$17),B5364*Parameters!$B$17,B5364*Parameters!$B$18))","v":0},{"$f":"IF(B5364<Parameters!$A$20,B5364*Parameters!$B$20,IF(AND(B5364>Parameters!$A$20,B5364<Parameters!$A$21),B5364*Parameters!$B$21,B5364*Parameters!$B$22))","v":0},{"$error":"#DIV/0!"},"",0,"",0,4.6715161290322582,{"$error":"#DIV/0!"},{"$error":"#DIV/0!"},{"$f":"IF('Gegevens '!$G$20=\"Eigen waarden\",VLOOKUP($F5364,'Gegevens '!$A$25:$C$77,3,FALSE),VLOOKUP($F5364,Lijsten!$A$19:$B$71,2,FALSE))","v":35.235564143205707},{"$error":"#DIV/0!"},{"$error":"#DIV/0!"},{"$error":"#DIV/0!"},{"$error":"#DIV/0!"},{"$error":"#DIV/0!"},{"$error":"#DIV/0!"},{"$error":"#DIV/0!"},"","",{"$error":"#DIV/0!"},0,{"$error":"#DIV/0!"},0,{"$error":"#DIV/0!"},{"$error":"#DIV/0!"},{"$error":"#DIV/0!"},{"$error":"#DIV/0!"},{"$error":"#DIV/0!"},{"$error":"#DIV/0!"},"","","",{"$error":"#DIV/0!"},0,{"$error":"#DIV/0!"},null,null,null,null,null,null,null,null,null,null,null,null,null,null,null,null,null,null,null,null,null,"1981-08-05",0,4.6070000000000002,null,"1989-08-04",0,3.7090000000000001,null,"2020-08-04",0,4.8474899999999996,0,4.6536,0,4.4597100000000003,null,"2030-08-04",0,4.9862000000000002,0,4.73691,0,4.4876300000000002,null,"2080-08-04",0,5.6797599999999999,0,5.1534800000000001,0,4.6272099999999998]
["1981-11-18",3.6,0.40100000000000002,11,1981,47,3.6,{"$f":"IF(B5469<Parameters!$A$16,B5469*Parameters!$B$16,IF(AND(B5469>Parameters!$A$16,B5469<Parameters!$A$17),B5469*Parameters!$B$17,B5469*Parameters!$B$18))","v":3.42},{"$f":"IF(B5469<Parameters!$A$20,B5469*Parameters!$B$20,IF(AND(B5469>Parameters!$A$20,B5469<Parameters!$A$21),B5469*Parameters!$B$21,B5469*Parameters!$B$22))","v":2.7},{"$error":"#DIV/0!"},{"$error":"#DIV/0!"},{"$error":"#DIV/0!"},{"$error":"#DIV/0!"},{"$error":"#DIV/0!"},0.56766666666666665,{"$error":"#DIV/0!"},{"$error":"#DIV/0!"},{"$f":"IF('Gegevens '!$G$20=\"Eigen waarden\",VLOOKUP($F5469,'Gegevens '!$A$25:$C$77,3,FALSE),VLOOKUP($F5469,Lijsten!$A$19:$B$71,2,FALSE))","v":7.1842085238095237},{"$error":"#DIV/0!"},{"$error":"#DIV/0!"},{"$error":"#DIV/0!"},{"$error":"#DIV/0!"},{"$error":"#DIV/0!"},{"$error":"#DIV/0!"},{"$error":"#DIV/0!"},{"$error":"#DIV/0!"},{"$error":"#DIV/0!"},{"$error":"#DIV/0!"},{"$error":"#DIV/0!"},{"$error":"#DIV/0!"},{"$error":"#DIV/0!"},{"$error":"#DIV/0!"},{"$error":"#DIV/0!"},{"$error":"#DIV/0!"},{"$error":"#DIV/0!"},{"$error":"#DIV/0!"},{"$error":"#DIV/0!"},{"$error":"#DIV/0!"},{"$error":"#DIV/0!"},{"$error":"#DIV/0!"},{"$error":"#DIV/0!"},{"$error":"#DIV/0!"},0,null,null,null,null,null,null,null,null,null,null,null,null,null,null,null,null,null,null,null,null,null,"1981-11-18",3.6,0.40100000000000002,null,"1989-11-17",0,0.65300000000000002,null,"2020-11-17",1.59,0.23471,1.59,0.23471,1.59,0.21792,null,"2030-11-17",1.58,0.23891000000000001,1.58,0.23891000000000001,1.58,0.21733,null,"2080-11-17",0,0.25991999999999998,0,0.25991999999999998,0,0.21435999999999999]
["1981-12-31",14.1,0.433,12,1981,53,14.1,{"$f":"IF(B5512<Parameters!$A$16,B5512*Parameters!$B$16,IF(AND(B5512>Parameters!$A$16,B5512<Parameters!$A$17),B5512*Parameters!$B$17,B5512*Parameters!$B$18))","v":13.395},{"$f":"IF(B5512<Parameters!$A$20,B5512*Parameters!$B$20,IF(AND(B5512>Parameters!$A$20,B5512<Parameters!$A$21),B5512*Parameters!$B$21,B5512*Parameters!$B$22))","v":10.574999999999999},{"$error":"#DIV/0!"},{"$error":"#DIV/0!"},{"$error":"#DIV/0!"},{"$error":"#DIV/0!"},{"$error":"#DIV/0!"},0.49751612903225806,{"$error":"#DIV/0!"},{"$error":"#DIV/0!"},{"$f":"IF('Gegevens '!$G$20=\"Eigen waarden\",VLOOKUP($F5512,'Gegevens '!$A$25:$C$77,3,FALSE),VLOOKUP($F5512,Lijsten!$A$19:$B$71,2,FALSE))","v":0},{"$error":"#DIV/0!"},{"$error":"#DIV/0!"},{"$error":"#DIV/0!"},{"$error":"#DIV/0!"},{"$error":"#DIV/0!"},{"$error":"#DIV/0!"},"",{"$error":"#DIV/0!"},{"$error":"#DIV/0!"},{"$error":"#DIV/0!"},{"$error":"#DIV/0!"},{"$error":"#DIV/0!"},{"$error":"#DIV/0!"},{"$error":"#DIV/0!"},{"$error":"#DIV/0!"},{"$error":"#DIV/0!"},{"$error":"#DIV/0!"},{"$error":"#DIV/0!"},{"$error":"#DIV/0!"},{"$error":"#DIV/0!"},{"$error":"#DIV/0!"},{"$error":"#DIV/0!"},{"$error":"#DIV/0!"},{"$error":"#DIV/0!"},0,null,null,null,null,null,null,null,null,null,null,null,null,null,null,null,null,null,null,null,null,null,"1981-12-31",14.1,0.433,null,"1989-12-30",0,0,null,"2020-12-30",7.18,0.81981999999999999,6.14,0.76031000000000004,5.47,0.70055999999999996,null,"2030-12-30",7.42,0.85577000000000003,6.24,0.77925999999999995,5.44,0.70243,null,"2080-12-30",8.64,1.03552,6.73,0.87399000000000004,5.32,0.71179999999999999]
["1982-02-08",4.5,0.76700000000000002,2,1982,6,4.5,{"$f":"IF(B5551<Parameters!$A$16,B5551*Parameters!$B$16,IF(AND(B5551>Parameters!$A$16,B5551<Parameters!$A$17),B5551*Parameters!$B$17,B5551*Parameters!$B$18))","v":4.2749999999999995},{"$f":"IF(B5551<Parameters!$A$20,B5551*Parameters!$B$20,IF(AND(B5551>Parameters!$A$20,B5551<Parameters!$A$21),B5551*Parameters!$B$21,B5551*Parameters!$B$22))","v":3.375},{"$error":"#DIV/0!"},{"$error":"#DIV/0!"},{"$error":"#DIV/0!"},{"$error":"#DIV/0!"},{"$error":"#DIV/0!"},0.73128571428571432,{"$error":"#DIV/0!"},{"$error":"#DIV/0!"},{"$f":"IF('Gegevens '!$G$20=\"Eigen waarden\",VLOOKUP($F5551,'Gegevens '!$A$25:$C$77,3,FALSE),VLOOKUP($F5551,Lijsten!$A$19:$B$71,2,FALSE))","v":9.1430429772914277},{"$error":"#DIV/0!"},{"$error":"#DIV/0!"},{"$error":"#DIV/0!"},{"$error":"#DIV/0!"},{"$error":"#DIV/0!"},{"$error":"#DIV/0!"},{"$error":"#DIV/0!"},{"$error":"#DIV/0!"},{"$error":"#DIV/0!"},{"$error":"#DIV/0!"},{"$error":"#DIV/0!"},{"$error":"#DIV/0!"},{"$error":"#DIV/0!"},{"$error":"#DIV/0!"},{"$error":"#DIV/0!"},{"$error":"#DIV/0!"},{"$error":"#DIV/0!"},{"$error":"#DIV/0!"},{"$error":"#DIV/0!"},{"$error":"#DIV/0!"},{"$error":"#DIV/0!"},{"$error":"#DIV/0!"},{"$error":"#DIV/0!"},{"$error":"#DIV/0!"},0,null,null,null,null,null,null,null,null,null,null,null,null,null,null,null,null,null,null,null,null,null,"1982-02-08",4.5,0.76700000000000002,null,"1990-02-07",0.6,1.359,null,"2021-02-07",0,0.55215999999999998,0,0.52481999999999995,0,0.49764999999999998,null,"2031-02-07",0,0.56591999999999998,0,0.53076000000000001,0,0.49584,null,"2081-02-07",0,0.63471,0,0.5605,0,0.48676000000000003]
["1982-05-24",0,2.4369999999999998,5,1982,21,0,{"$f":"IF(B5656<Parameters!$A$16,B5656*Parameters!$B$16,IF(AND(B5656>Parameters!$A$16,B5656<Parameters!$A$17),B5656*Parameters!$B$17,B5656*Parameters!$B$18))","v":0},{"$f":"IF(B5656<Parameters!$A$20,B5656*Parameters!$B$20,IF(AND(B5656>Parameters!$A$20,B5656<Parameters!$A$21),B5656*Parameters!$B$21,B5656*Parameters!$B$22))","v":0},{"$error":"#DIV/0!"},"",0,"",0,2.2434516129032258,{"$error":"#DIV/0!"},{"$error":"#DIV/0!"},{"$f":"IF('Gegevens '!$G$20=\"Eigen waarden\",VLOOKUP($F5656,'Gegevens '!$A$25:$C$77,3,FALSE),VLOOKUP($F5656,Lijsten!$A$19:$B$71,2,FALSE))","v":38.569226396674274},{"$error":"#DIV/0!"},{"$error":"#DIV/0!"},{"$error":"#DIV/0!"},{"$error":"#DIV/0!"},{"$error":"#DIV/0!"},{"$error":"#DIV/0!"},{"$error":"#DIV/0!"},"","",{"$error":"#DIV/0!"},0,{"$error":"#DIV/0!"},0,{"$error":"#DIV/0!"},{"$error":"#DIV/0!"},{"$error":"#DIV/0!"},{"$error":"#DIV/0!"},{"$error":"#DIV/0!"},{"$error":"#DIV/0!"},"","","",{"$error":"#DIV/0!"},0,{"$error":"#DIV/0!"},null,null,null,null,null,null,null,null,null,null,null,null,null,null,null,null,null,null,null,null,null,"1982-05-24",0,2.4369999999999998,null,"1990-05-23",0,5.2720000000000002,null,"2021-05-23",6.74,2.6324100000000001,6.74,2.6324100000000001,6.74,2.51207,null,"2031-05-23",6.69,2.6622400000000002,6.69,2.6622400000000002,6.69,2.50752,null,"2081-05-23",6.53,2.8113899999999998,6.53,2.8113899999999998,6.53,2.4847700000000001]
["1982-07-06",0,3.5950000000000002,7,1982,27,0,{"$f":"IF(B5699<Parameters!$A$16,B5699*Parameters!$B$16,IF(AND(B5699>Parameters!$A$16,B5699<Parameters!$A$17),B5699*Parameters!$B$17,B5699*Parameters!$B$18))","v":0},{"$f":"IF(B5699<Parameters!$A$20,B5699*Parameters!$B$20,IF(AND(B5699>Parameters!$A$20,B5699<Parameters!$A$21),B5699*Parameters!$B$21,B5699*Parameters!$B$22))","v":0},{"$error":"#DIV/0!"},"",0,"",0,3.5627419354838712,{"$error":"#DIV/0!"},{"$error":"#DIV/0!"},{"$f":"IF('Gegevens '!$G$20=\"Eigen waarden\",VLOOKUP($F5699,'Gegevens '!$A$25:$C$77,3,FALSE),VLOOKUP($F5699,Lijsten!$A$19:$B$71,2,FALSE))","v":44.20203263918858},{"$error":"#DIV/0!"},{"$error":"#DIV/0!"},{"$error":"#DIV/0!"},{"$error":"#DIV/0!"},{"$error":"#DIV/0!"},{"$error":"#DIV/0!"},{"$error":"#DIV/0!"},"","",{"$error":"#DIV/0!"},0,{"$error":"#DIV/0!"},0,{"$error":"#DIV/0!"},{"$error":"#DIV/0!"},{"$error":"#DIV/0!"},{"$error":"#DIV/0!"},{"$error":"#DIV/0!"},{"$error":"#DIV/0!"},"","","",{"$error":"#DIV/0!"},0,{"$error":"#DIV/0!"},null,null,null,null,null,null,null,null,null,null,null,null,null,null,null,null,null,null,null,null,null,"1982-07-06",0,3.5950000000000002,null,"1990-07-05",4.3,1.893,null,"2021-07-05",0,4.0509300000000001,0,3.9085999999999999,0,3.7662599999999999,null,"2031-07-05",0,4.1423399999999999,0,3.9593400000000001,0,3.7763300000000002,null,"2081-07-05",0,4.5993899999999996,0,4.21305,0,3.8267000000000002]
["1982-08-28",0,3.2170000000000001,8,1982,34,0,{"$f":"IF(B5752<Parameters!$A$16,B5752*Parameters!$B$16,IF(AND(B5752>Parameters!$A$16,B5752<Parameters!$A$17),B5752*Parameters!$B$17,B5752*Parameters!$B$18))","v":0},{"$f":"IF(B5752<Parameters!$A$20,B5752*Parameters!$B$20,IF(AND(B5752>Parameters!$A$20,B5752<Parameters!$A$21),B5752*Parameters!$B$21,B5752*Parameters!$B$22))","v":0},{"$error":"#DIV/0!"},"",0,"",0,3.2815161290322581,{"$error":"#DIV/0!"},{"$error":"#DIV/0!"},{"$f":"IF('Gegevens '!$G$20=\"Eigen waarden\",VLOOKUP($F5752,'Gegevens '!$A$25:$C$77,3,FALSE),VLOOKUP($F5752,Lijsten!$A$19:$B$71,2,FALSE))","v":32.292939745809527},{"$error":"#DIV/0!"},{"$error":"#DIV/0!"},{"$error":"#DIV/0!"},{"$error":"#DIV/0!"},{"$error":"#DIV/0!"},{"$error":"#DIV/0!"},{"$error":"#DIV/0!"},"","",{"$error":"#DIV/0!"},0,{"$error":"#DIV/0!"},0,{"$error":"#DIV/0!"},{"$error":"#DIV/0!"},{"$error":"#DIV/0!"},{"$error":"#DIV/0!"},{"$error":"#DIV/0!"},{"$error":"#DIV/0!"},"","","",{"$error":"#DIV/0!"},0,{"$error":"#DIV/0!"},null,null,null,null,null,null,null,null,null,null,null,null,null,null,null,null,null,null,null,null,null,"1982-08-28",0,3.2170000000000001,null,"1990-08-27",0,3.556,null,"2021-08-27",0.24,2.71157,0.32,2.60311,0.24,2.4946600000000001,null,"2031-08-27",0.23,2.7891599999999999,0.31,2.6497199999999999,0.23,2.5102699999999998,null,"2081-08-27",0.14000000000000001,3.1771199999999999,0,2.8827400000000001,0.14000000000000001,2.5883500000000002]
["1982-12-02",0,7.6999999999999999E-2,12,1982,48,0,{"$f":"IF(B5848<Parameters!$A$16,B5848*Parameters!$B$16,IF(AND(B5848>Parameters!$A$16,B5848<Parameters!$A$17),B5848*Parameters!$B$17,B5848*Parameters!$B$18))","v":0},{"$f":"IF(B5848<Parameters!$A$20,B5848*Parameters!$B$20,IF(AND(B5848>Parameters!$A$20,B5848<Parameters!$A$21),B5848*Parameters!$B$21,B5848*Parameters!$B$22))","v":0},{"$error":"#DIV/0!"},"",0,"",0,0.14151612903225808,{"$error":"#DIV/0!"},{"$error":"#DIV/0!"},{"$f":"IF('Gegevens '!$G$20=\"Eigen waarden\",VLOOKUP($F5848,'Gegevens '!$A$25:$C$77,3,FALSE),VLOOKUP($F5848,Lijsten!$A$19:$B$71,2,FALSE))","v":8.6779285714285717},{"$error":"#DIV/0!"},{"$error":"#DIV/0!"},{"$error":"#DIV/0!"},{"$error":"#DIV/0!"},{"$error":"#DIV/0!"},{"$error":"#DIV/0!"},{"$error":"#DIV/0!"},"","",{"$error":"#DIV/0!"},0,{"$error":"#DIV/0!"},0,{"$error":"#DIV/0!"},{"$error":"#DIV/0!"},{"$error":"#DIV/0!"},{"$error":"#DIV/0!"},{"$error":"#DIV/0!"},{"$error":"#DIV/0!"},"","","",{"$error":"#DIV/0!"},{"$error":"#DIV/0!"},0,null,null,null,null,null,null,null,null,null,null,null,null,null,null,null,null,null,null,null,null,null,"1982-12-02",0,7.6999999999999999E-2,null,"1990-12-01",1.3,6.8000000000000005E-2,null,"2021-12-01",0,0.16774,0,0.15557000000000001,0,0.14334,null,"2031-12-01",0,0.17510000000000001,0,0.15944,0,0.14373,null,"2081-12-01",0,0.21188000000000001,0,0.17882999999999999,0,0.14563999999999999]
["1983-01-10",0.9,0.36799999999999999,1,1983,2,0.9,{"$f":"IF(B5887<Parameters!$A$16,B5887*Parameters!$B$16,IF(AND(B5887>Parameters!$A$16,B5887<Parameters!$A$17),B5887*Parameters!$B$17,B5887*Parameters!$B$18))","v":0},{"$f":"IF(B5887<Parameters!$A$20,B5887*Parameters!$B$20,IF(AND(B5887>Parameters!$A$20,B5887<Parameters!$A$21),B5887*Parameters!$B$21,B5887*Parameters!$B$22))","v":0},{"$error":"#DIV/0!"},{"$error":"#DIV/0!"},{"$error":"#DIV/0!"},{"$error":"#DIV/0!"},{"$error":"#DIV/0!"},0.43251612903225806,{"$error":"#DIV/0!"},{"$error":"#DIV/0!"},{"$f":"IF('Gegevens '!$G$20=\"Eigen waarden\",VLOOKUP($F5887,'Gegevens '!$A$25:$C$77,3,FALSE),VLOOKUP($F5887,Lijsten!$A$19:$B$71,2,FALSE))","v":4.3012032855657143},{"$error":"#DIV/0!"},{"$error":"#DIV/0!"},{"$error":"#DIV/0!"},{"$error":"#DIV/0!"},{"$error":"#DIV/0!"},{"$error":"#DIV/0!"},{"$error":"#DIV/0!"},{"$error":"#DIV/0!"},{"$error":"#DIV/0!"},{"$error":"#DIV/0!"},{"$error":"#DIV/0!"},{"$error":"#DIV/0!"},{"$error":"#DIV/0!"},{"$error":"#DIV/0!"},{"$error":"#DIV/0!"},{"$error":"#DIV/0!"},{"$error":"#DIV/0!"},{"$error":"#DIV/0!"},{"$error":"#DIV/0!"},{"$error":"#DIV/0!"},{"$error":"#DIV/0!"},{"$error":"#DIV/0!"},{"$error":"#DIV/0!"},{"$error":"#DIV/0!"},0,null,null,null,null,null,null,null,null,null,null,null,null,null,null,null,null,null,null,null,null,null,"1983-01-10",0.9,0.36799999999999999,null,"1991-01-09",3.9,0.68100000000000005,null,"2022-01-09",0.75,0.33449000000000001,0.63,0.31412000000000001,0.55000000000000004,0.29375000000000001,null,"2032-01-09",0.78,0.34692000000000001,0.64,0.32073000000000002,0.54,0.29454000000000002,null,"2082-01-09",0.95,0.40904000000000001,0.68,0.35375000000000001,0.49,0.29846]
["1983-04-25",4.7,2.0449999999999999,4,1983,17,4.7,{"$f":"IF(B5992<Parameters!$A$16,B5992*Parameters!$B$16,IF(AND(B5992>Parameters!$A$16,B5992<Parameters!$A$17),B5992*Parameters!$B$17,B5992*Parameters!$B$18))","v":4.4649999999999999},{"$f":"IF(B5992<Parameters!$A$20,B5992*Parameters!$B$20,IF(AND(B5992>Parameters!$A$20,B5992<Parameters!$A$21),B5992*Parameters!$B$21,B5992*Parameters!$B$22))","v":3.5250000000000004},{"$error":"#DIV/0!"},{"$error":"#DIV/0!"},{"$error":"#DIV/0!"},{"$error":"#DIV/0!"},{"$error":"#DIV/0!"},1.8783333333333332,{"$error":"#DIV/0!"},{"$error":"#DIV/0!"},{"$f":"IF('Gegevens '!$G$20=\"Eigen waarden\",VLOOKUP($F5992,'Gegevens '!$A$25:$C$77,3,FALSE),VLOOKUP($F5992,Lijsten!$A$19:$B$71,2,FALSE))","v":34.009844090885714},{"$error":"#DIV/0!"},{"$error":"#DIV/0!"},{"$error":"#DIV/0!"},{"$error":"#DIV/0!"},{"$error":"#DIV/0!"},{"$error":"#DIV/0!"},{"$error":"#DIV/0!"},{"$error":"#DIV/0!"},{"$error":"#DIV/0!"},{"$error":"#DIV/0!"},{"$error":"#DIV/0!"},{"$error":"#DIV/0!"},{"$error":"#DIV/0!"},{"$error":"#DIV/0!"},{"$error":"#DIV/0!"},{"$error":"#DIV/0!"},{"$error":"#DIV/0!"},{"$error":"#DIV/0!"},{"$error":"#DIV/0!"},{"$error":"#DIV/0!"},{"$error":"#DIV/0!"},{"$error":"#DIV/0!"},{"$error":"#DIV/0!"},0,{"$error":"#DIV/0!"},null,null,null,null,null,null,null,null,null,null,null,null,null,null,null,null,null,null,null,null,null,"1983-04-25",4.7,2.0449999999999999,null,"1991-04-24",0,1.996,null,"2022-04-24",0.12,3.8288199999999999,0.12,3.8288199999999999,0.12,3.6633800000000001,null,"2032-04-23",0.12,3.85934,0.12,3.85934,0.12,3.64663,null,"2082-04-24",0.12,4.0119400000000001,0.12,4.0119400000000001,0.12,3.5628799999999998]
["1983-06-07",0.2,6.28,6,1983,23,0.2,{"$f":"IF(B6035<Parameters!$A$16,B6035*Parameters!$B$16,IF(AND(B6035>Parameters!$A$16,B6035<Parameters!$A$17),B6035*Parameters!$B$17,B6035*Parameters!$B$18))","v":0},{"$f":"IF(B6035<Parameters!$A$20,B6035*Parameters!$B$20,IF(AND(B6035>Parameters!$A$20,B6035<Parameters!$A$21),B6035*Parameters!$B$21,B6035*Parameters!$B$22))","v":0},{"$error":"#DIV/0!"},{"$error":"#DIV/0!"},{"$error":"#DIV/0!"},{"$error":"#DIV/0!"},{"$error":"#DIV/0!"},6.1466666666666665,{"$error":"#DIV/0!"},{"$error":"#DIV/0!"},{"$f":"IF('Gegevens '!$G$20=\"Eigen waarden\",VLOOKUP($F6035,'Gegevens '!$A$25:$C$77,3,FALSE),VLOOKUP($F6035,Lijsten!$A$19:$B$71,2,FALSE))","v":40.291810686080005},{"$error":"#DIV/0!"},{"$error":"#DIV/0!"},{"$error":"#DIV/0!"},{"$error":"#DIV/0!"},{"$error":"#DIV/0!"},{"$error":"#DIV/0!"},{"$error":"#DIV/0!"},{"$error":"#DIV/0!"},{"$error":"#DIV/0!"},{"$error":"#DIV/0!"},{"$error":"#DIV/0!"},{"$error":"#DIV/0!"},{"$error":"#DIV/0!"},{"$error":"#DIV/0!"},{"$error":"#DIV/0!"},{"$error":"#DIV/0!"},{"$error":"#DIV/0!"},{"$error":"#DIV/0!"},{"$error":"#DIV/0!"},{"$error":"#DIV/0!"},{"$error":"#DIV/0!"},{"$error":"#DIV/0!"},{"$error":"#DIV/0!"},0,{"$error":"#DIV/0!"},null,null,null,null,null,null,null,null,null,null,null,null,null,null,null,null,null,null,null,null,null,"1983-06-07",0.2,6.28,null,"1991-06-06",1.7,1.4059999999999999,null,"2022-06-06",0,5.94564,0,5.6842199999999998,0,5.4401000000000002,null,"2032-06-05",0,6.0752499999999996,0,5.7391399999999999,0,5.4252700000000003,null,"2082-06-06",0,6.7233099999999997,0,6.0137400000000003,0,5.3511300000000004]
["1983-07-16",0,5.22,7,1983,28,0,{"$f":"IF(B6074<Parameters!$A$16,B6074*Parameters!$B$16,IF(AND(B6074>Parameters!$A$16,B6074<Parameters!$A$17),B6074*Parameters!$B$17,B6074*Parameters!$B$18))","v":0},{"$f":"IF(B6074<Parameters!$A$20,B6074*Parameters!$B$20,IF(AND(B6074>Parameters!$A$20,B6074<Parameters!$A$21),B6074*Parameters!$B$21,B6074*Parameters!$B$22))","v":0},{"$error":"#DIV/0!"},"",0,"",0,5.1877419354838707,{"$error":"#DIV/0!"},{"$error":"#DIV/0!"},{"$f":"IF('Gegevens '!$G$20=\"Eigen waarden\",VLOOKUP($F6074,'Gegevens '!$A$25:$C$77,3,FALSE),VLOOKUP($F6074,Lijsten!$A$19:$B$71,2,FALSE))","v":37.93215799035999},{"$error":"#DIV/0!"},{"$error":"#DIV/0!"},{"$error":"#DIV/0!"},{"$error":"#DIV/0!"},{"$error":"#DIV/0!"},{"$error":"#DIV/0!"},{"$error":"#DIV/0!"},"","",{"$error":"#DIV/0!"},0,{"$error":"#DIV/0!"},0,{"$error":"#DIV/0!"},{"$error":"#DIV/0!"},{"$error":"#DIV/0!"},{"$error":"#DIV/0!"},{"$error":"#DIV/0!"},{"$error":"#DIV/0!"},"","","",{"$error":"#DIV/0!"},0,{"$error":"#DIV/0!"},null,null,null,null,null,null,null,null,null,null,null,null,null,null,null,null,null,null,null,null,null,"1983-07-16",0,5.22,null,"1991-07-15",0,1.6619999999999999,null,"2022-07-15",0,5.56447,0,5.3689499999999999,0,5.1734299999999998,null,"2032-07-14",0,5.6900300000000001,0,5.43865,0,5.1872699999999998,null,"2082-07-15",0,6.3178400000000003,0,5.7871499999999996,0,5.2564599999999997]
["1983-10-29",0.3,0.84099999999999997,{"$f":"MONTH(A6179)","v":10},1983,{"$f":"INT((A6179-DATE(YEAR(A6179-WEEKDAY(A6179-1)+4),1,3)+WEEKDAY(DATE(YEAR(A6179-WEEKDAY(A6179-1)+4),1,3))+5)/7)","v":43},0.3,{"$f":"IF(B6179<Parameters!$A$16,B6179*Parameters!$B$16,IF(AND(B6179>Parameters!$A$16,B6179<Parameters!$A$17),B6179*Parameters!$B$17,B6179*Parameters!$B$18))","v":0},{"$f":"IF(B6179<Parameters!$A$20,B6179*Parameters!$B$20,IF(AND(B6179>Parameters!$A$20,B6179<Parameters!$A$21),B6179*Parameters!$B$21,B6179*Parameters!$B$22))","v":0},{"$error":"#DIV/0!"},{"$f":"IF(B6179=0,\"\",SUM(J6179/(B6179*10)))","v":{"$error":"#DIV/0!"}},{"$error":"#DIV/0!"},{"$f":"IF(B6179=0,\"\",L6179/J6179)","v":{"$error":"#DIV/0!"}},{"$f":"IF(B6179=0,0,SUM(J6179-L6179))","v":{"$error":"#DIV/0!"}},{"$f":"IF(OR($D6179=1,$D6179=12,$D6179=8),C6179+(2/31),IF($D6179=2,C6179-(1/28),IF($D6179=3,C6179-(3/31),IF($D6179=4,C6179-(5/30),IF($D6179=5,C6179-(6/31),IF($D6179=6,C6179-(4/30),IF($D6179=7,C6179-(1/31),IF($D6179=9,C6179+(4/30),IF($D6179=10,C6179+(5/31),IF($D6179=11,C6179+(5/30)))))))))))","v":1.0022903225806452},{"$f":"-(($BH$3-$BI$3)*($AN$3+$AK$3-U6179)/($AK$3)-$BH$3)","v":{"$error":"#DIV/0!"}},{"$error":"#DIV/0!"},{"$f":"IF('Gegevens '!$G$20=\"Eigen waarden\",VLOOKUP($F6179,'Gegevens '!$A$25:$C$77,3,FALSE),VLOOKUP($F6179,Lijsten!$A$19:$B$71,2,FALSE))","v":15.056100159581629},{"$error":"#DIV/0!"},{"$error":"#DIV/0!"},{"$error":"#DIV/0!"},{"$error":"#DIV/0!"},{"$error":"#DIV/0!"},{"$error":"#DIV/0!"},{"$f":"IF(R6179=0,\"\",((R6179-W6179)/R6179))","v":{"$error":"#DIV/0!"}},{"$f":"IF(B6179=0,\"\",X6179/(B6179*10))","v":{"$error":"#DIV/0!"}},{"$error":"#DIV/0!"},{"$f":"J6179/10","v":{"$error":"#DIV/0!"}},{"$f":"L6179/10","v":{"$error":"#DIV/0!"}},{"$f":"X6179/10","v":{"$error":"#DIV/0!"}},{"$error":"#DIV/0!"},{"$error":"#DIV/0!"},{"$error":"#DIV/0!"},{"$f":"(R6179-W6179)/10","v":{"$error":"#DIV/0!"}},{"$f":"SUM(AC6179-AF6179-AG6179-AD6179)","v":{"$error":"#DIV/0!"}},{"$f":"IF(AB6179=0,\"\",AE6179/AB6179)","v":{"$error":"#DIV/0!"}},{"$error":"#DIV/0!"},{"$f":"IF(AC6179=0,\"\",AG6179/AC6179)","v":{"$error":"#DIV/0!"}},{"$f":"IF(AC6179=0,\"\",AD6179/AC6179)","v":{"$error":"#DIV/0!"}},{"$f":"IF(AC6179=0,\"\",AI6179/AC6179)","v":{"$error":"#DIV/0!"}},{"$error":"#DIV/0!"},{"$error":"#DIV/0!"},0,null,null,null,null,null,null,null,null,null,null,null,null,null,null,null,null,null,null,null,null,null,"1983-10-29",0.3,0.84099999999999997,null,"1991-10-28",0,0.70399999999999996,null,"2022-10-28",1.18,0.48327999999999999,1.18,0.48327999999999999,1.18,0.45443,null,"2032-10-27",1.18,0.49193999999999999,1.18,0.49193999999999999,1.18,0.45483000000000001,null,"2082-10-28",1.1599999999999999,0.53520000000000001,1.1599999999999999,0.53520000000000001,1.1599999999999999,0.45687]
["1983-12-11",2.9,0.154,12,1983,49,2.9,{"$f":"IF(B6222<Parameters!$A$16,B6222*Parameters!$B$16,IF(AND(B6222>Parameters!$A$16,B6222<Parameters!$A$17),B6222*Parameters!$B$17,B6222*Parameters!$B$18))","v":2.7549999999999999},{"$f":"IF(B6222<Parameters!$A$20,B6222*Parameters!$B$20,IF(AND(B6222>Parameters!$A$20,B6222<Parameters!$A$21),B6222*Parameters!$B$21,B6222*Parameters!$B$22))","v":2.1749999999999998},{"$error":"#DIV/0!"},{"$error":"#DIV/0!"},{"$error":"#DIV/0!"},{"$error":"#DIV/0!"},{"$error":"#DIV/0!"},0.21851612903225806,{"$error":"#DIV/0!"},{"$error":"#DIV/0!"},{"$f":"IF('Gegevens '!$G$20=\"Eigen waarden\",VLOOKUP($F6222,'Gegevens '!$A$25:$C$77,3,FALSE),VLOOKUP($F6222,Lijsten!$A$19:$B$71,2,FALSE))","v":3.2736734693877558},{"$error":"#DIV/0!"},{"$error":"#DIV/0!"},{"$error":"#DIV/0!"},{"$error":"#DIV/0!"},{"$error":"#DIV/0!"},{"$error":"#DIV/0!"},{"$error":"#DIV/0!"},{"$error":"#DIV/0!"},{"$error":"#DIV/0!"},{"$error":"#DIV/0!"},{"$error":"#DIV/0!"},{"$error":"#DIV/0!"},{"$error":"#DIV/0!"},{"$error":"#DIV/0!"},{"$error":"#DIV/0!"},{"$error":"#DIV/0!"},{"$error":"#DIV/0!"},{"$error":"#DIV/0!"},{"$error":"#DIV/0!"},{"$error":"#DIV/0!"},{"$error":"#DIV/0!"},{"$error":"#DIV/0!"},{"$error":"#DIV/0!"},{"$error":"#DIV/0!"},0,null,null,null,null,null,null,null,null,null,null,null,null,null,null,null,null,null,null,null,null,null,"1983-12-11",2.9,0.154,null,"1991-12-10",0,0,null,"2022-12-10",5.86,0.2717,5.0599999999999996,0.25197999999999998,4.5599999999999996,0.23216999999999999,null,"2032-12-09",6.04,0.28360999999999997,5.14,0.25825999999999999,4.55,0.23279,null,"2082-12-10",6.94,0.34317999999999999,5.52,0.28965000000000002,4.46,0.2359]
["1984-03-25",1.8,1.542,3,1984,12,1.8,{"$f":"IF(B6327<Parameters!$A$16,B6327*Parameters!$B$16,IF(AND(B6327>Parameters!$A$16,B6327<Parameters!$A$17),B6327*Parameters!$B$17,B6327*Parameters!$B$18))","v":1.4400000000000002},{"$f":"IF(B6327<Parameters!$A$20,B6327*Parameters!$B$20,IF(AND(B6327>Parameters!$A$20,B6327<Parameters!$A$21),B6327*Parameters!$B$21,B6327*Parameters!$B$22))","v":1.08},{"$error":"#DIV/0!"},{"$error":"#DIV/0!"},{"$error":"#DIV/0!"},{"$error":"#DIV/0!"},{"$error":"#DIV/0!"},1.445225806451613,{"$error":"#DIV/0!"},{"$error":"#DIV/0!"},{"$f":"IF('Gegevens '!$G$20=\"Eigen waarden\",VLOOKUP($F6327,'Gegevens '!$A$25:$C$77,3,FALSE),VLOOKUP($F6327,Lijsten!$A$19:$B$71,2,FALSE))","v":22.555070739851423},{"$error":"#DIV/0!"},{"$error":"#DIV/0!"},{"$error":"#DIV/0!"},{"$error":"#DIV/0!"},{"$error":"#DIV/0!"},{"$error":"#DIV/0!"},{"$error":"#DIV/0!"},{"$error":"#DIV/0!"},{"$error":"#DIV/0!"},{"$error":"#DIV/0!"},{"$error":"#DIV/0!"},{"$error":"#DIV/0!"},{"$error":"#DIV/0!"},{"$error":"#DIV/0!"},{"$error":"#DIV/0!"},{"$error":"#DIV/0!"},{"$error":"#DIV/0!"},{"$error":"#DIV/0!"},{"$error":"#DIV/0!"},{"$error":"#DIV/0!"},{"$error":"#DIV/0!"},{"$error":"#DIV/0!"},{"$error":"#DIV/0!"},{"$error":"#DIV/0!"},0,null,null,null,null,null,null,null,null,null,null,null,null,null,null,null,null,null,null,null,null,null,"1984-03-25",1.8,1.542,null,"1992-03-24",0.1,1.2410000000000001,null,"2023-03-25",4.2699999999999996,1.05992,4.2699999999999996,1.05992,4.2699999999999996,0.99670999999999998,null,"2033-03-24",4.32,1.0627599999999999,4.32,1.0627599999999999,4.32,0.98148999999999997,null,"2083-03-25",4.55,1.0769299999999999,4.55,1.0769299999999999,4.55,0.90536000000000005]
["1984-05-07",0,3.2370000000000001,5,1984,19,0,{"$f":"IF(B6370<Parameters!$A$16,B6370*Parameters!$B$16,IF(AND(B6370>Parameters!$A$16,B6370<Parameters!$A$17),B6370*Parameters!$B$17,B6370*Parameters!$B$18))","v":0},{"$f":"IF(B6370<Parameters!$A$20,B6370*Parameters!$B$20,IF(AND(B6370>Parameters!$A$20,B6370<Parameters!$A$21),B6370*Parameters!$B$21,B6370*Parameters!$B$22))","v":0},{"$error":"#DIV/0!"},"",0,"",0,3.0434516129032261,{"$error":"#DIV/0!"},{"$error":"#DIV/0!"},{"$f":"IF('Gegevens '!$G$20=\"Eigen waarden\",VLOOKUP($F6370,'Gegevens '!$A$25:$C$77,3,FALSE),VLOOKUP($F6370,Lijsten!$A$19:$B$71,2,FALSE))","v":36.149555012451422},{"$error":"#DIV/0!"},{"$error":"#DIV/0!"},{"$error":"#DIV/0!"},{"$error":"#DIV/0!"},{"$error":"#DIV/0!"},{"$error":"#DIV/0!"},{"$error":"#DIV/0!"},"","",{"$error":"#DIV/0!"},0,{"$error":"#DIV/0!"},0,{"$error":"#DIV/0!"},{"$error":"#DIV/0!"},{"$error":"#DIV/0!"},{"$error":"#DIV/0!"},{"$error":"#DIV/0!"},{"$error":"#DIV/0!"},"","","",{"$error":"#DIV/0!"},0,{"$error":"#DIV/0!"},null,null,null,null,null,null,null,null,null,null,null,null,null,null,null,null,null,null,null,null,null,"1984-05-07",0,3.2370000000000001,null,"1992-05-06",0.2,3.7549999999999999,null,"2023-05-07",17.43,0.80491999999999997,17.43,0.80491999999999997,17.43,0.76812999999999998,null,"2033-05-06",17.53,0.81405000000000005,17.53,0.81405000000000005,17.53,0.76673999999999998,null,"2083-05-07",18.11,0.85965000000000003,18.11,0.85965000000000003,18.11,0.75978000000000001]
["1984-06-18",0,4.367,6,1984,25,0,{"$f":"IF(B6412<Parameters!$A$16,B6412*Parameters!$B$16,IF(AND(B6412>Parameters!$A$16,B6412<Parameters!$A$17),B6412*Parameters!$B$17,B6412*Parameters!$B$18))","v":0},{"$f":"IF(B6412<Parameters!$A$20,B6412*Parameters!$B$20,IF(AND(B6412>Parameters!$A$20,B6412<Parameters!$A$21),B6412*Parameters!$B$21,B6412*Parameters!$B$22))","v":0},{"$error":"#DIV/0!"},"",0,"",0,4.2336666666666662,{"$error":"#DIV/0!"},{"$error":"#DIV/0!"},{"$f":"IF('Gegevens '!$G$20=\"Eigen waarden\",VLOOKUP($F6412,'Gegevens '!$A$25:$C$77,3,FALSE),VLOOKUP($F6412,Lijsten!$A$19:$B$71,2,FALSE))","v":41.801906897514279},{"$error":"#DIV/0!"},{"$error":"#DIV/0!"},{"$error":"#DIV/0!"},{"$error":"#DIV/0!"},{"$error":"#DIV/0!"},{"$error":"#DIV/0!"},{"$error":"#DIV/0!"},"","",{"$error":"#DIV/0!"},0,{"$error":"#DIV/0!"},0,{"$error":"#DIV/0!"},{"$error":"#DIV/0!"},{"$error":"#DIV/0!"},{"$error":"#DIV/0!"},{"$error":"#DIV/0!"},{"$error":"#DIV/0!"},"","","",{"$error":"#DIV/0!"},0,{"$error":"#DIV/0!"},null,null,null,null,null,null,null,null,null,null,null,null,null,null,null,null,null,null,null,null,null,"1984-06-18",0,4.367,null,"1992-06-17",0,6.1909999999999998,null,"2023-06-18",0,5.6208600000000004,0,5.3737199999999996,0,5.1429400000000003,null,"2033-06-17",0,5.7433899999999998,0,5.4256399999999996,0,5.1289199999999999,null,"2083-06-18",0,6.3560499999999998,0,5.6852400000000003,0,5.0588300000000004]
["1984-09-29",2.4,1.5609999999999999,9,1984,39,2.4,{"$f":"IF(B6515<Parameters!$A$16,B6515*Parameters!$B$16,IF(AND(B6515>Parameters!$A$16,B6515<Parameters!$A$17),B6515*Parameters!$B$17,B6515*Parameters!$B$18))","v":2.2799999999999998},{"$f":"IF(B6515<Parameters!$A$20,B6515*Parameters!$B$20,IF(AND(B6515>Parameters!$A$20,B6515<Parameters!$A$21),B6515*Parameters!$B$21,B6515*Parameters!$B$22))","v":1.7999999999999998},{"$error":"#DIV/0!"},{"$error":"#DIV/0!"},{"$error":"#DIV/0!"},{"$error":"#DIV/0!"},{"$error":"#DIV/0!"},1.6943333333333332,{"$error":"#DIV/0!"},{"$error":"#DIV/0!"},{"$f":"IF('Gegevens '!$G$20=\"Eigen waarden\",VLOOKUP($F6515,'Gegevens '!$A$25:$C$77,3,FALSE),VLOOKUP($F6515,Lijsten!$A$19:$B$71,2,FALSE))","v":23.128696279329191},{"$error":"#DIV/0!"},{"$error":"#DIV/0!"},{"$error":"#DIV/0!"},{"$error":"#DIV/0!"},{"$error":"#DIV/0!"},{"$error":"#DIV/0!"},{"$error":"#DIV/0!"},{"$error":"#DIV/0!"},{"$error":"#DIV/0!"},{"$error":"#DIV/0!"},{"$error":"#DIV/0!"},{"$error":"#DIV/0!"},{"$error":"#DIV/0!"},{"$error":"#DIV/0!"},{"$error":"#DIV/0!"},{"$error":"#DIV/0!"},{"$error":"#DIV/0!"},{"$error":"#DIV/0!"},{"$error":"#DIV/0!"},{"$error":"#DIV/0!"},{"$error":"#DIV/0!"},{"$error":"#DIV/0!"},{"$error":"#DIV/0!"},0,{"$error":"#DIV/0!"},null,null,null,null,null,null,null,null,null,null,null,null,null,null,null,null,null,null,null,null,null,"1984-09-29",2.4,1.5609999999999999,null,"1992-09-28",0,2.3119999999999998,null,"2023-09-29",0,2.5892400000000002,0,2.5892400000000002,0,2.48136,null,"2033-09-28",0,2.6356000000000002,0,2.6356000000000002,0,2.4969000000000001,null,"2083-09-29",0,2.8673799999999998,0,2.8673799999999998,0,2.57456]
["1984-11-11",0,0.73399999999999999,11,1984,45,0,{"$f":"IF(B6558<Parameters!$A$16,B6558*Parameters!$B$16,IF(AND(B6558>Parameters!$A$16,B6558<Parameters!$A$17),B6558*Parameters!$B$17,B6558*Parameters!$B$18))","v":0},{"$f":"IF(B6558<Parameters!$A$20,B6558*Parameters!$B$20,IF(AND(B6558>Parameters!$A$20,B6558<Parameters!$A$21),B6558*Parameters!$B$21,B6558*Parameters!$B$22))","v":0},{"$error":"#DIV/0!"},"",0,"",0,0.90066666666666662,{"$error":"#DIV/0!"},{"$error":"#DIV/0!"},{"$f":"IF('Gegevens '!$G$20=\"Eigen waarden\",VLOOKUP($F6558,'Gegevens '!$A$25:$C$77,3,FALSE),VLOOKUP($F6558,Lijsten!$A$19:$B$71,2,FALSE))","v":11.050358269480521},{"$error":"#DIV/0!"},{"$error":"#DIV/0!"},{"$error":"#DIV/0!"},{"$error":"#DIV/0!"},{"$error":"#DIV/0!"},{"$error":"#DIV/0!"},{"$error":"#DIV/0!"},"","",{"$error":"#DIV/0!"},0,{"$error":"#DIV/0!"},0,{"$error":"#DIV/0!"},{"$error":"#DIV/0!"},{"$error":"#DIV/0!"},{"$error":"#DIV/0!"},{"$error":"#DIV/0!"},{"$error":"#DIV/0!"},"","","",{"$error":"#DIV/0!"},{"$error":"#DIV/0!"},0,null,null,null,null,null,null,null,null,null,null,null,null,null,null,null,null,null,null,null,null,null,"1984-11-11",0,0.73399999999999999,null,"1992-11-10",3.3,0.44500000000000001,null,"2023-11-11",0,0.72226000000000001,0,0.72226000000000001,0,0.67059999999999997,null,"2033-11-10",0,0.73519000000000001,0,0.73519000000000001,0,0.66876999999999998,null,"2083-11-11",0,0.79984,0,0.79984,0,0.65963000000000005]
["1984-12-20",4.0999999999999996,0.496,12,1984,51,4.0999999999999996,{"$f":"IF(B6597<Parameters!$A$16,B6597*Parameters!$B$16,IF(AND(B6597>Parameters!$A$16,B6597<Parameters!$A$17),B6597*Parameters!$B$17,B6597*Parameters!$B$18))","v":3.8949999999999996},{"$f":"IF(B6597<Parameters!$A$20,B6597*Parameters!$B$20,IF(AND(B6597>Parameters!$A$20,B6597<Parameters!$A$21),B6597*Parameters!$B$21,B6597*Parameters!$B$22))","v":3.0749999999999997},{"$error":"#DIV/0!"},{"$error":"#DIV/0!"},{"$error":"#DIV/0!"},{"$error":"#DIV/0!"},{"$error":"#DIV/0!"},0.560516129032258,{"$error":"#DIV/0!"},{"$error":"#DIV/0!"},{"$f":"IF('Gegevens '!$G$20=\"Eigen waarden\",VLOOKUP($F6597,'Gegevens '!$A$25:$C$77,3,FALSE),VLOOKUP($F6597,Lijsten!$A$19:$B$71,2,FALSE))","v":6.588010204081634},{"$error":"#DIV/0!"},{"$error":"#DIV/0!"},{"$error":"#DIV/0!"},{"$error":"#DIV/0!"},{"$error":"#DIV/0!"},{"$error":"#DIV/0!"},{"$error":"#DIV/0!"},{"$error":"#DIV/0!"},{"$error":"#DIV/0!"},{"$error":"#DIV/0!"},{"$error":"#DIV/0!"},{"$error":"#DIV/0!"},{"$error":"#DIV/0!"},{"$error":"#DIV/0!"},{"$error":"#DIV/0!"},{"$error":"#DIV/0!"},{"$error":"#DIV/0!"},{"$error":"#DIV/0!"},{"$error":"#DIV/0!"},{"$error":"#DIV/0!"},{"$error":"#DIV/0!"},{"$error":"#DIV/0!"},{"$error":"#DIV/0!"},{"$error":"#DIV/0!"},0,null,null,null,null,null,null,null,null,null,null,null,null,null,null,null,null,null,null,null,null,null,"1984-12-20",4.0999999999999996,0.496,null,"1992-12-19",5.2,0.42299999999999999,null,"2023-12-20",5.74,0.28705999999999998,4.95,0.26622000000000001,4.4400000000000004,0.24529999999999999,null,"2033-12-19",5.93,0.29964000000000002,5.0199999999999996,0.27284999999999998,4.43,0.24595,null,"2083-12-20",6.83,0.36258000000000001,5.38,0.30602000000000001,4.32,0.24923000000000001]
["1985-04-08",3.3,1.7490000000000001,4,1985,15,3.3,{"$f":"IF(B6706<Parameters!$A$16,B6706*Parameters!$B$16,IF(AND(B6706>Parameters!$A$16,B6706<Parameters!$A$17),B6706*Parameters!$B$17,B6706*Parameters!$B$18))","v":3.1349999999999998},{"$f":"IF(B6706<Parameters!$A$20,B6706*Parameters!$B$20,IF(AND(B6706>Parameters!$A$20,B6706<Parameters!$A$21),B6706*Parameters!$B$21,B6706*Parameters!$B$22))","v":2.4749999999999996},{"$error":"#DIV/0!"},{"$error":"#DIV/0!"},{"$error":"#DIV/0!"},{"$error":"#DIV/0!"},{"$error":"#DIV/0!"},1.5823333333333334,{"$error":"#DIV/0!"},{"$error":"#DIV/0!"},{"$f":"IF('Gegevens '!$G$20=\"Eigen waarden\",VLOOKUP($F6706,'Gegevens '!$A$25:$C$77,3,FALSE),VLOOKUP($F6706,Lijsten!$A$19:$B$71,2,FALSE))","v":28.925363264788576},{"$error":"#DIV/0!"},{"$error":"#DIV/0!"},{"$error":"#DIV/0!"},{"$error":"#DIV/0!"},{"$error":"#DIV/0!"},{"$error":"#DIV/0!"},{"$error":"#DIV/0!"},{"$error":"#DIV/0!"},{"$error":"#DIV/0!"},{"$error":"#DIV/0!"},{"$error":"#DIV/0!"},{"$error":"#DIV/0!"},{"$error":"#DIV/0!"},{"$error":"#DIV/0!"},{"$error":"#DIV/0!"},{"$error":"#DIV/0!"},{"$error":"#DIV/0!"},{"$error":"#DIV/0!"},{"$error":"#DIV/0!"},{"$error":"#DIV/0!"},{"$error":"#DIV/0!"},{"$error":"#DIV/0!"},{"$error":"#DIV/0!"},0,{"$error":"#DIV/0!"},null,null,null,null,null,null,null,null,null,null,null,null,null,null,null,null,null,null,null,null,null,"1985-04-08",3.3,1.7490000000000001,null,"1993-04-07",0,0.79,null,"2024-04-07",13.92,1.21695,13.92,1.21695,13.92,1.1643699999999999,null,"2034-04-07",14,1.22665,14,1.22665,14,1.1590400000000001,null,"2084-04-07",14.48,1.2751600000000001,14.48,1.2751600000000001,14.48,1.13243]
["1985-05-17",0,5.2549999999999999,5,1985,20,0,{"$f":"IF(B6745<Parameters!$A$16,B6745*Parameters!$B$16,IF(AND(B6745>Parameters!$A$16,B6745<Parameters!$A$17),B6745*Parameters!$B$17,B6745*Parameters!$B$18))","v":0},{"$f":"IF(B6745<Parameters!$A$20,B6745*Parameters!$B$20,IF(AND(B6745>Parameters!$A$20,B6745<Parameters!$A$21),B6745*Parameters!$B$21,B6745*Parameters!$B$22))","v":0},{"$error":"#DIV/0!"},"",0,"",0,5.0614516129032259,{"$error":"#DIV/0!"},{"$error":"#DIV/0!"},{"$f":"IF('Gegevens '!$G$20=\"Eigen waarden\",VLOOKUP($F6745,'Gegevens '!$A$25:$C$77,3,FALSE),VLOOKUP($F6745,Lijsten!$A$19:$B$71,2,FALSE))","v":36.908247477731429},{"$error":"#DIV/0!"},{"$error":"#DIV/0!"},{"$error":"#DIV/0!"},{"$error":"#DIV/0!"},{"$error":"#DIV/0!"},{"$error":"#DIV/0!"},{"$error":"#DIV/0!"},"","",{"$error":"#DIV/0!"},0,{"$error":"#DIV/0!"},0,{"$error":"#DIV/0!"},{"$error":"#DIV/0!"},{"$error":"#DIV/0!"},{"$error":"#DIV/0!"},{"$error":"#DIV/0!"},{"$error":"#DIV/0!"},"","","",{"$error":"#DIV/0!"},0,{"$error":"#DIV/0!"},null,null,null,null,null,null,null,null,null,null,null,null,null,null,null,null,null,null,null,null,null,"1985-05-17",0,5.2549999999999999,null,"1993-05-16",0,4.5579999999999998,null,"2024-05-16",0,4.68377,0,4.68377,0,4.4696600000000002,null,"2034-05-16",0,4.7368399999999999,0,4.7368399999999999,0,4.46157,null,"2084-05-16",0,5.00223,0,5.00223,0,4.4210799999999999]
["1985-08-30",0,4.3120000000000003,8,1985,35,0,{"$f":"IF(B6850<Parameters!$A$16,B6850*Parameters!$B$16,IF(AND(B6850>Parameters!$A$16,B6850<Parameters!$A$17),B6850*Parameters!$B$17,B6850*Parameters!$B$18))","v":0},{"$f":"IF(B6850<Parameters!$A$20,B6850*Parameters!$B$20,IF(AND(B6850>Parameters!$A$20,B6850<Parameters!$A$21),B6850*Parameters!$B$21,B6850*Parameters!$B$22))","v":0},{"$error":"#DIV/0!"},"",0,"",0,4.3765161290322583,{"$error":"#DIV/0!"},{"$error":"#DIV/0!"},{"$f":"IF('Gegevens '!$G$20=\"Eigen waarden\",VLOOKUP($F6850,'Gegevens '!$A$25:$C$77,3,FALSE),VLOOKUP($F6850,Lijsten!$A$19:$B$71,2,FALSE))","v":31.823036754388561},{"$error":"#DIV/0!"},{"$error":"#DIV/0!"},{"$error":"#DIV/0!"},{"$error":"#DIV/0!"},{"$error":"#DIV/0!"},{"$error":"#DIV/0!"},{"$error":"#DIV/0!"},"","",{"$error":"#DIV/0!"},0,{"$error":"#DIV/0!"},0,{"$error":"#DIV/0!"},{"$error":"#DIV/0!"},{"$error":"#DIV/0!"},{"$error":"#DIV/0!"},{"$error":"#DIV/0!"},{"$error":"#DIV/0!"},"","","",{"$error":"#DIV/0!"},0,{"$error":"#DIV/0!"},null,null,null,null,null,null,null,null,null,null,null,null,null,null,null,null,null,null,null,null,null,"1985-08-30",0,4.3120000000000003,null,"1993-08-29",0,3.343,null,"2024-08-29",0,4.4585400000000002,0,4.2801999999999998,0,4.1018699999999999,null,"2034-08-29",0,4.5861200000000002,0,4.3568300000000004,0,4.1275500000000003,null,"2084-08-29",0,5.22403,0,4.7399800000000001,0,4.2559300000000002]
["1985-10-12",0,1.3260000000000001,10,1985,41,0,{"$f":"IF(B6893<Parameters!$A$16,B6893*Parameters!$B$16,IF(AND(B6893>Parameters!$A$16,B6893<Parameters!$A$17),B6893*Parameters!$B$17,B6893*Parameters!$B$18))","v":0},{"$f":"IF(B6893<Parameters!$A$20,B6893*Parameters!$B$20,IF(AND(B6893>Parameters!$A$20,B6893<Parameters!$A$21),B6893*Parameters!$B$21,B6893*Parameters!$B$22))","v":0},{"$error":"#DIV/0!"},"",0,"",0,1.4872903225806453,{"$error":"#DIV/0!"},{"$error":"#DIV/0!"},{"$f":"IF('Gegevens '!$G$20=\"Eigen waarden\",VLOOKUP($F6893,'Gegevens '!$A$25:$C$77,3,FALSE),VLOOKUP($F6893,Lijsten!$A$19:$B$71,2,FALSE))","v":17.237476837457141},{"$error":"#DIV/0!"},{"$error":"#DIV/0!"},{"$error":"#DIV/0!"},{"$error":"#DIV/0!"},{"$error":"#DIV/0!"},{"$error":"#DIV/0!"},{"$error":"#DIV/0!"},"","",{"$error":"#DIV/0!"},0,{"$error":"#DIV/0!"},0,{"$error":"#DIV/0!"},{"$error":"#DIV/0!"},{"$error":"#DIV/0!"},{"$error":"#DIV/0!"},{"$error":"#DIV/0!"},{"$error":"#DIV/0!"},"","","",{"$error":"#DIV/0!"},{"$error":"#DIV/0!"},0,null,null,null,null,null,null,null,null,null,null,null,null,null,null,null,null,null,null,null,null,null,"1985-10-12",0,1.3260000000000001,null,"1993-10-11",3.2,1.6459999999999999,null,"2024-10-11",0,1.26102,0,1.26102,0,1.1857200000000001,null,"2034-10-11",0,1.28359,0,1.28359,0,1.18679,null,"2084-10-11",0,1.3964700000000001,0,1.3964700000000001,0,1.19211]
["1985-11-20",0,0,11,1985,47,0,{"$f":"IF(B6932<Parameters!$A$16,B6932*Parameters!$B$16,IF(AND(B6932>Parameters!$A$16,B6932<Parameters!$A$17),B6932*Parameters!$B$17,B6932*Parameters!$B$18))","v":0},{"$f":"IF(B6932<Parameters!$A$20,B6932*Parameters!$B$20,IF(AND(B6932>Parameters!$A$20,B6932<Parameters!$A$21),B6932*Parameters!$B$21,B6932*Parameters!$B$22))","v":0},{"$error":"#DIV/0!"},"",0,"",0,0.16666666666666666,{"$error":"#DIV/0!"},{"$error":"#DIV/0!"},{"$f":"IF('Gegevens '!$G$20=\"Eigen waarden\",VLOOKUP($F6932,'Gegevens '!$A$25:$C$77,3,FALSE),VLOOKUP($F6932,Lijsten!$A$19:$B$71,2,FALSE))","v":7.1842085238095237},{"$error":"#DIV/0!"},{"$error":"#DIV/0!"},{"$error":"#DIV/0!"},{"$error":"#DIV/0!"},{"$error":"#DIV/0!"},{"$error":"#DIV/0!"},{"$error":"#DIV/0!"},"","",{"$error":"#DIV/0!"},0,{"$error":"#DIV/0!"},0,{"$error":"#DIV/0!"},{"$error":"#DIV/0!"},{"$error":"#DIV/0!"},{"$error":"#DIV/0!"},{"$error":"#DIV/0!"},{"$error":"#DIV/0!"},"","","",{"$error":"#DIV/0!"},{"$error":"#DIV/0!"},0,null,null,null,null,null,null,null,null,null,null,null,null,null,null,null,null,null,null,null,null,null,"1985-11-20",0,0,null,"1993-11-19",0,0,null,"2024-11-19",0.4,0,0.4,0,0.4,0,null,"2034-11-19",0.4,0,0.4,0,0.4,0,null,"2084-11-19",0.39,0,0.39,0,0.39,0]
["1986-03-05",10,0.13800000000000001,3,1986,10,10,{"$f":"IF(B7037<Parameters!$A$16,B7037*Parameters!$B$16,IF(AND(B7037>Parameters!$A$16,B7037<Parameters!$A$17),B7037*Parameters!$B$17,B7037*Parameters!$B$18))","v":9.5},{"$f":"IF(B7037<Parameters!$A$20,B7037*Parameters!$B$20,IF(AND(B7037>Parameters!$A$20,B7037<Parameters!$A$21),B7037*Parameters!$B$21,B7037*Parameters!$B$22))","v":7.5},{"$error":"#DIV/0!"},{"$error":"#DIV/0!"},{"$error":"#DIV/0!"},{"$error":"#DIV/0!"},{"$error":"#DIV/0!"},4.1225806451612917E-2,{"$error":"#DIV/0!"},{"$error":"#DIV/0!"},{"$f":"IF('Gegevens '!$G$20=\"Eigen waarden\",VLOOKUP($F7037,'Gegevens '!$A$25:$C$77,3,FALSE),VLOOKUP($F7037,Lijsten!$A$19:$B$71,2,FALSE))","v":16.951002269891429},{"$error":"#DIV/0!"},{"$error":"#DIV/0!"},{"$error":"#DIV/0!"},{"$error":"#DIV/0!"},{"$error":"#DIV/0!"},{"$error":"#DIV/0!"},{"$error":"#DIV/0!"},{"$error":"#DIV/0!"},{"$error":"#DIV/0!"},{"$error":"#DIV/0!"},{"$error":"#DIV/0!"},{"$error":"#DIV/0!"},{"$error":"#DIV/0!"},{"$error":"#DIV/0!"},{"$error":"#DIV/0!"},{"$error":"#DIV/0!"},{"$error":"#DIV/0!"},{"$error":"#DIV/0!"},{"$error":"#DIV/0!"},{"$error":"#DIV/0!"},{"$error":"#DIV/0!"},{"$error":"#DIV/0!"},{"$error":"#DIV/0!"},{"$error":"#DIV/0!"},0,null,null,null,null,null,null,null,null,null,null,null,null,null,null,null,null,null,null,null,null,null,"1986-03-05",10,0.13800000000000001,null,"1994-03-04",0,1.4430000000000001,null,"2025-03-04",10.9,0.23721999999999999,10.9,0.23721999999999999,10.9,0.22306999999999999,null,"2035-03-04",11.03,0.23785999999999999,11.03,0.23785999999999999,11.03,0.21967,null,"2085-03-04",11.6,0.24102999999999999,11.6,0.24102999999999999,11.6,0.20263]
["1986-04-17",2.2000000000000002,1.4379999999999999,4,1986,16,2.2000000000000002,{"$f":"IF(B7080<Parameters!$A$16,B7080*Parameters!$B$16,IF(AND(B7080>Parameters!$A$16,B7080<Parameters!$A$17),B7080*Parameters!$B$17,B7080*Parameters!$B$18))","v":2.09},{"$f":"IF(B7080<Parameters!$A$20,B7080*Parameters!$B$20,IF(AND(B7080>Parameters!$A$20,B7080<Parameters!$A$21),B7080*Parameters!$B$21,B7080*Parameters!$B$22))","v":1.6500000000000001},{"$error":"#DIV/0!"},{"$error":"#DIV/0!"},{"$error":"#DIV/0!"},{"$error":"#DIV/0!"},{"$error":"#DIV/0!"},1.2713333333333332,{"$error":"#DIV/0!"},{"$error":"#DIV/0!"},{"$f":"IF('Gegevens '!$G$20=\"Eigen waarden\",VLOOKUP($F7080,'Gegevens '!$A$25:$C$77,3,FALSE),VLOOKUP($F7080,Lijsten!$A$19:$B$71,2,FALSE))","v":32.719747675074295},{"$error":"#DIV/0!"},{"$error":"#DIV/0!"},{"$error":"#DIV/0!"},{"$error":"#DIV/0!"},{"$error":"#DIV/0!"},{"$error":"#DIV/0!"},{"$error":"#DIV/0!"},{"$error":"#DIV/0!"},{"$error":"#DIV/0!"},{"$error":"#DIV/0!"},{"$error":"#DIV/0!"},{"$error":"#DIV/0!"},{"$error":"#DIV/0!"},{"$error":"#DIV/0!"},{"$error":"#DIV/0!"},{"$error":"#DIV/0!"},{"$error":"#DIV/0!"},{"$error":"#DIV/0!"},{"$error":"#DIV/0!"},{"$error":"#DIV/0!"},{"$error":"#DIV/0!"},{"$error":"#DIV/0!"},{"$error":"#DIV/0!"},0,{"$error":"#DIV/0!"},null,null,null,null,null,null,null,null,null,null,null,null,null,null,null,null,null,null,null,null,null,"1986-04-17",2.2000000000000002,1.4379999999999999,null,"1994-04-16",0,3.6720000000000002,null,"2025-04-16",0.35,2.14175,0.35,2.14175,0.35,2.04921,null,"2035-04-16",0.35,2.15883,0.35,2.15883,0.35,2.0398399999999999,null,"2085-04-16",0.35,2.2441900000000001,0.35,2.2441900000000001,0.35,1.99299]
["1986-07-31",0.1,3.14,7,1986,31,0.1,{"$f":"IF(B7185<Parameters!$A$16,B7185*Parameters!$B$16,IF(AND(B7185>Parameters!$A$16,B7185<Parameters!$A$17),B7185*Parameters!$B$17,B7185*Parameters!$B$18))","v":0},{"$f":"IF(B7185<Parameters!$A$20,B7185*Parameters!$B$20,IF(AND(B7185>Parameters!$A$20,B7185<Parameters!$A$21),B7185*Parameters!$B$21,B7185*Parameters!$B$22))","v":0},{"$error":"#DIV/0!"},{"$error":"#DIV/0!"},{"$error":"#DIV/0!"},{"$error":"#DIV/0!"},{"$error":"#DIV/0!"},3.1077419354838711,{"$error":"#DIV/0!"},{"$error":"#DIV/0!"},{"$f":"IF('Gegevens '!$G$20=\"Eigen waarden\",VLOOKUP($F7185,'Gegevens '!$A$25:$C$77,3,FALSE),VLOOKUP($F7185,Lijsten!$A$19:$B$71,2,FALSE))","v":36.543125282102856},{"$error":"#DIV/0!"},{"$error":"#DIV/0!"},{"$error":"#DIV/0!"},{"$error":"#DIV/0!"},{"$error":"#DIV/0!"},{"$error":"#DIV/0!"},{"$error":"#DIV/0!"},{"$error":"#DIV/0!"},{"$error":"#DIV/0!"},{"$error":"#DIV/0!"},{"$error":"#DIV/0!"},{"$error":"#DIV/0!"},{"$error":"#DIV/0!"},{"$error":"#DIV/0!"},{"$error":"#DIV/0!"},{"$error":"#DIV/0!"},{"$error":"#DIV/0!"},{"$error":"#DIV/0!"},{"$error":"#DIV/0!"},{"$error":"#DIV/0!"},{"$error":"#DIV/0!"},{"$error":"#DIV/0!"},{"$error":"#DIV/0!"},0,{"$error":"#DIV/0!"},null,null,null,null,null,null,null,null,null,null,null,null,null,null,null,null,null,null,null,null,null,"1986-07-31",0.1,3.14,null,"1994-07-30",1.2,5.44,null,"2025-07-30",0,5.5405800000000003,0,5.3459000000000003,0,5.1512200000000004,null,"2035-07-30",0,5.66561,0,5.4153000000000002,0,5.165,null,"2085-07-30",0,6.2907200000000003,0,5.7623100000000003,0,5.2338899999999997]
["1986-09-13",5.3,1.3260000000000001,9,1986,37,5.3,{"$f":"IF(B7229<Parameters!$A$16,B7229*Parameters!$B$16,IF(AND(B7229>Parameters!$A$16,B7229<Parameters!$A$17),B7229*Parameters!$B$17,B7229*Parameters!$B$18))","v":5.0349999999999993},{"$f":"IF(B7229<Parameters!$A$20,B7229*Parameters!$B$20,IF(AND(B7229>Parameters!$A$20,B7229<Parameters!$A$21),B7229*Parameters!$B$21,B7229*Parameters!$B$22))","v":3.9749999999999996},{"$error":"#DIV/0!"},{"$error":"#DIV/0!"},{"$error":"#DIV/0!"},{"$error":"#DIV/0!"},{"$error":"#DIV/0!"},1.4593333333333334,{"$error":"#DIV/0!"},{"$error":"#DIV/0!"},{"$f":"IF('Gegevens '!$G$20=\"Eigen waarden\",VLOOKUP($F7229,'Gegevens '!$A$25:$C$77,3,FALSE),VLOOKUP($F7229,Lijsten!$A$19:$B$71,2,FALSE))","v":29.316349609488093},{"$error":"#DIV/0!"},{"$error":"#DIV/0!"},{"$error":"#DIV/0!"},{"$error":"#DIV/0!"},{"$error":"#DIV/0!"},{"$error":"#DIV/0!"},{"$error":"#DIV/0!"},{"$error":"#DIV/0!"},{"$error":"#DIV/0!"},{"$error":"#DIV/0!"},{"$error":"#DIV/0!"},{"$error":"#DIV/0!"},{"$error":"#DIV/0!"},{"$error":"#DIV/0!"},{"$error":"#DIV/0!"},{"$error":"#DIV/0!"},{"$error":"#DIV/0!"},{"$error":"#DIV/0!"},{"$error":"#DIV/0!"},{"$error":"#DIV/0!"},{"$error":"#DIV/0!"},{"$error":"#DIV/0!"},{"$error":"#DIV/0!"},0,{"$error":"#DIV/0!"},null,null,null,null,null,null,null,null,null,null,null,null,null,null,null,null,null,null,null,null,null,"1986-09-13",5.3,1.3260000000000001,null,"1994-09-12",1.8,2.2149999999999999,null,"2025-09-12",0,1.4797199999999999,0,1.4797199999999999,0,1.4180699999999999,null,"2035-09-12",0,1.50621,0,1.50621,0,1.4269499999999999,null,"2085-09-12",0,1.6386700000000001,0,1.6386700000000001,0,1.47133]
["1986-10-22",48.1,0.20499999999999999,10,{"$f":"IF(AND((F7267>1),(F7268=1)),E7267+1,E7267)","v":1986},43,{"$f":"B7268","v":48.1},{"$f":"IF(B7268<Parameters!$A$16,B7268*Parameters!$B$16,IF(AND(B7268>Parameters!$A$16,B7268<Parameters!$A$17),B7268*Parameters!$B$17,B7268*Parameters!$B$18))","v":45.695},{"$f":"IF(B7268<Parameters!$A$20,B7268*Parameters!$B$20,IF(AND(B7268>Parameters!$A$20,B7268<Parameters!$A$21),B7268*Parameters!$B$21,B7268*Parameters!$B$22))","v":36.075000000000003},{"$error":"#DIV/0!"},{"$error":"#DIV/0!"},{"$f":"IF(B7268=0,0,SUM(B7268*$D$3+H7268*$B$3+I7268*$C$3)/$E$3*10)","v":{"$error":"#DIV/0!"}},{"$error":"#DIV/0!"},{"$error":"#DIV/0!"},0.36629032258064514,{"$error":"#DIV/0!"},{"$error":"#DIV/0!"},{"$f":"IF('Gegevens '!$G$20=\"Eigen waarden\",VLOOKUP($F7268,'Gegevens '!$A$25:$C$77,3,FALSE),VLOOKUP($F7268,Lijsten!$A$19:$B$71,2,FALSE))","v":15.056100159581629},{"$f":"SUM(L7268-R7268-Q7268)","v":{"$error":"#DIV/0!"}},{"$f":"L7268-Q7268","v":{"$error":"#DIV/0!"}},{"$f":"IF(U7267<$AN$3,U7267+T7268,IF(AND((U7267>$AN$3),(SUM(U7267+S7268)<$AN$3)),SUM($AN$3+T7268),IF((SUM(U7267+S7268)>($AN$3+$AK$3)),$AN$3+$AK$3,U7267+S7268)))","v":{"$error":"#DIV/0!"}},{"$error":"#DIV/0!"},{"$error":"#DIV/0!"},{"$f":"R7268-W7268","v":{"$error":"#DIV/0!"}},{"$error":"#DIV/0!"},{"$error":"#DIV/0!"},{"$f":"K7268","v":{"$error":"#DIV/0!"}},{"$error":"#DIV/0!"},{"$error":"#DIV/0!"},{"$error":"#DIV/0!"},{"$error":"#DIV/0!"},{"$error":"#DIV/0!"},{"$error":"#DIV/0!"},{"$error":"#DIV/0!"},{"$error":"#DIV/0!"},{"$error":"#DIV/0!"},{"$f":"IF(AB7268=0,\"\",AF7268/AB7268)","v":{"$error":"#DIV/0!"}},{"$error":"#DIV/0!"},{"$error":"#DIV/0!"},{"$error":"#DIV/0!"},{"$f":"AI7268*$E$5/1000","v":{"$error":"#DIV/0!"}},{"$f":"IF(OR(F7268<=13,F7268>=40),VALUE(AO7268),0)","v":{"$error":"#DIV/0!"}},{"$f":"IF(OR(F7268<=13,F7268>=40),0,VALUE(AO7268))","v":0},null,null,null,null,null,null,null,null,null,null,null,null,null,null,null,null,null,null,null,null,null,"1986-10-22",48.1,0.20499999999999999,null,"1994-10-21",0.1,0.63100000000000001,null,"2025-10-21",23.87,0.39473000000000003,23.87,0.39473000000000003,23.87,0.37117,null,"2035-10-21",24.01,0.40179999999999999,24.01,0.40179999999999999,24.01,0.3715,null,"2085-10-21",24.6,0.43713999999999997,24.6,0.43713999999999997,24.6,0.37315999999999999]
["1987-02-04",0.1,0.16700000000000001,2,1987,6,0.1,{"$f":"IF(B7373<Parameters!$A$16,B7373*Parameters!$B$16,IF(AND(B7373>Parameters!$A$16,B7373<Parameters!$A$17),B7373*Parameters!$B$17,B7373*Parameters!$B$18))","v":0},{"$f":"IF(B7373<Parameters!$A$20,B7373*Parameters!$B$20,IF(AND(B7373>Parameters!$A$20,B7373<Parameters!$A$21),B7373*Parameters!$B$21,B7373*Parameters!$B$22))","v":0},{"$error":"#DIV/0!"},{"$error":"#DIV/0!"},{"$error":"#DIV/0!"},{"$error":"#DIV/0!"},{"$error":"#DIV/0!"},0.13128571428571428,{"$error":"#DIV/0!"},{"$error":"#DIV/0!"},{"$f":"IF('Gegevens '!$G$20=\"Eigen waarden\",VLOOKUP($F7373,'Gegevens '!$A$25:$C$77,3,FALSE),VLOOKUP($F7373,Lijsten!$A$19:$B$71,2,FALSE))","v":9.1430429772914277},{"$error":"#DIV/0!"},{"$error":"#DIV/0!"},{"$error":"#DIV/0!"},{"$error":"#DIV/0!"},{"$error":"#DIV/0!"},{"$error":"#DIV/0!"},{"$error":"#DIV/0!"},{"$error":"#DIV/0!"},{"$error":"#DIV/0!"},{"$error":"#DIV/0!"},{"$error":"#DIV/0!"},{"$error":"#DIV/0!"},{"$error":"#DIV/0!"},{"$error":"#DIV/0!"},{"$error":"#DIV/0!"},{"$error":"#DIV/0!"},{"$error":"#DIV/0!"},{"$error":"#DIV/0!"},{"$error":"#DIV/0!"},{"$error":"#DIV/0!"},{"$error":"#DIV/0!"},{"$error":"#DIV/0!"},{"$error":"#DIV/0!"},{"$error":"#DIV/0!"},0,null,null,null,null,null,null,null,null,null,null,null,null,null,null,null,null,null,null,null,null,null,"1987-02-04",0.1,0.16700000000000001,null,"1995-02-03",0,0.85899999999999999,null,"2026-02-03",0,9.9699999999999997E-2,0,9.4759999999999997E-2,0,8.9849999999999999E-2,null,"2036-02-03",0,0.10218000000000001,0,9.5829999999999999E-2,0,8.9529999999999998E-2,null,"2086-02-03",0,0.11459999999999999,0,0.1012,0,8.7889999999999996E-2]
["1987-03-19",5.8,0.28999999999999998,3,1987,12,5.8,{"$f":"IF(B7416<Parameters!$A$16,B7416*Parameters!$B$16,IF(AND(B7416>Parameters!$A$16,B7416<Parameters!$A$17),B7416*Parameters!$B$17,B7416*Parameters!$B$18))","v":5.51},{"$f":"IF(B7416<Parameters!$A$20,B7416*Parameters!$B$20,IF(AND(B7416>Parameters!$A$20,B7416<Parameters!$A$21),B7416*Parameters!$B$21,B7416*Parameters!$B$22))","v":4.3499999999999996},{"$error":"#DIV/0!"},{"$error":"#DIV/0!"},{"$error":"#DIV/0!"},{"$error":"#DIV/0!"},{"$error":"#DIV/0!"},0.19322580645161289,{"$error":"#DIV/0!"},{"$error":"#DIV/0!"},{"$f":"IF('Gegevens '!$G$20=\"Eigen waarden\",VLOOKUP($F7416,'Gegevens '!$A$25:$C$77,3,FALSE),VLOOKUP($F7416,Lijsten!$A$19:$B$71,2,FALSE))","v":22.555070739851423},{"$error":"#DIV/0!"},{"$error":"#DIV/0!"},{"$error":"#DIV/0!"},{"$error":"#DIV/0!"},{"$error":"#DIV/0!"},{"$error":"#DIV/0!"},{"$error":"#DIV/0!"},{"$error":"#DIV/0!"},{"$error":"#DIV/0!"},{"$error":"#DIV/0!"},{"$error":"#DIV/0!"},{"$error":"#DIV/0!"},{"$error":"#DIV/0!"},{"$error":"#DIV/0!"},{"$error":"#DIV/0!"},{"$error":"#DIV/0!"},{"$error":"#DIV/0!"},{"$error":"#DIV/0!"},{"$error":"#DIV/0!"},{"$error":"#DIV/0!"},{"$error":"#DIV/0!"},{"$error":"#DIV/0!"},{"$error":"#DIV/0!"},{"$error":"#DIV/0!"},0,null,null,null,null,null,null,null,null,null,null,null,null,null,null,null,null,null,null,null,null,null,"1987-03-19",5.8,0.28999999999999998,null,"1995-03-18",2.8,1.1819999999999999,null,"2026-03-18",8.16,0.74597999999999998,8.16,0.74597999999999998,8.16,0.70150000000000001,null,"2036-03-17",8.26,0.74797999999999998,8.26,0.74797999999999998,8.26,0.69077999999999995,null,"2086-03-18",8.7799999999999994,0.75795999999999997,8.7799999999999994,0.75795999999999997,8.7799999999999994,0.63719999999999999]
["1987-04-27",0,4.2309999999999999,4,1987,18,0,{"$f":"IF(B7455<Parameters!$A$16,B7455*Parameters!$B$16,IF(AND(B7455>Parameters!$A$16,B7455<Parameters!$A$17),B7455*Parameters!$B$17,B7455*Parameters!$B$18))","v":0},{"$f":"IF(B7455<Parameters!$A$20,B7455*Parameters!$B$20,IF(AND(B7455>Parameters!$A$20,B7455<Parameters!$A$21),B7455*Parameters!$B$21,B7455*Parameters!$B$22))","v":0},{"$error":"#DIV/0!"},"",0,"",0,4.0643333333333329,{"$error":"#DIV/0!"},{"$error":"#DIV/0!"},{"$f":"IF('Gegevens '!$G$20=\"Eigen waarden\",VLOOKUP($F7455,'Gegevens '!$A$25:$C$77,3,FALSE),VLOOKUP($F7455,Lijsten!$A$19:$B$71,2,FALSE))","v":33.340195028868571},{"$error":"#DIV/0!"},{"$error":"#DIV/0!"},{"$error":"#DIV/0!"},{"$error":"#DIV/0!"},{"$error":"#DIV/0!"},{"$error":"#DIV/0!"},{"$error":"#DIV/0!"},"","",{"$error":"#DIV/0!"},0,{"$error":"#DIV/0!"},0,{"$error":"#DIV/0!"},{"$error":"#DIV/0!"},{"$error":"#DIV/0!"},{"$error":"#DIV/0!"},{"$error":"#DIV/0!"},{"$error":"#DIV/0!"},"","","",{"$error":"#DIV/0!"},0,{"$error":"#DIV/0!"},null,null,null,null,null,null,null,null,null,null,null,null,null,null,null,null,null,null,null,null,null,"1987-04-27",0,4.2309999999999999,null,"1995-04-26",3.7,2.387,null,"2026-04-26",0,1.9689300000000001,0,1.9689300000000001,0,1.88385,null,"2036-04-25",0,1.9846299999999999,0,1.9846299999999999,0,1.87524,null,"2086-04-26",0,2.0630999999999999,0,2.0630999999999999,0,1.8321799999999999]
["1987-08-14",0,2.6160000000000001,8,1987,33,0,{"$f":"IF(B7564<Parameters!$A$16,B7564*Parameters!$B$16,IF(AND(B7564>Parameters!$A$16,B7564<Parameters!$A$17),B7564*Parameters!$B$17,B7564*Parameters!$B$18))","v":0},{"$f":"IF(B7564<Parameters!$A$20,B7564*Parameters!$B$20,IF(AND(B7564>Parameters!$A$20,B7564<Parameters!$A$21),B7564*Parameters!$B$21,B7564*Parameters!$B$22))","v":0},{"$error":"#DIV/0!"},"",0,"",0,2.6805161290322581,{"$error":"#DIV/0!"},{"$error":"#DIV/0!"},{"$f":"IF('Gegevens '!$G$20=\"Eigen waarden\",VLOOKUP($F7564,'Gegevens '!$A$25:$C$77,3,FALSE),VLOOKUP($F7564,Lijsten!$A$19:$B$71,2,FALSE))","v":36.379063958805723},{"$error":"#DIV/0!"},{"$error":"#DIV/0!"},{"$error":"#DIV/0!"},{"$error":"#DIV/0!"},{"$error":"#DIV/0!"},{"$error":"#DIV/0!"},{"$error":"#DIV/0!"},"","",{"$error":"#DIV/0!"},0,{"$error":"#DIV/0!"},0,{"$error":"#DIV/0!"},{"$error":"#DIV/0!"},{"$error":"#DIV/0!"},{"$error":"#DIV/0!"},{"$error":"#DIV/0!"},{"$error":"#DIV/0!"},"","","",{"$error":"#DIV/0!"},0,{"$error":"#DIV/0!"},null,null,null,null,null,null,null,null,null,null,null,null,null,null,null,null,null,null,null,null,null,"1987-08-14",0,2.6160000000000001,null,"1995-08-13",0,2.5790000000000002,null,"2026-08-13",0,3.8384299999999998,0,3.6848999999999998,0,3.5313699999999999,null,"2036-08-12",0,3.9482699999999999,0,3.7508699999999999,0,3.55348,null,"2086-08-13",0,4.4974499999999997,0,4.08073,0,3.6640000000000001]
["1987-09-22",1.6,1.659,9,1987,39,1.6,{"$f":"IF(B7603<Parameters!$A$16,B7603*Parameters!$B$16,IF(AND(B7603>Parameters!$A$16,B7603<Parameters!$A$17),B7603*Parameters!$B$17,B7603*Parameters!$B$18))","v":1.2800000000000002},{"$f":"IF(B7603<Parameters!$A$20,B7603*Parameters!$B$20,IF(AND(B7603>Parameters!$A$20,B7603<Parameters!$A$21),B7603*Parameters!$B$21,B7603*Parameters!$B$22))","v":0.96},{"$error":"#DIV/0!"},{"$error":"#DIV/0!"},{"$error":"#DIV/0!"},{"$error":"#DIV/0!"},{"$error":"#DIV/0!"},1.7923333333333333,{"$error":"#DIV/0!"},{"$error":"#DIV/0!"},{"$f":"IF('Gegevens '!$G$20=\"Eigen waarden\",VLOOKUP($F7603,'Gegevens '!$A$25:$C$77,3,FALSE),VLOOKUP($F7603,Lijsten!$A$19:$B$71,2,FALSE))","v":23.128696279329191},{"$error":"#DIV/0!"},{"$error":"#DIV/0!"},{"$error":"#DIV/0!"},{"$error":"#DIV/0!"},{"$error":"#DIV/0!"},{"$error":"#DIV/0!"},{"$error":"#DIV/0!"},{"$error":"#DIV/0!"},{"$error":"#DIV/0!"},{"$error":"#DIV/0!"},{"$error":"#DIV/0!"},{"$error":"#DIV/0!"},{"$error":"#DIV/0!"},{"$error":"#DIV/0!"},{"$error":"#DIV/0!"},{"$error":"#DIV/0!"},{"$error":"#DIV/0!"},{"$error":"#DIV/0!"},{"$error":"#DIV/0!"},{"$error":"#DIV/0!"},{"$error":"#DIV/0!"},{"$error":"#DIV/0!"},{"$error":"#DIV/0!"},0,{"$error":"#DIV/0!"},null,null,null,null,null,null,null,null,null,null,null,null,null,null,null,null,null,null,null,null,null,"1987-09-22",1.6,1.659,null,"1995-09-21",0.4,1.6020000000000001,null,"2026-09-21",0,2.76634,0,2.76634,0,2.6510799999999999,null,"2036-09-20",0,2.8158699999999999,0,2.8158699999999999,0,2.6676799999999998,null,"2086-09-21",0,3.0634999999999999,0,3.0634999999999999,0,2.7506499999999998]
["1988-01-05",7.8,0.57099999999999995,1,1988,1,7.8,{"$f":"IF(B7708<Parameters!$A$16,B7708*Parameters!$B$16,IF(AND(B7708>Parameters!$A$16,B7708<Parameters!$A$17),B7708*Parameters!$B$17,B7708*Parameters!$B$18))","v":7.4099999999999993},{"$f":"IF(B7708<Parameters!$A$20,B7708*Parameters!$B$20,IF(AND(B7708>Parameters!$A$20,B7708<Parameters!$A$21),B7708*Parameters!$B$21,B7708*Parameters!$B$22))","v":5.85},{"$error":"#DIV/0!"},{"$error":"#DIV/0!"},{"$error":"#DIV/0!"},{"$error":"#DIV/0!"},{"$error":"#DIV/0!"},0.63551612903225796,{"$error":"#DIV/0!"},{"$error":"#DIV/0!"},{"$f":"IF('Gegevens '!$G$20=\"Eigen waarden\",VLOOKUP($F7708,'Gegevens '!$A$25:$C$77,3,FALSE),VLOOKUP($F7708,Lijsten!$A$19:$B$71,2,FALSE))","v":3.0894753415257137},{"$error":"#DIV/0!"},{"$error":"#DIV/0!"},{"$error":"#DIV/0!"},{"$error":"#DIV/0!"},{"$error":"#DIV/0!"},{"$error":"#DIV/0!"},{"$error":"#DIV/0!"},{"$error":"#DIV/0!"},{"$error":"#DIV/0!"},{"$error":"#DIV/0!"},{"$error":"#DIV/0!"},{"$error":"#DIV/0!"},{"$error":"#DIV/0!"},{"$error":"#DIV/0!"},{"$error":"#DIV/0!"},{"$error":"#DIV/0!"},{"$error":"#DIV/0!"},{"$error":"#DIV/0!"},{"$error":"#DIV/0!"},{"$error":"#DIV/0!"},{"$error":"#DIV/0!"},{"$error":"#DIV/0!"},{"$error":"#DIV/0!"},{"$error":"#DIV/0!"},0,null,null,null,null,null,null,null,null,null,null,null,null,null,null,null,null,null,null,null,null,null,"1988-01-05",7.8,0.57099999999999995,null,"1996-01-04",0,0.25900000000000001,null,"2027-01-04",11.25,0.67588000000000004,9.64,0.63471999999999995,8.59,0.59355999999999998,null,"2037-01-03",11.56,0.70098000000000005,9.73,0.64805999999999997,8.52,0.59514,null,"2087-01-04",13.15,0.82652000000000003,10.220000000000001,0.71479999999999999,8.0299999999999994,0.60307999999999995]
["1988-02-17",0.2,0.65500000000000003,2,1988,7,0.2,{"$f":"IF(B7751<Parameters!$A$16,B7751*Parameters!$B$16,IF(AND(B7751>Parameters!$A$16,B7751<Parameters!$A$17),B7751*Parameters!$B$17,B7751*Parameters!$B$18))","v":0},{"$f":"IF(B7751<Parameters!$A$20,B7751*Parameters!$B$20,IF(AND(B7751>Parameters!$A$20,B7751<Parameters!$A$21),B7751*Parameters!$B$21,B7751*Parameters!$B$22))","v":0},{"$error":"#DIV/0!"},{"$error":"#DIV/0!"},{"$error":"#DIV/0!"},{"$error":"#DIV/0!"},{"$error":"#DIV/0!"},0.61928571428571433,{"$error":"#DIV/0!"},{"$error":"#DIV/0!"},{"$f":"IF('Gegevens '!$G$20=\"Eigen waarden\",VLOOKUP($F7751,'Gegevens '!$A$25:$C$77,3,FALSE),VLOOKUP($F7751,Lijsten!$A$19:$B$71,2,FALSE))","v":10.977630682914283},{"$error":"#DIV/0!"},{"$error":"#DIV/0!"},{"$error":"#DIV/0!"},{"$error":"#DIV/0!"},{"$error":"#DIV/0!"},{"$error":"#DIV/0!"},{"$error":"#DIV/0!"},{"$error":"#DIV/0!"},{"$error":"#DIV/0!"},{"$error":"#DIV/0!"},{"$error":"#DIV/0!"},{"$error":"#DIV/0!"},{"$error":"#DIV/0!"},{"$error":"#DIV/0!"},{"$error":"#DIV/0!"},{"$error":"#DIV/0!"},{"$error":"#DIV/0!"},{"$error":"#DIV/0!"},{"$error":"#DIV/0!"},{"$error":"#DIV/0!"},{"$error":"#DIV/0!"},{"$error":"#DIV/0!"},{"$error":"#DIV/0!"},{"$error":"#DIV/0!"},0,null,null,null,null,null,null,null,null,null,null,null,null,null,null,null,null,null,null,null,null,null,"1988-02-17",0.2,0.65500000000000003,null,"1996-02-16",1.9,0.315,null,"2027-02-16",0,0.70882000000000001,0,0.67371999999999999,0,0.63885000000000003,null,"2037-02-15",0,0.72648000000000001,0,0.68135999999999997,0,0.63651999999999997,null,"2087-02-16",0,0.81479999999999997,0,0.71953,0,0.62487000000000004]
["1988-05-21",0,3.1440000000000001,5,1988,20,0,{"$f":"IF(B7845<Parameters!$A$16,B7845*Parameters!$B$16,IF(AND(B7845>Parameters!$A$16,B7845<Parameters!$A$17),B7845*Parameters!$B$17,B7845*Parameters!$B$18))","v":0},{"$f":"IF(B7845<Parameters!$A$20,B7845*Parameters!$B$20,IF(AND(B7845>Parameters!$A$20,B7845<Parameters!$A$21),B7845*Parameters!$B$21,B7845*Parameters!$B$22))","v":0},{"$f":"B7845*SUM($B$3,$C$3,$D$3)/$E$3*10","v":{"$error":"#DIV/0!"}},"",0,"",0,2.9504516129032261,{"$error":"#DIV/0!"},{"$error":"#DIV/0!"},{"$f":"IF('Gegevens '!$G$20=\"Eigen waarden\",VLOOKUP($F7845,'Gegevens '!$A$25:$C$77,3,FALSE),VLOOKUP($F7845,Lijsten!$A$19:$B$71,2,FALSE))","v":36.908247477731429},{"$error":"#DIV/0!"},{"$error":"#DIV/0!"},{"$error":"#DIV/0!"},{"$f":"IF(SUM(U7844+S7845)>SUM($AK$3+$AN$3),SUM(U7844+S7845-($AK$3+$AN$3)),0)","v":{"$error":"#DIV/0!"}},{"$f":"IF(U7844<$AN$3,R7845,IF(SUM(U7844-R7845)>$AN$3,0,IF(SUM(U7844+S7845)<$AN$3,SUM(R7845-(U7844-$AN$3)),0)))","v":{"$error":"#DIV/0!"}},{"$error":"#DIV/0!"},{"$error":"#DIV/0!"},"","",{"$error":"#DIV/0!"},0,{"$error":"#DIV/0!"},{"$f":"N7845/10","v":0},{"$error":"#DIV/0!"},{"$f":"Q7845/10","v":{"$error":"#DIV/0!"}},{"$error":"#DIV/0!"},{"$error":"#DIV/0!"},{"$error":"#DIV/0!"},{"$error":"#DIV/0!"},"","","",{"$error":"#DIV/0!"},0,{"$error":"#DIV/0!"},null,null,null,null,null,null,null,null,null,null,null,null,null,null,null,null,null,null,null,null,null,"1988-05-21",0,3.1440000000000001,null,"1996-05-20",1.3,3.782,null,"2027-05-21",0,3.3279899999999998,0,3.3279899999999998,0,3.1758700000000002,null,"2037-05-20",0,3.36571,0,3.36571,0,3.1701100000000002,null,"2087-05-21",0,3.5542699999999998,0,3.5542699999999998,0,3.1413500000000001]
["1988-07-11",0.6,3.004,7,1988,28,0.6,{"$f":"IF(B7896<Parameters!$A$16,B7896*Parameters!$B$16,IF(AND(B7896>Parameters!$A$16,B7896<Parameters!$A$17),B7896*Parameters!$B$17,B7896*Parameters!$B$18))","v":0},{"$f":"IF(B7896<Parameters!$A$20,B7896*Parameters!$B$20,IF(AND(B7896>Parameters!$A$20,B7896<Parameters!$A$21),B7896*Parameters!$B$21,B7896*Parameters!$B$22))","v":0},{"$error":"#DIV/0!"},{"$error":"#DIV/0!"},{"$error":"#DIV/0!"},{"$error":"#DIV/0!"},{"$error":"#DIV/0!"},2.971741935483871,{"$error":"#DIV/0!"},{"$error":"#DIV/0!"},{"$f":"IF('Gegevens '!$G$20=\"Eigen waarden\",VLOOKUP($F7896,'Gegevens '!$A$25:$C$77,3,FALSE),VLOOKUP($F7896,Lijsten!$A$19:$B$71,2,FALSE))","v":37.93215799035999},{"$error":"#DIV/0!"},{"$error":"#DIV/0!"},{"$error":"#DIV/0!"},{"$error":"#DIV/0!"},{"$error":"#DIV/0!"},{"$error":"#DIV/0!"},{"$error":"#DIV/0!"},{"$error":"#DIV/0!"},{"$error":"#DIV/0!"},{"$error":"#DIV/0!"},{"$error":"#DIV/0!"},{"$error":"#DIV/0!"},{"$error":"#DIV/0!"},{"$error":"#DIV/0!"},{"$error":"#DIV/0!"},{"$error":"#DIV/0!"},{"$error":"#DIV/0!"},{"$error":"#DIV/0!"},{"$error":"#DIV/0!"},{"$error":"#DIV/0!"},{"$error":"#DIV/0!"},{"$error":"#DIV/0!"},{"$error":"#DIV/0!"},0,{"$error":"#DIV/0!"},null,null,null,null,null,null,null,null,null,null,null,null,null,null,null,null,null,null,null,null,null,"1988-07-11",0.6,3.004,null,"1996-07-10",0.5,1.861,null,"2027-07-11",0,6.6393599999999999,0,6.4060699999999997,0,6.17279,null,"2037-07-10",0,6.78918,0,6.4892399999999997,0,6.1893000000000002,null,"2087-07-11",0,7.5382699999999998,0,6.9050599999999998,0,6.2718499999999997]
["1988-08-23",1.6,2.7370000000000001,8,1988,34,1.6,{"$f":"IF(B7939<Parameters!$A$16,B7939*Parameters!$B$16,IF(AND(B7939>Parameters!$A$16,B7939<Parameters!$A$17),B7939*Parameters!$B$17,B7939*Parameters!$B$18))","v":1.2800000000000002},{"$f":"IF(B7939<Parameters!$A$20,B7939*Parameters!$B$20,IF(AND(B7939>Parameters!$A$20,B7939<Parameters!$A$21),B7939*Parameters!$B$21,B7939*Parameters!$B$22))","v":0.96},{"$error":"#DIV/0!"},{"$error":"#DIV/0!"},{"$error":"#DIV/0!"},{"$error":"#DIV/0!"},{"$error":"#DIV/0!"},2.8015161290322581,{"$error":"#DIV/0!"},{"$error":"#DIV/0!"},{"$f":"IF('Gegevens '!$G$20=\"Eigen waarden\",VLOOKUP($F7939,'Gegevens '!$A$25:$C$77,3,FALSE),VLOOKUP($F7939,Lijsten!$A$19:$B$71,2,FALSE))","v":32.292939745809527},{"$error":"#DIV/0!"},{"$error":"#DIV/0!"},{"$error":"#DIV/0!"},{"$error":"#DIV/0!"},{"$error":"#DIV/0!"},{"$error":"#DIV/0!"},{"$error":"#DIV/0!"},{"$error":"#DIV/0!"},{"$error":"#DIV/0!"},{"$error":"#DIV/0!"},{"$error":"#DIV/0!"},{"$error":"#DIV/0!"},{"$error":"#DIV/0!"},{"$error":"#DIV/0!"},{"$error":"#DIV/0!"},{"$error":"#DIV/0!"},{"$error":"#DIV/0!"},{"$error":"#DIV/0!"},{"$error":"#DIV/0!"},{"$error":"#DIV/0!"},{"$error":"#DIV/0!"},{"$error":"#DIV/0!"},{"$error":"#DIV/0!"},0,{"$error":"#DIV/0!"},null,null,null,null,null,null,null,null,null,null,null,null,null,null,null,null,null,null,null,null,null,"1988-08-23",1.6,2.7370000000000001,null,"1996-08-22",0,4.5609999999999999,null,"2027-08-23",0.17,2.16926,0,2.08249,0.17,1.9957199999999999,null,"2037-08-22",0.16,2.2313299999999998,0,2.1197699999999999,0.16,2.0082200000000001,null,"2087-08-23",0,2.5417000000000001,0.2,2.30619,0,2.0706799999999999]
["1988-12-06",6.2,0.29699999999999999,12,1988,49,6.2,{"$f":"IF(B8044<Parameters!$A$16,B8044*Parameters!$B$16,IF(AND(B8044>Parameters!$A$16,B8044<Parameters!$A$17),B8044*Parameters!$B$17,B8044*Parameters!$B$18))","v":5.89},{"$f":"IF(B8044<Parameters!$A$20,B8044*Parameters!$B$20,IF(AND(B8044>Parameters!$A$20,B8044<Parameters!$A$21),B8044*Parameters!$B$21,B8044*Parameters!$B$22))","v":4.6500000000000004},{"$error":"#DIV/0!"},{"$error":"#DIV/0!"},{"$error":"#DIV/0!"},{"$error":"#DIV/0!"},{"$error":"#DIV/0!"},0.36151612903225805,{"$error":"#DIV/0!"},{"$error":"#DIV/0!"},{"$f":"IF('Gegevens '!$G$20=\"Eigen waarden\",VLOOKUP($F8044,'Gegevens '!$A$25:$C$77,3,FALSE),VLOOKUP($F8044,Lijsten!$A$19:$B$71,2,FALSE))","v":3.2736734693877558},{"$error":"#DIV/0!"},{"$error":"#DIV/0!"},{"$error":"#DIV/0!"},{"$error":"#DIV/0!"},{"$error":"#DIV/0!"},{"$error":"#DIV/0!"},{"$error":"#DIV/0!"},{"$error":"#DIV/0!"},{"$error":"#DIV/0!"},{"$error":"#DIV/0!"},{"$error":"#DIV/0!"},{"$error":"#DIV/0!"},{"$error":"#DIV/0!"},{"$error":"#DIV/0!"},{"$error":"#DIV/0!"},{"$error":"#DIV/0!"},{"$error":"#DIV/0!"},{"$error":"#DIV/0!"},{"$error":"#DIV/0!"},{"$error":"#DIV/0!"},{"$error":"#DIV/0!"},{"$error":"#DIV/0!"},{"$error":"#DIV/0!"},{"$error":"#DIV/0!"},0,null,null,null,null,null,null,null,null,null,null,null,null,null,null,null,null,null,null,null,null,null,"1988-12-06",6.2,0.29699999999999999,null,"1996-12-05",0.9,0.45400000000000001,null,"2027-12-06",0,0.53039999999999998,0,0.4919,0,0.45323999999999998,null,"2037-12-05",0,0.55366000000000004,0,0.50416000000000005,0,0.45445999999999998,null,"2087-12-06",0,0.66995000000000005,0,0.56545000000000001,0,0.46051999999999998]
["1989-01-18",0,0.313,1,1989,3,0,{"$f":"IF(B8087<Parameters!$A$16,B8087*Parameters!$B$16,IF(AND(B8087>Parameters!$A$16,B8087<Parameters!$A$17),B8087*Parameters!$B$17,B8087*Parameters!$B$18))","v":0},{"$f":"IF(B8087<Parameters!$A$20,B8087*Parameters!$B$20,IF(AND(B8087>Parameters!$A$20,B8087<Parameters!$A$21),B8087*Parameters!$B$21,B8087*Parameters!$B$22))","v":0},{"$error":"#DIV/0!"},"",0,"",0,0.37751612903225806,{"$error":"#DIV/0!"},{"$error":"#DIV/0!"},{"$f":"IF('Gegevens '!$G$20=\"Eigen waarden\",VLOOKUP($F8087,'Gegevens '!$A$25:$C$77,3,FALSE),VLOOKUP($F8087,Lijsten!$A$19:$B$71,2,FALSE))","v":5.3886624347828569},{"$error":"#DIV/0!"},{"$error":"#DIV/0!"},{"$error":"#DIV/0!"},{"$error":"#DIV/0!"},{"$error":"#DIV/0!"},{"$error":"#DIV/0!"},{"$error":"#DIV/0!"},"","",{"$error":"#DIV/0!"},0,{"$error":"#DIV/0!"},0,{"$error":"#DIV/0!"},{"$error":"#DIV/0!"},{"$error":"#DIV/0!"},{"$error":"#DIV/0!"},{"$error":"#DIV/0!"},{"$error":"#DIV/0!"},"","","",{"$error":"#DIV/0!"},{"$error":"#DIV/0!"},0,null,null,null,null,null,null,null,null,null,null,null,null,null,null,null,null,null,null,null,null,null,"1989-01-18",0,0.313,null,"1997-01-17",0,0.74199999999999999,null,"2028-01-18",3.56,9.0810000000000002E-2,3.04,8.5279999999999995E-2,2.72,7.9750000000000001E-2,null,"2038-01-17",3.67,9.418E-2,3.09,8.7069999999999995E-2,2.69,7.9960000000000003E-2,null,"2088-01-18",4.2300000000000004,0.11105,3.3,9.604E-2,2.59,8.1030000000000005E-2]
["1989-02-26",1.7,0.997,2,1989,8,1.7,{"$f":"IF(B8126<Parameters!$A$16,B8126*Parameters!$B$16,IF(AND(B8126>Parameters!$A$16,B8126<Parameters!$A$17),B8126*Parameters!$B$17,B8126*Parameters!$B$18))","v":1.36},{"$f":"IF(B8126<Parameters!$A$20,B8126*Parameters!$B$20,IF(AND(B8126>Parameters!$A$20,B8126<Parameters!$A$21),B8126*Parameters!$B$21,B8126*Parameters!$B$22))","v":1.02},{"$error":"#DIV/0!"},{"$error":"#DIV/0!"},{"$error":"#DIV/0!"},{"$error":"#DIV/0!"},{"$error":"#DIV/0!"},0.9612857142857143,{"$error":"#DIV/0!"},{"$error":"#DIV/0!"},{"$f":"IF('Gegevens '!$G$20=\"Eigen waarden\",VLOOKUP($F8126,'Gegevens '!$A$25:$C$77,3,FALSE),VLOOKUP($F8126,Lijsten!$A$19:$B$71,2,FALSE))","v":13.231023004605714},{"$error":"#DIV/0!"},{"$error":"#DIV/0!"},{"$error":"#DIV/0!"},{"$error":"#DIV/0!"},{"$error":"#DIV/0!"},{"$error":"#DIV/0!"},{"$error":"#DIV/0!"},{"$error":"#DIV/0!"},{"$error":"#DIV/0!"},{"$error":"#DIV/0!"},{"$error":"#DIV/0!"},{"$error":"#DIV/0!"},{"$error":"#DIV/0!"},{"$error":"#DIV/0!"},{"$error":"#DIV/0!"},{"$error":"#DIV/0!"},{"$error":"#DIV/0!"},{"$error":"#DIV/0!"},{"$error":"#DIV/0!"},{"$error":"#DIV/0!"},{"$error":"#DIV/0!"},{"$error":"#DIV/0!"},{"$error":"#DIV/0!"},{"$error":"#DIV/0!"},0,null,null,null,null,null,null,null,null,null,null,null,null,null,null,null,null,null,null,null,null,null,"1989-02-26",1.7,0.997,null,"1997-02-25",3.1,1.3320000000000001,null,"2028-02-26",4.7699999999999996,1.0561100000000001,4.05,1.0038100000000001,3.58,0.95184999999999997,null,"2038-02-25",4.93,1.08243,4.12,1.01519,3.56,0.94838,null,"2088-02-26",5.81,1.21401,4.47,1.07206,3.46,0.93103000000000002]
["1989-06-11",0,5.968,6,1989,23,0,{"$f":"IF(B8231<Parameters!$A$16,B8231*Parameters!$B$16,IF(AND(B8231>Parameters!$A$16,B8231<Parameters!$A$17),B8231*Parameters!$B$17,B8231*Parameters!$B$18))","v":0},{"$f":"IF(B8231<Parameters!$A$20,B8231*Parameters!$B$20,IF(AND(B8231>Parameters!$A$20,B8231<Parameters!$A$21),B8231*Parameters!$B$21,B8231*Parameters!$B$22))","v":0},{"$error":"#DIV/0!"},"",0,"",0,5.8346666666666662,{"$error":"#DIV/0!"},{"$error":"#DIV/0!"},{"$f":"IF('Gegevens '!$G$20=\"Eigen waarden\",VLOOKUP($F8231,'Gegevens '!$A$25:$C$77,3,FALSE),VLOOKUP($F8231,Lijsten!$A$19:$B$71,2,FALSE))","v":40.291810686080005},{"$error":"#DIV/0!"},{"$error":"#DIV/0!"},{"$error":"#DIV/0!"},{"$error":"#DIV/0!"},{"$error":"#DIV/0!"},{"$error":"#DIV/0!"},{"$error":"#DIV/0!"},"","",{"$error":"#DIV/0!"},0,{"$error":"#DIV/0!"},0,{"$error":"#DIV/0!"},{"$error":"#DIV/0!"},{"$error":"#DIV/0!"},{"$error":"#DIV/0!"},{"$error":"#DIV/0!"},{"$error":"#DIV/0!"},"","","",{"$error":"#DIV/0!"},0,{"$error":"#DIV/0!"},null,null,null,null,null,null,null,null,null,null,null,null,null,null,null,null,null,null,null,null,null,"1989-06-11",0,5.968,null,"1997-06-10",0,6.4379999999999997,null,"2028-06-10",1.1000000000000001,2.9890599999999998,1.39,2.85764,1.1000000000000001,2.7349100000000002,null,"2038-06-10",1.04,3.0542199999999999,1.36,2.88524,1.04,2.7274500000000002,null,"2088-06-10",0,3.38002,1.19,3.0232999999999999,0,2.6901799999999998]
["1989-07-24",0,4.5279999999999996,7,1989,30,0,{"$f":"IF(B8274<Parameters!$A$16,B8274*Parameters!$B$16,IF(AND(B8274>Parameters!$A$16,B8274<Parameters!$A$17),B8274*Parameters!$B$17,B8274*Parameters!$B$18))","v":0},{"$f":"IF(B8274<Parameters!$A$20,B8274*Parameters!$B$20,IF(AND(B8274>Parameters!$A$20,B8274<Parameters!$A$21),B8274*Parameters!$B$21,B8274*Parameters!$B$22))","v":0},{"$error":"#DIV/0!"},"",0,"",0,4.4957419354838706,{"$error":"#DIV/0!"},{"$error":"#DIV/0!"},{"$f":"IF('Gegevens '!$G$20=\"Eigen waarden\",VLOOKUP($F8274,'Gegevens '!$A$25:$C$77,3,FALSE),VLOOKUP($F8274,Lijsten!$A$19:$B$71,2,FALSE))","v":38.460966477868567},{"$error":"#DIV/0!"},{"$error":"#DIV/0!"},{"$error":"#DIV/0!"},{"$error":"#DIV/0!"},{"$error":"#DIV/0!"},{"$error":"#DIV/0!"},{"$error":"#DIV/0!"},"","",{"$error":"#DIV/0!"},0,{"$error":"#DIV/0!"},0,{"$error":"#DIV/0!"},{"$error":"#DIV/0!"},{"$error":"#DIV/0!"},{"$error":"#DIV/0!"},{"$error":"#DIV/0!"},{"$error":"#DIV/0!"},"","","",{"$error":"#DIV/0!"},0,{"$error":"#DIV/0!"},null,null,null,null,null,null,null,null,null,null,null,null,null,null,null,null,null,null,null,null,null,"1989-07-24",0,4.5279999999999996,null,"1997-07-23",0,4.4119999999999999,null,"2028-07-23",0.25,3.6948099999999999,0.32,3.5649799999999998,0.25,3.4351600000000002,null,"2038-07-23",0,3.7781799999999999,0.31,3.6112600000000001,0,3.44435,null,"2088-07-23",0.17,4.1950500000000002,0.27,3.84267,0.17,3.4902899999999999]
["1989-11-06",1.1000000000000001,0.45800000000000002,11,1989,45,1.1000000000000001,{"$f":"IF(B8379<Parameters!$A$16,B8379*Parameters!$B$16,IF(AND(B8379>Parameters!$A$16,B8379<Parameters!$A$17),B8379*Parameters!$B$17,B8379*Parameters!$B$18))","v":0.88000000000000012},{"$f":"IF(B8379<Parameters!$A$20,B8379*Parameters!$B$20,IF(AND(B8379>Parameters!$A$20,B8379<Parameters!$A$21),B8379*Parameters!$B$21,B8379*Parameters!$B$22))","v":0.66},{"$error":"#DIV/0!"},{"$error":"#DIV/0!"},{"$error":"#DIV/0!"},{"$error":"#DIV/0!"},{"$error":"#DIV/0!"},0.6246666666666667,{"$error":"#DIV/0!"},{"$error":"#DIV/0!"},{"$f":"IF('Gegevens '!$G$20=\"Eigen waarden\",VLOOKUP($F8379,'Gegevens '!$A$25:$C$77,3,FALSE),VLOOKUP($F8379,Lijsten!$A$19:$B$71,2,FALSE))","v":11.050358269480521},{"$error":"#DIV/0!"},{"$error":"#DIV/0!"},{"$error":"#DIV/0!"},{"$error":"#DIV/0!"},{"$error":"#DIV/0!"},{"$error":"#DIV/0!"},{"$error":"#DIV/0!"},{"$error":"#DIV/0!"},{"$error":"#DIV/0!"},{"$error":"#DIV/0!"},{"$error":"#DIV/0!"},{"$error":"#DIV/0!"},{"$error":"#DIV/0!"},{"$error":"#DIV/0!"},{"$error":"#DIV/0!"},{"$error":"#DIV/0!"},{"$error":"#DIV/0!"},{"$error":"#DIV/0!"},{"$error":"#DIV/0!"},{"$error":"#DIV/0!"},{"$error":"#DIV/0!"},{"$error":"#DIV/0!"},{"$error":"#DIV/0!"},{"$error":"#DIV/0!"},0,null,null,null,null,null,null,null,null,null,null,null,null,null,null,null,null,null,null,null,null,null,"1989-11-06",1.1000000000000001,0.45800000000000002,null,"1997-11-05",0.3,0.66700000000000004,null,"2028-11-05",0,0.47260999999999997,0,0.47260999999999997,0,0.43880999999999998,null,"2038-11-05",0,0.48108000000000001,0,0.48108000000000001,0,0.43762000000000001,null,"2088-11-05",0,0.52337999999999996,0,0.52337999999999996,0,0.43164000000000002]
["1989-12-15",8.3000000000000007,0.57399999999999995,12,1989,50,8.3000000000000007,{"$f":"IF(B8418<Parameters!$A$16,B8418*Parameters!$B$16,IF(AND(B8418>Parameters!$A$16,B8418<Parameters!$A$17),B8418*Parameters!$B$17,B8418*Parameters!$B$18))","v":7.8850000000000007},{"$f":"IF(B8418<Parameters!$A$20,B8418*Parameters!$B$20,IF(AND(B8418>Parameters!$A$20,B8418<Parameters!$A$21),B8418*Parameters!$B$21,B8418*Parameters!$B$22))","v":6.2250000000000005},{"$error":"#DIV/0!"},{"$error":"#DIV/0!"},{"$error":"#DIV/0!"},{"$error":"#DIV/0!"},{"$error":"#DIV/0!"},0.63851612903225807,{"$error":"#DIV/0!"},{"$error":"#DIV/0!"},{"$f":"IF('Gegevens '!$G$20=\"Eigen waarden\",VLOOKUP($F8418,'Gegevens '!$A$25:$C$77,3,FALSE),VLOOKUP($F8418,Lijsten!$A$19:$B$71,2,FALSE))","v":6.1862244897959169},{"$error":"#DIV/0!"},{"$error":"#DIV/0!"},{"$error":"#DIV/0!"},{"$error":"#DIV/0!"},{"$error":"#DIV/0!"},{"$error":"#DIV/0!"},{"$error":"#DIV/0!"},{"$error":"#DIV/0!"},{"$error":"#DIV/0!"},{"$error":"#DIV/0!"},{"$error":"#DIV/0!"},{"$error":"#DIV/0!"},{"$error":"#DIV/0!"},{"$error":"#DIV/0!"},{"$error":"#DIV/0!"},{"$error":"#DIV/0!"},{"$error":"#DIV/0!"},{"$error":"#DIV/0!"},{"$error":"#DIV/0!"},{"$error":"#DIV/0!"},{"$error":"#DIV/0!"},{"$error":"#DIV/0!"},{"$error":"#DIV/0!"},{"$error":"#DIV/0!"},0,null,null,null,null,null,null,null,null,null,null,null,null,null,null,null,null,null,null,null,null,null,"1989-12-15",8.3000000000000007,0.57399999999999995,null,"1997-12-14",1.4,0.31900000000000001,null,"2028-12-14",9.9600000000000009,1.19075,8.5399999999999991,1.1043099999999999,7.6,1.01753,null,"2038-12-14",10.29,1.2429600000000001,8.67,1.1318299999999999,7.58,1.0202500000000001,null,"2088-12-14",11.94,1.50404,9.2899999999999991,1.26942,7.37,1.03386]
["1990-03-12",0,1.6279999999999999,3,1990,11,0,{"$f":"IF(B8505<Parameters!$A$16,B8505*Parameters!$B$16,IF(AND(B8505>Parameters!$A$16,B8505<Parameters!$A$17),B8505*Parameters!$B$17,B8505*Parameters!$B$18))","v":0},{"$f":"IF(B8505<Parameters!$A$20,B8505*Parameters!$B$20,IF(AND(B8505>Parameters!$A$20,B8505<Parameters!$A$21),B8505*Parameters!$B$21,B8505*Parameters!$B$22))","v":0},{"$error":"#DIV/0!"},"",0,"",0,1.5312258064516129,{"$error":"#DIV/0!"},{"$error":"#DIV/0!"},{"$f":"IF('Gegevens '!$G$20=\"Eigen waarden\",VLOOKUP($F8505,'Gegevens '!$A$25:$C$77,3,FALSE),VLOOKUP($F8505,Lijsten!$A$19:$B$71,2,FALSE))","v":19.509069665199995},{"$error":"#DIV/0!"},{"$error":"#DIV/0!"},{"$error":"#DIV/0!"},{"$error":"#DIV/0!"},{"$error":"#DIV/0!"},{"$error":"#DIV/0!"},{"$error":"#DIV/0!"},"","",{"$error":"#DIV/0!"},0,{"$error":"#DIV/0!"},0,{"$error":"#DIV/0!"},{"$error":"#DIV/0!"},{"$error":"#DIV/0!"},{"$error":"#DIV/0!"},{"$error":"#DIV/0!"},{"$error":"#DIV/0!"},"","","",{"$error":"#DIV/0!"},{"$error":"#DIV/0!"},0,null,null,null,null,null,null,null,null,null,null,null,null,null,null,null,null,null,null,null,null,null,"1990-03-12",0,1.6279999999999999,null,"1998-03-11",6.9,0.17199999999999999,null,"2029-03-11",0,1.3264199999999999,0,1.3264199999999999,0,1.2473099999999999,null,"2039-03-11",0,1.3299700000000001,0,1.3299700000000001,0,1.2282599999999999,null,"2089-03-11",0,1.3476999999999999,0,1.3476999999999999,0,1.133]
["1990-05-13",0,2.0089999999999999,5,1990,19,0,{"$f":"IF(B8567<Parameters!$A$16,B8567*Parameters!$B$16,IF(AND(B8567>Parameters!$A$16,B8567<Parameters!$A$17),B8567*Parameters!$B$17,B8567*Parameters!$B$18))","v":0},{"$f":"IF(B8567<Parameters!$A$20,B8567*Parameters!$B$20,IF(AND(B8567>Parameters!$A$20,B8567<Parameters!$A$21),B8567*Parameters!$B$21,B8567*Parameters!$B$22))","v":0},{"$error":"#DIV/0!"},"",0,"",0,1.8154516129032257,{"$error":"#DIV/0!"},{"$error":"#DIV/0!"},{"$f":"IF('Gegevens '!$G$20=\"Eigen waarden\",VLOOKUP($F8567,'Gegevens '!$A$25:$C$77,3,FALSE),VLOOKUP($F8567,Lijsten!$A$19:$B$71,2,FALSE))","v":36.149555012451422},{"$error":"#DIV/0!"},{"$error":"#DIV/0!"},{"$error":"#DIV/0!"},{"$error":"#DIV/0!"},{"$error":"#DIV/0!"},{"$error":"#DIV/0!"},{"$error":"#DIV/0!"},"","",{"$error":"#DIV/0!"},0,{"$error":"#DIV/0!"},0,{"$error":"#DIV/0!"},{"$error":"#DIV/0!"},{"$error":"#DIV/0!"},{"$error":"#DIV/0!"},{"$error":"#DIV/0!"},{"$error":"#DIV/0!"},"","","",{"$error":"#DIV/0!"},0,{"$error":"#DIV/0!"},null,null,null,null,null,null,null,null,null,null,null,null,null,null,null,null,null,null,null,null,null,"1990-05-13",0,2.0089999999999999,null,"1998-05-12",0,5.6779999999999999,null,"2029-05-12",5.59,1.7233499999999999,5.59,1.7233499999999999,5.59,1.6445700000000001,null,"2039-05-12",5.56,1.74288,5.56,1.74288,5.56,1.6415900000000001,null,"2089-05-12",5.38,1.84053,5.38,1.84053,5.38,1.6267]
["1990-06-25",0,3.3820000000000001,6,1990,26,0,{"$f":"IF(B8610<Parameters!$A$16,B8610*Parameters!$B$16,IF(AND(B8610>Parameters!$A$16,B8610<Parameters!$A$17),B8610*Parameters!$B$17,B8610*Parameters!$B$18))","v":0},{"$f":"IF(B8610<Parameters!$A$20,B8610*Parameters!$B$20,IF(AND(B8610>Parameters!$A$20,B8610<Parameters!$A$21),B8610*Parameters!$B$21,B8610*Parameters!$B$22))","v":0},{"$error":"#DIV/0!"},"",0,"",0,3.2486666666666668,{"$error":"#DIV/0!"},{"$error":"#DIV/0!"},{"$f":"IF('Gegevens '!$G$20=\"Eigen waarden\",VLOOKUP($F8610,'Gegevens '!$A$25:$C$77,3,FALSE),VLOOKUP($F8610,Lijsten!$A$19:$B$71,2,FALSE))","v":43.586624781491437},{"$error":"#DIV/0!"},{"$error":"#DIV/0!"},{"$error":"#DIV/0!"},{"$error":"#DIV/0!"},{"$error":"#DIV/0!"},{"$error":"#DIV/0!"},{"$error":"#DIV/0!"},"","",{"$error":"#DIV/0!"},0,{"$error":"#DIV/0!"},0,{"$error":"#DIV/0!"},{"$error":"#DIV/0!"},{"$error":"#DIV/0!"},{"$error":"#DIV/0!"},{"$error":"#DIV/0!"},{"$error":"#DIV/0!"},"","","",{"$error":"#DIV/0!"},0,{"$error":"#DIV/0!"},null,null,null,null,null,null,null,null,null,null,null,null,null,null,null,null,null,null,null,null,null,"1990-06-25",0,3.3820000000000001,null,"1998-06-24",0,3.72,null,"2029-06-24",0,5.8330500000000001,0,5.5765799999999999,0,5.3370800000000003,null,"2039-06-24",0,5.96021,0,5.6304600000000002,0,5.32254,null,"2089-06-24",0,6.5959899999999996,0,5.8998600000000003,0,5.2497999999999996]
["1990-08-03",0,6.07,8,1990,31,0,{"$f":"IF(B8649<Parameters!$A$16,B8649*Parameters!$B$16,IF(AND(B8649>Parameters!$A$16,B8649<Parameters!$A$17),B8649*Parameters!$B$17,B8649*Parameters!$B$18))","v":0},{"$f":"IF(B8649<Parameters!$A$20,B8649*Parameters!$B$20,IF(AND(B8649>Parameters!$A$20,B8649<Parameters!$A$21),B8649*Parameters!$B$21,B8649*Parameters!$B$22))","v":0},{"$error":"#DIV/0!"},"",0,"",0,6.1345161290322583,{"$error":"#DIV/0!"},{"$error":"#DIV/0!"},{"$f":"IF('Gegevens '!$G$20=\"Eigen waarden\",VLOOKUP($F8649,'Gegevens '!$A$25:$C$77,3,FALSE),VLOOKUP($F8649,Lijsten!$A$19:$B$71,2,FALSE))","v":36.543125282102856},{"$error":"#DIV/0!"},{"$error":"#DIV/0!"},{"$error":"#DIV/0!"},{"$error":"#DIV/0!"},{"$error":"#DIV/0!"},{"$error":"#DIV/0!"},{"$error":"#DIV/0!"},"","",{"$error":"#DIV/0!"},0,{"$error":"#DIV/0!"},0,{"$error":"#DIV/0!"},{"$error":"#DIV/0!"},{"$error":"#DIV/0!"},{"$error":"#DIV/0!"},{"$error":"#DIV/0!"},{"$error":"#DIV/0!"},"","","",{"$error":"#DIV/0!"},0,{"$error":"#DIV/0!"},null,null,null,null,null,null,null,null,null,null,null,null,null,null,null,null,null,null,null,null,null,"1990-08-03",0,6.07,null,"1998-08-02",0.3,2.4140000000000001,null,"2029-08-02",0,6.7900400000000003,0,6.5184499999999996,0,6.2468599999999999,null,"2039-08-02",0,6.9843400000000004,0,6.6351500000000003,0,6.2859699999999998,null,"2089-08-02",0,7.9558299999999997,0,7.2186599999999999,0,6.48149]
["1990-11-16",0.6,0.153,11,1990,46,0.6,{"$f":"IF(B8754<Parameters!$A$16,B8754*Parameters!$B$16,IF(AND(B8754>Parameters!$A$16,B8754<Parameters!$A$17),B8754*Parameters!$B$17,B8754*Parameters!$B$18))","v":0},{"$f":"IF(B8754<Parameters!$A$20,B8754*Parameters!$B$20,IF(AND(B8754>Parameters!$A$20,B8754<Parameters!$A$21),B8754*Parameters!$B$21,B8754*Parameters!$B$22))","v":0},{"$error":"#DIV/0!"},{"$error":"#DIV/0!"},{"$error":"#DIV/0!"},{"$error":"#DIV/0!"},{"$error":"#DIV/0!"},0.31966666666666665,{"$error":"#DIV/0!"},{"$error":"#DIV/0!"},{"$f":"IF('Gegevens '!$G$20=\"Eigen waarden\",VLOOKUP($F8754,'Gegevens '!$A$25:$C$77,3,FALSE),VLOOKUP($F8754,Lijsten!$A$19:$B$71,2,FALSE))","v":9.880531666666668},{"$error":"#DIV/0!"},{"$error":"#DIV/0!"},{"$error":"#DIV/0!"},{"$error":"#DIV/0!"},{"$error":"#DIV/0!"},{"$error":"#DIV/0!"},{"$error":"#DIV/0!"},{"$error":"#DIV/0!"},{"$error":"#DIV/0!"},{"$error":"#DIV/0!"},{"$error":"#DIV/0!"},{"$error":"#DIV/0!"},{"$error":"#DIV/0!"},{"$error":"#DIV/0!"},{"$error":"#DIV/0!"},{"$error":"#DIV/0!"},{"$error":"#DIV/0!"},{"$error":"#DIV/0!"},{"$error":"#DIV/0!"},{"$error":"#DIV/0!"},{"$error":"#DIV/0!"},{"$error":"#DIV/0!"},{"$error":"#DIV/0!"},{"$error":"#DIV/0!"},0,null,null,null,null,null,null,null,null,null,null,null,null,null,null,null,null,null,null,null,null,null,"1990-11-16",0.6,0.153,null,"1998-11-15",5.4,0.22,null,"2029-11-15",1.48,0.43634000000000001,1.48,0.43634000000000001,1.48,0.40512999999999999,null,"2039-11-15",0,0.44414999999999999,0,0.44414999999999999,0,0.40403,null,"2089-11-15",1.45,0.48320999999999997,1.45,0.48320999999999997,1.45,0.39850999999999998]
["1990-12-29",21.9,0.36099999999999999,12,1990,52,21.9,{"$f":"IF(B8797<Parameters!$A$16,B8797*Parameters!$B$16,IF(AND(B8797>Parameters!$A$16,B8797<Parameters!$A$17),B8797*Parameters!$B$17,B8797*Parameters!$B$18))","v":20.804999999999996},{"$f":"IF(B8797<Parameters!$A$20,B8797*Parameters!$B$20,IF(AND(B8797>Parameters!$A$20,B8797<Parameters!$A$21),B8797*Parameters!$B$21,B8797*Parameters!$B$22))","v":16.424999999999997},{"$error":"#DIV/0!"},{"$error":"#DIV/0!"},{"$error":"#DIV/0!"},{"$error":"#DIV/0!"},{"$error":"#DIV/0!"},0.42551612903225805,{"$error":"#DIV/0!"},{"$error":"#DIV/0!"},{"$f":"IF('Gegevens '!$G$20=\"Eigen waarden\",VLOOKUP($F8797,'Gegevens '!$A$25:$C$77,3,FALSE),VLOOKUP($F8797,Lijsten!$A$19:$B$71,2,FALSE))","v":0},{"$error":"#DIV/0!"},{"$error":"#DIV/0!"},{"$error":"#DIV/0!"},{"$error":"#DIV/0!"},{"$error":"#DIV/0!"},{"$error":"#DIV/0!"},"",{"$error":"#DIV/0!"},{"$error":"#DIV/0!"},{"$error":"#DIV/0!"},{"$error":"#DIV/0!"},{"$error":"#DIV/0!"},{"$error":"#DIV/0!"},{"$error":"#DIV/0!"},{"$error":"#DIV/0!"},{"$error":"#DIV/0!"},{"$error":"#DIV/0!"},{"$error":"#DIV/0!"},{"$error":"#DIV/0!"},{"$error":"#DIV/0!"},{"$error":"#DIV/0!"},{"$error":"#DIV/0!"},{"$error":"#DIV/0!"},{"$error":"#DIV/0!"},0,null,null,null,null,null,null,null,null,null,null,null,null,null,null,null,null,null,null,null,null,null,"1990-12-29",21.9,0.36099999999999999,null,"1998-12-28",7.2,0.32100000000000001,null,"2029-12-28",1.29,0.66979999999999995,1.06,0.62117999999999995,0.9,0.57235999999999998,null,"2039-12-28",1.34,0.69916999999999996,1.08,0.63666,0.89,0.57389000000000001,null,"2089-12-28",1.62,0.84601999999999999,1.18,0.71404999999999996,0.82,0.58153999999999995]
["1991-04-13",0,4.415,4,1991,15,0,{"$f":"IF(B8902<Parameters!$A$16,B8902*Parameters!$B$16,IF(AND(B8902>Parameters!$A$16,B8902<Parameters!$A$17),B8902*Parameters!$B$17,B8902*Parameters!$B$18))","v":0},{"$f":"IF(B8902<Parameters!$A$20,B8902*Parameters!$B$20,IF(AND(B8902>Parameters!$A$20,B8902<Parameters!$A$21),B8902*Parameters!$B$21,B8902*Parameters!$B$22))","v":0},{"$error":"#DIV/0!"},"",0,"",0,4.2483333333333331,{"$error":"#DIV/0!"},{"$error":"#DIV/0!"},{"$f":"IF('Gegevens '!$G$20=\"Eigen waarden\",VLOOKUP($F8902,'Gegevens '!$A$25:$C$77,3,FALSE),VLOOKUP($F8902,Lijsten!$A$19:$B$71,2,FALSE))","v":28.925363264788576},{"$error":"#DIV/0!"},{"$error":"#DIV/0!"},{"$error":"#DIV/0!"},{"$error":"#DIV/0!"},{"$error":"#DIV/0!"},{"$error":"#DIV/0!"},{"$error":"#DIV/0!"},"","",{"$error":"#DIV/0!"},0,{"$error":"#DIV/0!"},0,{"$error":"#DIV/0!"},{"$error":"#DIV/0!"},{"$error":"#DIV/0!"},{"$error":"#DIV/0!"},{"$error":"#DIV/0!"},{"$error":"#DIV/0!"},"","","",{"$error":"#DIV/0!"},0,{"$error":"#DIV/0!"},null,null,null,null,null,null,null,null,null,null,null,null,null,null,null,null,null,null,null,null,null,"1991-04-13",0,4.415,null,"1999-04-12",10.8,1.696,null,"2030-04-12",0,4.6528099999999997,0,4.6528099999999997,0,4.4517600000000002,null,"2040-04-11",0,4.6898999999999997,0,4.6898999999999997,0,4.4314099999999996,null,"2090-04-12",0,4.8753399999999996,0,4.8753399999999996,0,4.3296400000000004]
["1991-05-26",0,1.8819999999999999,5,1991,21,0,{"$f":"IF(B8945<Parameters!$A$16,B8945*Parameters!$B$16,IF(AND(B8945>Parameters!$A$16,B8945<Parameters!$A$17),B8945*Parameters!$B$17,B8945*Parameters!$B$18))","v":0},{"$f":"IF(B8945<Parameters!$A$20,B8945*Parameters!$B$20,IF(AND(B8945>Parameters!$A$20,B8945<Parameters!$A$21),B8945*Parameters!$B$21,B8945*Parameters!$B$22))","v":0},{"$error":"#DIV/0!"},"",0,"",0,1.6884516129032257,{"$error":"#DIV/0!"},{"$error":"#DIV/0!"},{"$f":"IF('Gegevens '!$G$20=\"Eigen waarden\",VLOOKUP($F8945,'Gegevens '!$A$25:$C$77,3,FALSE),VLOOKUP($F8945,Lijsten!$A$19:$B$71,2,FALSE))","v":38.569226396674274},{"$error":"#DIV/0!"},{"$error":"#DIV/0!"},{"$error":"#DIV/0!"},{"$error":"#DIV/0!"},{"$error":"#DIV/0!"},{"$error":"#DIV/0!"},{"$error":"#DIV/0!"},"","",{"$error":"#DIV/0!"},0,{"$error":"#DIV/0!"},0,{"$error":"#DIV/0!"},{"$error":"#DIV/0!"},{"$error":"#DIV/0!"},{"$error":"#DIV/0!"},{"$error":"#DIV/0!"},{"$error":"#DIV/0!"},"","","",{"$error":"#DIV/0!"},0,{"$error":"#DIV/0!"},null,null,null,null,null,null,null,null,null,null,null,null,null,null,null,null,null,null,null,null,null,"1991-05-26",0,1.8819999999999999,null,"1999-05-25",0,4.2469999999999999,null,"2030-05-25",0,3.21658,0,3.21658,0,3.0695399999999999,null,"2040-05-24",0,3.2530299999999999,0,3.2530299999999999,0,3.0639799999999999,null,"2090-05-25",0,3.4352800000000001,0,3.4352800000000001,0,3.0361799999999999]
["1991-07-04",0,6.2869999999999999,7,1991,27,0,{"$f":"IF(B8984<Parameters!$A$16,B8984*Parameters!$B$16,IF(AND(B8984>Parameters!$A$16,B8984<Parameters!$A$17),B8984*Parameters!$B$17,B8984*Parameters!$B$18))","v":0},{"$f":"IF(B8984<Parameters!$A$20,B8984*Parameters!$B$20,IF(AND(B8984>Parameters!$A$20,B8984<Parameters!$A$21),B8984*Parameters!$B$21,B8984*Parameters!$B$22))","v":0},{"$error":"#DIV/0!"},"",0,"",0,6.2547419354838709,{"$error":"#DIV/0!"},{"$error":"#DIV/0!"},{"$f":"IF('Gegevens '!$G$20=\"Eigen waarden\",VLOOKUP($F8984,'Gegevens '!$A$25:$C$77,3,FALSE),VLOOKUP($F8984,Lijsten!$A$19:$B$71,2,FALSE))","v":44.20203263918858},{"$error":"#DIV/0!"},{"$error":"#DIV/0!"},{"$error":"#DIV/0!"},{"$error":"#DIV/0!"},{"$error":"#DIV/0!"},{"$error":"#DIV/0!"},{"$error":"#DIV/0!"},"","",{"$error":"#DIV/0!"},0,{"$error":"#DIV/0!"},0,{"$error":"#DIV/0!"},{"$error":"#DIV/0!"},{"$error":"#DIV/0!"},{"$error":"#DIV/0!"},{"$error":"#DIV/0!"},{"$error":"#DIV/0!"},"","","",{"$error":"#DIV/0!"},0,{"$error":"#DIV/0!"},null,null,null,null,null,null,null,null,null,null,null,null,null,null,null,null,null,null,null,null,null,"1991-07-04",0,6.2869999999999999,null,"1999-07-03",0,4.6760000000000002,null,"2030-07-03",0,4.66547,0.22,4.5015400000000003,0,4.3376099999999997,null,"2040-07-02",0.16,4.77074,0.21,4.5599800000000004,0.16,4.3492100000000002,null,"2090-07-03",0.13,5.2971300000000001,0.19,4.8521700000000001,0.13,4.4072199999999997]
["1991-10-17",0.2,1.1579999999999999,10,1991,42,0.2,{"$f":"IF(B9089<Parameters!$A$16,B9089*Parameters!$B$16,IF(AND(B9089>Parameters!$A$16,B9089<Parameters!$A$17),B9089*Parameters!$B$17,B9089*Parameters!$B$18))","v":0},{"$f":"IF(B9089<Parameters!$A$20,B9089*Parameters!$B$20,IF(AND(B9089>Parameters!$A$20,B9089<Parameters!$A$21),B9089*Parameters!$B$21,B9089*Parameters!$B$22))","v":0},{"$error":"#DIV/0!"},{"$error":"#DIV/0!"},{"$error":"#DIV/0!"},{"$error":"#DIV/0!"},{"$error":"#DIV/0!"},1.3192903225806452,{"$error":"#DIV/0!"},{"$error":"#DIV/0!"},{"$f":"IF('Gegevens '!$G$20=\"Eigen waarden\",VLOOKUP($F9089,'Gegevens '!$A$25:$C$77,3,FALSE),VLOOKUP($F9089,Lijsten!$A$19:$B$71,2,FALSE))","v":14.997021876739499},{"$error":"#DIV/0!"},{"$error":"#DIV/0!"},{"$error":"#DIV/0!"},{"$error":"#DIV/0!"},{"$error":"#DIV/0!"},{"$error":"#DIV/0!"},{"$error":"#DIV/0!"},{"$error":"#DIV/0!"},{"$error":"#DIV/0!"},{"$error":"#DIV/0!"},{"$error":"#DIV/0!"},{"$error":"#DIV/0!"},{"$error":"#DIV/0!"},{"$error":"#DIV/0!"},{"$error":"#DIV/0!"},{"$error":"#DIV/0!"},{"$error":"#DIV/0!"},{"$error":"#DIV/0!"},{"$error":"#DIV/0!"},{"$error":"#DIV/0!"},{"$error":"#DIV/0!"},{"$error":"#DIV/0!"},{"$error":"#DIV/0!"},{"$error":"#DIV/0!"},0,null,null,null,null,null,null,null,null,null,null,null,null,null,null,null,null,null,null,null,null,null,"1991-10-17",0.2,1.1579999999999999,null,"1999-10-16",0,1.657,null,"2030-10-16",3.41,0.98043999999999998,3.41,0.98043999999999998,3.41,0.92188999999999999,null,"2040-10-15",3.41,0.99799000000000004,3.41,0.99799000000000004,3.41,0.92271999999999998,null,"2090-10-16",3.46,1.08575,3.46,1.08575,3.46,0.92686000000000002]
["1991-11-29",0,0.22700000000000001,11,1991,48,0,{"$f":"IF(B9132<Parameters!$A$16,B9132*Parameters!$B$16,IF(AND(B9132>Parameters!$A$16,B9132<Parameters!$A$17),B9132*Parameters!$B$17,B9132*Parameters!$B$18))","v":0},{"$f":"IF(B9132<Parameters!$A$20,B9132*Parameters!$B$20,IF(AND(B9132>Parameters!$A$20,B9132<Parameters!$A$21),B9132*Parameters!$B$21,B9132*Parameters!$B$22))","v":0},{"$error":"#DIV/0!"},"",0,"",0,0.39366666666666666,{"$error":"#DIV/0!"},{"$error":"#DIV/0!"},{"$f":"IF('Gegevens '!$G$20=\"Eigen waarden\",VLOOKUP($F9132,'Gegevens '!$A$25:$C$77,3,FALSE),VLOOKUP($F9132,Lijsten!$A$19:$B$71,2,FALSE))","v":8.6779285714285717},{"$error":"#DIV/0!"},{"$error":"#DIV/0!"},{"$error":"#DIV/0!"},{"$error":"#DIV/0!"},{"$error":"#DIV/0!"},{"$error":"#DIV/0!"},{"$error":"#DIV/0!"},"","",{"$error":"#DIV/0!"},0,{"$error":"#DIV/0!"},0,{"$error":"#DIV/0!"},{"$error":"#DIV/0!"},{"$error":"#DIV/0!"},{"$error":"#DIV/0!"},{"$error":"#DIV/0!"},{"$error":"#DIV/0!"},"","","",{"$error":"#DIV/0!"},{"$error":"#DIV/0!"},0,null,null,null,null,null,null,null,null,null,null,null,null,null,null,null,null,null,null,null,null,null,"1991-11-29",0,0.22700000000000001,null,"1999-11-28",0,0.76800000000000002,null,"2030-11-28",0,0.29552,0,0.29552,0,0.27438000000000001,null,"2040-11-27",0,0.30081000000000002,0,0.30081000000000002,0,0.27362999999999998,null,"2090-11-28",0,0.32726,0,0.32726,0,0.26989000000000002]
["1992-02-16",4.7,0.65100000000000002,2,1992,7,4.7,{"$f":"IF(B9211<Parameters!$A$16,B9211*Parameters!$B$16,IF(AND(B9211>Parameters!$A$16,B9211<Parameters!$A$17),B9211*Parameters!$B$17,B9211*Parameters!$B$18))","v":4.4649999999999999},{"$f":"IF(B9211<Parameters!$A$20,B9211*Parameters!$B$20,IF(AND(B9211>Parameters!$A$20,B9211<Parameters!$A$21),B9211*Parameters!$B$21,B9211*Parameters!$B$22))","v":3.5250000000000004},{"$error":"#DIV/0!"},{"$error":"#DIV/0!"},{"$error":"#DIV/0!"},{"$error":"#DIV/0!"},{"$error":"#DIV/0!"},0.61528571428571432,{"$error":"#DIV/0!"},{"$error":"#DIV/0!"},{"$f":"IF('Gegevens '!$G$20=\"Eigen waarden\",VLOOKUP($F9211,'Gegevens '!$A$25:$C$77,3,FALSE),VLOOKUP($F9211,Lijsten!$A$19:$B$71,2,FALSE))","v":10.977630682914283},{"$error":"#DIV/0!"},{"$error":"#DIV/0!"},{"$error":"#DIV/0!"},{"$error":"#DIV/0!"},{"$error":"#DIV/0!"},{"$error":"#DIV/0!"},{"$error":"#DIV/0!"},{"$error":"#DIV/0!"},{"$error":"#DIV/0!"},{"$error":"#DIV/0!"},{"$error":"#DIV/0!"},{"$error":"#DIV/0!"},{"$error":"#DIV/0!"},{"$error":"#DIV/0!"},{"$error":"#DIV/0!"},{"$error":"#DIV/0!"},{"$error":"#DIV/0!"},{"$error":"#DIV/0!"},{"$error":"#DIV/0!"},{"$error":"#DIV/0!"},{"$error":"#DIV/0!"},{"$error":"#DIV/0!"},{"$error":"#DIV/0!"},{"$error":"#DIV/0!"},0,null,null,null,null,null,null,null,null,null,null,null,null,null,null,null,null,null,null,null,null,null,"1992-02-16",4.7,0.65100000000000002,null,"2000-02-15",2.1,0.85699999999999998,null,"2031-02-15",4.5599999999999996,1.0637799999999999,3.85,1.0111000000000001,3.37,0.95877000000000001,null,"2041-02-14",4.7300000000000004,1.09029,3.92,1.0225599999999999,3.35,0.95526999999999995,null,"2091-02-15",5.65,1.2228300000000001,4.2699999999999996,1.07985,3.24,0.93779000000000001]
["1992-04-22",0,1.879,4,1992,17,0,{"$f":"IF(B9277<Parameters!$A$16,B9277*Parameters!$B$16,IF(AND(B9277>Parameters!$A$16,B9277<Parameters!$A$17),B9277*Parameters!$B$17,B9277*Parameters!$B$18))","v":0},{"$f":"IF(B9277<Parameters!$A$20,B9277*Parameters!$B$20,IF(AND(B9277>Parameters!$A$20,B9277<Parameters!$A$21),B9277*Parameters!$B$21,B9277*Parameters!$B$22))","v":0},{"$error":"#DIV/0!"},"",0,"",0,1.7123333333333333,{"$error":"#DIV/0!"},{"$error":"#DIV/0!"},{"$f":"IF('Gegevens '!$G$20=\"Eigen waarden\",VLOOKUP($F9277,'Gegevens '!$A$25:$C$77,3,FALSE),VLOOKUP($F9277,Lijsten!$A$19:$B$71,2,FALSE))","v":34.009844090885714},{"$error":"#DIV/0!"},{"$error":"#DIV/0!"},{"$error":"#DIV/0!"},{"$error":"#DIV/0!"},{"$error":"#DIV/0!"},{"$error":"#DIV/0!"},{"$error":"#DIV/0!"},"","",{"$error":"#DIV/0!"},0,{"$error":"#DIV/0!"},0,{"$error":"#DIV/0!"},{"$error":"#DIV/0!"},{"$error":"#DIV/0!"},{"$error":"#DIV/0!"},{"$error":"#DIV/0!"},{"$error":"#DIV/0!"},"","","",{"$error":"#DIV/0!"},0,{"$error":"#DIV/0!"},null,null,null,null,null,null,null,null,null,null,null,null,null,null,null,null,null,null,null,null,null,"1992-04-22",0,1.879,null,"2000-04-21",1.1000000000000001,3.9009999999999998,null,"2031-04-22",0,3.5418099999999999,0,3.5418099999999999,0,3.3887700000000001,null,"2041-04-21",0,3.5700500000000002,0,3.5700500000000002,0,3.3732799999999998,null,"2091-04-22",0,3.7112099999999999,0,3.7112099999999999,0,3.2958099999999999]
["1992-06-04",8.1,1.8819999999999999,6,1992,23,8.1,{"$f":"IF(B9320<Parameters!$A$16,B9320*Parameters!$B$16,IF(AND(B9320>Parameters!$A$16,B9320<Parameters!$A$17),B9320*Parameters!$B$17,B9320*Parameters!$B$18))","v":7.6949999999999994},{"$f":"IF(B9320<Parameters!$A$20,B9320*Parameters!$B$20,IF(AND(B9320>Parameters!$A$20,B9320<Parameters!$A$21),B9320*Parameters!$B$21,B9320*Parameters!$B$22))","v":6.0749999999999993},{"$error":"#DIV/0!"},{"$error":"#DIV/0!"},{"$error":"#DIV/0!"},{"$error":"#DIV/0!"},{"$error":"#DIV/0!"},1.7486666666666666,{"$error":"#DIV/0!"},{"$error":"#DIV/0!"},{"$f":"IF('Gegevens '!$G$20=\"Eigen waarden\",VLOOKUP($F9320,'Gegevens '!$A$25:$C$77,3,FALSE),VLOOKUP($F9320,Lijsten!$A$19:$B$71,2,FALSE))","v":40.291810686080005},{"$error":"#DIV/0!"},{"$error":"#DIV/0!"},{"$error":"#DIV/0!"},{"$error":"#DIV/0!"},{"$error":"#DIV/0!"},{"$error":"#DIV/0!"},{"$error":"#DIV/0!"},{"$error":"#DIV/0!"},{"$error":"#DIV/0!"},{"$error":"#DIV/0!"},{"$error":"#DIV/0!"},{"$error":"#DIV/0!"},{"$error":"#DIV/0!"},{"$error":"#DIV/0!"},{"$error":"#DIV/0!"},{"$error":"#DIV/0!"},{"$error":"#DIV/0!"},{"$error":"#DIV/0!"},{"$error":"#DIV/0!"},{"$error":"#DIV/0!"},{"$error":"#DIV/0!"},{"$error":"#DIV/0!"},{"$error":"#DIV/0!"},0,{"$error":"#DIV/0!"},null,null,null,null,null,null,null,null,null,null,null,null,null,null,null,null,null,null,null,null,null,"1992-06-04",8.1,1.8819999999999999,null,"2000-06-03",6.3,4.1859999999999999,null,"2031-06-04",5.17,5.3058199999999998,6.6,5.07254,5.17,4.8546899999999997,null,"2041-06-03",4.9400000000000004,5.4214900000000004,6.51,5.1215400000000004,4.9400000000000004,4.84145,null,"2091-06-04",0,5.9997999999999996,6.02,5.3666,0,4.77529]
["1992-09-17",0,3.077,9,1992,38,0,{"$f":"IF(B9425<Parameters!$A$16,B9425*Parameters!$B$16,IF(AND(B9425>Parameters!$A$16,B9425<Parameters!$A$17),B9425*Parameters!$B$17,B9425*Parameters!$B$18))","v":0},{"$f":"IF(B9425<Parameters!$A$20,B9425*Parameters!$B$20,IF(AND(B9425>Parameters!$A$20,B9425<Parameters!$A$21),B9425*Parameters!$B$21,B9425*Parameters!$B$22))","v":0},{"$error":"#DIV/0!"},"",0,"",0,3.2103333333333333,{"$error":"#DIV/0!"},{"$error":"#DIV/0!"},{"$f":"IF('Gegevens '!$G$20=\"Eigen waarden\",VLOOKUP($F9425,'Gegevens '!$A$25:$C$77,3,FALSE),VLOOKUP($F9425,Lijsten!$A$19:$B$71,2,FALSE))","v":26.077190661357143},{"$error":"#DIV/0!"},{"$error":"#DIV/0!"},{"$error":"#DIV/0!"},{"$error":"#DIV/0!"},{"$error":"#DIV/0!"},{"$error":"#DIV/0!"},{"$error":"#DIV/0!"},"","",{"$error":"#DIV/0!"},0,{"$error":"#DIV/0!"},0,{"$error":"#DIV/0!"},{"$error":"#DIV/0!"},{"$error":"#DIV/0!"},{"$error":"#DIV/0!"},{"$error":"#DIV/0!"},{"$error":"#DIV/0!"},"","","",{"$error":"#DIV/0!"},0,{"$error":"#DIV/0!"},null,null,null,null,null,null,null,null,null,null,null,null,null,null,null,null,null,null,null,null,null,"1992-09-17",0,3.077,null,"2000-09-16",33.299999999999997,0.219,null,"2031-09-17",0.12,2.4153500000000001,0.12,2.4153500000000001,0.12,2.3147099999999998,null,"2041-09-16",0.12,2.4585900000000001,0.12,2.4585900000000001,0.12,2.3292000000000002,null,"2091-09-17",0.12,2.6747999999999998,0.12,2.6747999999999998,0.12,2.4016500000000001]
["1992-10-30",0,0.53300000000000003,10,1992,44,0,{"$f":"IF(B9468<Parameters!$A$16,B9468*Parameters!$B$16,IF(AND(B9468>Parameters!$A$16,B9468<Parameters!$A$17),B9468*Parameters!$B$17,B9468*Parameters!$B$18))","v":0},{"$f":"IF(B9468<Parameters!$A$20,B9468*Parameters!$B$20,IF(AND(B9468>Parameters!$A$20,B9468<Parameters!$A$21),B9468*Parameters!$B$21,B9468*Parameters!$B$22))","v":0},{"$error":"#DIV/0!"},"",0,"",0,0.69429032258064516,{"$error":"#DIV/0!"},{"$error":"#DIV/0!"},{"$f":"IF('Gegevens '!$G$20=\"Eigen waarden\",VLOOKUP($F9468,'Gegevens '!$A$25:$C$77,3,FALSE),VLOOKUP($F9468,Lijsten!$A$19:$B$71,2,FALSE))","v":11.034608376916669},{"$error":"#DIV/0!"},{"$error":"#DIV/0!"},{"$error":"#DIV/0!"},{"$error":"#DIV/0!"},{"$error":"#DIV/0!"},{"$error":"#DIV/0!"},{"$error":"#DIV/0!"},"","",{"$error":"#DIV/0!"},0,{"$error":"#DIV/0!"},0,{"$error":"#DIV/0!"},{"$error":"#DIV/0!"},{"$error":"#DIV/0!"},{"$error":"#DIV/0!"},{"$error":"#DIV/0!"},{"$error":"#DIV/0!"},"","","",{"$error":"#DIV/0!"},{"$error":"#DIV/0!"},0,null,null,null,null,null,null,null,null,null,null,null,null,null,null,null,null,null,null,null,null,null,"1992-10-30",0,0.53300000000000003,null,"2000-10-29",5.7,1.165,null,"2031-10-30",8.65,0.39579999999999999,8.65,0.39579999999999999,8.65,0.37217,null,"2041-10-29",8.6999999999999993,0.40289000000000003,8.6999999999999993,0.40289000000000003,8.6999999999999993,0.3725,null,"2091-10-30",0,0.43831999999999999,0,0.43831999999999999,0,0.37417]
["1992-12-08",0,0.24299999999999999,{"$f":"MONTH(A9507)","v":12},1992,{"$f":"INT((A9507-DATE(YEAR(A9507-WEEKDAY(A9507-1)+4),1,3)+WEEKDAY(DATE(YEAR(A9507-WEEKDAY(A9507-1)+4),1,3))+5)/7)","v":50},0,{"$f":"IF(B9507<Parameters!$A$16,B9507*Parameters!$B$16,IF(AND(B9507>Parameters!$A$16,B9507<Parameters!$A$17),B9507*Parameters!$B$17,B9507*Parameters!$B$18))","v":0},{"$f":"IF(B9507<Parameters!$A$20,B9507*Parameters!$B$20,IF(AND(B9507>Parameters!$A$20,B9507<Parameters!$A$21),B9507*Parameters!$B$21,B9507*Parameters!$B$22))","v":0},{"$error":"#DIV/0!"},{"$f":"IF(B9507=0,\"\",SUM(J9507/(B9507*10)))","v":""},0,{"$f":"IF(B9507=0,\"\",L9507/J9507)","v":""},{"$f":"IF(B9507=0,0,SUM(J9507-L9507))","v":0},{"$f":"IF(OR($D9507=1,$D9507=12,$D9507=8),C9507+(2/31),IF($D9507=2,C9507-(1/28),IF($D9507=3,C9507-(3/31),IF($D9507=4,C9507-(5/30),IF($D9507=5,C9507-(6/31),IF($D9507=6,C9507-(4/30),IF($D9507=7,C9507-(1/31),IF($D9507=9,C9507+(4/30),IF($D9507=10,C9507+(5/31),IF($D9507=11,C9507+(5/30)))))))))))","v":0.30751612903225806},{"$f":"-(($BH$3-$BI$3)*($AN$3+$AK$3-U9507)/($AK$3)-$BH$3)","v":{"$error":"#DIV/0!"}},{"$error":"#DIV/0!"},{"$f":"IF('Gegevens '!$G$20=\"Eigen waarden\",VLOOKUP($F9507,'Gegevens '!$A$25:$C$77,3,FALSE),VLOOKUP($F9507,Lijsten!$A$19:$B$71,2,FALSE))","v":6.1862244897959169},{"$error":"#DIV/0!"},{"$error":"#DIV/0!"},{"$error":"#DIV/0!"},{"$error":"#DIV/0!"},{"$error":"#DIV/0!"},{"$error":"#DIV/0!"},{"$f":"IF(R9507=0,\"\",((R9507-W9507)/R9507))","v":{"$error":"#DIV/0!"}},{"$f":"IF(B9507=0,\"\",X9507/(B9507*10))","v":""},"",{"$f":"J9507/10","v":{"$error":"#DIV/0!"}},{"$f":"L9507/10","v":0},{"$f":"X9507/10","v":{"$error":"#DIV/0!"}},0,{"$error":"#DIV/0!"},{"$error":"#DIV/0!"},{"$f":"(R9507-W9507)/10","v":{"$error":"#DIV/0!"}},{"$f":"SUM(AC9507-AF9507-AG9507-AD9507)","v":{"$error":"#DIV/0!"}},{"$f":"IF(AB9507=0,\"\",AE9507/AB9507)","v":{"$error":"#DIV/0!"}},{"$error":"#DIV/0!"},{"$f":"IF(AC9507=0,\"\",AG9507/AC9507)","v":""},{"$f":"IF(AC9507=0,\"\",AD9507/AC9507)","v":""},{"$f":"IF(AC9507=0,\"\",AI9507/AC9507)","v":""},{"$error":"#DIV/0!"},{"$error":"#DIV/0!"},0,null,null,null,null,null,null,null,null,null,null,null,null,null,null,null,null,null,null,null,null,null,"1992-12-08",0,0.24299999999999999,null,"2000-12-07",3.8,0.85099999999999998,null,"2031-12-08",5.41,0.43236000000000002,4.6500000000000004,0.40096999999999999,4.18,0.36946000000000001,null,"2041-12-07",5.59,0.45130999999999999,4.7300000000000004,0.41095999999999999,4.16,0.37045,null,"2091-12-08",6.46,0.54610999999999998,5.09,0.46092,4.08,0.37539]
["1993-03-23",0,2.218,3,1993,12,0,{"$f":"IF(B9612<Parameters!$A$16,B9612*Parameters!$B$16,IF(AND(B9612>Parameters!$A$16,B9612<Parameters!$A$17),B9612*Parameters!$B$17,B9612*Parameters!$B$18))","v":0},{"$f":"IF(B9612<Parameters!$A$20,B9612*Parameters!$B$20,IF(AND(B9612>Parameters!$A$20,B9612<Parameters!$A$21),B9612*Parameters!$B$21,B9612*Parameters!$B$22))","v":0},{"$error":"#DIV/0!"},"",0,"",0,2.121225806451613,{"$error":"#DIV/0!"},{"$error":"#DIV/0!"},{"$f":"IF('Gegevens '!$G$20=\"Eigen waarden\",VLOOKUP($F9612,'Gegevens '!$A$25:$C$77,3,FALSE),VLOOKUP($F9612,Lijsten!$A$19:$B$71,2,FALSE))","v":22.555070739851423},{"$error":"#DIV/0!"},{"$error":"#DIV/0!"},{"$error":"#DIV/0!"},{"$error":"#DIV/0!"},{"$error":"#DIV/0!"},{"$error":"#DIV/0!"},{"$error":"#DIV/0!"},"","",{"$error":"#DIV/0!"},0,{"$error":"#DIV/0!"},0,{"$error":"#DIV/0!"},{"$error":"#DIV/0!"},{"$error":"#DIV/0!"},{"$error":"#DIV/0!"},{"$error":"#DIV/0!"},{"$error":"#DIV/0!"},"","","",{"$error":"#DIV/0!"},{"$error":"#DIV/0!"},0,null,null,null,null,null,null,null,null,null,null,null,null,null,null,null,null,null,null,null,null,null,"1993-03-23",0,2.218,null,"2001-03-22",4.0999999999999996,1.0269999999999999,null,"2032-03-22",1.27,1.23759,1.27,1.23759,1.27,1.16378,null,"2042-03-22",1.29,1.2408999999999999,1.29,1.2408999999999999,1.29,1.1459999999999999,null,"2092-03-22",1.39,1.25745,1.39,1.25745,1.39,1.0571200000000001]
["1993-05-05",0,4.7720000000000002,5,1993,18,0,{"$f":"IF(B9655<Parameters!$A$16,B9655*Parameters!$B$16,IF(AND(B9655>Parameters!$A$16,B9655<Parameters!$A$17),B9655*Parameters!$B$17,B9655*Parameters!$B$18))","v":0},{"$f":"IF(B9655<Parameters!$A$20,B9655*Parameters!$B$20,IF(AND(B9655>Parameters!$A$20,B9655<Parameters!$A$21),B9655*Parameters!$B$21,B9655*Parameters!$B$22))","v":0},{"$error":"#DIV/0!"},"",0,"",0,4.5784516129032262,{"$error":"#DIV/0!"},{"$error":"#DIV/0!"},{"$f":"IF('Gegevens '!$G$20=\"Eigen waarden\",VLOOKUP($F9655,'Gegevens '!$A$25:$C$77,3,FALSE),VLOOKUP($F9655,Lijsten!$A$19:$B$71,2,FALSE))","v":33.340195028868571},{"$error":"#DIV/0!"},{"$error":"#DIV/0!"},{"$error":"#DIV/0!"},{"$error":"#DIV/0!"},{"$error":"#DIV/0!"},{"$error":"#DIV/0!"},{"$error":"#DIV/0!"},"","",{"$error":"#DIV/0!"},0,{"$error":"#DIV/0!"},0,{"$error":"#DIV/0!"},{"$error":"#DIV/0!"},{"$error":"#DIV/0!"},{"$error":"#DIV/0!"},{"$error":"#DIV/0!"},{"$error":"#DIV/0!"},"","","",{"$error":"#DIV/0!"},0,{"$error":"#DIV/0!"},null,null,null,null,null,null,null,null,null,null,null,null,null,null,null,null,null,null,null,null,null,"1993-05-05",0,4.7720000000000002,null,"2001-05-04",3.4,0.86399999999999999,null,"2032-05-04",0,4.4140699999999997,0,4.4140699999999997,0,4.2122900000000003,null,"2042-05-04",0,4.4640899999999997,0,4.4640899999999997,0,4.2046599999999996,null,"2092-05-04",0,4.7141900000000003,0,4.7141900000000003,0,4.1665099999999997]
["1993-08-18",0,4.5330000000000004,8,1993,33,0,{"$f":"IF(B9760<Parameters!$A$16,B9760*Parameters!$B$16,IF(AND(B9760>Parameters!$A$16,B9760<Parameters!$A$17),B9760*Parameters!$B$17,B9760*Parameters!$B$18))","v":0},{"$f":"IF(B9760<Parameters!$A$20,B9760*Parameters!$B$20,IF(AND(B9760>Parameters!$A$20,B9760<Parameters!$A$21),B9760*Parameters!$B$21,B9760*Parameters!$B$22))","v":0},{"$error":"#DIV/0!"},"",0,"",0,4.5975161290322584,{"$error":"#DIV/0!"},{"$error":"#DIV/0!"},{"$f":"IF('Gegevens '!$G$20=\"Eigen waarden\",VLOOKUP($F9760,'Gegevens '!$A$25:$C$77,3,FALSE),VLOOKUP($F9760,Lijsten!$A$19:$B$71,2,FALSE))","v":36.379063958805723},{"$error":"#DIV/0!"},{"$error":"#DIV/0!"},{"$error":"#DIV/0!"},{"$error":"#DIV/0!"},{"$error":"#DIV/0!"},{"$error":"#DIV/0!"},{"$error":"#DIV/0!"},"","",{"$error":"#DIV/0!"},0,{"$error":"#DIV/0!"},0,{"$error":"#DIV/0!"},{"$error":"#DIV/0!"},{"$error":"#DIV/0!"},{"$error":"#DIV/0!"},{"$error":"#DIV/0!"},{"$error":"#DIV/0!"},"","","",{"$error":"#DIV/0!"},0,{"$error":"#DIV/0!"},null,null,null,null,null,null,null,null,null,null,null,null,null,null,null,null,null,null,null,null,null,"1993-08-18",0,4.5330000000000004,null,"2001-08-17",0.1,4.0510000000000002,null,"2032-08-17",0,3.5394899999999998,0,3.3979200000000001,0,3.2563399999999998,null,"2042-08-17",0,3.6407699999999998,0,3.4587500000000002,0,3.2767300000000001,null,"2092-08-17",0,4.1471900000000002,0,3.7629199999999998,0,3.3786499999999999]
["1993-09-30",0.2,1.613,9,1993,39,0.2,{"$f":"IF(B9803<Parameters!$A$16,B9803*Parameters!$B$16,IF(AND(B9803>Parameters!$A$16,B9803<Parameters!$A$17),B9803*Parameters!$B$17,B9803*Parameters!$B$18))","v":0},{"$f":"IF(B9803<Parameters!$A$20,B9803*Parameters!$B$20,IF(AND(B9803>Parameters!$A$20,B9803<Parameters!$A$21),B9803*Parameters!$B$21,B9803*Parameters!$B$22))","v":0},{"$error":"#DIV/0!"},{"$error":"#DIV/0!"},{"$error":"#DIV/0!"},{"$error":"#DIV/0!"},{"$error":"#DIV/0!"},1.7463333333333333,{"$error":"#DIV/0!"},{"$error":"#DIV/0!"},{"$f":"IF('Gegevens '!$G$20=\"Eigen waarden\",VLOOKUP($F9803,'Gegevens '!$A$25:$C$77,3,FALSE),VLOOKUP($F9803,Lijsten!$A$19:$B$71,2,FALSE))","v":23.128696279329191},{"$error":"#DIV/0!"},{"$error":"#DIV/0!"},{"$error":"#DIV/0!"},{"$error":"#DIV/0!"},{"$error":"#DIV/0!"},{"$error":"#DIV/0!"},{"$error":"#DIV/0!"},{"$error":"#DIV/0!"},{"$error":"#DIV/0!"},{"$error":"#DIV/0!"},{"$error":"#DIV/0!"},{"$error":"#DIV/0!"},{"$error":"#DIV/0!"},{"$error":"#DIV/0!"},{"$error":"#DIV/0!"},{"$error":"#DIV/0!"},{"$error":"#DIV/0!"},{"$error":"#DIV/0!"},{"$error":"#DIV/0!"},{"$error":"#DIV/0!"},{"$error":"#DIV/0!"},{"$error":"#DIV/0!"},{"$error":"#DIV/0!"},0,{"$error":"#DIV/0!"},null,null,null,null,null,null,null,null,null,null,null,null,null,null,null,null,null,null,null,null,null,"1993-09-30",0.2,1.613,null,"2001-09-29",3.9,1.1579999999999999,null,"2032-09-29",0,2.21265,0,2.21265,0,2.12046,null,"2042-09-29",0,2.2522600000000002,0,2.2522600000000002,0,2.1337299999999999,null,"2092-09-29",0,2.4503300000000001,0,2.4503300000000001,0,2.2000999999999999]
["1993-12-07",9.6999999999999993,0.28999999999999998,12,1993,49,9.6999999999999993,{"$f":"IF(B9871<Parameters!$A$16,B9871*Parameters!$B$16,IF(AND(B9871>Parameters!$A$16,B9871<Parameters!$A$17),B9871*Parameters!$B$17,B9871*Parameters!$B$18))","v":9.2149999999999981},{"$f":"IF(B9871<Parameters!$A$20,B9871*Parameters!$B$20,IF(AND(B9871>Parameters!$A$20,B9871<Parameters!$A$21),B9871*Parameters!$B$21,B9871*Parameters!$B$22))","v":7.2749999999999995},{"$error":"#DIV/0!"},{"$error":"#DIV/0!"},{"$error":"#DIV/0!"},{"$error":"#DIV/0!"},{"$error":"#DIV/0!"},0.35451612903225804,{"$error":"#DIV/0!"},{"$error":"#DIV/0!"},{"$f":"IF('Gegevens '!$G$20=\"Eigen waarden\",VLOOKUP($F9871,'Gegevens '!$A$25:$C$77,3,FALSE),VLOOKUP($F9871,Lijsten!$A$19:$B$71,2,FALSE))","v":3.2736734693877558},{"$error":"#DIV/0!"},{"$error":"#DIV/0!"},{"$error":"#DIV/0!"},{"$error":"#DIV/0!"},{"$error":"#DIV/0!"},{"$error":"#DIV/0!"},{"$error":"#DIV/0!"},{"$error":"#DIV/0!"},{"$error":"#DIV/0!"},{"$error":"#DIV/0!"},{"$error":"#DIV/0!"},{"$error":"#DIV/0!"},{"$error":"#DIV/0!"},{"$error":"#DIV/0!"},{"$error":"#DIV/0!"},{"$error":"#DIV/0!"},{"$error":"#DIV/0!"},{"$error":"#DIV/0!"},{"$error":"#DIV/0!"},{"$error":"#DIV/0!"},{"$error":"#DIV/0!"},{"$error":"#DIV/0!"},{"$error":"#DIV/0!"},{"$error":"#DIV/0!"},0,null,null,null,null,null,null,null,null,null,null,null,null,null,null,null,null,null,null,null,null,null,"1993-12-07",9.6999999999999993,0.28999999999999998,null,"2001-12-06",0,0.51,null,"2032-12-06",0.26,0.53395000000000004,0.1,0.49519000000000002,0.09,0.45627000000000001,null,"2042-12-06",0.12,0.55735999999999997,0.1,0.50753000000000004,0.09,0.45749000000000001,null,"2092-12-06",0.14000000000000001,0.67442999999999997,0.11,0.56923000000000001,0.08,0.46359]
["1994-02-22",4.0999999999999996,0,2,1994,8,4.0999999999999996,{"$f":"IF(B9948<Parameters!$A$16,B9948*Parameters!$B$16,IF(AND(B9948>Parameters!$A$16,B9948<Parameters!$A$17),B9948*Parameters!$B$17,B9948*Parameters!$B$18))","v":3.8949999999999996},{"$f":"IF(B9948<Parameters!$A$20,B9948*Parameters!$B$20,IF(AND(B9948>Parameters!$A$20,B9948<Parameters!$A$21),B9948*Parameters!$B$21,B9948*Parameters!$B$22))","v":3.0749999999999997},{"$error":"#DIV/0!"},{"$error":"#DIV/0!"},{"$error":"#DIV/0!"},{"$error":"#DIV/0!"},{"$error":"#DIV/0!"},-3.5714285714285712E-2,{"$error":"#DIV/0!"},{"$error":"#DIV/0!"},{"$f":"IF('Gegevens '!$G$20=\"Eigen waarden\",VLOOKUP($F9948,'Gegevens '!$A$25:$C$77,3,FALSE),VLOOKUP($F9948,Lijsten!$A$19:$B$71,2,FALSE))","v":13.231023004605714},{"$error":"#DIV/0!"},{"$error":"#DIV/0!"},{"$error":"#DIV/0!"},{"$error":"#DIV/0!"},{"$error":"#DIV/0!"},{"$error":"#DIV/0!"},{"$error":"#DIV/0!"},{"$error":"#DIV/0!"},{"$error":"#DIV/0!"},{"$error":"#DIV/0!"},{"$error":"#DIV/0!"},{"$error":"#DIV/0!"},{"$error":"#DIV/0!"},{"$error":"#DIV/0!"},{"$error":"#DIV/0!"},{"$error":"#DIV/0!"},{"$error":"#DIV/0!"},{"$error":"#DIV/0!"},{"$error":"#DIV/0!"},{"$error":"#DIV/0!"},{"$error":"#DIV/0!"},{"$error":"#DIV/0!"},{"$error":"#DIV/0!"},{"$error":"#DIV/0!"},0,null,null,null,null,null,null,null,null,null,null,null,null,null,null,null,null,null,null,null,null,null,"1994-02-22",4.0999999999999996,0,null,"2002-02-21",1.8,1.4610000000000001,null,"2033-02-21",2.52,0,2.0699999999999998,0,1.76,0,null,"2043-02-21",2.65,0,2.11,0,1.74,0,null,"2093-02-21",3.26,0,2.35,0,1.62,0]
["1994-04-06",4.5,1.3480000000000001,4,1994,14,4.5,{"$f":"IF(B9991<Parameters!$A$16,B9991*Parameters!$B$16,IF(AND(B9991>Parameters!$A$16,B9991<Parameters!$A$17),B9991*Parameters!$B$17,B9991*Parameters!$B$18))","v":4.2749999999999995},{"$f":"IF(B9991<Parameters!$A$20,B9991*Parameters!$B$20,IF(AND(B9991>Parameters!$A$20,B9991<Parameters!$A$21),B9991*Parameters!$B$21,B9991*Parameters!$B$22))","v":3.375},{"$error":"#DIV/0!"},{"$error":"#DIV/0!"},{"$error":"#DIV/0!"},{"$error":"#DIV/0!"},{"$error":"#DIV/0!"},1.1813333333333333,{"$error":"#DIV/0!"},{"$error":"#DIV/0!"},{"$f":"IF('Gegevens '!$G$20=\"Eigen waarden\",VLOOKUP($F9991,'Gegevens '!$A$25:$C$77,3,FALSE),VLOOKUP($F9991,Lijsten!$A$19:$B$71,2,FALSE))","v":27.019937776034283},{"$error":"#DIV/0!"},{"$error":"#DIV/0!"},{"$error":"#DIV/0!"},{"$error":"#DIV/0!"},{"$error":"#DIV/0!"},{"$error":"#DIV/0!"},{"$error":"#DIV/0!"},{"$error":"#DIV/0!"},{"$error":"#DIV/0!"},{"$error":"#DIV/0!"},{"$error":"#DIV/0!"},{"$error":"#DIV/0!"},{"$error":"#DIV/0!"},{"$error":"#DIV/0!"},{"$error":"#DIV/0!"},{"$error":"#DIV/0!"},{"$error":"#DIV/0!"},{"$error":"#DIV/0!"},{"$error":"#DIV/0!"},{"$error":"#DIV/0!"},{"$error":"#DIV/0!"},{"$error":"#DIV/0!"},{"$error":"#DIV/0!"},0,{"$error":"#DIV/0!"},null,null,null,null,null,null,null,null,null,null,null,null,null,null,null,null,null,null,null,null,null,"1994-04-06",4.5,1.3480000000000001,null,"2002-04-05",0,4.069,null,"2033-04-05",7.01,0.71906000000000003,7.01,0.71906000000000003,7.01,0.68798999999999999,null,"2043-04-05",7.02,0.72479000000000005,7.02,0.72479000000000005,7.02,0.68484999999999996,null,"2093-04-05",7.1,0.75344999999999995,7.1,0.75344999999999995,7.1,0.66912000000000005]
["1994-07-20",0,5.4370000000000003,7,1994,29,0,{"$f":"IF(B10096<Parameters!$A$16,B10096*Parameters!$B$16,IF(AND(B10096>Parameters!$A$16,B10096<Parameters!$A$17),B10096*Parameters!$B$17,B10096*Parameters!$B$18))","v":0},{"$f":"IF(B10096<Parameters!$A$20,B10096*Parameters!$B$20,IF(AND(B10096>Parameters!$A$20,B10096<Parameters!$A$21),B10096*Parameters!$B$21,B10096*Parameters!$B$22))","v":0},{"$error":"#DIV/0!"},"",0,"",0,5.4047419354838713,{"$error":"#DIV/0!"},{"$error":"#DIV/0!"},{"$f":"IF('Gegevens '!$G$20=\"Eigen waarden\",VLOOKUP($F10096,'Gegevens '!$A$25:$C$77,3,FALSE),VLOOKUP($F10096,Lijsten!$A$19:$B$71,2,FALSE))","v":41.402437318314284},{"$error":"#DIV/0!"},{"$error":"#DIV/0!"},{"$error":"#DIV/0!"},{"$error":"#DIV/0!"},{"$error":"#DIV/0!"},{"$error":"#DIV/0!"},{"$error":"#DIV/0!"},"","",{"$error":"#DIV/0!"},0,{"$error":"#DIV/0!"},0,{"$error":"#DIV/0!"},{"$error":"#DIV/0!"},{"$error":"#DIV/0!"},{"$error":"#DIV/0!"},{"$error":"#DIV/0!"},{"$error":"#DIV/0!"},"","","",{"$error":"#DIV/0!"},0,{"$error":"#DIV/0!"},null,null,null,null,null,null,null,null,null,null,null,null,null,null,null,null,null,null,null,null,null,"1994-07-20",0,5.4370000000000003,null,"2002-07-19",0,4.298,null,"2033-07-19",0,5.1898900000000001,0,5.00753,0,4.82517,null,"2043-07-19",0,5.3070000000000004,0,5.07254,0,4.8380799999999997,null,"2093-07-19",0,5.8925400000000003,0,5.3975799999999996,0,4.9026100000000001]
["1994-08-28",0,3.294,8,1994,34,0,{"$f":"IF(B10135<Parameters!$A$16,B10135*Parameters!$B$16,IF(AND(B10135>Parameters!$A$16,B10135<Parameters!$A$17),B10135*Parameters!$B$17,B10135*Parameters!$B$18))","v":0},{"$f":"IF(B10135<Parameters!$A$20,B10135*Parameters!$B$20,IF(AND(B10135>Parameters!$A$20,B10135<Parameters!$A$21),B10135*Parameters!$B$21,B10135*Parameters!$B$22))","v":0},{"$error":"#DIV/0!"},"",0,"",0,3.358516129032258,{"$error":"#DIV/0!"},{"$error":"#DIV/0!"},{"$f":"IF('Gegevens '!$G$20=\"Eigen waarden\",VLOOKUP($F10135,'Gegevens '!$A$25:$C$77,3,FALSE),VLOOKUP($F10135,Lijsten!$A$19:$B$71,2,FALSE))","v":32.292939745809527},{"$error":"#DIV/0!"},{"$error":"#DIV/0!"},{"$error":"#DIV/0!"},{"$error":"#DIV/0!"},{"$error":"#DIV/0!"},{"$error":"#DIV/0!"},{"$error":"#DIV/0!"},"","",{"$error":"#DIV/0!"},0,{"$error":"#DIV/0!"},0,{"$error":"#DIV/0!"},{"$error":"#DIV/0!"},{"$error":"#DIV/0!"},{"$error":"#DIV/0!"},{"$error":"#DIV/0!"},{"$error":"#DIV/0!"},"","","",{"$error":"#DIV/0!"},0,{"$error":"#DIV/0!"},null,null,null,null,null,null,null,null,null,null,null,null,null,null,null,null,null,null,null,null,null,"1994-08-28",0,3.294,null,"2002-08-27",22.5,0.61099999999999999,null,"2033-08-27",6.95,1.0079499999999999,9.1300000000000008,0.96762999999999999,6.95,0.92732000000000003,null,"2043-08-27",6.51,1.0367900000000001,8.93,0.98495999999999995,6.51,0.93311999999999995,null,"2093-08-27",0,1.181,8,1.07158,0,0.96214999999999995]
["1994-10-10",0,1.8140000000000001,10,1994,41,0,{"$f":"IF(B10178<Parameters!$A$16,B10178*Parameters!$B$16,IF(AND(B10178>Parameters!$A$16,B10178<Parameters!$A$17),B10178*Parameters!$B$17,B10178*Parameters!$B$18))","v":0},{"$f":"IF(B10178<Parameters!$A$20,B10178*Parameters!$B$20,IF(AND(B10178>Parameters!$A$20,B10178<Parameters!$A$21),B10178*Parameters!$B$21,B10178*Parameters!$B$22))","v":0},{"$error":"#DIV/0!"},"",0,"",0,1.9752903225806453,{"$error":"#DIV/0!"},{"$error":"#DIV/0!"},{"$f":"IF('Gegevens '!$G$20=\"Eigen waarden\",VLOOKUP($F10178,'Gegevens '!$A$25:$C$77,3,FALSE),VLOOKUP($F10178,Lijsten!$A$19:$B$71,2,FALSE))","v":17.237476837457141},{"$error":"#DIV/0!"},{"$error":"#DIV/0!"},{"$error":"#DIV/0!"},{"$error":"#DIV/0!"},{"$error":"#DIV/0!"},{"$error":"#DIV/0!"},{"$error":"#DIV/0!"},"","",{"$error":"#DIV/0!"},0,{"$error":"#DIV/0!"},0,{"$error":"#DIV/0!"},{"$error":"#DIV/0!"},{"$error":"#DIV/0!"},{"$error":"#DIV/0!"},{"$error":"#DIV/0!"},{"$error":"#DIV/0!"},"","","",{"$error":"#DIV/0!"},{"$error":"#DIV/0!"},0,null,null,null,null,null,null,null,null,null,null,null,null,null,null,null,null,null,null,null,null,null,"1994-10-10",0,1.8140000000000001,null,"2002-10-09",0,2.0259999999999998,null,"2033-10-09",0,1.7058899999999999,0,1.7058899999999999,0,1.6040399999999999,null,"2043-10-09",0,1.7364299999999999,0,1.7364299999999999,0,1.60548,null,"2093-10-09",0,1.88914,0,1.88914,0,1.61267]
["1995-01-23",4.3,0.77100000000000002,1,1995,4,4.3,{"$f":"IF(B10283<Parameters!$A$16,B10283*Parameters!$B$16,IF(AND(B10283>Parameters!$A$16,B10283<Parameters!$A$17),B10283*Parameters!$B$17,B10283*Parameters!$B$18))","v":4.085},{"$f":"IF(B10283<Parameters!$A$20,B10283*Parameters!$B$20,IF(AND(B10283>Parameters!$A$20,B10283<Parameters!$A$21),B10283*Parameters!$B$21,B10283*Parameters!$B$22))","v":3.2249999999999996},{"$error":"#DIV/0!"},{"$error":"#DIV/0!"},{"$error":"#DIV/0!"},{"$error":"#DIV/0!"},{"$error":"#DIV/0!"},0.83551612903225814,{"$error":"#DIV/0!"},{"$error":"#DIV/0!"},{"$f":"IF('Gegevens '!$G$20=\"Eigen waarden\",VLOOKUP($F10283,'Gegevens '!$A$25:$C$77,3,FALSE),VLOOKUP($F10283,Lijsten!$A$19:$B$71,2,FALSE))","v":6.2443769793828583},{"$error":"#DIV/0!"},{"$error":"#DIV/0!"},{"$error":"#DIV/0!"},{"$error":"#DIV/0!"},{"$error":"#DIV/0!"},{"$error":"#DIV/0!"},{"$error":"#DIV/0!"},{"$error":"#DIV/0!"},{"$error":"#DIV/0!"},{"$error":"#DIV/0!"},{"$error":"#DIV/0!"},{"$error":"#DIV/0!"},{"$error":"#DIV/0!"},{"$error":"#DIV/0!"},{"$error":"#DIV/0!"},{"$error":"#DIV/0!"},{"$error":"#DIV/0!"},{"$error":"#DIV/0!"},{"$error":"#DIV/0!"},{"$error":"#DIV/0!"},{"$error":"#DIV/0!"},{"$error":"#DIV/0!"},{"$error":"#DIV/0!"},{"$error":"#DIV/0!"},0,null,null,null,null,null,null,null,null,null,null,null,null,null,null,null,null,null,null,null,null,null,"1995-01-23",4.3,0.77100000000000002,null,"2003-01-22",5,0.55500000000000005,null,"2034-01-22",20.54,0.70230999999999999,17.489999999999998,0.65954000000000002,15.5,0.61677000000000004,null,"2044-01-22",21.06,0.72840000000000005,17.63,0.67340999999999995,15.26,0.61841999999999997,null,"2094-01-22",23.88,0.85885,18.34,0.74275999999999998,14.14,0.62666999999999995]
["1995-03-07",0,1.7969999999999999,3,1995,10,0,{"$f":"IF(B10326<Parameters!$A$16,B10326*Parameters!$B$16,IF(AND(B10326>Parameters!$A$16,B10326<Parameters!$A$17),B10326*Parameters!$B$17,B10326*Parameters!$B$18))","v":0},{"$f":"IF(B10326<Parameters!$A$20,B10326*Parameters!$B$20,IF(AND(B10326>Parameters!$A$20,B10326<Parameters!$A$21),B10326*Parameters!$B$21,B10326*Parameters!$B$22))","v":0},{"$error":"#DIV/0!"},"",0,"",0,1.7002258064516129,{"$error":"#DIV/0!"},{"$error":"#DIV/0!"},{"$f":"IF('Gegevens '!$G$20=\"Eigen waarden\",VLOOKUP($F10326,'Gegevens '!$A$25:$C$77,3,FALSE),VLOOKUP($F10326,Lijsten!$A$19:$B$71,2,FALSE))","v":16.951002269891429},{"$error":"#DIV/0!"},{"$error":"#DIV/0!"},{"$error":"#DIV/0!"},{"$error":"#DIV/0!"},{"$error":"#DIV/0!"},{"$error":"#DIV/0!"},{"$error":"#DIV/0!"},"","",{"$error":"#DIV/0!"},0,{"$error":"#DIV/0!"},0,{"$error":"#DIV/0!"},{"$error":"#DIV/0!"},{"$error":"#DIV/0!"},{"$error":"#DIV/0!"},{"$error":"#DIV/0!"},{"$error":"#DIV/0!"},"","","",{"$error":"#DIV/0!"},{"$error":"#DIV/0!"},0,null,null,null,null,null,null,null,null,null,null,null,null,null,null,null,null,null,null,null,null,null,"1995-03-07",0,1.7969999999999999,null,"2003-03-06",1.4,0.503,null,"2034-03-06",4.6900000000000004,0.77122000000000002,4.6900000000000004,0.77122000000000002,4.6900000000000004,0.72523000000000004,null,"2044-03-05",4.75,0.77327999999999997,4.75,0.77327999999999997,4.75,0.71414999999999995,null,"2094-03-06",5.01,0.78359999999999996,5.01,0.78359999999999996,5.01,0.65876000000000001]
["1995-04-15",1,0.94699999999999995,4,1995,15,1,{"$f":"IF(B10365<Parameters!$A$16,B10365*Parameters!$B$16,IF(AND(B10365>Parameters!$A$16,B10365<Parameters!$A$17),B10365*Parameters!$B$17,B10365*Parameters!$B$18))","v":0.95},{"$f":"IF(B10365<Parameters!$A$20,B10365*Parameters!$B$20,IF(AND(B10365>Parameters!$A$20,B10365<Parameters!$A$21),B10365*Parameters!$B$21,B10365*Parameters!$B$22))","v":0.75},{"$error":"#DIV/0!"},{"$error":"#DIV/0!"},{"$error":"#DIV/0!"},{"$error":"#DIV/0!"},{"$error":"#DIV/0!"},0.78033333333333332,{"$error":"#DIV/0!"},{"$error":"#DIV/0!"},{"$f":"IF('Gegevens '!$G$20=\"Eigen waarden\",VLOOKUP($F10365,'Gegevens '!$A$25:$C$77,3,FALSE),VLOOKUP($F10365,Lijsten!$A$19:$B$71,2,FALSE))","v":28.925363264788576},{"$error":"#DIV/0!"},{"$error":"#DIV/0!"},{"$error":"#DIV/0!"},{"$error":"#DIV/0!"},{"$error":"#DIV/0!"},{"$error":"#DIV/0!"},{"$error":"#DIV/0!"},{"$error":"#DIV/0!"},{"$error":"#DIV/0!"},{"$error":"#DIV/0!"},{"$error":"#DIV/0!"},{"$error":"#DIV/0!"},{"$error":"#DIV/0!"},{"$error":"#DIV/0!"},{"$error":"#DIV/0!"},{"$error":"#DIV/0!"},{"$error":"#DIV/0!"},{"$error":"#DIV/0!"},{"$error":"#DIV/0!"},{"$error":"#DIV/0!"},{"$error":"#DIV/0!"},{"$error":"#DIV/0!"},{"$error":"#DIV/0!"},0,{"$error":"#DIV/0!"},null,null,null,null,null,null,null,null,null,null,null,null,null,null,null,null,null,null,null,null,null,"1995-04-15",1,0.94699999999999995,null,"2003-04-14",0,4.5209999999999999,null,"2034-04-14",0,1.34965,0,1.34965,0,1.2913399999999999,null,"2044-04-13",0,1.3604099999999999,0,1.3604099999999999,0,1.2854300000000001,null,"2094-04-14",0,1.4141999999999999,0,1.4141999999999999,0,1.2559100000000001]
["1995-07-29",0,4.0910000000000002,7,1995,30,0,{"$f":"IF(B10470<Parameters!$A$16,B10470*Parameters!$B$16,IF(AND(B10470>Parameters!$A$16,B10470<Parameters!$A$17),B10470*Parameters!$B$17,B10470*Parameters!$B$18))","v":0},{"$f":"IF(B10470<Parameters!$A$20,B10470*Parameters!$B$20,IF(AND(B10470>Parameters!$A$20,B10470<Parameters!$A$21),B10470*Parameters!$B$21,B10470*Parameters!$B$22))","v":0},{"$error":"#DIV/0!"},"",0,"",0,4.0587419354838712,{"$error":"#DIV/0!"},{"$f":"SUM(O10470*P10469)/$E$3*10","v":{"$error":"#DIV/0!"}},{"$f":"IF('Gegevens '!$G$20=\"Eigen waarden\",VLOOKUP($F10470,'Gegevens '!$A$25:$C$77,3,FALSE),VLOOKUP($F10470,Lijsten!$A$19:$B$71,2,FALSE))","v":38.460966477868567},{"$error":"#DIV/0!"},{"$error":"#DIV/0!"},{"$error":"#DIV/0!"},{"$error":"#DIV/0!"},{"$error":"#DIV/0!"},{"$error":"#DIV/0!"},{"$error":"#DIV/0!"},"","",{"$error":"#DIV/0!"},0,{"$error":"#DIV/0!"},0,{"$error":"#DIV/0!"},{"$error":"#DIV/0!"},{"$error":"#DIV/0!"},{"$error":"#DIV/0!"},{"$error":"#DIV/0!"},{"$error":"#DIV/0!"},"","","",{"$error":"#DIV/0!"},0,{"$error":"#DIV/0!"},null,null,null,null,null,null,null,null,null,null,null,null,null,null,null,null,null,null,null,null,null,"1995-07-29",0,4.0910000000000002,null,"2003-07-28",0.1,5.5090000000000003,null,"2034-07-28",0,1.75349,1.04,1.69187,0,1.63026,null,"2044-07-27",0,1.79305,1.01,1.71384,0,1.63462,null,"2094-07-28",0.56999999999999995,1.99089,0.84,1.8236600000000001,0.56999999999999995,1.65642]
["1995-09-10",1,2.6030000000000002,9,1995,36,1,{"$f":"IF(B10513<Parameters!$A$16,B10513*Parameters!$B$16,IF(AND(B10513>Parameters!$A$16,B10513<Parameters!$A$17),B10513*Parameters!$B$17,B10513*Parameters!$B$18))","v":0.95},{"$f":"IF(B10513<Parameters!$A$20,B10513*Parameters!$B$20,IF(AND(B10513>Parameters!$A$20,B10513<Parameters!$A$21),B10513*Parameters!$B$21,B10513*Parameters!$B$22))","v":0.75},{"$error":"#DIV/0!"},{"$error":"#DIV/0!"},{"$error":"#DIV/0!"},{"$error":"#DIV/0!"},{"$error":"#DIV/0!"},2.7363333333333335,{"$error":"#DIV/0!"},{"$error":"#DIV/0!"},{"$f":"IF('Gegevens '!$G$20=\"Eigen waarden\",VLOOKUP($F10513,'Gegevens '!$A$25:$C$77,3,FALSE),VLOOKUP($F10513,Lijsten!$A$19:$B$71,2,FALSE))","v":30.026641895863094},{"$error":"#DIV/0!"},{"$error":"#DIV/0!"},{"$error":"#DIV/0!"},{"$error":"#DIV/0!"},{"$error":"#DIV/0!"},{"$error":"#DIV/0!"},{"$error":"#DIV/0!"},{"$error":"#DIV/0!"},{"$error":"#DIV/0!"},{"$error":"#DIV/0!"},{"$error":"#DIV/0!"},{"$error":"#DIV/0!"},{"$error":"#DIV/0!"},{"$error":"#DIV/0!"},{"$error":"#DIV/0!"},{"$error":"#DIV/0!"},{"$error":"#DIV/0!"},{"$error":"#DIV/0!"},{"$error":"#DIV/0!"},{"$error":"#DIV/0!"},{"$error":"#DIV/0!"},{"$error":"#DIV/0!"},{"$error":"#DIV/0!"},0,{"$error":"#DIV/0!"},null,null,null,null,null,null,null,null,null,null,null,null,null,null,null,null,null,null,null,null,null,"1995-09-10",1,2.6030000000000002,null,"2003-09-09",0.7,2.431,null,"2034-09-09",0,2.91357,0,2.91357,0,2.79217,null,"2044-09-08",0,2.9657300000000002,0,2.9657300000000002,0,2.80965,null,"2094-09-09",0,3.22654,0,3.22654,0,2.8970400000000001]
["1995-11-13",0,0.25800000000000001,11,1995,46,0,{"$f":"IF(B10577<Parameters!$A$16,B10577*Parameters!$B$16,IF(AND(B10577>Parameters!$A$16,B10577<Parameters!$A$17),B10577*Parameters!$B$17,B10577*Parameters!$B$18))","v":0},{"$f":"IF(B10577<Parameters!$A$20,B10577*Parameters!$B$20,IF(AND(B10577>Parameters!$A$20,B10577<Parameters!$A$21),B10577*Parameters!$B$21,B10577*Parameters!$B$22))","v":0},{"$error":"#DIV/0!"},"",0,"",0,0.42466666666666664,{"$error":"#DIV/0!"},{"$error":"#DIV/0!"},{"$f":"IF('Gegevens '!$G$20=\"Eigen waarden\",VLOOKUP($F10577,'Gegevens '!$A$25:$C$77,3,FALSE),VLOOKUP($F10577,Lijsten!$A$19:$B$71,2,FALSE))","v":9.880531666666668},{"$error":"#DIV/0!"},{"$error":"#DIV/0!"},{"$error":"#DIV/0!"},{"$error":"#DIV/0!"},{"$error":"#DIV/0!"},{"$error":"#DIV/0!"},{"$error":"#DIV/0!"},"","",{"$error":"#DIV/0!"},0,{"$error":"#DIV/0!"},0,{"$error":"#DIV/0!"},{"$error":"#DIV/0!"},{"$error":"#DIV/0!"},{"$error":"#DIV/0!"},{"$error":"#DIV/0!"},{"$error":"#DIV/0!"},"","","",{"$error":"#DIV/0!"},{"$error":"#DIV/0!"},0,null,null,null,null,null,null,null,null,null,null,null,null,null,null,null,null,null,null,null,null,null,"1995-11-13",0,0.25800000000000001,null,"2003-11-12",2.5,0.40300000000000002,null,"2034-11-12",0,1.14473,0,1.14473,0,1.0628599999999999,null,"2044-11-11",0,1.1652199999999999,0,1.1652199999999999,0,1.05996,null,"2094-11-12",0,1.2677,0,1.2677,0,1.04548]
["1996-02-02",0.2,0.11899999999999999,2,1996,5,0.2,{"$f":"IF(B10658<Parameters!$A$16,B10658*Parameters!$B$16,IF(AND(B10658>Parameters!$A$16,B10658<Parameters!$A$17),B10658*Parameters!$B$17,B10658*Parameters!$B$18))","v":0},{"$f":"IF(B10658<Parameters!$A$20,B10658*Parameters!$B$20,IF(AND(B10658>Parameters!$A$20,B10658<Parameters!$A$21),B10658*Parameters!$B$21,B10658*Parameters!$B$22))","v":0},{"$error":"#DIV/0!"},{"$error":"#DIV/0!"},{"$error":"#DIV/0!"},{"$error":"#DIV/0!"},{"$error":"#DIV/0!"},8.3285714285714282E-2,{"$error":"#DIV/0!"},{"$error":"#DIV/0!"},{"$f":"IF('Gegevens '!$G$20=\"Eigen waarden\",VLOOKUP($F10658,'Gegevens '!$A$25:$C$77,3,FALSE),VLOOKUP($F10658,Lijsten!$A$19:$B$71,2,FALSE))","v":8.252917930462857},{"$error":"#DIV/0!"},{"$error":"#DIV/0!"},{"$error":"#DIV/0!"},{"$error":"#DIV/0!"},{"$error":"#DIV/0!"},{"$error":"#DIV/0!"},{"$error":"#DIV/0!"},{"$error":"#DIV/0!"},{"$error":"#DIV/0!"},{"$error":"#DIV/0!"},{"$error":"#DIV/0!"},{"$error":"#DIV/0!"},{"$error":"#DIV/0!"},{"$error":"#DIV/0!"},{"$error":"#DIV/0!"},{"$error":"#DIV/0!"},{"$error":"#DIV/0!"},{"$error":"#DIV/0!"},{"$error":"#DIV/0!"},{"$error":"#DIV/0!"},{"$error":"#DIV/0!"},{"$error":"#DIV/0!"},{"$error":"#DIV/0!"},{"$error":"#DIV/0!"},0,null,null,null,null,null,null,null,null,null,null,null,null,null,null,null,null,null,null,null,null,null,"1996-02-02",0.2,0.11899999999999999,null,"2004-02-01",6.5,1.27,null,"2035-02-01",0,0.60692999999999997,0,0.57687999999999995,0,0.54701999999999995,null,"2045-01-31",0,0.62205999999999995,0,0.58342000000000005,0,0.54503000000000001,null,"2095-02-01",0,0.69767999999999997,0,0.61609999999999998,0,0.53505000000000003]
["1996-03-16",0,1.329,3,1996,11,0,{"$f":"IF(B10701<Parameters!$A$16,B10701*Parameters!$B$16,IF(AND(B10701>Parameters!$A$16,B10701<Parameters!$A$17),B10701*Parameters!$B$17,B10701*Parameters!$B$18))","v":0},{"$f":"IF(B10701<Parameters!$A$20,B10701*Parameters!$B$20,IF(AND(B10701>Parameters!$A$20,B10701<Parameters!$A$21),B10701*Parameters!$B$21,B10701*Parameters!$B$22))","v":0},{"$error":"#DIV/0!"},"",0,"",0,1.2322258064516129,{"$error":"#DIV/0!"},{"$error":"#DIV/0!"},{"$f":"IF('Gegevens '!$G$20=\"Eigen waarden\",VLOOKUP($F10701,'Gegevens '!$A$25:$C$77,3,FALSE),VLOOKUP($F10701,Lijsten!$A$19:$B$71,2,FALSE))","v":19.509069665199995},{"$error":"#DIV/0!"},{"$error":"#DIV/0!"},{"$error":"#DIV/0!"},{"$error":"#DIV/0!"},{"$error":"#DIV/0!"},{"$error":"#DIV/0!"},{"$error":"#DIV/0!"},"","",{"$error":"#DIV/0!"},0,{"$error":"#DIV/0!"},0,{"$error":"#DIV/0!"},{"$error":"#DIV/0!"},{"$error":"#DIV/0!"},{"$error":"#DIV/0!"},{"$error":"#DIV/0!"},{"$error":"#DIV/0!"},"","","",{"$error":"#DIV/0!"},{"$error":"#DIV/0!"},0,null,null,null,null,null,null,null,null,null,null,null,null,null,null,null,null,null,null,null,null,null,"1996-03-16",0,1.329,null,"2004-03-15",0,1.978,null,"2035-03-16",0,1.50105,0,1.50105,0,1.41153,null,"2045-03-15",0,1.5050699999999999,0,1.5050699999999999,0,1.3899699999999999,null,"2095-03-16",0,1.5251399999999999,0,1.5251399999999999,0,1.28217]
["1996-06-29",4.5999999999999996,1.9339999999999999,6,1996,26,4.5999999999999996,{"$f":"IF(B10806<Parameters!$A$16,B10806*Parameters!$B$16,IF(AND(B10806>Parameters!$A$16,B10806<Parameters!$A$17),B10806*Parameters!$B$17,B10806*Parameters!$B$18))","v":4.3699999999999992},{"$f":"IF(B10806<Parameters!$A$20,B10806*Parameters!$B$20,IF(AND(B10806>Parameters!$A$20,B10806<Parameters!$A$21),B10806*Parameters!$B$21,B10806*Parameters!$B$22))","v":3.4499999999999997},{"$error":"#DIV/0!"},{"$error":"#DIV/0!"},{"$error":"#DIV/0!"},{"$error":"#DIV/0!"},{"$error":"#DIV/0!"},1.8006666666666666,{"$error":"#DIV/0!"},{"$error":"#DIV/0!"},{"$f":"IF('Gegevens '!$G$20=\"Eigen waarden\",VLOOKUP($F10806,'Gegevens '!$A$25:$C$77,3,FALSE),VLOOKUP($F10806,Lijsten!$A$19:$B$71,2,FALSE))","v":43.586624781491437},{"$error":"#DIV/0!"},{"$error":"#DIV/0!"},{"$error":"#DIV/0!"},{"$error":"#DIV/0!"},{"$error":"#DIV/0!"},{"$error":"#DIV/0!"},{"$error":"#DIV/0!"},{"$error":"#DIV/0!"},{"$error":"#DIV/0!"},{"$error":"#DIV/0!"},{"$error":"#DIV/0!"},{"$error":"#DIV/0!"},{"$error":"#DIV/0!"},{"$error":"#DIV/0!"},{"$error":"#DIV/0!"},{"$error":"#DIV/0!"},{"$error":"#DIV/0!"},{"$error":"#DIV/0!"},{"$error":"#DIV/0!"},{"$error":"#DIV/0!"},{"$error":"#DIV/0!"},{"$error":"#DIV/0!"},{"$error":"#DIV/0!"},0,{"$error":"#DIV/0!"},null,null,null,null,null,null,null,null,null,null,null,null,null,null,null,null,null,null,null,null,null,"1996-06-29",4.5999999999999996,1.9339999999999999,null,"2004-06-28",0,4.992,null,"2035-06-29",2.2200000000000002,4.2827700000000002,2.8,4.0944599999999998,2.2200000000000002,3.9186200000000002,null,"2045-06-28",0,4.3761299999999999,2.73,4.1340199999999996,0,3.9079299999999999,null,"2095-06-29",1.57,4.8429399999999996,2.41,4.3318199999999996,1.57,3.85453]
["1996-08-11",8.3000000000000007,2.319,8,1996,32,8.3000000000000007,{"$f":"IF(B10849<Parameters!$A$16,B10849*Parameters!$B$16,IF(AND(B10849>Parameters!$A$16,B10849<Parameters!$A$17),B10849*Parameters!$B$17,B10849*Parameters!$B$18))","v":7.8850000000000007},{"$f":"IF(B10849<Parameters!$A$20,B10849*Parameters!$B$20,IF(AND(B10849>Parameters!$A$20,B10849<Parameters!$A$21),B10849*Parameters!$B$21,B10849*Parameters!$B$22))","v":6.2250000000000005},{"$error":"#DIV/0!"},{"$error":"#DIV/0!"},{"$error":"#DIV/0!"},{"$error":"#DIV/0!"},{"$error":"#DIV/0!"},2.383516129032258,{"$error":"#DIV/0!"},{"$error":"#DIV/0!"},{"$f":"IF('Gegevens '!$G$20=\"Eigen waarden\",VLOOKUP($F10849,'Gegevens '!$A$25:$C$77,3,FALSE),VLOOKUP($F10849,Lijsten!$A$19:$B$71,2,FALSE))","v":35.235564143205707},{"$error":"#DIV/0!"},{"$error":"#DIV/0!"},{"$error":"#DIV/0!"},{"$error":"#DIV/0!"},{"$error":"#DIV/0!"},{"$error":"#DIV/0!"},{"$error":"#DIV/0!"},{"$error":"#DIV/0!"},{"$error":"#DIV/0!"},{"$error":"#DIV/0!"},{"$error":"#DIV/0!"},{"$error":"#DIV/0!"},{"$error":"#DIV/0!"},{"$error":"#DIV/0!"},{"$error":"#DIV/0!"},{"$error":"#DIV/0!"},{"$error":"#DIV/0!"},{"$error":"#DIV/0!"},{"$error":"#DIV/0!"},{"$error":"#DIV/0!"},{"$error":"#DIV/0!"},{"$error":"#DIV/0!"},{"$error":"#DIV/0!"},0,{"$error":"#DIV/0!"},null,null,null,null,null,null,null,null,null,null,null,null,null,null,null,null,null,null,null,null,null,"1996-08-11",8.3000000000000007,2.319,null,"2004-08-10",6.4,1.81,null,"2035-08-11",4.74,2.7160199999999999,6.33,2.60738,4.74,2.4987499999999998,null,"2045-08-10",4.41,2.7937400000000001,6.18,2.6540599999999999,4.41,2.5143900000000001,null,"2095-08-11",0,3.1823299999999999,5.46,2.8874599999999999,0,2.5926]
["1996-11-24",4.8,0.36599999999999999,11,1996,47,4.8,{"$f":"IF(B10954<Parameters!$A$16,B10954*Parameters!$B$16,IF(AND(B10954>Parameters!$A$16,B10954<Parameters!$A$17),B10954*Parameters!$B$17,B10954*Parameters!$B$18))","v":4.5599999999999996},{"$f":"IF(B10954<Parameters!$A$20,B10954*Parameters!$B$20,IF(AND(B10954>Parameters!$A$20,B10954<Parameters!$A$21),B10954*Parameters!$B$21,B10954*Parameters!$B$22))","v":3.5999999999999996},{"$error":"#DIV/0!"},{"$error":"#DIV/0!"},{"$error":"#DIV/0!"},{"$error":"#DIV/0!"},{"$error":"#DIV/0!"},0.53266666666666662,{"$error":"#DIV/0!"},{"$error":"#DIV/0!"},{"$f":"IF('Gegevens '!$G$20=\"Eigen waarden\",VLOOKUP($F10954,'Gegevens '!$A$25:$C$77,3,FALSE),VLOOKUP($F10954,Lijsten!$A$19:$B$71,2,FALSE))","v":7.1842085238095237},{"$error":"#DIV/0!"},{"$error":"#DIV/0!"},{"$error":"#DIV/0!"},{"$error":"#DIV/0!"},{"$error":"#DIV/0!"},{"$error":"#DIV/0!"},{"$error":"#DIV/0!"},{"$error":"#DIV/0!"},{"$error":"#DIV/0!"},{"$error":"#DIV/0!"},{"$error":"#DIV/0!"},{"$error":"#DIV/0!"},{"$error":"#DIV/0!"},{"$error":"#DIV/0!"},{"$error":"#DIV/0!"},{"$error":"#DIV/0!"},{"$error":"#DIV/0!"},{"$error":"#DIV/0!"},{"$error":"#DIV/0!"},{"$error":"#DIV/0!"},{"$error":"#DIV/0!"},{"$error":"#DIV/0!"},{"$error":"#DIV/0!"},{"$error":"#DIV/0!"},0,null,null,null,null,null,null,null,null,null,null,null,null,null,null,null,null,null,null,null,null,null,"1996-11-24",4.8,0.36599999999999999,null,"2004-11-23",2.9,0.24399999999999999,null,"2035-11-24",3.39,3.3070000000000002E-2,3.39,3.3070000000000002E-2,3.39,3.0710000000000001E-2,null,"2045-11-23",3.39,3.3660000000000002E-2,3.39,3.3660000000000002E-2,3.39,3.0620000000000001E-2,null,"2095-11-24",0,3.662E-2,0,3.662E-2,0,3.0200000000000001E-2]
["1997-01-02",0,0,1,1997,1,0,{"$f":"IF(B10993<Parameters!$A$16,B10993*Parameters!$B$16,IF(AND(B10993>Parameters!$A$16,B10993<Parameters!$A$17),B10993*Parameters!$B$17,B10993*Parameters!$B$18))","v":0},{"$f":"IF(B10993<Parameters!$A$20,B10993*Parameters!$B$20,IF(AND(B10993>Parameters!$A$20,B10993<Parameters!$A$21),B10993*Parameters!$B$21,B10993*Parameters!$B$22))","v":0},{"$error":"#DIV/0!"},"",0,"",0,6.4516129032258063E-2,{"$error":"#DIV/0!"},{"$error":"#DIV/0!"},{"$f":"IF('Gegevens '!$G$20=\"Eigen waarden\",VLOOKUP($F10993,'Gegevens '!$A$25:$C$77,3,FALSE),VLOOKUP($F10993,Lijsten!$A$19:$B$71,2,FALSE))","v":3.0894753415257137},{"$error":"#DIV/0!"},{"$error":"#DIV/0!"},{"$error":"#DIV/0!"},{"$error":"#DIV/0!"},{"$error":"#DIV/0!"},{"$error":"#DIV/0!"},{"$error":"#DIV/0!"},"","",{"$error":"#DIV/0!"},0,{"$error":"#DIV/0!"},0,{"$error":"#DIV/0!"},{"$error":"#DIV/0!"},{"$error":"#DIV/0!"},{"$error":"#DIV/0!"},{"$error":"#DIV/0!"},{"$error":"#DIV/0!"},"","","",{"$error":"#DIV/0!"},{"$error":"#DIV/0!"},0,null,null,null,null,null,null,null,null,null,null,null,null,null,null,null,null,null,null,null,null,null,"1997-01-02",0,0,null,"2005-01-01",1.2,0.47099999999999997,null,"2036-01-02",0,0,0,0,0,0,null,"2046-01-01",0,0,0,0,0,0,null,"2096-01-02",3.42,0,0,0,0,0]
["1997-02-14",1.1000000000000001,0.443,2,1997,7,1.1000000000000001,{"$f":"IF(B11036<Parameters!$A$16,B11036*Parameters!$B$16,IF(AND(B11036>Parameters!$A$16,B11036<Parameters!$A$17),B11036*Parameters!$B$17,B11036*Parameters!$B$18))","v":0.88000000000000012},{"$f":"IF(B11036<Parameters!$A$20,B11036*Parameters!$B$20,IF(AND(B11036>Parameters!$A$20,B11036<Parameters!$A$21),B11036*Parameters!$B$21,B11036*Parameters!$B$22))","v":0.66},{"$error":"#DIV/0!"},{"$error":"#DIV/0!"},{"$error":"#DIV/0!"},{"$error":"#DIV/0!"},{"$error":"#DIV/0!"},0.40728571428571431,{"$error":"#DIV/0!"},{"$error":"#DIV/0!"},{"$f":"IF('Gegevens '!$G$20=\"Eigen waarden\",VLOOKUP($F11036,'Gegevens '!$A$25:$C$77,3,FALSE),VLOOKUP($F11036,Lijsten!$A$19:$B$71,2,FALSE))","v":10.977630682914283},{"$error":"#DIV/0!"},{"$error":"#DIV/0!"},{"$error":"#DIV/0!"},{"$error":"#DIV/0!"},{"$error":"#DIV/0!"},{"$error":"#DIV/0!"},{"$error":"#DIV/0!"},{"$error":"#DIV/0!"},{"$error":"#DIV/0!"},{"$error":"#DIV/0!"},{"$error":"#DIV/0!"},{"$error":"#DIV/0!"},{"$error":"#DIV/0!"},{"$error":"#DIV/0!"},{"$error":"#DIV/0!"},{"$error":"#DIV/0!"},{"$error":"#DIV/0!"},{"$error":"#DIV/0!"},{"$error":"#DIV/0!"},{"$error":"#DIV/0!"},{"$error":"#DIV/0!"},{"$error":"#DIV/0!"},{"$error":"#DIV/0!"},{"$error":"#DIV/0!"},0,null,null,null,null,null,null,null,null,null,null,null,null,null,null,null,null,null,null,null,null,null,"1997-02-14",1.1000000000000001,0.443,null,"2005-02-13",5.5,0.73899999999999999,null,"2036-02-14",14.33,0.63104000000000005,12.06,0.59979000000000005,10.56,0.56874000000000002,null,"2046-02-13",14.77,0.64676,12.17,0.60658999999999996,10.36,0.56667000000000001,null,"2096-02-14",17.05,0.72538999999999998,12.69,0.64056999999999997,9.39,0.55630000000000002]
["1997-05-30",0,6.2279999999999998,5,1997,22,0,{"$f":"IF(B11141<Parameters!$A$16,B11141*Parameters!$B$16,IF(AND(B11141>Parameters!$A$16,B11141<Parameters!$A$17),B11141*Parameters!$B$17,B11141*Parameters!$B$18))","v":0},{"$f":"IF(B11141<Parameters!$A$20,B11141*Parameters!$B$20,IF(AND(B11141>Parameters!$A$20,B11141<Parameters!$A$21),B11141*Parameters!$B$21,B11141*Parameters!$B$22))","v":0},{"$error":"#DIV/0!"},"",0,"",0,6.0344516129032257,{"$error":"#DIV/0!"},{"$error":"#DIV/0!"},{"$f":"IF('Gegevens '!$G$20=\"Eigen waarden\",VLOOKUP($F11141,'Gegevens '!$A$25:$C$77,3,FALSE),VLOOKUP($F11141,Lijsten!$A$19:$B$71,2,FALSE))","v":39.779582414171429},{"$error":"#DIV/0!"},{"$error":"#DIV/0!"},{"$error":"#DIV/0!"},{"$error":"#DIV/0!"},{"$error":"#DIV/0!"},{"$error":"#DIV/0!"},{"$error":"#DIV/0!"},"","",{"$error":"#DIV/0!"},0,{"$error":"#DIV/0!"},0,{"$error":"#DIV/0!"},{"$error":"#DIV/0!"},{"$error":"#DIV/0!"},{"$error":"#DIV/0!"},{"$error":"#DIV/0!"},{"$error":"#DIV/0!"},"","","",{"$error":"#DIV/0!"},0,{"$error":"#DIV/0!"},null,null,null,null,null,null,null,null,null,null,null,null,null,null,null,null,null,null,null,null,null,"1997-05-30",0,6.2279999999999998,null,"2005-05-29",2.4,4.8899999999999997,null,"2036-05-29",0,5.58866,0,5.58866,0,5.3331900000000001,null,"2046-05-29",0,5.6519899999999996,0,5.6519899999999996,0,5.3235299999999999,null,"2096-05-29",0,5.9686399999999997,0,5.9686399999999997,0,5.27522]
["1997-07-12",0.1,5.0270000000000001,7,1997,28,0.1,{"$f":"IF(B11184<Parameters!$A$16,B11184*Parameters!$B$16,IF(AND(B11184>Parameters!$A$16,B11184<Parameters!$A$17),B11184*Parameters!$B$17,B11184*Parameters!$B$18))","v":0},{"$f":"IF(B11184<Parameters!$A$20,B11184*Parameters!$B$20,IF(AND(B11184>Parameters!$A$20,B11184<Parameters!$A$21),B11184*Parameters!$B$21,B11184*Parameters!$B$22))","v":0},{"$error":"#DIV/0!"},{"$error":"#DIV/0!"},{"$error":"#DIV/0!"},{"$error":"#DIV/0!"},{"$error":"#DIV/0!"},4.9947419354838711,{"$error":"#DIV/0!"},{"$error":"#DIV/0!"},{"$f":"IF('Gegevens '!$G$20=\"Eigen waarden\",VLOOKUP($F11184,'Gegevens '!$A$25:$C$77,3,FALSE),VLOOKUP($F11184,Lijsten!$A$19:$B$71,2,FALSE))","v":37.93215799035999},{"$error":"#DIV/0!"},{"$error":"#DIV/0!"},{"$error":"#DIV/0!"},{"$error":"#DIV/0!"},{"$error":"#DIV/0!"},{"$error":"#DIV/0!"},{"$error":"#DIV/0!"},{"$error":"#DIV/0!"},{"$error":"#DIV/0!"},{"$error":"#DIV/0!"},{"$error":"#DIV/0!"},{"$error":"#DIV/0!"},{"$error":"#DIV/0!"},{"$error":"#DIV/0!"},{"$error":"#DIV/0!"},{"$error":"#DIV/0!"},{"$error":"#DIV/0!"},{"$error":"#DIV/0!"},{"$error":"#DIV/0!"},{"$error":"#DIV/0!"},{"$error":"#DIV/0!"},{"$error":"#DIV/0!"},{"$error":"#DIV/0!"},0,{"$error":"#DIV/0!"},null,null,null,null,null,null,null,null,null,null,null,null,null,null,null,null,null,null,null,null,null,"1997-07-12",0.1,5.0270000000000001,null,"2005-07-11",0,6.1559999999999997,null,"2036-07-11",0,4.5492900000000001,0.12,4.3894399999999996,0,4.2295999999999996,null,"2046-07-11",0.09,4.6519500000000003,0.12,4.4464300000000003,0.09,4.2409100000000004,null,"2096-07-11",7.0000000000000007E-2,5.1652199999999997,0.1,4.7313499999999999,7.0000000000000007E-2,4.2974699999999997]
["1997-09-03",0,3.5950000000000002,9,1997,36,0,{"$f":"IF(B11237<Parameters!$A$16,B11237*Parameters!$B$16,IF(AND(B11237>Parameters!$A$16,B11237<Parameters!$A$17),B11237*Parameters!$B$17,B11237*Parameters!$B$18))","v":0},{"$f":"IF(B11237<Parameters!$A$20,B11237*Parameters!$B$20,IF(AND(B11237>Parameters!$A$20,B11237<Parameters!$A$21),B11237*Parameters!$B$21,B11237*Parameters!$B$22))","v":0},{"$f":"B11237*SUM($B$3,$C$3,$D$3)/$E$3*10","v":{"$error":"#DIV/0!"}},"",0,"",0,3.7283333333333335,{"$error":"#DIV/0!"},{"$error":"#DIV/0!"},{"$f":"IF('Gegevens '!$G$20=\"Eigen waarden\",VLOOKUP($F11237,'Gegevens '!$A$25:$C$77,3,FALSE),VLOOKUP($F11237,Lijsten!$A$19:$B$71,2,FALSE))","v":30.026641895863094},{"$error":"#DIV/0!"},{"$error":"#DIV/0!"},{"$error":"#DIV/0!"},{"$f":"IF(SUM(U11236+S11237)>SUM($AK$3+$AN$3),SUM(U11236+S11237-($AK$3+$AN$3)),0)","v":{"$error":"#DIV/0!"}},{"$f":"IF(U11236<$AN$3,R11237,IF(SUM(U11236-R11237)>$AN$3,0,IF(SUM(U11236+S11237)<$AN$3,SUM(R11237-(U11236-$AN$3)),0)))","v":{"$error":"#DIV/0!"}},{"$error":"#DIV/0!"},{"$error":"#DIV/0!"},"","",{"$error":"#DIV/0!"},0,{"$error":"#DIV/0!"},{"$f":"N11237/10","v":0},{"$error":"#DIV/0!"},{"$f":"Q11237/10","v":{"$error":"#DIV/0!"}},{"$error":"#DIV/0!"},{"$error":"#DIV/0!"},{"$error":"#DIV/0!"},{"$error":"#DIV/0!"},"","","",{"$error":"#DIV/0!"},0,{"$error":"#DIV/0!"},null,null,null,null,null,null,null,null,null,null,null,null,null,null,null,null,null,null,null,null,null,"1997-09-03",0,3.5950000000000002,null,"2005-09-02",0,4.2089999999999996,null,"2036-09-02",0.22,2.8015500000000002,0.22,2.8015500000000002,0.22,2.6848200000000002,null,"2046-09-02",0.22,2.8517000000000001,0.22,2.8517000000000001,0.22,2.7016300000000002,null,"2096-09-02",0.2,3.10249,0.2,3.10249,0.2,2.78566]
["1997-12-04",0,0.189,12,1997,49,0,{"$f":"IF(B11329<Parameters!$A$16,B11329*Parameters!$B$16,IF(AND(B11329>Parameters!$A$16,B11329<Parameters!$A$17),B11329*Parameters!$B$17,B11329*Parameters!$B$18))","v":0},{"$f":"IF(B11329<Parameters!$A$20,B11329*Parameters!$B$20,IF(AND(B11329>Parameters!$A$20,B11329<Parameters!$A$21),B11329*Parameters!$B$21,B11329*Parameters!$B$22))","v":0},{"$error":"#DIV/0!"},"",0,"",0,0.25351612903225806,{"$error":"#DIV/0!"},{"$error":"#DIV/0!"},{"$f":"IF('Gegevens '!$G$20=\"Eigen waarden\",VLOOKUP($F11329,'Gegevens '!$A$25:$C$77,3,FALSE),VLOOKUP($F11329,Lijsten!$A$19:$B$71,2,FALSE))","v":3.2736734693877558},{"$error":"#DIV/0!"},{"$error":"#DIV/0!"},{"$error":"#DIV/0!"},{"$error":"#DIV/0!"},{"$error":"#DIV/0!"},{"$error":"#DIV/0!"},{"$error":"#DIV/0!"},"","",{"$error":"#DIV/0!"},0,{"$error":"#DIV/0!"},0,{"$error":"#DIV/0!"},{"$error":"#DIV/0!"},{"$error":"#DIV/0!"},{"$error":"#DIV/0!"},{"$error":"#DIV/0!"},{"$error":"#DIV/0!"},"","","",{"$error":"#DIV/0!"},{"$error":"#DIV/0!"},0,null,null,null,null,null,null,null,null,null,null,null,null,null,null,null,null,null,null,null,null,null,"1997-12-04",0,0.189,null,"2005-12-03",0,0.77300000000000002,null,"2036-12-03",0,0.35085,0,0.32538,0,0.29981000000000002,null,"2046-12-03",0,0.36623,0,0.33349000000000001,0,0.30060999999999999,null,"2096-12-03",0,0.44314999999999999,0,0.37402999999999997,0,0.30462]
["1998-01-16",3.5,0.48099999999999998,1,1998,3,3.5,{"$f":"IF(B11372<Parameters!$A$16,B11372*Parameters!$B$16,IF(AND(B11372>Parameters!$A$16,B11372<Parameters!$A$17),B11372*Parameters!$B$17,B11372*Parameters!$B$18))","v":3.3249999999999997},{"$f":"IF(B11372<Parameters!$A$20,B11372*Parameters!$B$20,IF(AND(B11372>Parameters!$A$20,B11372<Parameters!$A$21),B11372*Parameters!$B$21,B11372*Parameters!$B$22))","v":2.625},{"$error":"#DIV/0!"},{"$error":"#DIV/0!"},{"$error":"#DIV/0!"},{"$error":"#DIV/0!"},{"$error":"#DIV/0!"},0.5455161290322581,{"$error":"#DIV/0!"},{"$error":"#DIV/0!"},{"$f":"IF('Gegevens '!$G$20=\"Eigen waarden\",VLOOKUP($F11372,'Gegevens '!$A$25:$C$77,3,FALSE),VLOOKUP($F11372,Lijsten!$A$19:$B$71,2,FALSE))","v":5.3886624347828569},{"$error":"#DIV/0!"},{"$error":"#DIV/0!"},{"$error":"#DIV/0!"},{"$error":"#DIV/0!"},{"$error":"#DIV/0!"},{"$error":"#DIV/0!"},{"$error":"#DIV/0!"},{"$error":"#DIV/0!"},{"$error":"#DIV/0!"},{"$error":"#DIV/0!"},{"$error":"#DIV/0!"},{"$error":"#DIV/0!"},{"$error":"#DIV/0!"},{"$error":"#DIV/0!"},{"$error":"#DIV/0!"},{"$error":"#DIV/0!"},{"$error":"#DIV/0!"},{"$error":"#DIV/0!"},{"$error":"#DIV/0!"},{"$error":"#DIV/0!"},{"$error":"#DIV/0!"},{"$error":"#DIV/0!"},{"$error":"#DIV/0!"},{"$error":"#DIV/0!"},0,null,null,null,null,null,null,null,null,null,null,null,null,null,null,null,null,null,null,null,null,null,"1998-01-16",3.5,0.48099999999999998,null,"2006-01-15",0,0.58699999999999997,null,"2037-01-15",9.59,0.4138,8.23,0.3886,7.36,0.3634,null,"2047-01-15",9.86,0.42917,8.32,0.39677000000000001,7.3,0.36437000000000003,null,"2097-01-15",11.27,0.50602999999999998,8.7899999999999991,0.43763000000000002,6.96,0.36923]
["1998-05-01",0,1.264,5,1998,18,0,{"$f":"IF(B11477<Parameters!$A$16,B11477*Parameters!$B$16,IF(AND(B11477>Parameters!$A$16,B11477<Parameters!$A$17),B11477*Parameters!$B$17,B11477*Parameters!$B$18))","v":0},{"$f":"IF(B11477<Parameters!$A$20,B11477*Parameters!$B$20,IF(AND(B11477>Parameters!$A$20,B11477<Parameters!$A$21),B11477*Parameters!$B$21,B11477*Parameters!$B$22))","v":0},{"$error":"#DIV/0!"},"",0,"",0,1.0704516129032258,{"$error":"#DIV/0!"},{"$error":"#DIV/0!"},{"$f":"IF('Gegevens '!$G$20=\"Eigen waarden\",VLOOKUP($F11477,'Gegevens '!$A$25:$C$77,3,FALSE),VLOOKUP($F11477,Lijsten!$A$19:$B$71,2,FALSE))","v":33.340195028868571},{"$error":"#DIV/0!"},{"$error":"#DIV/0!"},{"$error":"#DIV/0!"},{"$error":"#DIV/0!"},{"$error":"#DIV/0!"},{"$error":"#DIV/0!"},{"$error":"#DIV/0!"},"","",{"$error":"#DIV/0!"},0,{"$error":"#DIV/0!"},0,{"$error":"#DIV/0!"},{"$error":"#DIV/0!"},{"$error":"#DIV/0!"},{"$error":"#DIV/0!"},{"$error":"#DIV/0!"},{"$error":"#DIV/0!"},"","","",{"$error":"#DIV/0!"},0,{"$error":"#DIV/0!"},null,null,null,null,null,null,null,null,null,null,null,null,null,null,null,null,null,null,null,null,null,"1998-05-01",0,1.264,null,"2006-04-30",6.3,2.1509999999999998,null,"2037-04-30",0,1.8341700000000001,0,1.8341700000000001,0,1.75492,null,"2047-04-30",0,1.8487899999999999,0,1.8487899999999999,0,1.7468900000000001,null,"2097-04-30",0,1.9218999999999999,0,1.9218999999999999,0,1.70678]
["1998-06-09",6.3,1.742,6,1998,24,6.3,{"$f":"IF(B11516<Parameters!$A$16,B11516*Parameters!$B$16,IF(AND(B11516>Parameters!$A$16,B11516<Parameters!$A$17),B11516*Parameters!$B$17,B11516*Parameters!$B$18))","v":5.9849999999999994},{"$f":"IF(B11516<Parameters!$A$20,B11516*Parameters!$B$20,IF(AND(B11516>Parameters!$A$20,B11516<Parameters!$A$21),B11516*Parameters!$B$21,B11516*Parameters!$B$22))","v":4.7249999999999996},{"$error":"#DIV/0!"},{"$error":"#DIV/0!"},{"$error":"#DIV/0!"},{"$error":"#DIV/0!"},{"$error":"#DIV/0!"},1.6086666666666667,{"$error":"#DIV/0!"},{"$error":"#DIV/0!"},{"$f":"IF('Gegevens '!$G$20=\"Eigen waarden\",VLOOKUP($F11516,'Gegevens '!$A$25:$C$77,3,FALSE),VLOOKUP($F11516,Lijsten!$A$19:$B$71,2,FALSE))","v":43.951162369211438},{"$error":"#DIV/0!"},{"$error":"#DIV/0!"},{"$error":"#DIV/0!"},{"$error":"#DIV/0!"},{"$error":"#DIV/0!"},{"$error":"#DIV/0!"},{"$error":"#DIV/0!"},{"$error":"#DIV/0!"},{"$error":"#DIV/0!"},{"$error":"#DIV/0!"},{"$error":"#DIV/0!"},{"$error":"#DIV/0!"},{"$error":"#DIV/0!"},{"$error":"#DIV/0!"},{"$error":"#DIV/0!"},{"$error":"#DIV/0!"},{"$error":"#DIV/0!"},{"$error":"#DIV/0!"},{"$error":"#DIV/0!"},{"$error":"#DIV/0!"},{"$error":"#DIV/0!"},{"$error":"#DIV/0!"},{"$error":"#DIV/0!"},0,{"$error":"#DIV/0!"},null,null,null,null,null,null,null,null,null,null,null,null,null,null,null,null,null,null,null,null,null,"1998-06-09",6.3,1.742,null,"2006-06-08",0,5.8760000000000003,null,"2037-06-08",0,4.0445900000000004,0,3.8667600000000002,0,3.7006899999999998,null,"2047-06-08",0,4.1327600000000002,0,3.9041199999999998,0,3.6906099999999999,null,"2097-06-08",0,4.5736100000000004,0,4.0909199999999997,0,3.6401699999999999]
["1998-07-22",0,5.008,7,1998,30,0,{"$f":"IF(B11559<Parameters!$A$16,B11559*Parameters!$B$16,IF(AND(B11559>Parameters!$A$16,B11559<Parameters!$A$17),B11559*Parameters!$B$17,B11559*Parameters!$B$18))","v":0},{"$f":"IF(B11559<Parameters!$A$20,B11559*Parameters!$B$20,IF(AND(B11559>Parameters!$A$20,B11559<Parameters!$A$21),B11559*Parameters!$B$21,B11559*Parameters!$B$22))","v":0},{"$error":"#DIV/0!"},"",0,"",0,4.975741935483871,{"$error":"#DIV/0!"},{"$error":"#DIV/0!"},{"$f":"IF('Gegevens '!$G$20=\"Eigen waarden\",VLOOKUP($F11559,'Gegevens '!$A$25:$C$77,3,FALSE),VLOOKUP($F11559,Lijsten!$A$19:$B$71,2,FALSE))","v":38.460966477868567},{"$error":"#DIV/0!"},{"$error":"#DIV/0!"},{"$error":"#DIV/0!"},{"$error":"#DIV/0!"},{"$error":"#DIV/0!"},{"$error":"#DIV/0!"},{"$error":"#DIV/0!"},"","",{"$error":"#DIV/0!"},0,{"$error":"#DIV/0!"},0,{"$error":"#DIV/0!"},{"$error":"#DIV/0!"},{"$error":"#DIV/0!"},{"$error":"#DIV/0!"},{"$error":"#DIV/0!"},{"$error":"#DIV/0!"},"","","",{"$error":"#DIV/0!"},0,{"$error":"#DIV/0!"},null,null,null,null,null,null,null,null,null,null,null,null,null,null,null,null,null,null,null,null,null,"1998-07-22",0,5.008,null,"2006-07-21",0,6.391,null,"2037-07-21",6.32,2.9792999999999998,8.18,2.8746100000000001,6.32,2.76993,null,"2047-07-21",5.99,3.0465300000000002,8.0399999999999991,2.9119299999999999,5.99,2.7773400000000001,null,"2097-07-21",0,3.3826700000000001,7.2,3.0985200000000002,0,2.8143799999999999]
["1998-11-04",1.7,0.42399999999999999,11,1998,45,1.7,{"$f":"IF(B11664<Parameters!$A$16,B11664*Parameters!$B$16,IF(AND(B11664>Parameters!$A$16,B11664<Parameters!$A$17),B11664*Parameters!$B$17,B11664*Parameters!$B$18))","v":1.36},{"$f":"IF(B11664<Parameters!$A$20,B11664*Parameters!$B$20,IF(AND(B11664>Parameters!$A$20,B11664<Parameters!$A$21),B11664*Parameters!$B$21,B11664*Parameters!$B$22))","v":1.02},{"$error":"#DIV/0!"},{"$error":"#DIV/0!"},{"$error":"#DIV/0!"},{"$error":"#DIV/0!"},{"$error":"#DIV/0!"},0.59066666666666667,{"$error":"#DIV/0!"},{"$error":"#DIV/0!"},{"$f":"IF('Gegevens '!$G$20=\"Eigen waarden\",VLOOKUP($F11664,'Gegevens '!$A$25:$C$77,3,FALSE),VLOOKUP($F11664,Lijsten!$A$19:$B$71,2,FALSE))","v":11.050358269480521},{"$error":"#DIV/0!"},{"$error":"#DIV/0!"},{"$error":"#DIV/0!"},{"$error":"#DIV/0!"},{"$error":"#DIV/0!"},{"$error":"#DIV/0!"},{"$error":"#DIV/0!"},{"$error":"#DIV/0!"},{"$error":"#DIV/0!"},{"$error":"#DIV/0!"},{"$error":"#DIV/0!"},{"$error":"#DIV/0!"},{"$error":"#DIV/0!"},{"$error":"#DIV/0!"},{"$error":"#DIV/0!"},{"$error":"#DIV/0!"},{"$error":"#DIV/0!"},{"$error":"#DIV/0!"},{"$error":"#DIV/0!"},{"$error":"#DIV/0!"},{"$error":"#DIV/0!"},{"$error":"#DIV/0!"},{"$error":"#DIV/0!"},{"$error":"#DIV/0!"},0,null,null,null,null,null,null,null,null,null,null,null,null,null,null,null,null,null,null,null,null,null,"1998-11-04",1.7,0.42399999999999999,null,"2006-11-03",0.1,0.71799999999999997,null,"2037-11-03",7.29,0.55903000000000003,7.29,0.55903000000000003,7.29,0.51905000000000001,null,"2047-11-03",7.32,0.56903999999999999,7.32,0.56903999999999999,7.32,0.51763000000000003,null,"2097-11-03",7.45,0.61907999999999996,7.45,0.61907999999999996,7.45,0.51056000000000001]
["1998-12-17",0,0.67700000000000005,12,1998,51,0,{"$f":"IF(B11707<Parameters!$A$16,B11707*Parameters!$B$16,IF(AND(B11707>Parameters!$A$16,B11707<Parameters!$A$17),B11707*Parameters!$B$17,B11707*Parameters!$B$18))","v":0},{"$f":"IF(B11707<Parameters!$A$20,B11707*Parameters!$B$20,IF(AND(B11707>Parameters!$A$20,B11707<Parameters!$A$21),B11707*Parameters!$B$21,B11707*Parameters!$B$22))","v":0},{"$error":"#DIV/0!"},"",0,"",0,0.74151612903225805,{"$error":"#DIV/0!"},{"$error":"#DIV/0!"},{"$f":"IF('Gegevens '!$G$20=\"Eigen waarden\",VLOOKUP($F11707,'Gegevens '!$A$25:$C$77,3,FALSE),VLOOKUP($F11707,Lijsten!$A$19:$B$71,2,FALSE))","v":6.588010204081634},{"$error":"#DIV/0!"},{"$error":"#DIV/0!"},{"$error":"#DIV/0!"},{"$error":"#DIV/0!"},{"$error":"#DIV/0!"},{"$error":"#DIV/0!"},{"$error":"#DIV/0!"},"","",{"$error":"#DIV/0!"},0,{"$error":"#DIV/0!"},0,{"$error":"#DIV/0!"},{"$error":"#DIV/0!"},{"$error":"#DIV/0!"},{"$error":"#DIV/0!"},{"$error":"#DIV/0!"},{"$error":"#DIV/0!"},"","","",{"$error":"#DIV/0!"},{"$error":"#DIV/0!"},0,null,null,null,null,null,null,null,null,null,null,null,null,null,null,null,null,null,null,null,null,null,"1998-12-17",0,0.67700000000000005,null,"2006-12-16",10.7,0.29199999999999998,null,"2037-12-16",0,0.56584000000000001,0,0.52476999999999996,0,0.48353000000000002,null,"2047-12-16",0,0.59065000000000001,0,0.53785000000000005,0,0.48481999999999997,null,"2097-12-16",0,0.71472000000000002,0,0.60323000000000004,0,0.49129]
["1999-04-01",0,3.82,4,{"$f":"IF(AND((F11811>1),(F11812=1)),E11811+1,E11811)","v":1999},13,{"$f":"B11812","v":0},{"$f":"IF(B11812<Parameters!$A$16,B11812*Parameters!$B$16,IF(AND(B11812>Parameters!$A$16,B11812<Parameters!$A$17),B11812*Parameters!$B$17,B11812*Parameters!$B$18))","v":0},{"$f":"IF(B11812<Parameters!$A$20,B11812*Parameters!$B$20,IF(AND(B11812>Parameters!$A$20,B11812<Parameters!$A$21),B11812*Parameters!$B$21,B11812*Parameters!$B$22))","v":0},{"$error":"#DIV/0!"},"",{"$f":"IF(B11812=0,0,SUM(B11812*$D$3+H11812*$B$3+I11812*$C$3)/$E$3*10)","v":0},"",0,3.6533333333333333,{"$error":"#DIV/0!"},{"$error":"#DIV/0!"},{"$f":"IF('Gegevens '!$G$20=\"Eigen waarden\",VLOOKUP($F11812,'Gegevens '!$A$25:$C$77,3,FALSE),VLOOKUP($F11812,Lijsten!$A$19:$B$71,2,FALSE))","v":23.460342198480003},{"$f":"SUM(L11812-R11812-Q11812)","v":{"$error":"#DIV/0!"}},{"$f":"L11812-Q11812","v":{"$error":"#DIV/0!"}},{"$f":"IF(U11811<$AN$3,U11811+T11812,IF(AND((U11811>$AN$3),(SUM(U11811+S11812)<$AN$3)),SUM($AN$3+T11812),IF((SUM(U11811+S11812)>($AN$3+$AK$3)),$AN$3+$AK$3,U11811+S11812)))","v":{"$error":"#DIV/0!"}},{"$error":"#DIV/0!"},{"$error":"#DIV/0!"},{"$f":"R11812-W11812","v":{"$error":"#DIV/0!"}},{"$error":"#DIV/0!"},"",{"$f":"K11812","v":""},{"$error":"#DIV/0!"},0,{"$error":"#DIV/0!"},0,{"$error":"#DIV/0!"},{"$error":"#DIV/0!"},{"$error":"#DIV/0!"},{"$error":"#DIV/0!"},{"$error":"#DIV/0!"},{"$f":"IF(AB11812=0,\"\",AF11812/AB11812)","v":{"$error":"#DIV/0!"}},"","","",{"$f":"AI11812*$E$5/1000","v":{"$error":"#DIV/0!"}},{"$f":"IF(OR(F11812<=13,F11812>=40),VALUE(AO11812),0)","v":{"$error":"#DIV/0!"}},{"$f":"IF(OR(F11812<=13,F11812>=40),0,VALUE(AO11812))","v":0},null,null,null,null,null,null,null,null,null,null,null,null,null,null,null,null,null,null,null,null,null,"1999-04-01",0,3.82,null,"2007-03-31",0,2.68,null,"2038-03-31",0,3.1262699999999999,0,3.1262699999999999,0,2.9398300000000002,null,"2048-03-30",0,3.13463,0,3.13463,0,2.8949199999999999,null,"2098-03-31",0,3.1764399999999999,0,3.1764399999999999,0,2.6703899999999998]
["1999-05-10",4.5,2.8839999999999999,5,1999,19,4.5,{"$f":"IF(B11851<Parameters!$A$16,B11851*Parameters!$B$16,IF(AND(B11851>Parameters!$A$16,B11851<Parameters!$A$17),B11851*Parameters!$B$17,B11851*Parameters!$B$18))","v":4.2749999999999995},{"$f":"IF(B11851<Parameters!$A$20,B11851*Parameters!$B$20,IF(AND(B11851>Parameters!$A$20,B11851<Parameters!$A$21),B11851*Parameters!$B$21,B11851*Parameters!$B$22))","v":3.375},{"$error":"#DIV/0!"},{"$error":"#DIV/0!"},{"$error":"#DIV/0!"},{"$error":"#DIV/0!"},{"$error":"#DIV/0!"},2.6904516129032259,{"$error":"#DIV/0!"},{"$error":"#DIV/0!"},{"$f":"IF('Gegevens '!$G$20=\"Eigen waarden\",VLOOKUP($F11851,'Gegevens '!$A$25:$C$77,3,FALSE),VLOOKUP($F11851,Lijsten!$A$19:$B$71,2,FALSE))","v":36.149555012451422},{"$error":"#DIV/0!"},{"$error":"#DIV/0!"},{"$error":"#DIV/0!"},{"$error":"#DIV/0!"},{"$error":"#DIV/0!"},{"$error":"#DIV/0!"},{"$error":"#DIV/0!"},{"$error":"#DIV/0!"},{"$error":"#DIV/0!"},{"$error":"#DIV/0!"},{"$error":"#DIV/0!"},{"$error":"#DIV/0!"},{"$error":"#DIV/0!"},{"$error":"#DIV/0!"},{"$error":"#DIV/0!"},{"$error":"#DIV/0!"},{"$error":"#DIV/0!"},{"$error":"#DIV/0!"},{"$error":"#DIV/0!"},{"$error":"#DIV/0!"},{"$error":"#DIV/0!"},{"$error":"#DIV/0!"},{"$error":"#DIV/0!"},0,{"$error":"#DIV/0!"},null,null,null,null,null,null,null,null,null,null,null,null,null,null,null,null,null,null,null,null,null,"1999-05-10",4.5,2.8839999999999999,null,"2007-05-09",9,1.01,null,"2038-05-09",0,5.3345799999999999,0,5.3345799999999999,0,5.0907299999999998,null,"2048-05-08",0,5.3950300000000002,0,5.3950300000000002,0,5.0815000000000001,null,"2098-05-09",0,5.6972899999999997,0,5.6972899999999997,0,5.0354000000000001]
["1999-06-22",0.2,2.6880000000000002,6,1999,25,0.2,{"$f":"IF(B11894<Parameters!$A$16,B11894*Parameters!$B$16,IF(AND(B11894>Parameters!$A$16,B11894<Parameters!$A$17),B11894*Parameters!$B$17,B11894*Parameters!$B$18))","v":0},{"$f":"IF(B11894<Parameters!$A$20,B11894*Parameters!$B$20,IF(AND(B11894>Parameters!$A$20,B11894<Parameters!$A$21),B11894*Parameters!$B$21,B11894*Parameters!$B$22))","v":0},{"$error":"#DIV/0!"},{"$error":"#DIV/0!"},{"$error":"#DIV/0!"},{"$error":"#DIV/0!"},{"$error":"#DIV/0!"},2.5546666666666669,{"$error":"#DIV/0!"},{"$error":"#DIV/0!"},{"$f":"IF('Gegevens '!$G$20=\"Eigen waarden\",VLOOKUP($F11894,'Gegevens '!$A$25:$C$77,3,FALSE),VLOOKUP($F11894,Lijsten!$A$19:$B$71,2,FALSE))","v":41.801906897514279},{"$error":"#DIV/0!"},{"$error":"#DIV/0!"},{"$error":"#DIV/0!"},{"$error":"#DIV/0!"},{"$error":"#DIV/0!"},{"$error":"#DIV/0!"},{"$error":"#DIV/0!"},{"$error":"#DIV/0!"},{"$error":"#DIV/0!"},{"$error":"#DIV/0!"},{"$error":"#DIV/0!"},{"$error":"#DIV/0!"},{"$error":"#DIV/0!"},{"$error":"#DIV/0!"},{"$error":"#DIV/0!"},{"$error":"#DIV/0!"},{"$error":"#DIV/0!"},{"$error":"#DIV/0!"},{"$error":"#DIV/0!"},{"$error":"#DIV/0!"},{"$error":"#DIV/0!"},{"$error":"#DIV/0!"},{"$error":"#DIV/0!"},0,{"$error":"#DIV/0!"},null,null,null,null,null,null,null,null,null,null,null,null,null,null,null,null,null,null,null,null,null,"1999-06-22",0.2,2.6880000000000002,null,"2007-06-21",4.4000000000000004,3.67,null,"2038-06-21",9.99,1.9367700000000001,12.53,1.85162,9.99,1.7720899999999999,null,"2048-06-20",9.6999999999999993,1.97899,12.49,1.8694999999999999,9.6999999999999993,1.7672600000000001,null,"2098-06-21",8.44,2.1900900000000001,12.37,1.95896,8.44,1.7431099999999999]
["1999-10-16",0,1.657,10,1999,41,0,{"$f":"IF(B12010<Parameters!$A$16,B12010*Parameters!$B$16,IF(AND(B12010>Parameters!$A$16,B12010<Parameters!$A$17),B12010*Parameters!$B$17,B12010*Parameters!$B$18))","v":0},{"$f":"IF(B12010<Parameters!$A$20,B12010*Parameters!$B$20,IF(AND(B12010>Parameters!$A$20,B12010<Parameters!$A$21),B12010*Parameters!$B$21,B12010*Parameters!$B$22))","v":0},{"$error":"#DIV/0!"},"",0,"",0,1.8182903225806453,{"$error":"#DIV/0!"},{"$error":"#DIV/0!"},{"$f":"IF('Gegevens '!$G$20=\"Eigen waarden\",VLOOKUP($F12010,'Gegevens '!$A$25:$C$77,3,FALSE),VLOOKUP($F12010,Lijsten!$A$19:$B$71,2,FALSE))","v":17.237476837457141},{"$error":"#DIV/0!"},{"$error":"#DIV/0!"},{"$error":"#DIV/0!"},{"$error":"#DIV/0!"},{"$error":"#DIV/0!"},{"$error":"#DIV/0!"},{"$error":"#DIV/0!"},"","",{"$error":"#DIV/0!"},0,{"$error":"#DIV/0!"},0,{"$error":"#DIV/0!"},{"$error":"#DIV/0!"},{"$error":"#DIV/0!"},{"$error":"#DIV/0!"},{"$error":"#DIV/0!"},{"$error":"#DIV/0!"},"","","",{"$error":"#DIV/0!"},{"$error":"#DIV/0!"},0,null,null,null,null,null,null,null,null,null,null,null,null,null,null,null,null,null,null,null,null,null,"1999-10-16",0,1.657,null,"2007-10-15",0,1.76,null,"2038-10-15",0,1.3068900000000001,0,1.3068900000000001,0,1.2288600000000001,null,"2048-10-14",0,1.33029,0,1.33029,0,1.2299599999999999,null,"2098-10-15",0,1.4472799999999999,0,1.4472799999999999,0,1.2354700000000001]
["1999-11-14",1.1000000000000001,0.314,11,1999,45,1.1000000000000001,{"$f":"IF(B12039<Parameters!$A$16,B12039*Parameters!$B$16,IF(AND(B12039>Parameters!$A$16,B12039<Parameters!$A$17),B12039*Parameters!$B$17,B12039*Parameters!$B$18))","v":0.88000000000000012},{"$f":"IF(B12039<Parameters!$A$20,B12039*Parameters!$B$20,IF(AND(B12039>Parameters!$A$20,B12039<Parameters!$A$21),B12039*Parameters!$B$21,B12039*Parameters!$B$22))","v":0.66},{"$error":"#DIV/0!"},{"$error":"#DIV/0!"},{"$error":"#DIV/0!"},{"$error":"#DIV/0!"},{"$error":"#DIV/0!"},0.48066666666666669,{"$error":"#DIV/0!"},{"$error":"#DIV/0!"},{"$f":"IF('Gegevens '!$G$20=\"Eigen waarden\",VLOOKUP($F12039,'Gegevens '!$A$25:$C$77,3,FALSE),VLOOKUP($F12039,Lijsten!$A$19:$B$71,2,FALSE))","v":11.050358269480521},{"$error":"#DIV/0!"},{"$error":"#DIV/0!"},{"$error":"#DIV/0!"},{"$error":"#DIV/0!"},{"$error":"#DIV/0!"},{"$error":"#DIV/0!"},{"$error":"#DIV/0!"},{"$error":"#DIV/0!"},{"$error":"#DIV/0!"},{"$error":"#DIV/0!"},{"$error":"#DIV/0!"},{"$error":"#DIV/0!"},{"$error":"#DIV/0!"},{"$error":"#DIV/0!"},{"$error":"#DIV/0!"},{"$error":"#DIV/0!"},{"$error":"#DIV/0!"},{"$error":"#DIV/0!"},{"$error":"#DIV/0!"},{"$error":"#DIV/0!"},{"$error":"#DIV/0!"},{"$error":"#DIV/0!"},{"$error":"#DIV/0!"},{"$error":"#DIV/0!"},0,null,null,null,null,null,null,null,null,null,null,null,null,null,null,null,null,null,null,null,null,null,"1999-11-14",1.1000000000000001,0.314,null,"2007-11-13",10.199999999999999,0.03,null,"2038-11-13",0,0.45981,0,0.45981,0,0.42692999999999998,null,"2048-11-12",0,0.46804000000000001,0,0.46804000000000001,0,0.42576000000000003,null,"2098-11-13",0,0.50919999999999999,0,0.50919999999999999,0,0.41993999999999998]
["1999-12-27",2.2000000000000002,0.32600000000000001,12,1999,52,2.2000000000000002,{"$f":"IF(B12082<Parameters!$A$16,B12082*Parameters!$B$16,IF(AND(B12082>Parameters!$A$16,B12082<Parameters!$A$17),B12082*Parameters!$B$17,B12082*Parameters!$B$18))","v":2.09},{"$f":"IF(B12082<Parameters!$A$20,B12082*Parameters!$B$20,IF(AND(B12082>Parameters!$A$20,B12082<Parameters!$A$21),B12082*Parameters!$B$21,B12082*Parameters!$B$22))","v":1.6500000000000001},{"$error":"#DIV/0!"},{"$error":"#DIV/0!"},{"$error":"#DIV/0!"},{"$error":"#DIV/0!"},{"$error":"#DIV/0!"},0.39051612903225807,{"$error":"#DIV/0!"},{"$error":"#DIV/0!"},{"$f":"IF('Gegevens '!$G$20=\"Eigen waarden\",VLOOKUP($F12082,'Gegevens '!$A$25:$C$77,3,FALSE),VLOOKUP($F12082,Lijsten!$A$19:$B$71,2,FALSE))","v":0},{"$error":"#DIV/0!"},{"$error":"#DIV/0!"},{"$error":"#DIV/0!"},{"$error":"#DIV/0!"},{"$error":"#DIV/0!"},{"$error":"#DIV/0!"},"",{"$error":"#DIV/0!"},{"$error":"#DIV/0!"},{"$error":"#DIV/0!"},{"$error":"#DIV/0!"},{"$error":"#DIV/0!"},{"$error":"#DIV/0!"},{"$error":"#DIV/0!"},{"$error":"#DIV/0!"},{"$error":"#DIV/0!"},{"$error":"#DIV/0!"},{"$error":"#DIV/0!"},{"$error":"#DIV/0!"},{"$error":"#DIV/0!"},{"$error":"#DIV/0!"},{"$error":"#DIV/0!"},{"$error":"#DIV/0!"},{"$error":"#DIV/0!"},0,null,null,null,null,null,null,null,null,null,null,null,null,null,null,null,null,null,null,null,null,null,"1999-12-27",2.2000000000000002,0.32600000000000001,null,"2007-12-26",0.7,0.14000000000000001,null,"2038-12-26",48.19,0.37802000000000002,40.06,0.35058,34.47,0.32301999999999997,null,"2048-12-25",49.93,0.39459,40.479999999999997,0.35931000000000002,33.729999999999997,0.32389000000000001,null,"2098-12-26",58.66,0.47747000000000001,42.56,0.40299000000000001,30.05,0.32821]
["2000-04-10",0,3.4910000000000001,4,2000,15,0,{"$f":"IF(B12187<Parameters!$A$16,B12187*Parameters!$B$16,IF(AND(B12187>Parameters!$A$16,B12187<Parameters!$A$17),B12187*Parameters!$B$17,B12187*Parameters!$B$18))","v":0},{"$f":"IF(B12187<Parameters!$A$20,B12187*Parameters!$B$20,IF(AND(B12187>Parameters!$A$20,B12187<Parameters!$A$21),B12187*Parameters!$B$21,B12187*Parameters!$B$22))","v":0},{"$error":"#DIV/0!"},"",0,"",0,3.3243333333333336,{"$error":"#DIV/0!"},{"$error":"#DIV/0!"},{"$f":"IF('Gegevens '!$G$20=\"Eigen waarden\",VLOOKUP($F12187,'Gegevens '!$A$25:$C$77,3,FALSE),VLOOKUP($F12187,Lijsten!$A$19:$B$71,2,FALSE))","v":28.925363264788576},{"$error":"#DIV/0!"},{"$error":"#DIV/0!"},{"$error":"#DIV/0!"},{"$error":"#DIV/0!"},{"$error":"#DIV/0!"},{"$error":"#DIV/0!"},{"$error":"#DIV/0!"},"","",{"$error":"#DIV/0!"},0,{"$error":"#DIV/0!"},0,{"$error":"#DIV/0!"},{"$error":"#DIV/0!"},{"$error":"#DIV/0!"},{"$error":"#DIV/0!"},{"$error":"#DIV/0!"},{"$error":"#DIV/0!"},"","","",{"$error":"#DIV/0!"},0,{"$error":"#DIV/0!"},null,null,null,null,null,null,null,null,null,null,null,null,null,null,null,null,null,null,null,null,null,"2000-04-10",0,3.4910000000000001,null,"2008-04-09",0,2.46,null,"2039-04-10",0,2.8659599999999998,0,2.8659599999999998,0,2.7421199999999999,null,"2049-04-09",0,2.8887999999999998,0,2.8887999999999998,0,2.7295799999999999,null,"2099-04-10",0,3.0030299999999999,0,3.0030299999999999,0,2.6669]
["2000-05-23",0,3.7770000000000001,5,2000,21,0,{"$f":"IF(B12230<Parameters!$A$16,B12230*Parameters!$B$16,IF(AND(B12230>Parameters!$A$16,B12230<Parameters!$A$17),B12230*Parameters!$B$17,B12230*Parameters!$B$18))","v":0},{"$f":"IF(B12230<Parameters!$A$20,B12230*Parameters!$B$20,IF(AND(B12230>Parameters!$A$20,B12230<Parameters!$A$21),B12230*Parameters!$B$21,B12230*Parameters!$B$22))","v":0},{"$error":"#DIV/0!"},"",0,"",0,3.5834516129032261,{"$error":"#DIV/0!"},{"$error":"#DIV/0!"},{"$f":"IF('Gegevens '!$G$20=\"Eigen waarden\",VLOOKUP($F12230,'Gegevens '!$A$25:$C$77,3,FALSE),VLOOKUP($F12230,Lijsten!$A$19:$B$71,2,FALSE))","v":38.569226396674274},{"$error":"#DIV/0!"},{"$error":"#DIV/0!"},{"$error":"#DIV/0!"},{"$error":"#DIV/0!"},{"$error":"#DIV/0!"},{"$error":"#DIV/0!"},{"$error":"#DIV/0!"},"","",{"$error":"#DIV/0!"},0,{"$error":"#DIV/0!"},0,{"$error":"#DIV/0!"},{"$error":"#DIV/0!"},{"$error":"#DIV/0!"},{"$error":"#DIV/0!"},{"$error":"#DIV/0!"},{"$error":"#DIV/0!"},"","","",{"$error":"#DIV/0!"},0,{"$error":"#DIV/0!"},null,null,null,null,null,null,null,null,null,null,null,null,null,null,null,null,null,null,null,null,null,"2000-05-23",0,3.7770000000000001,null,"2008-05-22",0,3.85,null,"2039-05-23",0.34,1.6879500000000001,0.34,1.6879500000000001,0.34,1.6107899999999999,null,"2049-05-22",0.32,1.7070799999999999,0.32,1.7070799999999999,0.32,1.6078699999999999,null,"2099-05-23",0,1.80271,0,1.80271,0,1.59328]
["2000-09-05",0,3.2639999999999998,9,2000,36,0,{"$f":"IF(B12335<Parameters!$A$16,B12335*Parameters!$B$16,IF(AND(B12335>Parameters!$A$16,B12335<Parameters!$A$17),B12335*Parameters!$B$17,B12335*Parameters!$B$18))","v":0},{"$f":"IF(B12335<Parameters!$A$20,B12335*Parameters!$B$20,IF(AND(B12335>Parameters!$A$20,B12335<Parameters!$A$21),B12335*Parameters!$B$21,B12335*Parameters!$B$22))","v":0},{"$error":"#DIV/0!"},"",0,"",0,3.3973333333333331,{"$error":"#DIV/0!"},{"$error":"#DIV/0!"},{"$f":"IF('Gegevens '!$G$20=\"Eigen waarden\",VLOOKUP($F12335,'Gegevens '!$A$25:$C$77,3,FALSE),VLOOKUP($F12335,Lijsten!$A$19:$B$71,2,FALSE))","v":30.026641895863094},{"$error":"#DIV/0!"},{"$error":"#DIV/0!"},{"$error":"#DIV/0!"},{"$error":"#DIV/0!"},{"$error":"#DIV/0!"},{"$error":"#DIV/0!"},{"$error":"#DIV/0!"},"","",{"$error":"#DIV/0!"},0,{"$error":"#DIV/0!"},0,{"$error":"#DIV/0!"},{"$error":"#DIV/0!"},{"$error":"#DIV/0!"},{"$error":"#DIV/0!"},{"$error":"#DIV/0!"},{"$error":"#DIV/0!"},"","","",{"$error":"#DIV/0!"},0,{"$error":"#DIV/0!"},null,null,null,null,null,null,null,null,null,null,null,null,null,null,null,null,null,null,null,null,null,"2000-09-05",0,3.2639999999999998,null,"2008-09-04",0,3.32,null,"2039-09-05",0,1.69096,0,1.69096,0,1.6205000000000001,null,"2049-09-04",0,1.72123,0,1.72123,0,1.6306499999999999,null,"2099-09-05",0,1.8726,0,1.8726,0,1.68137]
["2000-10-14",0,0.89100000000000001,10,2000,41,0,{"$f":"IF(B12374<Parameters!$A$16,B12374*Parameters!$B$16,IF(AND(B12374>Parameters!$A$16,B12374<Parameters!$A$17),B12374*Parameters!$B$17,B12374*Parameters!$B$18))","v":0},{"$f":"IF(B12374<Parameters!$A$20,B12374*Parameters!$B$20,IF(AND(B12374>Parameters!$A$20,B12374<Parameters!$A$21),B12374*Parameters!$B$21,B12374*Parameters!$B$22))","v":0},{"$error":"#DIV/0!"},"",0,"",0,1.0522903225806453,{"$error":"#DIV/0!"},{"$error":"#DIV/0!"},{"$f":"IF('Gegevens '!$G$20=\"Eigen waarden\",VLOOKUP($F12374,'Gegevens '!$A$25:$C$77,3,FALSE),VLOOKUP($F12374,Lijsten!$A$19:$B$71,2,FALSE))","v":17.237476837457141},{"$error":"#DIV/0!"},{"$error":"#DIV/0!"},{"$error":"#DIV/0!"},{"$error":"#DIV/0!"},{"$error":"#DIV/0!"},{"$error":"#DIV/0!"},{"$error":"#DIV/0!"},"","",{"$error":"#DIV/0!"},0,{"$error":"#DIV/0!"},0,{"$error":"#DIV/0!"},{"$error":"#DIV/0!"},{"$error":"#DIV/0!"},{"$error":"#DIV/0!"},{"$error":"#DIV/0!"},{"$error":"#DIV/0!"},"","","",{"$error":"#DIV/0!"},{"$error":"#DIV/0!"},0,null,null,null,null,null,null,null,null,null,null,null,null,null,null,null,null,null,null,null,null,null,"2000-10-14",0,0.89100000000000001,null,"2008-10-13",0,1.86,null,"2039-10-14",0.57999999999999996,1.19381,0.57999999999999996,1.19381,0.57999999999999996,1.12252,null,"2049-10-13",0.57999999999999996,1.2151799999999999,0.57999999999999996,1.2151799999999999,0.57999999999999996,1.1235299999999999,null,"2099-10-14",0.56000000000000005,1.3220400000000001,0.56000000000000005,1.3220400000000001,0.56000000000000005,1.1285700000000001]
["2000-11-26",1,0.41799999999999998,11,2000,47,1,{"$f":"IF(B12417<Parameters!$A$16,B12417*Parameters!$B$16,IF(AND(B12417>Parameters!$A$16,B12417<Parameters!$A$17),B12417*Parameters!$B$17,B12417*Parameters!$B$18))","v":0.95},{"$f":"IF(B12417<Parameters!$A$20,B12417*Parameters!$B$20,IF(AND(B12417>Parameters!$A$20,B12417<Parameters!$A$21),B12417*Parameters!$B$21,B12417*Parameters!$B$22))","v":0.75},{"$error":"#DIV/0!"},{"$error":"#DIV/0!"},{"$error":"#DIV/0!"},{"$error":"#DIV/0!"},{"$error":"#DIV/0!"},0.58466666666666667,{"$error":"#DIV/0!"},{"$error":"#DIV/0!"},{"$f":"IF('Gegevens '!$G$20=\"Eigen waarden\",VLOOKUP($F12417,'Gegevens '!$A$25:$C$77,3,FALSE),VLOOKUP($F12417,Lijsten!$A$19:$B$71,2,FALSE))","v":7.1842085238095237},{"$error":"#DIV/0!"},{"$error":"#DIV/0!"},{"$error":"#DIV/0!"},{"$error":"#DIV/0!"},{"$error":"#DIV/0!"},{"$error":"#DIV/0!"},{"$error":"#DIV/0!"},{"$error":"#DIV/0!"},{"$error":"#DIV/0!"},{"$error":"#DIV/0!"},{"$error":"#DIV/0!"},{"$error":"#DIV/0!"},{"$error":"#DIV/0!"},{"$error":"#DIV/0!"},{"$error":"#DIV/0!"},{"$error":"#DIV/0!"},{"$error":"#DIV/0!"},{"$error":"#DIV/0!"},{"$error":"#DIV/0!"},{"$error":"#DIV/0!"},{"$error":"#DIV/0!"},{"$error":"#DIV/0!"},{"$error":"#DIV/0!"},{"$error":"#DIV/0!"},0,null,null,null,null,null,null,null,null,null,null,null,null,null,null,null,null,null,null,null,null,null,"2000-11-26",1,0.41799999999999998,null,"2008-11-25",0.5,0.26,null,"2039-11-26",7.6,0.54408999999999996,7.6,0.54408999999999996,7.6,0.50517999999999996,null,"2049-11-25",7.63,0.55383000000000004,7.63,0.55383000000000004,7.63,0.50380000000000003,null,"2099-11-26",7.76,0.60253999999999996,7.76,0.60253999999999996,7.76,0.49691999999999997]
["2001-03-11",4.8,1.0429999999999999,3,2001,10,4.8,{"$f":"IF(B12522<Parameters!$A$16,B12522*Parameters!$B$16,IF(AND(B12522>Parameters!$A$16,B12522<Parameters!$A$17),B12522*Parameters!$B$17,B12522*Parameters!$B$18))","v":4.5599999999999996},{"$f":"IF(B12522<Parameters!$A$20,B12522*Parameters!$B$20,IF(AND(B12522>Parameters!$A$20,B12522<Parameters!$A$21),B12522*Parameters!$B$21,B12522*Parameters!$B$22))","v":3.5999999999999996},{"$error":"#DIV/0!"},{"$error":"#DIV/0!"},{"$error":"#DIV/0!"},{"$error":"#DIV/0!"},{"$error":"#DIV/0!"},0.94622580645161281,{"$error":"#DIV/0!"},{"$error":"#DIV/0!"},{"$f":"IF('Gegevens '!$G$20=\"Eigen waarden\",VLOOKUP($F12522,'Gegevens '!$A$25:$C$77,3,FALSE),VLOOKUP($F12522,Lijsten!$A$19:$B$71,2,FALSE))","v":16.951002269891429},{"$error":"#DIV/0!"},{"$error":"#DIV/0!"},{"$error":"#DIV/0!"},{"$error":"#DIV/0!"},{"$error":"#DIV/0!"},{"$error":"#DIV/0!"},{"$error":"#DIV/0!"},{"$error":"#DIV/0!"},{"$error":"#DIV/0!"},{"$error":"#DIV/0!"},{"$error":"#DIV/0!"},{"$error":"#DIV/0!"},{"$error":"#DIV/0!"},{"$error":"#DIV/0!"},{"$error":"#DIV/0!"},{"$error":"#DIV/0!"},{"$error":"#DIV/0!"},{"$error":"#DIV/0!"},{"$error":"#DIV/0!"},{"$error":"#DIV/0!"},{"$error":"#DIV/0!"},{"$error":"#DIV/0!"},{"$error":"#DIV/0!"},{"$error":"#DIV/0!"},0,null,null,null,null,null,null,null,null,null,null,null,null,null,null,null,null,null,null,null,null,null,"2001-03-11",4.8,1.0429999999999999,null,"2009-03-10",10.5,0.4,null,"2040-03-10",6.57,0.90244999999999997,6.57,0.90244999999999997,6.57,0.84863,null,"2050-03-10",6.65,0.90486,6.65,0.90486,6.65,0.83567000000000002,null,"2100-03-11",7.02,0.91693000000000002,7.02,0.91693000000000002,7.02,0.77085000000000004]
["2001-04-23",0,1.895,4,2001,17,0,{"$f":"IF(B12565<Parameters!$A$16,B12565*Parameters!$B$16,IF(AND(B12565>Parameters!$A$16,B12565<Parameters!$A$17),B12565*Parameters!$B$17,B12565*Parameters!$B$18))","v":0},{"$f":"IF(B12565<Parameters!$A$20,B12565*Parameters!$B$20,IF(AND(B12565>Parameters!$A$20,B12565<Parameters!$A$21),B12565*Parameters!$B$21,B12565*Parameters!$B$22))","v":0},{"$error":"#DIV/0!"},"",0,"",0,1.7283333333333333,{"$error":"#DIV/0!"},{"$error":"#DIV/0!"},{"$f":"IF('Gegevens '!$G$20=\"Eigen waarden\",VLOOKUP($F12565,'Gegevens '!$A$25:$C$77,3,FALSE),VLOOKUP($F12565,Lijsten!$A$19:$B$71,2,FALSE))","v":34.009844090885714},{"$error":"#DIV/0!"},{"$error":"#DIV/0!"},{"$error":"#DIV/0!"},{"$error":"#DIV/0!"},{"$error":"#DIV/0!"},{"$error":"#DIV/0!"},{"$error":"#DIV/0!"},"","",{"$error":"#DIV/0!"},0,{"$error":"#DIV/0!"},0,{"$error":"#DIV/0!"},{"$error":"#DIV/0!"},{"$error":"#DIV/0!"},{"$error":"#DIV/0!"},{"$error":"#DIV/0!"},{"$error":"#DIV/0!"},"","","",{"$error":"#DIV/0!"},0,{"$error":"#DIV/0!"},null,null,null,null,null,null,null,null,null,null,null,null,null,null,null,null,null,null,null,null,null,"2001-04-23",0,1.895,null,"2009-04-22",0,3.64,null,"2040-04-22",0,2.0028800000000002,0,2.0028800000000002,0,1.9163300000000001,null,"2050-04-22",0,2.01884,0,2.01884,0,1.90757,null,"2100-04-23",0,2.0986699999999998,0,2.0986699999999998,0,1.8637699999999999]
["2001-08-06",0.3,1.919,8,2001,32,0.3,{"$f":"IF(B12670<Parameters!$A$16,B12670*Parameters!$B$16,IF(AND(B12670>Parameters!$A$16,B12670<Parameters!$A$17),B12670*Parameters!$B$17,B12670*Parameters!$B$18))","v":0},{"$f":"IF(B12670<Parameters!$A$20,B12670*Parameters!$B$20,IF(AND(B12670>Parameters!$A$20,B12670<Parameters!$A$21),B12670*Parameters!$B$21,B12670*Parameters!$B$22))","v":0},{"$error":"#DIV/0!"},{"$error":"#DIV/0!"},{"$error":"#DIV/0!"},{"$error":"#DIV/0!"},{"$error":"#DIV/0!"},1.983516129032258,{"$error":"#DIV/0!"},{"$error":"#DIV/0!"},{"$f":"IF('Gegevens '!$G$20=\"Eigen waarden\",VLOOKUP($F12670,'Gegevens '!$A$25:$C$77,3,FALSE),VLOOKUP($F12670,Lijsten!$A$19:$B$71,2,FALSE))","v":35.235564143205707},{"$error":"#DIV/0!"},{"$error":"#DIV/0!"},{"$error":"#DIV/0!"},{"$error":"#DIV/0!"},{"$error":"#DIV/0!"},{"$error":"#DIV/0!"},{"$error":"#DIV/0!"},{"$error":"#DIV/0!"},{"$error":"#DIV/0!"},{"$error":"#DIV/0!"},{"$error":"#DIV/0!"},{"$error":"#DIV/0!"},{"$error":"#DIV/0!"},{"$error":"#DIV/0!"},{"$error":"#DIV/0!"},{"$error":"#DIV/0!"},{"$error":"#DIV/0!"},{"$error":"#DIV/0!"},{"$error":"#DIV/0!"},{"$error":"#DIV/0!"},{"$error":"#DIV/0!"},{"$error":"#DIV/0!"},{"$error":"#DIV/0!"},0,{"$error":"#DIV/0!"},null,null,null,null,null,null,null,null,null,null,null,null,null,null,null,null,null,null,null,null,null,"2001-08-06",0.3,1.919,null,"2009-08-05",0,5.7,null,"2040-08-05",0,4.4274199999999997,5.58,4.2503299999999999,0,4.0732400000000002,null,"2050-08-05",0,4.5541099999999997,5.43,4.3264199999999997,0,4.0987400000000003,null,"2100-08-06",0,5.18757,4.83,4.7069000000000001,0,4.2262300000000002]
["2001-09-15",5.5,1.36,9,2001,37,5.5,{"$f":"IF(B12710<Parameters!$A$16,B12710*Parameters!$B$16,IF(AND(B12710>Parameters!$A$16,B12710<Parameters!$A$17),B12710*Parameters!$B$17,B12710*Parameters!$B$18))","v":5.2249999999999996},{"$f":"IF(B12710<Parameters!$A$20,B12710*Parameters!$B$20,IF(AND(B12710>Parameters!$A$20,B12710<Parameters!$A$21),B12710*Parameters!$B$21,B12710*Parameters!$B$22))","v":4.125},{"$error":"#DIV/0!"},{"$error":"#DIV/0!"},{"$error":"#DIV/0!"},{"$error":"#DIV/0!"},{"$error":"#DIV/0!"},1.4933333333333334,{"$error":"#DIV/0!"},{"$f":"SUM(O12710*P12709)/$E$3*10","v":{"$error":"#DIV/0!"}},{"$f":"IF('Gegevens '!$G$20=\"Eigen waarden\",VLOOKUP($F12710,'Gegevens '!$A$25:$C$77,3,FALSE),VLOOKUP($F12710,Lijsten!$A$19:$B$71,2,FALSE))","v":29.316349609488093},{"$error":"#DIV/0!"},{"$error":"#DIV/0!"},{"$error":"#DIV/0!"},{"$error":"#DIV/0!"},{"$error":"#DIV/0!"},{"$error":"#DIV/0!"},{"$error":"#DIV/0!"},{"$error":"#DIV/0!"},{"$error":"#DIV/0!"},{"$error":"#DIV/0!"},{"$error":"#DIV/0!"},{"$error":"#DIV/0!"},{"$error":"#DIV/0!"},{"$error":"#DIV/0!"},{"$error":"#DIV/0!"},{"$error":"#DIV/0!"},{"$error":"#DIV/0!"},{"$error":"#DIV/0!"},{"$error":"#DIV/0!"},{"$error":"#DIV/0!"},{"$error":"#DIV/0!"},{"$error":"#DIV/0!"},{"$error":"#DIV/0!"},0,{"$error":"#DIV/0!"},null,null,null,null,null,null,null,null,null,null,null,null,null,null,null,null,null,null,null,null,null,"2001-09-15",5.5,1.36,null,"2009-09-14",5.5,1.84,null,"2040-09-14",0,1.9267300000000001,0,1.9267300000000001,0,1.8464499999999999,null,"2050-09-14",0,1.96123,0,1.96123,0,1.8580099999999999,null,"2100-09-15",0,2.1337000000000002,0,2.1337000000000002,0,1.9157999999999999]
["2001-10-28",0.7,0.70699999999999996,10,2001,43,0.7,{"$f":"IF(B12753<Parameters!$A$16,B12753*Parameters!$B$16,IF(AND(B12753>Parameters!$A$16,B12753<Parameters!$A$17),B12753*Parameters!$B$17,B12753*Parameters!$B$18))","v":0},{"$f":"IF(B12753<Parameters!$A$20,B12753*Parameters!$B$20,IF(AND(B12753>Parameters!$A$20,B12753<Parameters!$A$21),B12753*Parameters!$B$21,B12753*Parameters!$B$22))","v":0},{"$error":"#DIV/0!"},{"$error":"#DIV/0!"},{"$error":"#DIV/0!"},{"$error":"#DIV/0!"},{"$error":"#DIV/0!"},0.86829032258064509,{"$error":"#DIV/0!"},{"$error":"#DIV/0!"},{"$f":"IF('Gegevens '!$G$20=\"Eigen waarden\",VLOOKUP($F12753,'Gegevens '!$A$25:$C$77,3,FALSE),VLOOKUP($F12753,Lijsten!$A$19:$B$71,2,FALSE))","v":15.056100159581629},{"$error":"#DIV/0!"},{"$error":"#DIV/0!"},{"$error":"#DIV/0!"},{"$error":"#DIV/0!"},{"$error":"#DIV/0!"},{"$error":"#DIV/0!"},{"$error":"#DIV/0!"},{"$error":"#DIV/0!"},{"$error":"#DIV/0!"},{"$error":"#DIV/0!"},{"$error":"#DIV/0!"},{"$error":"#DIV/0!"},{"$error":"#DIV/0!"},{"$error":"#DIV/0!"},{"$error":"#DIV/0!"},{"$error":"#DIV/0!"},{"$error":"#DIV/0!"},{"$error":"#DIV/0!"},{"$error":"#DIV/0!"},{"$error":"#DIV/0!"},{"$error":"#DIV/0!"},{"$error":"#DIV/0!"},{"$error":"#DIV/0!"},{"$error":"#DIV/0!"},0,null,null,null,null,null,null,null,null,null,null,null,null,null,null,null,null,null,null,null,null,null,"2001-10-28",0.7,0.70699999999999996,null,"2009-10-27",0,-999.99,null,"2040-10-27",8.0299999999999994,0.67532000000000003,8.0299999999999994,0.67532000000000003,8.0299999999999994,0.63499000000000005,null,"2050-10-27",8.07,0.68740999999999997,8.07,0.68740999999999997,8.07,0.63556000000000001,null,"2100-10-28",8.23,0.74785999999999997,8.23,0.74785999999999997,8.23,0.63841000000000003]
["2002-02-10",7.8,1.0649999999999999,2,2002,6,7.8,{"$f":"IF(B12858<Parameters!$A$16,B12858*Parameters!$B$16,IF(AND(B12858>Parameters!$A$16,B12858<Parameters!$A$17),B12858*Parameters!$B$17,B12858*Parameters!$B$18))","v":7.4099999999999993},{"$f":"IF(B12858<Parameters!$A$20,B12858*Parameters!$B$20,IF(AND(B12858>Parameters!$A$20,B12858<Parameters!$A$21),B12858*Parameters!$B$21,B12858*Parameters!$B$22))","v":5.85},{"$error":"#DIV/0!"},{"$error":"#DIV/0!"},{"$error":"#DIV/0!"},{"$error":"#DIV/0!"},{"$error":"#DIV/0!"},1.0292857142857141,{"$error":"#DIV/0!"},{"$error":"#DIV/0!"},{"$f":"IF('Gegevens '!$G$20=\"Eigen waarden\",VLOOKUP($F12858,'Gegevens '!$A$25:$C$77,3,FALSE),VLOOKUP($F12858,Lijsten!$A$19:$B$71,2,FALSE))","v":9.1430429772914277},{"$error":"#DIV/0!"},{"$error":"#DIV/0!"},{"$error":"#DIV/0!"},{"$error":"#DIV/0!"},{"$error":"#DIV/0!"},{"$error":"#DIV/0!"},{"$error":"#DIV/0!"},{"$error":"#DIV/0!"},{"$error":"#DIV/0!"},{"$error":"#DIV/0!"},{"$error":"#DIV/0!"},{"$error":"#DIV/0!"},{"$error":"#DIV/0!"},{"$error":"#DIV/0!"},{"$error":"#DIV/0!"},{"$error":"#DIV/0!"},{"$error":"#DIV/0!"},{"$error":"#DIV/0!"},{"$error":"#DIV/0!"},{"$error":"#DIV/0!"},{"$error":"#DIV/0!"},{"$error":"#DIV/0!"},{"$error":"#DIV/0!"},{"$error":"#DIV/0!"},0,null,null,null,null,null,null,null,null,null,null,null,null,null,null,null,null,null,null,null,null,null,"2002-02-10",7.8,1.0649999999999999,null,"2010-02-09",0,0,null,"2041-02-09",6.66,1.02105,5.79,0.97048999999999996,5.24,0.92025999999999997,null,"2051-02-09",6.86,1.0465,5.88,0.98148999999999997,5.24,0.91690000000000005,null,"2101-02-10",7.83,1.17371,6.3,1.0364800000000001,0,0.90012999999999999]
["2002-03-21",2.2999999999999998,0.66700000000000004,3,2002,12,2.2999999999999998,{"$f":"IF(B12897<Parameters!$A$16,B12897*Parameters!$B$16,IF(AND(B12897>Parameters!$A$16,B12897<Parameters!$A$17),B12897*Parameters!$B$17,B12897*Parameters!$B$18))","v":2.1849999999999996},{"$f":"IF(B12897<Parameters!$A$20,B12897*Parameters!$B$20,IF(AND(B12897>Parameters!$A$20,B12897<Parameters!$A$21),B12897*Parameters!$B$21,B12897*Parameters!$B$22))","v":1.7249999999999999},{"$error":"#DIV/0!"},{"$error":"#DIV/0!"},{"$error":"#DIV/0!"},{"$error":"#DIV/0!"},{"$error":"#DIV/0!"},0.57022580645161292,{"$error":"#DIV/0!"},{"$error":"#DIV/0!"},{"$f":"IF('Gegevens '!$G$20=\"Eigen waarden\",VLOOKUP($F12897,'Gegevens '!$A$25:$C$77,3,FALSE),VLOOKUP($F12897,Lijsten!$A$19:$B$71,2,FALSE))","v":22.555070739851423},{"$error":"#DIV/0!"},{"$error":"#DIV/0!"},{"$error":"#DIV/0!"},{"$error":"#DIV/0!"},{"$error":"#DIV/0!"},{"$error":"#DIV/0!"},{"$error":"#DIV/0!"},{"$error":"#DIV/0!"},{"$error":"#DIV/0!"},{"$error":"#DIV/0!"},{"$error":"#DIV/0!"},{"$error":"#DIV/0!"},{"$error":"#DIV/0!"},{"$error":"#DIV/0!"},{"$error":"#DIV/0!"},{"$error":"#DIV/0!"},{"$error":"#DIV/0!"},{"$error":"#DIV/0!"},{"$error":"#DIV/0!"},{"$error":"#DIV/0!"},{"$error":"#DIV/0!"},{"$error":"#DIV/0!"},{"$error":"#DIV/0!"},{"$error":"#DIV/0!"},0,null,null,null,null,null,null,null,null,null,null,null,null,null,null,null,null,null,null,null,null,null,"2002-03-21",2.2999999999999998,0.66700000000000004,null,"2010-03-20",0.9,2.2000000000000002,null,"2041-03-20",16.96,1.60503,16.96,1.60503,16.96,1.5093099999999999,null,"2051-03-20",17.190000000000001,1.6093200000000001,17.190000000000001,1.6093200000000001,17.190000000000001,1.4862500000000001,null,"2101-03-21",18.27,1.6307799999999999,18.27,1.6307799999999999,18.27,1.3709800000000001]
["2002-07-08",0,5.0460000000000003,7,2002,28,0,{"$f":"IF(B13006<Parameters!$A$16,B13006*Parameters!$B$16,IF(AND(B13006>Parameters!$A$16,B13006<Parameters!$A$17),B13006*Parameters!$B$17,B13006*Parameters!$B$18))","v":0},{"$f":"IF(B13006<Parameters!$A$20,B13006*Parameters!$B$20,IF(AND(B13006>Parameters!$A$20,B13006<Parameters!$A$21),B13006*Parameters!$B$21,B13006*Parameters!$B$22))","v":0},{"$error":"#DIV/0!"},"",0,"",0,5.0137419354838713,{"$error":"#DIV/0!"},{"$error":"#DIV/0!"},{"$f":"IF('Gegevens '!$G$20=\"Eigen waarden\",VLOOKUP($F13006,'Gegevens '!$A$25:$C$77,3,FALSE),VLOOKUP($F13006,Lijsten!$A$19:$B$71,2,FALSE))","v":37.93215799035999},{"$error":"#DIV/0!"},{"$error":"#DIV/0!"},{"$error":"#DIV/0!"},{"$error":"#DIV/0!"},{"$error":"#DIV/0!"},{"$error":"#DIV/0!"},{"$error":"#DIV/0!"},"","",{"$error":"#DIV/0!"},0,{"$error":"#DIV/0!"},0,{"$error":"#DIV/0!"},{"$error":"#DIV/0!"},{"$error":"#DIV/0!"},{"$error":"#DIV/0!"},{"$error":"#DIV/0!"},{"$error":"#DIV/0!"},"","","",{"$error":"#DIV/0!"},0,{"$error":"#DIV/0!"},null,null,null,null,null,null,null,null,null,null,null,null,null,null,null,null,null,null,null,null,null,"2002-07-08",0,5.0460000000000003,null,"2010-07-07",0,6.54,null,"2041-07-07",0,4.2387699999999997,0,4.0898300000000001,0,3.94089,null,"2051-07-07",0,4.3344199999999997,0,4.1429200000000002,0,3.9514300000000002,null,"2101-07-08",0,4.8126600000000002,0,4.4084000000000003,0,4.0041399999999996]
["2002-08-16",0,4.774,8,2002,33,0,{"$f":"IF(B13045<Parameters!$A$16,B13045*Parameters!$B$16,IF(AND(B13045>Parameters!$A$16,B13045<Parameters!$A$17),B13045*Parameters!$B$17,B13045*Parameters!$B$18))","v":0},{"$f":"IF(B13045<Parameters!$A$20,B13045*Parameters!$B$20,IF(AND(B13045>Parameters!$A$20,B13045<Parameters!$A$21),B13045*Parameters!$B$21,B13045*Parameters!$B$22))","v":0},{"$error":"#DIV/0!"},"",0,"",0,4.838516129032258,{"$error":"#DIV/0!"},{"$error":"#DIV/0!"},{"$f":"IF('Gegevens '!$G$20=\"Eigen waarden\",VLOOKUP($F13045,'Gegevens '!$A$25:$C$77,3,FALSE),VLOOKUP($F13045,Lijsten!$A$19:$B$71,2,FALSE))","v":36.379063958805723},{"$error":"#DIV/0!"},{"$error":"#DIV/0!"},{"$error":"#DIV/0!"},{"$error":"#DIV/0!"},{"$error":"#DIV/0!"},{"$error":"#DIV/0!"},{"$error":"#DIV/0!"},"","",{"$error":"#DIV/0!"},0,{"$error":"#DIV/0!"},0,{"$error":"#DIV/0!"},{"$error":"#DIV/0!"},{"$error":"#DIV/0!"},{"$error":"#DIV/0!"},{"$error":"#DIV/0!"},{"$error":"#DIV/0!"},"","","",{"$error":"#DIV/0!"},0,{"$error":"#DIV/0!"},null,null,null,null,null,null,null,null,null,null,null,null,null,null,null,null,null,null,null,null,null,"2002-08-16",0,4.774,null,"2010-08-15",24.8,1.1200000000000001,null,"2041-08-15",0,5.0019600000000004,0,4.8018900000000002,0,4.60182,null,"2051-08-15",0,5.1450899999999997,0,4.8878599999999999,0,4.63063,null,"2101-08-16",0,5.8607500000000003,0,5.3177099999999999,0,4.7746599999999999]
["2002-09-28",0,1.1259999999999999,9,2002,39,0,{"$f":"IF(B13088<Parameters!$A$16,B13088*Parameters!$B$16,IF(AND(B13088>Parameters!$A$16,B13088<Parameters!$A$17),B13088*Parameters!$B$17,B13088*Parameters!$B$18))","v":0},{"$f":"IF(B13088<Parameters!$A$20,B13088*Parameters!$B$20,IF(AND(B13088>Parameters!$A$20,B13088<Parameters!$A$21),B13088*Parameters!$B$21,B13088*Parameters!$B$22))","v":0},{"$error":"#DIV/0!"},"",0,"",0,1.2593333333333332,{"$error":"#DIV/0!"},{"$error":"#DIV/0!"},{"$f":"IF('Gegevens '!$G$20=\"Eigen waarden\",VLOOKUP($F13088,'Gegevens '!$A$25:$C$77,3,FALSE),VLOOKUP($F13088,Lijsten!$A$19:$B$71,2,FALSE))","v":23.128696279329191},{"$error":"#DIV/0!"},{"$error":"#DIV/0!"},{"$error":"#DIV/0!"},{"$error":"#DIV/0!"},{"$error":"#DIV/0!"},{"$error":"#DIV/0!"},{"$error":"#DIV/0!"},"","",{"$error":"#DIV/0!"},0,{"$error":"#DIV/0!"},0,{"$error":"#DIV/0!"},{"$error":"#DIV/0!"},{"$error":"#DIV/0!"},{"$error":"#DIV/0!"},{"$error":"#DIV/0!"},{"$error":"#DIV/0!"},"","","",{"$error":"#DIV/0!"},0,{"$error":"#DIV/0!"},null,null,null,null,null,null,null,null,null,null,null,null,null,null,null,null,null,null,null,null,null,"2002-09-28",0,1.1259999999999999,null,"2010-09-27",1.4,1.0900000000000001,null,"2041-09-27",3.63,0.83001000000000003,3.63,0.83001000000000003,3.63,0.79542999999999997,null,"2051-09-27",3.57,0.84487000000000001,3.57,0.84487000000000001,3.57,0.80040999999999995,null,"2101-09-28",3.28,0.91917000000000004,3.28,0.91917000000000004,3.28,0.82530000000000003]
["2003-01-11",0,0,1,2003,2,0,{"$f":"IF(B13193<Parameters!$A$16,B13193*Parameters!$B$16,IF(AND(B13193>Parameters!$A$16,B13193<Parameters!$A$17),B13193*Parameters!$B$17,B13193*Parameters!$B$18))","v":0},{"$f":"IF(B13193<Parameters!$A$20,B13193*Parameters!$B$20,IF(AND(B13193>Parameters!$A$20,B13193<Parameters!$A$21),B13193*Parameters!$B$21,B13193*Parameters!$B$22))","v":0},{"$error":"#DIV/0!"},"",0,"",0,6.4516129032258063E-2,{"$error":"#DIV/0!"},{"$error":"#DIV/0!"},{"$f":"IF('Gegevens '!$G$20=\"Eigen waarden\",VLOOKUP($F13193,'Gegevens '!$A$25:$C$77,3,FALSE),VLOOKUP($F13193,Lijsten!$A$19:$B$71,2,FALSE))","v":4.3012032855657143},{"$error":"#DIV/0!"},{"$error":"#DIV/0!"},{"$error":"#DIV/0!"},{"$error":"#DIV/0!"},{"$error":"#DIV/0!"},{"$error":"#DIV/0!"},{"$error":"#DIV/0!"},"","",{"$error":"#DIV/0!"},0,{"$error":"#DIV/0!"},0,{"$error":"#DIV/0!"},{"$error":"#DIV/0!"},{"$error":"#DIV/0!"},{"$error":"#DIV/0!"},{"$error":"#DIV/0!"},{"$error":"#DIV/0!"},"","","",{"$error":"#DIV/0!"},{"$error":"#DIV/0!"},0,null,null,null,null,null,null,null,null,null,null,null,null,null,null,null,null,null,null,null,null,null,"2003-01-11",0,0,null,"2011-01-10",0.1,0.41,null,"2042-01-10",0,0,0,0,0,0,null,"2052-01-10",0,0,0,0,0,0,null,"2102-01-11",0,0,0,0,0,0]
["2003-02-19",0,1.3959999999999999,2,2003,8,0,{"$f":"IF(B13232<Parameters!$A$16,B13232*Parameters!$B$16,IF(AND(B13232>Parameters!$A$16,B13232<Parameters!$A$17),B13232*Parameters!$B$17,B13232*Parameters!$B$18))","v":0},{"$f":"IF(B13232<Parameters!$A$20,B13232*Parameters!$B$20,IF(AND(B13232>Parameters!$A$20,B13232<Parameters!$A$21),B13232*Parameters!$B$21,B13232*Parameters!$B$22))","v":0},{"$error":"#DIV/0!"},"",0,"",0,1.3602857142857141,{"$error":"#DIV/0!"},{"$error":"#DIV/0!"},{"$f":"IF('Gegevens '!$G$20=\"Eigen waarden\",VLOOKUP($F13232,'Gegevens '!$A$25:$C$77,3,FALSE),VLOOKUP($F13232,Lijsten!$A$19:$B$71,2,FALSE))","v":13.231023004605714},{"$error":"#DIV/0!"},{"$error":"#DIV/0!"},{"$error":"#DIV/0!"},{"$error":"#DIV/0!"},{"$error":"#DIV/0!"},{"$error":"#DIV/0!"},{"$error":"#DIV/0!"},"","",{"$error":"#DIV/0!"},0,{"$error":"#DIV/0!"},0,{"$error":"#DIV/0!"},{"$error":"#DIV/0!"},{"$error":"#DIV/0!"},{"$error":"#DIV/0!"},{"$error":"#DIV/0!"},{"$error":"#DIV/0!"},"","","",{"$error":"#DIV/0!"},{"$error":"#DIV/0!"},0,null,null,null,null,null,null,null,null,null,null,null,null,null,null,null,null,null,null,null,null,null,"2003-02-19",0,1.3959999999999999,null,"2011-02-18",0,0.15,null,"2042-02-18",5.21,0,0,0,0,0,null,"2052-02-18",0,0,0,0,0,0,null,"2102-02-19",0,0,0,0,0,0]
["2003-05-28",0,5.5780000000000003,5,2003,22,0,{"$f":"IF(B13330<Parameters!$A$16,B13330*Parameters!$B$16,IF(AND(B13330>Parameters!$A$16,B13330<Parameters!$A$17),B13330*Parameters!$B$17,B13330*Parameters!$B$18))","v":0},{"$f":"IF(B13330<Parameters!$A$20,B13330*Parameters!$B$20,IF(AND(B13330>Parameters!$A$20,B13330<Parameters!$A$21),B13330*Parameters!$B$21,B13330*Parameters!$B$22))","v":0},{"$error":"#DIV/0!"},"",0,"",0,5.3844516129032263,{"$error":"#DIV/0!"},{"$error":"#DIV/0!"},{"$f":"IF('Gegevens '!$G$20=\"Eigen waarden\",VLOOKUP($F13330,'Gegevens '!$A$25:$C$77,3,FALSE),VLOOKUP($F13330,Lijsten!$A$19:$B$71,2,FALSE))","v":39.779582414171429},{"$error":"#DIV/0!"},{"$error":"#DIV/0!"},{"$error":"#DIV/0!"},{"$error":"#DIV/0!"},{"$error":"#DIV/0!"},{"$error":"#DIV/0!"},{"$error":"#DIV/0!"},"","",{"$error":"#DIV/0!"},0,{"$error":"#DIV/0!"},0,{"$error":"#DIV/0!"},{"$error":"#DIV/0!"},{"$error":"#DIV/0!"},{"$error":"#DIV/0!"},{"$error":"#DIV/0!"},{"$error":"#DIV/0!"},"","","",{"$error":"#DIV/0!"},0,{"$error":"#DIV/0!"},null,null,null,null,null,null,null,null,null,null,null,null,null,null,null,null,null,null,null,null,null,"2003-05-28",0,5.5780000000000003,null,"2011-05-27",2.4,1.77,null,"2042-05-27",0,5.0804999999999998,0,5.0804999999999998,0,4.8482599999999998,null,"2052-05-26",0,5.1380699999999999,0,5.1380699999999999,0,4.83948,null,"2102-05-28",0,5.4259399999999998,0,5.4259399999999998,0,4.7955699999999997]
["2003-07-18",0,5.83,7,2003,29,0,{"$f":"IF(B13381<Parameters!$A$16,B13381*Parameters!$B$16,IF(AND(B13381>Parameters!$A$16,B13381<Parameters!$A$17),B13381*Parameters!$B$17,B13381*Parameters!$B$18))","v":0},{"$f":"IF(B13381<Parameters!$A$20,B13381*Parameters!$B$20,IF(AND(B13381>Parameters!$A$20,B13381<Parameters!$A$21),B13381*Parameters!$B$21,B13381*Parameters!$B$22))","v":0},{"$error":"#DIV/0!"},"",0,"",0,5.7977419354838711,{"$error":"#DIV/0!"},{"$error":"#DIV/0!"},{"$f":"IF('Gegevens '!$G$20=\"Eigen waarden\",VLOOKUP($F13381,'Gegevens '!$A$25:$C$77,3,FALSE),VLOOKUP($F13381,Lijsten!$A$19:$B$71,2,FALSE))","v":41.402437318314284},{"$error":"#DIV/0!"},{"$error":"#DIV/0!"},{"$error":"#DIV/0!"},{"$error":"#DIV/0!"},{"$error":"#DIV/0!"},{"$error":"#DIV/0!"},{"$error":"#DIV/0!"},"","",{"$error":"#DIV/0!"},0,{"$error":"#DIV/0!"},0,{"$error":"#DIV/0!"},{"$error":"#DIV/0!"},{"$error":"#DIV/0!"},{"$error":"#DIV/0!"},{"$error":"#DIV/0!"},{"$error":"#DIV/0!"},"","","",{"$error":"#DIV/0!"},0,{"$error":"#DIV/0!"},null,null,null,null,null,null,null,null,null,null,null,null,null,null,null,null,null,null,null,null,null,"2003-07-18",0,5.83,null,"2011-07-17",3.2,3.94,null,"2042-07-17",0.34,3.00644,0.43,2.9007999999999998,0.34,2.7951700000000002,null,"2052-07-16",0.32,3.0742799999999999,0.42,2.9384600000000001,0.32,2.8026399999999998,null,"2102-07-18",0,3.4134799999999998,0.36,3.1267499999999999,0,2.84002]
["2003-08-30",0.2,2.8210000000000002,8,2003,35,0.2,{"$f":"IF(B13424<Parameters!$A$16,B13424*Parameters!$B$16,IF(AND(B13424>Parameters!$A$16,B13424<Parameters!$A$17),B13424*Parameters!$B$17,B13424*Parameters!$B$18))","v":0},{"$f":"IF(B13424<Parameters!$A$20,B13424*Parameters!$B$20,IF(AND(B13424>Parameters!$A$20,B13424<Parameters!$A$21),B13424*Parameters!$B$21,B13424*Parameters!$B$22))","v":0},{"$error":"#DIV/0!"},{"$error":"#DIV/0!"},{"$error":"#DIV/0!"},{"$error":"#DIV/0!"},{"$error":"#DIV/0!"},2.8855161290322582,{"$error":"#DIV/0!"},{"$error":"#DIV/0!"},{"$f":"IF('Gegevens '!$G$20=\"Eigen waarden\",VLOOKUP($F13424,'Gegevens '!$A$25:$C$77,3,FALSE),VLOOKUP($F13424,Lijsten!$A$19:$B$71,2,FALSE))","v":31.823036754388561},{"$error":"#DIV/0!"},{"$error":"#DIV/0!"},{"$error":"#DIV/0!"},{"$error":"#DIV/0!"},{"$error":"#DIV/0!"},{"$error":"#DIV/0!"},{"$error":"#DIV/0!"},{"$error":"#DIV/0!"},{"$error":"#DIV/0!"},{"$error":"#DIV/0!"},{"$error":"#DIV/0!"},{"$error":"#DIV/0!"},{"$error":"#DIV/0!"},{"$error":"#DIV/0!"},{"$error":"#DIV/0!"},{"$error":"#DIV/0!"},{"$error":"#DIV/0!"},{"$error":"#DIV/0!"},{"$error":"#DIV/0!"},{"$error":"#DIV/0!"},{"$error":"#DIV/0!"},{"$error":"#DIV/0!"},{"$error":"#DIV/0!"},0,{"$error":"#DIV/0!"},null,null,null,null,null,null,null,null,null,null,null,null,null,null,null,null,null,null,null,null,null,"2003-08-30",0.2,2.8210000000000002,null,"2011-08-29",0,2.67,null,"2042-08-29",29.98,1.0624,42.47,1.0199100000000001,29.98,0.97741,null,"2052-08-28",28.41,1.0928,42.73,1.03817,28.41,0.98353000000000002,null,"2102-08-30",0,1.24481,0,1.12947,0,1.0141199999999999]
["2003-12-13",17.2,0.56399999999999995,12,2003,50,17.2,{"$f":"IF(B13529<Parameters!$A$16,B13529*Parameters!$B$16,IF(AND(B13529>Parameters!$A$16,B13529<Parameters!$A$17),B13529*Parameters!$B$17,B13529*Parameters!$B$18))","v":16.34},{"$f":"IF(B13529<Parameters!$A$20,B13529*Parameters!$B$20,IF(AND(B13529>Parameters!$A$20,B13529<Parameters!$A$21),B13529*Parameters!$B$21,B13529*Parameters!$B$22))","v":12.899999999999999},{"$error":"#DIV/0!"},{"$error":"#DIV/0!"},{"$error":"#DIV/0!"},{"$error":"#DIV/0!"},{"$error":"#DIV/0!"},0.62851612903225806,{"$error":"#DIV/0!"},{"$error":"#DIV/0!"},{"$f":"IF('Gegevens '!$G$20=\"Eigen waarden\",VLOOKUP($F13529,'Gegevens '!$A$25:$C$77,3,FALSE),VLOOKUP($F13529,Lijsten!$A$19:$B$71,2,FALSE))","v":6.1862244897959169},{"$error":"#DIV/0!"},{"$error":"#DIV/0!"},{"$error":"#DIV/0!"},{"$error":"#DIV/0!"},{"$error":"#DIV/0!"},{"$error":"#DIV/0!"},{"$error":"#DIV/0!"},{"$error":"#DIV/0!"},{"$error":"#DIV/0!"},{"$error":"#DIV/0!"},{"$error":"#DIV/0!"},{"$error":"#DIV/0!"},{"$error":"#DIV/0!"},{"$error":"#DIV/0!"},{"$error":"#DIV/0!"},{"$error":"#DIV/0!"},{"$error":"#DIV/0!"},{"$error":"#DIV/0!"},{"$error":"#DIV/0!"},{"$error":"#DIV/0!"},{"$error":"#DIV/0!"},{"$error":"#DIV/0!"},{"$error":"#DIV/0!"},{"$error":"#DIV/0!"},0,null,null,null,null,null,null,null,null,null,null,null,null,null,null,null,null,null,null,null,null,null,"2003-12-13",17.2,0.56399999999999995,null,"2011-12-12",2.6,0.56999999999999995,null,"2042-12-12",0.12,0.54339999999999999,0.1,0.50395000000000001,0.09,0.46434999999999998,null,"2052-12-11",0.12,0.56723000000000001,0.1,0.51651000000000002,0.09,0.46559,null,"2102-12-13",0.11,0.68637000000000004,0.1,0.57930000000000004,0,0.4718]
["2004-01-21",0,0.63500000000000001,1,2004,4,0,{"$f":"IF(B13568<Parameters!$A$16,B13568*Parameters!$B$16,IF(AND(B13568>Parameters!$A$16,B13568<Parameters!$A$17),B13568*Parameters!$B$17,B13568*Parameters!$B$18))","v":0},{"$f":"IF(B13568<Parameters!$A$20,B13568*Parameters!$B$20,IF(AND(B13568>Parameters!$A$20,B13568<Parameters!$A$21),B13568*Parameters!$B$21,B13568*Parameters!$B$22))","v":0},{"$error":"#DIV/0!"},"",0,"",0,0.69951612903225802,{"$error":"#DIV/0!"},{"$error":"#DIV/0!"},{"$f":"IF('Gegevens '!$G$20=\"Eigen waarden\",VLOOKUP($F13568,'Gegevens '!$A$25:$C$77,3,FALSE),VLOOKUP($F13568,Lijsten!$A$19:$B$71,2,FALSE))","v":6.2443769793828583},{"$error":"#DIV/0!"},{"$error":"#DIV/0!"},{"$error":"#DIV/0!"},{"$error":"#DIV/0!"},{"$error":"#DIV/0!"},{"$error":"#DIV/0!"},{"$error":"#DIV/0!"},"","",{"$error":"#DIV/0!"},0,{"$error":"#DIV/0!"},0,{"$error":"#DIV/0!"},{"$error":"#DIV/0!"},{"$error":"#DIV/0!"},{"$error":"#DIV/0!"},{"$error":"#DIV/0!"},{"$error":"#DIV/0!"},"","","",{"$error":"#DIV/0!"},{"$error":"#DIV/0!"},0,null,null,null,null,null,null,null,null,null,null,null,null,null,null,null,null,null,null,null,null,null,"2004-01-21",0,0.63500000000000001,null,"2012-01-20",4.8,0.33,null,"2043-01-20",7.1,0.49196000000000001,6.06,0.46200000000000002,5.39,0.43203999999999998,null,"2053-01-19",7.31,0.51024000000000003,6.13,0.47171999999999997,5.34,0.43319999999999997,null,"2103-01-21",8.41,0.60162000000000004,6.5,0.52029999999999998,5.08,0.43897999999999998]
["2004-03-04",0,0.91600000000000004,3,2004,10,0,{"$f":"IF(B13611<Parameters!$A$16,B13611*Parameters!$B$16,IF(AND(B13611>Parameters!$A$16,B13611<Parameters!$A$17),B13611*Parameters!$B$17,B13611*Parameters!$B$18))","v":0},{"$f":"IF(B13611<Parameters!$A$20,B13611*Parameters!$B$20,IF(AND(B13611>Parameters!$A$20,B13611<Parameters!$A$21),B13611*Parameters!$B$21,B13611*Parameters!$B$22))","v":0},{"$error":"#DIV/0!"},"",0,"",0,0.81922580645161291,{"$error":"#DIV/0!"},{"$error":"#DIV/0!"},{"$f":"IF('Gegevens '!$G$20=\"Eigen waarden\",VLOOKUP($F13611,'Gegevens '!$A$25:$C$77,3,FALSE),VLOOKUP($F13611,Lijsten!$A$19:$B$71,2,FALSE))","v":16.951002269891429},{"$error":"#DIV/0!"},{"$error":"#DIV/0!"},{"$error":"#DIV/0!"},{"$error":"#DIV/0!"},{"$error":"#DIV/0!"},{"$error":"#DIV/0!"},{"$error":"#DIV/0!"},"","",{"$error":"#DIV/0!"},0,{"$error":"#DIV/0!"},0,{"$error":"#DIV/0!"},{"$error":"#DIV/0!"},{"$error":"#DIV/0!"},{"$error":"#DIV/0!"},{"$error":"#DIV/0!"},{"$error":"#DIV/0!"},"","","",{"$error":"#DIV/0!"},{"$error":"#DIV/0!"},0,null,null,null,null,null,null,null,null,null,null,null,null,null,null,null,null,null,null,null,null,null,"2004-03-04",0,0.91600000000000004,null,"2012-03-03",0,1.18,null,"2043-03-04",0,1.5061,0,1.5061,0,1.41628,null,"2053-03-03",0,1.51013,0,1.51013,0,1.3946499999999999,null,"2103-03-05",0,1.53027,0,1.53027,0,1.2864800000000001]
["2004-06-17",0.2,3.7509999999999999,6,2004,25,0.2,{"$f":"IF(B13716<Parameters!$A$16,B13716*Parameters!$B$16,IF(AND(B13716>Parameters!$A$16,B13716<Parameters!$A$17),B13716*Parameters!$B$17,B13716*Parameters!$B$18))","v":0},{"$f":"IF(B13716<Parameters!$A$20,B13716*Parameters!$B$20,IF(AND(B13716>Parameters!$A$20,B13716<Parameters!$A$21),B13716*Parameters!$B$21,B13716*Parameters!$B$22))","v":0},{"$error":"#DIV/0!"},{"$error":"#DIV/0!"},{"$error":"#DIV/0!"},{"$error":"#DIV/0!"},{"$error":"#DIV/0!"},3.6176666666666666,{"$error":"#DIV/0!"},{"$error":"#DIV/0!"},{"$f":"IF('Gegevens '!$G$20=\"Eigen waarden\",VLOOKUP($F13716,'Gegevens '!$A$25:$C$77,3,FALSE),VLOOKUP($F13716,Lijsten!$A$19:$B$71,2,FALSE))","v":41.801906897514279},{"$error":"#DIV/0!"},{"$error":"#DIV/0!"},{"$error":"#DIV/0!"},{"$error":"#DIV/0!"},{"$error":"#DIV/0!"},{"$error":"#DIV/0!"},{"$error":"#DIV/0!"},{"$error":"#DIV/0!"},{"$error":"#DIV/0!"},{"$error":"#DIV/0!"},{"$error":"#DIV/0!"},{"$error":"#DIV/0!"},{"$error":"#DIV/0!"},{"$error":"#DIV/0!"},{"$error":"#DIV/0!"},{"$error":"#DIV/0!"},{"$error":"#DIV/0!"},{"$error":"#DIV/0!"},{"$error":"#DIV/0!"},{"$error":"#DIV/0!"},{"$error":"#DIV/0!"},{"$error":"#DIV/0!"},{"$error":"#DIV/0!"},0,{"$error":"#DIV/0!"},null,null,null,null,null,null,null,null,null,null,null,null,null,null,null,null,null,null,null,null,null,"2004-06-17",0.2,3.7509999999999999,null,"2012-06-16",2.9,2.7,null,"2043-06-17",0,4.51877,0,4.3200900000000004,0,4.1345599999999996,null,"2053-06-16",0,4.6172800000000001,0,4.3618300000000003,0,4.1232899999999999,null,"2103-06-18",0,5.1098100000000004,0,4.5705299999999998,0,4.0669399999999998]
["2004-07-26",0,4.2240000000000002,7,2004,31,0,{"$f":"IF(B13755<Parameters!$A$16,B13755*Parameters!$B$16,IF(AND(B13755>Parameters!$A$16,B13755<Parameters!$A$17),B13755*Parameters!$B$17,B13755*Parameters!$B$18))","v":0},{"$f":"IF(B13755<Parameters!$A$20,B13755*Parameters!$B$20,IF(AND(B13755>Parameters!$A$20,B13755<Parameters!$A$21),B13755*Parameters!$B$21,B13755*Parameters!$B$22))","v":0},{"$error":"#DIV/0!"},"",0,"",0,4.1917419354838712,{"$error":"#DIV/0!"},{"$error":"#DIV/0!"},{"$f":"IF('Gegevens '!$G$20=\"Eigen waarden\",VLOOKUP($F13755,'Gegevens '!$A$25:$C$77,3,FALSE),VLOOKUP($F13755,Lijsten!$A$19:$B$71,2,FALSE))","v":36.543125282102856},{"$error":"#DIV/0!"},{"$error":"#DIV/0!"},{"$error":"#DIV/0!"},{"$error":"#DIV/0!"},{"$error":"#DIV/0!"},{"$error":"#DIV/0!"},{"$error":"#DIV/0!"},"","",{"$error":"#DIV/0!"},0,{"$error":"#DIV/0!"},0,{"$error":"#DIV/0!"},{"$error":"#DIV/0!"},{"$error":"#DIV/0!"},{"$error":"#DIV/0!"},{"$error":"#DIV/0!"},{"$error":"#DIV/0!"},"","","",{"$error":"#DIV/0!"},0,{"$error":"#DIV/0!"},null,null,null,null,null,null,null,null,null,null,null,null,null,null,null,null,null,null,null,null,null,"2004-07-26",0,4.2240000000000002,null,"2012-07-25",0,6.2,null,"2043-07-26",0,3.4668000000000001,0,3.3449900000000001,0,3.2231700000000001,null,"2053-07-25",0,3.5450300000000001,0.81,3.3884099999999999,0,3.2317900000000002,null,"2103-07-27",0.46,3.9361700000000002,0.68,3.60554,0.46,3.2749000000000001]
["2004-11-12",2.2999999999999998,0.26900000000000002,11,2004,46,2.2999999999999998,{"$f":"IF(B13864<Parameters!$A$16,B13864*Parameters!$B$16,IF(AND(B13864>Parameters!$A$16,B13864<Parameters!$A$17),B13864*Parameters!$B$17,B13864*Parameters!$B$18))","v":2.1849999999999996},{"$f":"IF(B13864<Parameters!$A$20,B13864*Parameters!$B$20,IF(AND(B13864>Parameters!$A$20,B13864<Parameters!$A$21),B13864*Parameters!$B$21,B13864*Parameters!$B$22))","v":1.7249999999999999},{"$error":"#DIV/0!"},{"$error":"#DIV/0!"},{"$error":"#DIV/0!"},{"$error":"#DIV/0!"},{"$error":"#DIV/0!"},0.43566666666666665,{"$error":"#DIV/0!"},{"$error":"#DIV/0!"},{"$f":"IF('Gegevens '!$G$20=\"Eigen waarden\",VLOOKUP($F13864,'Gegevens '!$A$25:$C$77,3,FALSE),VLOOKUP($F13864,Lijsten!$A$19:$B$71,2,FALSE))","v":9.880531666666668},{"$error":"#DIV/0!"},{"$error":"#DIV/0!"},{"$error":"#DIV/0!"},{"$error":"#DIV/0!"},{"$error":"#DIV/0!"},{"$error":"#DIV/0!"},{"$error":"#DIV/0!"},{"$error":"#DIV/0!"},{"$error":"#DIV/0!"},{"$error":"#DIV/0!"},{"$error":"#DIV/0!"},{"$error":"#DIV/0!"},{"$error":"#DIV/0!"},{"$error":"#DIV/0!"},{"$error":"#DIV/0!"},{"$error":"#DIV/0!"},{"$error":"#DIV/0!"},{"$error":"#DIV/0!"},{"$error":"#DIV/0!"},{"$error":"#DIV/0!"},{"$error":"#DIV/0!"},{"$error":"#DIV/0!"},{"$error":"#DIV/0!"},{"$error":"#DIV/0!"},0,null,null,null,null,null,null,null,null,null,null,null,null,null,null,null,null,null,null,null,null,null,"2004-11-12",2.2999999999999998,0.26900000000000002,null,"2012-11-11",0,0.4,null,"2043-11-12",0,0.37552999999999997,0,0.37552999999999997,0,0.34866999999999998,null,"2053-11-11",0,0.38224999999999998,0,0.38224999999999998,0,0.34771999999999997,null,"2103-11-13",0,0.41587000000000002,0,0.41587000000000002,0,0.34297]
["2004-12-21",0,0,12,2004,52,0,{"$f":"IF(B13903<Parameters!$A$16,B13903*Parameters!$B$16,IF(AND(B13903>Parameters!$A$16,B13903<Parameters!$A$17),B13903*Parameters!$B$17,B13903*Parameters!$B$18))","v":0},{"$f":"IF(B13903<Parameters!$A$20,B13903*Parameters!$B$20,IF(AND(B13903>Parameters!$A$20,B13903<Parameters!$A$21),B13903*Parameters!$B$21,B13903*Parameters!$B$22))","v":0},{"$error":"#DIV/0!"},"",0,"",0,6.4516129032258063E-2,{"$error":"#DIV/0!"},{"$error":"#DIV/0!"},{"$f":"IF('Gegevens '!$G$20=\"Eigen waarden\",VLOOKUP($F13903,'Gegevens '!$A$25:$C$77,3,FALSE),VLOOKUP($F13903,Lijsten!$A$19:$B$71,2,FALSE))","v":0},{"$error":"#DIV/0!"},{"$error":"#DIV/0!"},{"$error":"#DIV/0!"},{"$error":"#DIV/0!"},{"$error":"#DIV/0!"},{"$error":"#DIV/0!"},"","","",{"$error":"#DIV/0!"},0,{"$error":"#DIV/0!"},0,{"$error":"#DIV/0!"},{"$error":"#DIV/0!"},{"$error":"#DIV/0!"},{"$error":"#DIV/0!"},{"$error":"#DIV/0!"},{"$error":"#DIV/0!"},"","","",{"$error":"#DIV/0!"},{"$error":"#DIV/0!"},0,null,null,null,null,null,null,null,null,null,null,null,null,null,null,null,null,null,null,null,null,null,"2004-12-21",0,0,null,"2012-12-20",10.6,0.22,null,"2043-12-21",0,0,0,0,0,0,null,"2053-12-20",0,0,0,0,0,0,null,"2103-12-22",0,0,0,0,0,0]
["2005-02-02",3.8,0.51500000000000001,2,2005,5,3.8,{"$f":"IF(B13946<Parameters!$A$16,B13946*Parameters!$B$16,IF(AND(B13946>Parameters!$A$16,B13946<Parameters!$A$17),B13946*Parameters!$B$17,B13946*Parameters!$B$18))","v":3.61},{"$f":"IF(B13946<Parameters!$A$20,B13946*Parameters!$B$20,IF(AND(B13946>Parameters!$A$20,B13946<Parameters!$A$21),B13946*Parameters!$B$21,B13946*Parameters!$B$22))","v":2.8499999999999996},{"$error":"#DIV/0!"},{"$error":"#DIV/0!"},{"$error":"#DIV/0!"},{"$error":"#DIV/0!"},{"$error":"#DIV/0!"},0.47928571428571431,{"$error":"#DIV/0!"},{"$error":"#DIV/0!"},{"$f":"IF('Gegevens '!$G$20=\"Eigen waarden\",VLOOKUP($F13946,'Gegevens '!$A$25:$C$77,3,FALSE),VLOOKUP($F13946,Lijsten!$A$19:$B$71,2,FALSE))","v":8.252917930462857},{"$error":"#DIV/0!"},{"$error":"#DIV/0!"},{"$error":"#DIV/0!"},{"$error":"#DIV/0!"},{"$error":"#DIV/0!"},{"$error":"#DIV/0!"},{"$error":"#DIV/0!"},{"$error":"#DIV/0!"},{"$error":"#DIV/0!"},{"$error":"#DIV/0!"},{"$error":"#DIV/0!"},{"$error":"#DIV/0!"},{"$error":"#DIV/0!"},{"$error":"#DIV/0!"},{"$error":"#DIV/0!"},{"$error":"#DIV/0!"},{"$error":"#DIV/0!"},{"$error":"#DIV/0!"},{"$error":"#DIV/0!"},{"$error":"#DIV/0!"},{"$error":"#DIV/0!"},{"$error":"#DIV/0!"},{"$error":"#DIV/0!"},{"$error":"#DIV/0!"},0,null,null,null,null,null,null,null,null,null,null,null,null,null,null,null,null,null,null,null,null,null,"2005-02-02",3.8,0.51500000000000001]
["2005-05-03",6.3,2.79,5,2005,18,6.3,{"$f":"IF(B14036<Parameters!$A$16,B14036*Parameters!$B$16,IF(AND(B14036>Parameters!$A$16,B14036<Parameters!$A$17),B14036*Parameters!$B$17,B14036*Parameters!$B$18))","v":5.9849999999999994},{"$f":"IF(B14036<Parameters!$A$20,B14036*Parameters!$B$20,IF(AND(B14036>Parameters!$A$20,B14036<Parameters!$A$21),B14036*Parameters!$B$21,B14036*Parameters!$B$22))","v":4.7249999999999996},{"$error":"#DIV/0!"},{"$error":"#DIV/0!"},{"$error":"#DIV/0!"},{"$error":"#DIV/0!"},{"$error":"#DIV/0!"},2.596451612903226,{"$error":"#DIV/0!"},{"$error":"#DIV/0!"},{"$f":"IF('Gegevens '!$G$20=\"Eigen waarden\",VLOOKUP($F14036,'Gegevens '!$A$25:$C$77,3,FALSE),VLOOKUP($F14036,Lijsten!$A$19:$B$71,2,FALSE))","v":33.340195028868571},{"$error":"#DIV/0!"},{"$error":"#DIV/0!"},{"$error":"#DIV/0!"},{"$error":"#DIV/0!"},{"$error":"#DIV/0!"},{"$error":"#DIV/0!"},{"$error":"#DIV/0!"},{"$error":"#DIV/0!"},{"$error":"#DIV/0!"},{"$error":"#DIV/0!"},{"$error":"#DIV/0!"},{"$error":"#DIV/0!"},{"$error":"#DIV/0!"},{"$error":"#DIV/0!"},{"$error":"#DIV/0!"},{"$error":"#DIV/0!"},{"$error":"#DIV/0!"},{"$error":"#DIV/0!"},{"$error":"#DIV/0!"},{"$error":"#DIV/0!"},{"$error":"#DIV/0!"},{"$error":"#DIV/0!"},{"$error":"#DIV/0!"},0,{"$error":"#DIV/0!"},null,null,null,null,null,null,null,null,null,null,null,null,null,null,null,null,null,null,null,null,null,"2005-05-03",6.3,2.79]
["2005-06-27",0,6.9180000000000001,6,2005,26,0,{"$f":"IF(B14091<Parameters!$A$16,B14091*Parameters!$B$16,IF(AND(B14091>Parameters!$A$16,B14091<Parameters!$A$17),B14091*Parameters!$B$17,B14091*Parameters!$B$18))","v":0},{"$f":"IF(B14091<Parameters!$A$20,B14091*Parameters!$B$20,IF(AND(B14091>Parameters!$A$20,B14091<Parameters!$A$21),B14091*Parameters!$B$21,B14091*Parameters!$B$22))","v":0},{"$error":"#DIV/0!"},"",0,"",0,6.7846666666666664,{"$error":"#DIV/0!"},{"$error":"#DIV/0!"},{"$f":"IF('Gegevens '!$G$20=\"Eigen waarden\",VLOOKUP($F14091,'Gegevens '!$A$25:$C$77,3,FALSE),VLOOKUP($F14091,Lijsten!$A$19:$B$71,2,FALSE))","v":43.586624781491437},{"$error":"#DIV/0!"},{"$error":"#DIV/0!"},{"$error":"#DIV/0!"},{"$error":"#DIV/0!"},{"$error":"#DIV/0!"},{"$error":"#DIV/0!"},{"$error":"#DIV/0!"},"","",{"$error":"#DIV/0!"},0,{"$error":"#DIV/0!"},0,{"$error":"#DIV/0!"},{"$error":"#DIV/0!"},{"$error":"#DIV/0!"},{"$error":"#DIV/0!"},{"$error":"#DIV/0!"},{"$error":"#DIV/0!"},"","","",{"$error":"#DIV/0!"},0,{"$error":"#DIV/0!"},null,null,null,null,null,null,null,null,null,null,null,null,null,null,null,null,null,null,null,null,null,"2005-06-27",0,6.9180000000000001]
["2005-08-09",0,3.86,8,2005,32,0,{"$f":"IF(B14134<Parameters!$A$16,B14134*Parameters!$B$16,IF(AND(B14134>Parameters!$A$16,B14134<Parameters!$A$17),B14134*Parameters!$B$17,B14134*Parameters!$B$18))","v":0},{"$f":"IF(B14134<Parameters!$A$20,B14134*Parameters!$B$20,IF(AND(B14134>Parameters!$A$20,B14134<Parameters!$A$21),B14134*Parameters!$B$21,B14134*Parameters!$B$22))","v":0},{"$error":"#DIV/0!"},"",0,"",0,3.9245161290322579,{"$error":"#DIV/0!"},{"$error":"#DIV/0!"},{"$f":"IF('Gegevens '!$G$20=\"Eigen waarden\",VLOOKUP($F14134,'Gegevens '!$A$25:$C$77,3,FALSE),VLOOKUP($F14134,Lijsten!$A$19:$B$71,2,FALSE))","v":35.235564143205707},{"$error":"#DIV/0!"},{"$error":"#DIV/0!"},{"$error":"#DIV/0!"},{"$error":"#DIV/0!"},{"$error":"#DIV/0!"},{"$error":"#DIV/0!"},{"$error":"#DIV/0!"},"","",{"$error":"#DIV/0!"},0,{"$error":"#DIV/0!"},0,{"$error":"#DIV/0!"},{"$error":"#DIV/0!"},{"$error":"#DIV/0!"},{"$error":"#DIV/0!"},{"$error":"#DIV/0!"},{"$error":"#DIV/0!"},"","","",{"$error":"#DIV/0!"},0,{"$error":"#DIV/0!"},null,null,null,null,null,null,null,null,null,null,null,null,null,null,null,null,null,null,null,null,null,"2005-08-09",0,3.86]
["2005-11-22",0,0.48699999999999999,11,2005,47,0,{"$f":"IF(B14239<Parameters!$A$16,B14239*Parameters!$B$16,IF(AND(B14239>Parameters!$A$16,B14239<Parameters!$A$17),B14239*Parameters!$B$17,B14239*Parameters!$B$18))","v":0},{"$f":"IF(B14239<Parameters!$A$20,B14239*Parameters!$B$20,IF(AND(B14239>Parameters!$A$20,B14239<Parameters!$A$21),B14239*Parameters!$B$21,B14239*Parameters!$B$22))","v":0},{"$error":"#DIV/0!"},"",0,"",0,0.65366666666666662,{"$error":"#DIV/0!"},{"$error":"#DIV/0!"},{"$f":"IF('Gegevens '!$G$20=\"Eigen waarden\",VLOOKUP($F14239,'Gegevens '!$A$25:$C$77,3,FALSE),VLOOKUP($F14239,Lijsten!$A$19:$B$71,2,FALSE))","v":7.1842085238095237},{"$error":"#DIV/0!"},{"$error":"#DIV/0!"},{"$error":"#DIV/0!"},{"$error":"#DIV/0!"},{"$error":"#DIV/0!"},{"$error":"#DIV/0!"},{"$error":"#DIV/0!"},"","",{"$error":"#DIV/0!"},0,{"$error":"#DIV/0!"},0,{"$error":"#DIV/0!"},{"$error":"#DIV/0!"},{"$error":"#DIV/0!"},{"$error":"#DIV/0!"},{"$error":"#DIV/0!"},{"$error":"#DIV/0!"},"","","",{"$error":"#DIV/0!"},{"$error":"#DIV/0!"},0,null,null,null,null,null,null,null,null,null,null,null,null,null,null,null,null,null,null,null,null,null,"2005-11-22",0,0.48699999999999999]
["2005-12-31",3.6,0.436,12,2005,52,3.6,{"$f":"IF(B14278<Parameters!$A$16,B14278*Parameters!$B$16,IF(AND(B14278>Parameters!$A$16,B14278<Parameters!$A$17),B14278*Parameters!$B$17,B14278*Parameters!$B$18))","v":3.42},{"$f":"IF(B14278<Parameters!$A$20,B14278*Parameters!$B$20,IF(AND(B14278>Parameters!$A$20,B14278<Parameters!$A$21),B14278*Parameters!$B$21,B14278*Parameters!$B$22))","v":2.7},{"$error":"#DIV/0!"},{"$error":"#DIV/0!"},{"$error":"#DIV/0!"},{"$error":"#DIV/0!"},{"$error":"#DIV/0!"},0.50051612903225806,{"$error":"#DIV/0!"},{"$error":"#DIV/0!"},{"$f":"IF('Gegevens '!$G$20=\"Eigen waarden\",VLOOKUP($F14278,'Gegevens '!$A$25:$C$77,3,FALSE),VLOOKUP($F14278,Lijsten!$A$19:$B$71,2,FALSE))","v":0},{"$error":"#DIV/0!"},{"$error":"#DIV/0!"},{"$error":"#DIV/0!"},{"$error":"#DIV/0!"},{"$error":"#DIV/0!"},{"$error":"#DIV/0!"},"",{"$error":"#DIV/0!"},{"$error":"#DIV/0!"},{"$error":"#DIV/0!"},{"$error":"#DIV/0!"},{"$error":"#DIV/0!"},{"$error":"#DIV/0!"},{"$error":"#DIV/0!"},{"$error":"#DIV/0!"},{"$error":"#DIV/0!"},{"$error":"#DIV/0!"},{"$error":"#DIV/0!"},{"$error":"#DIV/0!"},{"$error":"#DIV/0!"},{"$error":"#DIV/0!"},{"$error":"#DIV/0!"},{"$error":"#DIV/0!"},{"$error":"#DIV/0!"},0,null,null,null,null,null,null,null,null,null,null,null,null,null,null,null,null,null,null,null,null,null,"2005-12-31",3.6,0.436]
["2006-04-19",0,2.6059999999999999,4,2006,16,0,{"$f":"IF(B14387<Parameters!$A$16,B14387*Parameters!$B$16,IF(AND(B14387>Parameters!$A$16,B14387<Parameters!$A$17),B14387*Parameters!$B$17,B14387*Parameters!$B$18))","v":0},{"$f":"IF(B14387<Parameters!$A$20,B14387*Parameters!$B$20,IF(AND(B14387>Parameters!$A$20,B14387<Parameters!$A$21),B14387*Parameters!$B$21,B14387*Parameters!$B$22))","v":0},{"$error":"#DIV/0!"},"",0,"",0,2.4393333333333334,{"$error":"#DIV/0!"},{"$error":"#DIV/0!"},{"$f":"IF('Gegevens '!$G$20=\"Eigen waarden\",VLOOKUP($F14387,'Gegevens '!$A$25:$C$77,3,FALSE),VLOOKUP($F14387,Lijsten!$A$19:$B$71,2,FALSE))","v":32.719747675074295},{"$error":"#DIV/0!"},{"$error":"#DIV/0!"},{"$error":"#DIV/0!"},{"$error":"#DIV/0!"},{"$error":"#DIV/0!"},{"$error":"#DIV/0!"},{"$error":"#DIV/0!"},"","",{"$error":"#DIV/0!"},0,{"$error":"#DIV/0!"},0,{"$error":"#DIV/0!"},{"$error":"#DIV/0!"},{"$error":"#DIV/0!"},{"$error":"#DIV/0!"},{"$error":"#DIV/0!"},{"$error":"#DIV/0!"},"","","",{"$error":"#DIV/0!"},0,{"$error":"#DIV/0!"},null,null,null,null,null,null,null,null,null,null,null,null,null,null,null,null,null,null,null,null,null,"2006-04-19",0,2.6059999999999999]
["2006-05-28",0,4.5449999999999999,5,2006,21,0,{"$f":"IF(B14426<Parameters!$A$16,B14426*Parameters!$B$16,IF(AND(B14426>Parameters!$A$16,B14426<Parameters!$A$17),B14426*Parameters!$B$17,B14426*Parameters!$B$18))","v":0},{"$f":"IF(B14426<Parameters!$A$20,B14426*Parameters!$B$20,IF(AND(B14426>Parameters!$A$20,B14426<Parameters!$A$21),B14426*Parameters!$B$21,B14426*Parameters!$B$22))","v":0},{"$error":"#DIV/0!"},"",0,"",0,4.3514516129032259,{"$error":"#DIV/0!"},{"$error":"#DIV/0!"},{"$f":"IF('Gegevens '!$G$20=\"Eigen waarden\",VLOOKUP($F14426,'Gegevens '!$A$25:$C$77,3,FALSE),VLOOKUP($F14426,Lijsten!$A$19:$B$71,2,FALSE))","v":38.569226396674274},{"$error":"#DIV/0!"},{"$error":"#DIV/0!"},{"$error":"#DIV/0!"},{"$error":"#DIV/0!"},{"$error":"#DIV/0!"},{"$error":"#DIV/0!"},{"$error":"#DIV/0!"},"","",{"$error":"#DIV/0!"},0,{"$error":"#DIV/0!"},0,{"$error":"#DIV/0!"},{"$error":"#DIV/0!"},{"$error":"#DIV/0!"},{"$error":"#DIV/0!"},{"$error":"#DIV/0!"},{"$error":"#DIV/0!"},"","","",{"$error":"#DIV/0!"},0,{"$error":"#DIV/0!"},null,null,null,null,null,null,null,null,null,null,null,null,null,null,null,null,null,null,null,null,null,"2006-05-28",0,4.5449999999999999]
["2006-07-10",0,5.9530000000000003,7,2006,28,0,{"$f":"IF(B14469<Parameters!$A$16,B14469*Parameters!$B$16,IF(AND(B14469>Parameters!$A$16,B14469<Parameters!$A$17),B14469*Parameters!$B$17,B14469*Parameters!$B$18))","v":0},{"$f":"IF(B14469<Parameters!$A$20,B14469*Parameters!$B$20,IF(AND(B14469>Parameters!$A$20,B14469<Parameters!$A$21),B14469*Parameters!$B$21,B14469*Parameters!$B$22))","v":0},{"$error":"#DIV/0!"},"",0,"",0,5.9207419354838713,{"$error":"#DIV/0!"},{"$error":"#DIV/0!"},{"$f":"IF('Gegevens '!$G$20=\"Eigen waarden\",VLOOKUP($F14469,'Gegevens '!$A$25:$C$77,3,FALSE),VLOOKUP($F14469,Lijsten!$A$19:$B$71,2,FALSE))","v":37.93215799035999},{"$error":"#DIV/0!"},{"$error":"#DIV/0!"},{"$error":"#DIV/0!"},{"$error":"#DIV/0!"},{"$error":"#DIV/0!"},{"$error":"#DIV/0!"},{"$error":"#DIV/0!"},"","",{"$error":"#DIV/0!"},0,{"$error":"#DIV/0!"},0,{"$error":"#DIV/0!"},{"$error":"#DIV/0!"},{"$error":"#DIV/0!"},{"$error":"#DIV/0!"},{"$error":"#DIV/0!"},{"$error":"#DIV/0!"},"","","",{"$error":"#DIV/0!"},0,{"$error":"#DIV/0!"},null,null,null,null,null,null,null,null,null,null,null,null,null,null,null,null,null,null,null,null,null,"2006-07-10",0,5.9530000000000003]
["2006-10-23",5.4,1.1080000000000001,10,2006,43,5.4,{"$f":"IF(B14574<Parameters!$A$16,B14574*Parameters!$B$16,IF(AND(B14574>Parameters!$A$16,B14574<Parameters!$A$17),B14574*Parameters!$B$17,B14574*Parameters!$B$18))","v":5.13},{"$f":"IF(B14574<Parameters!$A$20,B14574*Parameters!$B$20,IF(AND(B14574>Parameters!$A$20,B14574<Parameters!$A$21),B14574*Parameters!$B$21,B14574*Parameters!$B$22))","v":4.0500000000000007},{"$error":"#DIV/0!"},{"$error":"#DIV/0!"},{"$error":"#DIV/0!"},{"$error":"#DIV/0!"},{"$error":"#DIV/0!"},1.2692903225806453,{"$error":"#DIV/0!"},{"$error":"#DIV/0!"},{"$f":"IF('Gegevens '!$G$20=\"Eigen waarden\",VLOOKUP($F14574,'Gegevens '!$A$25:$C$77,3,FALSE),VLOOKUP($F14574,Lijsten!$A$19:$B$71,2,FALSE))","v":15.056100159581629},{"$error":"#DIV/0!"},{"$error":"#DIV/0!"},{"$error":"#DIV/0!"},{"$error":"#DIV/0!"},{"$error":"#DIV/0!"},{"$error":"#DIV/0!"},{"$error":"#DIV/0!"},{"$error":"#DIV/0!"},{"$error":"#DIV/0!"},{"$error":"#DIV/0!"},{"$error":"#DIV/0!"},{"$error":"#DIV/0!"},{"$error":"#DIV/0!"},{"$error":"#DIV/0!"},{"$error":"#DIV/0!"},{"$error":"#DIV/0!"},{"$error":"#DIV/0!"},{"$error":"#DIV/0!"},{"$error":"#DIV/0!"},{"$error":"#DIV/0!"},{"$error":"#DIV/0!"},{"$error":"#DIV/0!"},{"$error":"#DIV/0!"},{"$error":"#DIV/0!"},0,null,null,null,null,null,null,null,null,null,null,null,null,null,null,null,null,null,null,null,null,null,"2006-10-23",5.4,1.1080000000000001]
["2006-12-01",0,0.93700000000000006,12,2006,48,0,{"$f":"IF(B14613<Parameters!$A$16,B14613*Parameters!$B$16,IF(AND(B14613>Parameters!$A$16,B14613<Parameters!$A$17),B14613*Parameters!$B$17,B14613*Parameters!$B$18))","v":0},{"$f":"IF(B14613<Parameters!$A$20,B14613*Parameters!$B$20,IF(AND(B14613>Parameters!$A$20,B14613<Parameters!$A$21),B14613*Parameters!$B$21,B14613*Parameters!$B$22))","v":0},{"$error":"#DIV/0!"},"",0,"",0,1.0015161290322581,{"$error":"#DIV/0!"},{"$error":"#DIV/0!"},{"$f":"IF('Gegevens '!$G$20=\"Eigen waarden\",VLOOKUP($F14613,'Gegevens '!$A$25:$C$77,3,FALSE),VLOOKUP($F14613,Lijsten!$A$19:$B$71,2,FALSE))","v":8.6779285714285717},{"$error":"#DIV/0!"},{"$error":"#DIV/0!"},{"$error":"#DIV/0!"},{"$error":"#DIV/0!"},{"$error":"#DIV/0!"},{"$error":"#DIV/0!"},{"$error":"#DIV/0!"},"","",{"$error":"#DIV/0!"},0,{"$error":"#DIV/0!"},0,{"$error":"#DIV/0!"},{"$error":"#DIV/0!"},{"$error":"#DIV/0!"},{"$error":"#DIV/0!"},{"$error":"#DIV/0!"},{"$error":"#DIV/0!"},"","","",{"$error":"#DIV/0!"},{"$error":"#DIV/0!"},0,null,null,null,null,null,null,null,null,null,null,null,null,null,null,null,null,null,null,null,null,null,"2006-12-01",0,0.93700000000000006]
["2007-02-22",0.1,1.64,2,2007,8,0.1,{"$f":"IF(B14696<Parameters!$A$16,B14696*Parameters!$B$16,IF(AND(B14696>Parameters!$A$16,B14696<Parameters!$A$17),B14696*Parameters!$B$17,B14696*Parameters!$B$18))","v":0},{"$f":"IF(B14696<Parameters!$A$20,B14696*Parameters!$B$20,IF(AND(B14696>Parameters!$A$20,B14696<Parameters!$A$21),B14696*Parameters!$B$21,B14696*Parameters!$B$22))","v":0},{"$error":"#DIV/0!"},{"$error":"#DIV/0!"},{"$error":"#DIV/0!"},{"$error":"#DIV/0!"},{"$error":"#DIV/0!"},1.6042857142857141,{"$error":"#DIV/0!"},{"$error":"#DIV/0!"},{"$f":"IF('Gegevens '!$G$20=\"Eigen waarden\",VLOOKUP($F14696,'Gegevens '!$A$25:$C$77,3,FALSE),VLOOKUP($F14696,Lijsten!$A$19:$B$71,2,FALSE))","v":13.231023004605714},{"$error":"#DIV/0!"},{"$error":"#DIV/0!"},{"$error":"#DIV/0!"},{"$error":"#DIV/0!"},{"$error":"#DIV/0!"},{"$error":"#DIV/0!"},{"$error":"#DIV/0!"},{"$error":"#DIV/0!"},{"$error":"#DIV/0!"},{"$error":"#DIV/0!"},{"$error":"#DIV/0!"},{"$error":"#DIV/0!"},{"$error":"#DIV/0!"},{"$error":"#DIV/0!"},{"$error":"#DIV/0!"},{"$error":"#DIV/0!"},{"$error":"#DIV/0!"},{"$error":"#DIV/0!"},{"$error":"#DIV/0!"},{"$error":"#DIV/0!"},{"$error":"#DIV/0!"},{"$error":"#DIV/0!"},{"$error":"#DIV/0!"},{"$error":"#DIV/0!"},0,null,null,null,null,null,null,null,null,null,null,null,null,null,null,null,null,null,null,null,null,null,"2007-02-22",0.1,1.64]
["2007-04-29",0,5.64,4,2007,17,0,{"$f":"IF(B14762<Parameters!$A$16,B14762*Parameters!$B$16,IF(AND(B14762>Parameters!$A$16,B14762<Parameters!$A$17),B14762*Parameters!$B$17,B14762*Parameters!$B$18))","v":0},{"$f":"IF(B14762<Parameters!$A$20,B14762*Parameters!$B$20,IF(AND(B14762>Parameters!$A$20,B14762<Parameters!$A$21),B14762*Parameters!$B$21,B14762*Parameters!$B$22))","v":0},{"$error":"#DIV/0!"},"",0,"",0,5.4733333333333327,{"$error":"#DIV/0!"},{"$error":"#DIV/0!"},{"$f":"IF('Gegevens '!$G$20=\"Eigen waarden\",VLOOKUP($F14762,'Gegevens '!$A$25:$C$77,3,FALSE),VLOOKUP($F14762,Lijsten!$A$19:$B$71,2,FALSE))","v":34.009844090885714},{"$error":"#DIV/0!"},{"$error":"#DIV/0!"},{"$error":"#DIV/0!"},{"$error":"#DIV/0!"},{"$error":"#DIV/0!"},{"$error":"#DIV/0!"},{"$error":"#DIV/0!"},"","",{"$error":"#DIV/0!"},0,{"$error":"#DIV/0!"},0,{"$error":"#DIV/0!"},{"$error":"#DIV/0!"},{"$error":"#DIV/0!"},{"$error":"#DIV/0!"},{"$error":"#DIV/0!"},{"$error":"#DIV/0!"},"","","",{"$error":"#DIV/0!"},0,{"$error":"#DIV/0!"},null,null,null,null,null,null,null,null,null,null,null,null,null,null,null,null,null,null,null,null,null,"2007-04-29",0,5.64]
["2007-06-11",0.1,3.81,6,2007,24,0.1,{"$f":"IF(B14805<Parameters!$A$16,B14805*Parameters!$B$16,IF(AND(B14805>Parameters!$A$16,B14805<Parameters!$A$17),B14805*Parameters!$B$17,B14805*Parameters!$B$18))","v":0},{"$f":"IF(B14805<Parameters!$A$20,B14805*Parameters!$B$20,IF(AND(B14805>Parameters!$A$20,B14805<Parameters!$A$21),B14805*Parameters!$B$21,B14805*Parameters!$B$22))","v":0},{"$error":"#DIV/0!"},{"$error":"#DIV/0!"},{"$error":"#DIV/0!"},{"$error":"#DIV/0!"},{"$error":"#DIV/0!"},3.6766666666666667,{"$error":"#DIV/0!"},{"$error":"#DIV/0!"},{"$f":"IF('Gegevens '!$G$20=\"Eigen waarden\",VLOOKUP($F14805,'Gegevens '!$A$25:$C$77,3,FALSE),VLOOKUP($F14805,Lijsten!$A$19:$B$71,2,FALSE))","v":43.951162369211438},{"$error":"#DIV/0!"},{"$error":"#DIV/0!"},{"$error":"#DIV/0!"},{"$error":"#DIV/0!"},{"$error":"#DIV/0!"},{"$error":"#DIV/0!"},{"$error":"#DIV/0!"},{"$error":"#DIV/0!"},{"$error":"#DIV/0!"},{"$error":"#DIV/0!"},{"$error":"#DIV/0!"},{"$error":"#DIV/0!"},{"$error":"#DIV/0!"},{"$error":"#DIV/0!"},{"$error":"#DIV/0!"},{"$error":"#DIV/0!"},{"$error":"#DIV/0!"},{"$error":"#DIV/0!"},{"$error":"#DIV/0!"},{"$error":"#DIV/0!"},{"$error":"#DIV/0!"},{"$error":"#DIV/0!"},{"$error":"#DIV/0!"},0,{"$error":"#DIV/0!"},null,null,null,null,null,null,null,null,null,null,null,null,null,null,null,null,null,null,null,null,null,"2007-06-11",0.1,3.81]
["2007-09-24",2,1.53,9,2007,39,2,{"$f":"IF(B14910<Parameters!$A$16,B14910*Parameters!$B$16,IF(AND(B14910>Parameters!$A$16,B14910<Parameters!$A$17),B14910*Parameters!$B$17,B14910*Parameters!$B$18))","v":1.9},{"$f":"IF(B14910<Parameters!$A$20,B14910*Parameters!$B$20,IF(AND(B14910>Parameters!$A$20,B14910<Parameters!$A$21),B14910*Parameters!$B$21,B14910*Parameters!$B$22))","v":1.5},{"$error":"#DIV/0!"},{"$error":"#DIV/0!"},{"$error":"#DIV/0!"},{"$error":"#DIV/0!"},{"$error":"#DIV/0!"},1.6633333333333333,{"$error":"#DIV/0!"},{"$error":"#DIV/0!"},{"$f":"IF('Gegevens '!$G$20=\"Eigen waarden\",VLOOKUP($F14910,'Gegevens '!$A$25:$C$77,3,FALSE),VLOOKUP($F14910,Lijsten!$A$19:$B$71,2,FALSE))","v":23.128696279329191},{"$error":"#DIV/0!"},{"$error":"#DIV/0!"},{"$error":"#DIV/0!"},{"$error":"#DIV/0!"},{"$error":"#DIV/0!"},{"$error":"#DIV/0!"},{"$error":"#DIV/0!"},{"$error":"#DIV/0!"},{"$error":"#DIV/0!"},{"$error":"#DIV/0!"},{"$error":"#DIV/0!"},{"$error":"#DIV/0!"},{"$error":"#DIV/0!"},{"$error":"#DIV/0!"},{"$error":"#DIV/0!"},{"$error":"#DIV/0!"},{"$error":"#DIV/0!"},{"$error":"#DIV/0!"},{"$error":"#DIV/0!"},{"$error":"#DIV/0!"},{"$error":"#DIV/0!"},{"$error":"#DIV/0!"},{"$error":"#DIV/0!"},0,{"$error":"#DIV/0!"},null,null,null,null,null,null,null,null,null,null,null,null,null,null,null,null,null,null,null,null,null,"2007-09-24",2,1.53]
["2007-11-02",0.6,0.35,11,2007,44,0.6,{"$f":"IF(B14949<Parameters!$A$16,B14949*Parameters!$B$16,IF(AND(B14949>Parameters!$A$16,B14949<Parameters!$A$17),B14949*Parameters!$B$17,B14949*Parameters!$B$18))","v":0},{"$f":"IF(B14949<Parameters!$A$20,B14949*Parameters!$B$20,IF(AND(B14949>Parameters!$A$20,B14949<Parameters!$A$21),B14949*Parameters!$B$21,B14949*Parameters!$B$22))","v":0},{"$f":"B14949*SUM($B$3,$C$3,$D$3)/$E$3*10","v":{"$error":"#DIV/0!"}},{"$error":"#DIV/0!"},{"$error":"#DIV/0!"},{"$error":"#DIV/0!"},{"$error":"#DIV/0!"},0.51666666666666661,{"$error":"#DIV/0!"},{"$error":"#DIV/0!"},{"$f":"IF('Gegevens '!$G$20=\"Eigen waarden\",VLOOKUP($F14949,'Gegevens '!$A$25:$C$77,3,FALSE),VLOOKUP($F14949,Lijsten!$A$19:$B$71,2,FALSE))","v":11.034608376916669},{"$error":"#DIV/0!"},{"$error":"#DIV/0!"},{"$error":"#DIV/0!"},{"$f":"IF(SUM(U14948+S14949)>SUM($AK$3+$AN$3),SUM(U14948+S14949-($AK$3+$AN$3)),0)","v":{"$error":"#DIV/0!"}},{"$f":"IF(U14948<$AN$3,R14949,IF(SUM(U14948-R14949)>$AN$3,0,IF(SUM(U14948+S14949)<$AN$3,SUM(R14949-(U14948-$AN$3)),0)))","v":{"$error":"#DIV/0!"}},{"$error":"#DIV/0!"},{"$error":"#DIV/0!"},{"$error":"#DIV/0!"},{"$error":"#DIV/0!"},{"$error":"#DIV/0!"},{"$error":"#DIV/0!"},{"$error":"#DIV/0!"},{"$f":"N14949/10","v":{"$error":"#DIV/0!"}},{"$error":"#DIV/0!"},{"$f":"Q14949/10","v":{"$error":"#DIV/0!"}},{"$error":"#DIV/0!"},{"$error":"#DIV/0!"},{"$error":"#DIV/0!"},{"$error":"#DIV/0!"},{"$error":"#DIV/0!"},{"$error":"#DIV/0!"},{"$error":"#DIV/0!"},{"$error":"#DIV/0!"},{"$error":"#DIV/0!"},0,null,null,null,null,null,null,null,null,null,null,null,null,null,null,null,null,null,null,null,null,null,"2007-11-02",0.6,0.35]
["2007-12-15",0,0.4,12,2007,50,0,{"$f":"IF(B14992<Parameters!$A$16,B14992*Parameters!$B$16,IF(AND(B14992>Parameters!$A$16,B14992<Parameters!$A$17),B14992*Parameters!$B$17,B14992*Parameters!$B$18))","v":0},{"$f":"IF(B14992<Parameters!$A$20,B14992*Parameters!$B$20,IF(AND(B14992>Parameters!$A$20,B14992<Parameters!$A$21),B14992*Parameters!$B$21,B14992*Parameters!$B$22))","v":0},{"$error":"#DIV/0!"},"",0,"",0,0.46451612903225808,{"$error":"#DIV/0!"},{"$error":"#DIV/0!"},{"$f":"IF('Gegevens '!$G$20=\"Eigen waarden\",VLOOKUP($F14992,'Gegevens '!$A$25:$C$77,3,FALSE),VLOOKUP($F14992,Lijsten!$A$19:$B$71,2,FALSE))","v":6.1862244897959169},{"$error":"#DIV/0!"},{"$error":"#DIV/0!"},{"$error":"#DIV/0!"},{"$error":"#DIV/0!"},{"$error":"#DIV/0!"},{"$error":"#DIV/0!"},{"$error":"#DIV/0!"},"","",{"$error":"#DIV/0!"},0,{"$error":"#DIV/0!"},0,{"$error":"#DIV/0!"},{"$error":"#DIV/0!"},{"$error":"#DIV/0!"},{"$error":"#DIV/0!"},{"$error":"#DIV/0!"},{"$error":"#DIV/0!"},"","","",{"$error":"#DIV/0!"},{"$error":"#DIV/0!"},0,null,null,null,null,null,null,null,null,null,null,null,null,null,null,null,null,null,null,null,null,null,"2007-12-15",0,0.4]
["2008-03-29",0,2.89,3,2008,13,0,{"$f":"IF(B15097<Parameters!$A$16,B15097*Parameters!$B$16,IF(AND(B15097>Parameters!$A$16,B15097<Parameters!$A$17),B15097*Parameters!$B$17,B15097*Parameters!$B$18))","v":0},{"$f":"IF(B15097<Parameters!$A$20,B15097*Parameters!$B$20,IF(AND(B15097>Parameters!$A$20,B15097<Parameters!$A$21),B15097*Parameters!$B$21,B15097*Parameters!$B$22))","v":0},{"$error":"#DIV/0!"},"",0,"",0,2.7932258064516131,{"$error":"#DIV/0!"},{"$error":"#DIV/0!"},{"$f":"IF('Gegevens '!$G$20=\"Eigen waarden\",VLOOKUP($F15097,'Gegevens '!$A$25:$C$77,3,FALSE),VLOOKUP($F15097,Lijsten!$A$19:$B$71,2,FALSE))","v":23.460342198480003},{"$error":"#DIV/0!"},{"$error":"#DIV/0!"},{"$error":"#DIV/0!"},{"$error":"#DIV/0!"},{"$error":"#DIV/0!"},{"$error":"#DIV/0!"},{"$error":"#DIV/0!"},"","",{"$error":"#DIV/0!"},0,{"$error":"#DIV/0!"},0,{"$error":"#DIV/0!"},{"$error":"#DIV/0!"},{"$error":"#DIV/0!"},{"$error":"#DIV/0!"},{"$error":"#DIV/0!"},{"$error":"#DIV/0!"},"","","",{"$error":"#DIV/0!"},{"$error":"#DIV/0!"},0,null,null,null,null,null,null,null,null,null,null,null,null,null,null,null,null,null,null,null,null,null,"2008-03-29",0,2.89]
["2008-05-07",0,5.9,5,2008,19,0,{"$f":"IF(B15136<Parameters!$A$16,B15136*Parameters!$B$16,IF(AND(B15136>Parameters!$A$16,B15136<Parameters!$A$17),B15136*Parameters!$B$17,B15136*Parameters!$B$18))","v":0},{"$f":"IF(B15136<Parameters!$A$20,B15136*Parameters!$B$20,IF(AND(B15136>Parameters!$A$20,B15136<Parameters!$A$21),B15136*Parameters!$B$21,B15136*Parameters!$B$22))","v":0},{"$error":"#DIV/0!"},"",0,"",0,5.7064516129032263,{"$error":"#DIV/0!"},{"$error":"#DIV/0!"},{"$f":"IF('Gegevens '!$G$20=\"Eigen waarden\",VLOOKUP($F15136,'Gegevens '!$A$25:$C$77,3,FALSE),VLOOKUP($F15136,Lijsten!$A$19:$B$71,2,FALSE))","v":36.149555012451422},{"$error":"#DIV/0!"},{"$error":"#DIV/0!"},{"$error":"#DIV/0!"},{"$error":"#DIV/0!"},{"$error":"#DIV/0!"},{"$error":"#DIV/0!"},{"$error":"#DIV/0!"},"","",{"$error":"#DIV/0!"},0,{"$error":"#DIV/0!"},0,{"$error":"#DIV/0!"},{"$error":"#DIV/0!"},{"$error":"#DIV/0!"},{"$error":"#DIV/0!"},{"$error":"#DIV/0!"},{"$error":"#DIV/0!"},"","","",{"$error":"#DIV/0!"},0,{"$error":"#DIV/0!"},null,null,null,null,null,null,null,null,null,null,null,null,null,null,null,null,null,null,null,null,null,"2008-05-07",0,5.9]
["2008-08-24",0.8,2.81,8,2008,34,0.8,{"$f":"IF(B15245<Parameters!$A$16,B15245*Parameters!$B$16,IF(AND(B15245>Parameters!$A$16,B15245<Parameters!$A$17),B15245*Parameters!$B$17,B15245*Parameters!$B$18))","v":0},{"$f":"IF(B15245<Parameters!$A$20,B15245*Parameters!$B$20,IF(AND(B15245>Parameters!$A$20,B15245<Parameters!$A$21),B15245*Parameters!$B$21,B15245*Parameters!$B$22))","v":0},{"$error":"#DIV/0!"},{"$error":"#DIV/0!"},{"$error":"#DIV/0!"},{"$error":"#DIV/0!"},{"$error":"#DIV/0!"},2.8745161290322581,{"$error":"#DIV/0!"},{"$error":"#DIV/0!"},{"$f":"IF('Gegevens '!$G$20=\"Eigen waarden\",VLOOKUP($F15245,'Gegevens '!$A$25:$C$77,3,FALSE),VLOOKUP($F15245,Lijsten!$A$19:$B$71,2,FALSE))","v":32.292939745809527},{"$error":"#DIV/0!"},{"$error":"#DIV/0!"},{"$error":"#DIV/0!"},{"$error":"#DIV/0!"},{"$error":"#DIV/0!"},{"$error":"#DIV/0!"},{"$error":"#DIV/0!"},{"$error":"#DIV/0!"},{"$error":"#DIV/0!"},{"$error":"#DIV/0!"},{"$error":"#DIV/0!"},{"$error":"#DIV/0!"},{"$error":"#DIV/0!"},{"$error":"#DIV/0!"},{"$error":"#DIV/0!"},{"$error":"#DIV/0!"},{"$error":"#DIV/0!"},{"$error":"#DIV/0!"},{"$error":"#DIV/0!"},{"$error":"#DIV/0!"},{"$error":"#DIV/0!"},{"$error":"#DIV/0!"},{"$error":"#DIV/0!"},0,{"$error":"#DIV/0!"},null,null,null,null,null,null,null,null,null,null,null,null,null,null,null,null,null,null,null,null,null,"2008-08-24",0.8,2.81]
["2008-10-02",1.7,1.69,10,2008,40,1.7,{"$f":"IF(B15284<Parameters!$A$16,B15284*Parameters!$B$16,IF(AND(B15284>Parameters!$A$16,B15284<Parameters!$A$17),B15284*Parameters!$B$17,B15284*Parameters!$B$18))","v":1.36},{"$f":"IF(B15284<Parameters!$A$20,B15284*Parameters!$B$20,IF(AND(B15284>Parameters!$A$20,B15284<Parameters!$A$21),B15284*Parameters!$B$21,B15284*Parameters!$B$22))","v":1.02},{"$error":"#DIV/0!"},{"$error":"#DIV/0!"},{"$error":"#DIV/0!"},{"$error":"#DIV/0!"},{"$error":"#DIV/0!"},1.8512903225806452,{"$error":"#DIV/0!"},{"$error":"#DIV/0!"},{"$f":"IF('Gegevens '!$G$20=\"Eigen waarden\",VLOOKUP($F15284,'Gegevens '!$A$25:$C$77,3,FALSE),VLOOKUP($F15284,Lijsten!$A$19:$B$71,2,FALSE))","v":19.161461678190477},{"$error":"#DIV/0!"},{"$error":"#DIV/0!"},{"$error":"#DIV/0!"},{"$error":"#DIV/0!"},{"$error":"#DIV/0!"},{"$error":"#DIV/0!"},{"$error":"#DIV/0!"},{"$error":"#DIV/0!"},{"$error":"#DIV/0!"},{"$error":"#DIV/0!"},{"$error":"#DIV/0!"},{"$error":"#DIV/0!"},{"$error":"#DIV/0!"},{"$error":"#DIV/0!"},{"$error":"#DIV/0!"},{"$error":"#DIV/0!"},{"$error":"#DIV/0!"},{"$error":"#DIV/0!"},{"$error":"#DIV/0!"},{"$error":"#DIV/0!"},{"$error":"#DIV/0!"},{"$error":"#DIV/0!"},{"$error":"#DIV/0!"},{"$error":"#DIV/0!"},0,null,null,null,null,null,null,null,null,null,null,null,null,null,null,null,null,null,null,null,null,null,"2008-10-02",1.7,1.69]
["2008-11-14",0.5,0.17,11,2008,46,0.5,{"$f":"IF(B15327<Parameters!$A$16,B15327*Parameters!$B$16,IF(AND(B15327>Parameters!$A$16,B15327<Parameters!$A$17),B15327*Parameters!$B$17,B15327*Parameters!$B$18))","v":0},{"$f":"IF(B15327<Parameters!$A$20,B15327*Parameters!$B$20,IF(AND(B15327>Parameters!$A$20,B15327<Parameters!$A$21),B15327*Parameters!$B$21,B15327*Parameters!$B$22))","v":0},{"$error":"#DIV/0!"},{"$error":"#DIV/0!"},{"$error":"#DIV/0!"},{"$error":"#DIV/0!"},{"$error":"#DIV/0!"},0.33666666666666667,{"$error":"#DIV/0!"},{"$error":"#DIV/0!"},{"$f":"IF('Gegevens '!$G$20=\"Eigen waarden\",VLOOKUP($F15327,'Gegevens '!$A$25:$C$77,3,FALSE),VLOOKUP($F15327,Lijsten!$A$19:$B$71,2,FALSE))","v":9.880531666666668},{"$error":"#DIV/0!"},{"$error":"#DIV/0!"},{"$error":"#DIV/0!"},{"$error":"#DIV/0!"},{"$error":"#DIV/0!"},{"$error":"#DIV/0!"},{"$error":"#DIV/0!"},{"$error":"#DIV/0!"},{"$error":"#DIV/0!"},{"$error":"#DIV/0!"},{"$error":"#DIV/0!"},{"$error":"#DIV/0!"},{"$error":"#DIV/0!"},{"$error":"#DIV/0!"},{"$error":"#DIV/0!"},{"$error":"#DIV/0!"},{"$error":"#DIV/0!"},{"$error":"#DIV/0!"},{"$error":"#DIV/0!"},{"$error":"#DIV/0!"},{"$error":"#DIV/0!"},{"$error":"#DIV/0!"},{"$error":"#DIV/0!"},{"$error":"#DIV/0!"},0,null,null,null,null,null,null,null,null,null,null,null,null,null,null,null,null,null,null,null,null,null,"2008-11-14",0.5,0.17]
["2009-01-28",0,0,1,2009,5,0,{"$f":"IF(B15402<Parameters!$A$16,B15402*Parameters!$B$16,IF(AND(B15402>Parameters!$A$16,B15402<Parameters!$A$17),B15402*Parameters!$B$17,B15402*Parameters!$B$18))","v":0},{"$f":"IF(B15402<Parameters!$A$20,B15402*Parameters!$B$20,IF(AND(B15402>Parameters!$A$20,B15402<Parameters!$A$21),B15402*Parameters!$B$21,B15402*Parameters!$B$22))","v":0},{"$error":"#DIV/0!"},"",0,"",0,6.4516129032258063E-2,{"$error":"#DIV/0!"},{"$error":"#DIV/0!"},{"$f":"IF('Gegevens '!$G$20=\"Eigen waarden\",VLOOKUP($F15402,'Gegevens '!$A$25:$C$77,3,FALSE),VLOOKUP($F15402,Lijsten!$A$19:$B$71,2,FALSE))","v":8.252917930462857},{"$error":"#DIV/0!"},{"$error":"#DIV/0!"},{"$error":"#DIV/0!"},{"$error":"#DIV/0!"},{"$error":"#DIV/0!"},{"$error":"#DIV/0!"},{"$error":"#DIV/0!"},"","",{"$error":"#DIV/0!"},0,{"$error":"#DIV/0!"},0,{"$error":"#DIV/0!"},{"$error":"#DIV/0!"},{"$error":"#DIV/0!"},{"$error":"#DIV/0!"},{"$error":"#DIV/0!"},{"$error":"#DIV/0!"},"","","",{"$error":"#DIV/0!"},{"$error":"#DIV/0!"},0,null,null,null,null,null,null,null,null,null,null,null,null,null,null,null,null,null,null,null,null,null,"2009-01-28",0,0]
["2009-04-08",1.8,1.1499999999999999,4,2009,15,1.8,{"$f":"IF(B15472<Parameters!$A$16,B15472*Parameters!$B$16,IF(AND(B15472>Parameters!$A$16,B15472<Parameters!$A$17),B15472*Parameters!$B$17,B15472*Parameters!$B$18))","v":1.4400000000000002},{"$f":"IF(B15472<Parameters!$A$20,B15472*Parameters!$B$20,IF(AND(B15472>Parameters!$A$20,B15472<Parameters!$A$21),B15472*Parameters!$B$21,B15472*Parameters!$B$22))","v":1.08},{"$error":"#DIV/0!"},{"$error":"#DIV/0!"},{"$error":"#DIV/0!"},{"$error":"#DIV/0!"},{"$error":"#DIV/0!"},0.98333333333333328,{"$error":"#DIV/0!"},{"$error":"#DIV/0!"},{"$f":"IF('Gegevens '!$G$20=\"Eigen waarden\",VLOOKUP($F15472,'Gegevens '!$A$25:$C$77,3,FALSE),VLOOKUP($F15472,Lijsten!$A$19:$B$71,2,FALSE))","v":28.925363264788576},{"$error":"#DIV/0!"},{"$error":"#DIV/0!"},{"$error":"#DIV/0!"},{"$error":"#DIV/0!"},{"$error":"#DIV/0!"},{"$error":"#DIV/0!"},{"$error":"#DIV/0!"},{"$error":"#DIV/0!"},{"$error":"#DIV/0!"},{"$error":"#DIV/0!"},{"$error":"#DIV/0!"},{"$error":"#DIV/0!"},{"$error":"#DIV/0!"},{"$error":"#DIV/0!"},{"$error":"#DIV/0!"},{"$error":"#DIV/0!"},{"$error":"#DIV/0!"},{"$error":"#DIV/0!"},{"$error":"#DIV/0!"},{"$error":"#DIV/0!"},{"$error":"#DIV/0!"},{"$error":"#DIV/0!"},{"$error":"#DIV/0!"},0,{"$error":"#DIV/0!"},null,null,null,null,null,null,null,null,null,null,null,null,null,null,null,null,null,null,null,null,null,"2009-04-08",1.8,1.1499999999999999]
["2009-07-26",0.1,5.19,7,2009,30,0.1,{"$f":"IF(B15581<Parameters!$A$16,B15581*Parameters!$B$16,IF(AND(B15581>Parameters!$A$16,B15581<Parameters!$A$17),B15581*Parameters!$B$17,B15581*Parameters!$B$18))","v":0},{"$f":"IF(B15581<Parameters!$A$20,B15581*Parameters!$B$20,IF(AND(B15581>Parameters!$A$20,B15581<Parameters!$A$21),B15581*Parameters!$B$21,B15581*Parameters!$B$22))","v":0},{"$error":"#DIV/0!"},{"$error":"#DIV/0!"},{"$error":"#DIV/0!"},{"$error":"#DIV/0!"},{"$error":"#DIV/0!"},5.1577419354838714,{"$error":"#DIV/0!"},{"$error":"#DIV/0!"},{"$f":"IF('Gegevens '!$G$20=\"Eigen waarden\",VLOOKUP($F15581,'Gegevens '!$A$25:$C$77,3,FALSE),VLOOKUP($F15581,Lijsten!$A$19:$B$71,2,FALSE))","v":38.460966477868567},{"$error":"#DIV/0!"},{"$error":"#DIV/0!"},{"$error":"#DIV/0!"},{"$error":"#DIV/0!"},{"$error":"#DIV/0!"},{"$error":"#DIV/0!"},{"$error":"#DIV/0!"},{"$error":"#DIV/0!"},{"$error":"#DIV/0!"},{"$error":"#DIV/0!"},{"$error":"#DIV/0!"},{"$error":"#DIV/0!"},{"$error":"#DIV/0!"},{"$error":"#DIV/0!"},{"$error":"#DIV/0!"},{"$error":"#DIV/0!"},{"$error":"#DIV/0!"},{"$error":"#DIV/0!"},{"$error":"#DIV/0!"},{"$error":"#DIV/0!"},{"$error":"#DIV/0!"},{"$error":"#DIV/0!"},{"$error":"#DIV/0!"},0,{"$error":"#DIV/0!"},null,null,null,null,null,null,null,null,null,null,null,null,null,null,null,null,null,null,null,null,null,"2009-07-26",0.1,5.19]
["2009-09-03",7.3,3.23,9,2009,36,7.3,{"$f":"IF(B15620<Parameters!$A$16,B15620*Parameters!$B$16,IF(AND(B15620>Parameters!$A$16,B15620<Parameters!$A$17),B15620*Parameters!$B$17,B15620*Parameters!$B$18))","v":6.9349999999999996},{"$f":"IF(B15620<Parameters!$A$20,B15620*Parameters!$B$20,IF(AND(B15620>Parameters!$A$20,B15620<Parameters!$A$21),B15620*Parameters!$B$21,B15620*Parameters!$B$22))","v":5.4749999999999996},{"$error":"#DIV/0!"},{"$error":"#DIV/0!"},{"$error":"#DIV/0!"},{"$error":"#DIV/0!"},{"$error":"#DIV/0!"},3.3633333333333333,{"$error":"#DIV/0!"},{"$error":"#DIV/0!"},{"$f":"IF('Gegevens '!$G$20=\"Eigen waarden\",VLOOKUP($F15620,'Gegevens '!$A$25:$C$77,3,FALSE),VLOOKUP($F15620,Lijsten!$A$19:$B$71,2,FALSE))","v":30.026641895863094},{"$error":"#DIV/0!"},{"$error":"#DIV/0!"},{"$error":"#DIV/0!"},{"$error":"#DIV/0!"},{"$error":"#DIV/0!"},{"$error":"#DIV/0!"},{"$error":"#DIV/0!"},{"$error":"#DIV/0!"},{"$error":"#DIV/0!"},{"$error":"#DIV/0!"},{"$error":"#DIV/0!"},{"$error":"#DIV/0!"},{"$error":"#DIV/0!"},{"$error":"#DIV/0!"},{"$error":"#DIV/0!"},{"$error":"#DIV/0!"},{"$error":"#DIV/0!"},{"$error":"#DIV/0!"},{"$error":"#DIV/0!"},{"$error":"#DIV/0!"},{"$error":"#DIV/0!"},{"$error":"#DIV/0!"},{"$error":"#DIV/0!"},0,{"$error":"#DIV/0!"},null,null,null,null,null,null,null,null,null,null,null,null,null,null,null,null,null,null,null,null,null,"2009-09-03",7.3,3.23]
["2009-10-12",0.6,1.6,10,2009,42,0.6,{"$f":"IF(B15659<Parameters!$A$16,B15659*Parameters!$B$16,IF(AND(B15659>Parameters!$A$16,B15659<Parameters!$A$17),B15659*Parameters!$B$17,B15659*Parameters!$B$18))","v":0},{"$f":"IF(B15659<Parameters!$A$20,B15659*Parameters!$B$20,IF(AND(B15659>Parameters!$A$20,B15659<Parameters!$A$21),B15659*Parameters!$B$21,B15659*Parameters!$B$22))","v":0},{"$error":"#DIV/0!"},{"$error":"#DIV/0!"},{"$error":"#DIV/0!"},{"$error":"#DIV/0!"},{"$error":"#DIV/0!"},1.7612903225806453,{"$error":"#DIV/0!"},{"$error":"#DIV/0!"},{"$f":"IF('Gegevens '!$G$20=\"Eigen waarden\",VLOOKUP($F15659,'Gegevens '!$A$25:$C$77,3,FALSE),VLOOKUP($F15659,Lijsten!$A$19:$B$71,2,FALSE))","v":14.997021876739499},{"$error":"#DIV/0!"},{"$error":"#DIV/0!"},{"$error":"#DIV/0!"},{"$error":"#DIV/0!"},{"$error":"#DIV/0!"},{"$error":"#DIV/0!"},{"$error":"#DIV/0!"},{"$error":"#DIV/0!"},{"$error":"#DIV/0!"},{"$error":"#DIV/0!"},{"$error":"#DIV/0!"},{"$error":"#DIV/0!"},{"$error":"#DIV/0!"},{"$error":"#DIV/0!"},{"$error":"#DIV/0!"},{"$error":"#DIV/0!"},{"$error":"#DIV/0!"},{"$error":"#DIV/0!"},{"$error":"#DIV/0!"},{"$error":"#DIV/0!"},{"$error":"#DIV/0!"},{"$error":"#DIV/0!"},{"$error":"#DIV/0!"},{"$error":"#DIV/0!"},0,null,null,null,null,null,null,null,null,null,null,null,null,null,null,null,null,null,null,null,null,null,"2009-10-12",0.6,1.6]
["2010-01-29",11,0.16,1,2010,4,11,{"$f":"IF(B15768<Parameters!$A$16,B15768*Parameters!$B$16,IF(AND(B15768>Parameters!$A$16,B15768<Parameters!$A$17),B15768*Parameters!$B$17,B15768*Parameters!$B$18))","v":10.45},{"$f":"IF(B15768<Parameters!$A$20,B15768*Parameters!$B$20,IF(AND(B15768>Parameters!$A$20,B15768<Parameters!$A$21),B15768*Parameters!$B$21,B15768*Parameters!$B$22))","v":8.25},{"$error":"#DIV/0!"},{"$error":"#DIV/0!"},{"$error":"#DIV/0!"},{"$error":"#DIV/0!"},{"$error":"#DIV/0!"},0.22451612903225807,{"$error":"#DIV/0!"},{"$error":"#DIV/0!"},{"$f":"IF('Gegevens '!$G$20=\"Eigen waarden\",VLOOKUP($F15768,'Gegevens '!$A$25:$C$77,3,FALSE),VLOOKUP($F15768,Lijsten!$A$19:$B$71,2,FALSE))","v":6.2443769793828583},{"$error":"#DIV/0!"},{"$error":"#DIV/0!"},{"$error":"#DIV/0!"},{"$error":"#DIV/0!"},{"$error":"#DIV/0!"},{"$error":"#DIV/0!"},{"$error":"#DIV/0!"},{"$error":"#DIV/0!"},{"$error":"#DIV/0!"},{"$error":"#DIV/0!"},{"$error":"#DIV/0!"},{"$error":"#DIV/0!"},{"$error":"#DIV/0!"},{"$error":"#DIV/0!"},{"$error":"#DIV/0!"},{"$error":"#DIV/0!"},{"$error":"#DIV/0!"},{"$error":"#DIV/0!"},{"$error":"#DIV/0!"},{"$error":"#DIV/0!"},{"$error":"#DIV/0!"},{"$error":"#DIV/0!"},{"$error":"#DIV/0!"},{"$error":"#DIV/0!"},0,null,null,null,null,null,null,null,null,null,null,null,null,null,null,null,null,null,null,null,null,null,"2010-01-29",11,0.16]
["2010-03-09",0,0,3,2010,10,0,{"$f":"IF(B15807<Parameters!$A$16,B15807*Parameters!$B$16,IF(AND(B15807>Parameters!$A$16,B15807<Parameters!$A$17),B15807*Parameters!$B$17,B15807*Parameters!$B$18))","v":0},{"$f":"IF(B15807<Parameters!$A$20,B15807*Parameters!$B$20,IF(AND(B15807>Parameters!$A$20,B15807<Parameters!$A$21),B15807*Parameters!$B$21,B15807*Parameters!$B$22))","v":0},{"$error":"#DIV/0!"},"",0,"",0,-9.6774193548387094E-2,{"$error":"#DIV/0!"},{"$error":"#DIV/0!"},{"$f":"IF('Gegevens '!$G$20=\"Eigen waarden\",VLOOKUP($F15807,'Gegevens '!$A$25:$C$77,3,FALSE),VLOOKUP($F15807,Lijsten!$A$19:$B$71,2,FALSE))","v":16.951002269891429},{"$error":"#DIV/0!"},{"$error":"#DIV/0!"},{"$error":"#DIV/0!"},{"$error":"#DIV/0!"},{"$error":"#DIV/0!"},{"$error":"#DIV/0!"},{"$error":"#DIV/0!"},"","",{"$error":"#DIV/0!"},0,{"$error":"#DIV/0!"},0,{"$error":"#DIV/0!"},{"$error":"#DIV/0!"},{"$error":"#DIV/0!"},{"$error":"#DIV/0!"},{"$error":"#DIV/0!"},{"$error":"#DIV/0!"},"","","",{"$error":"#DIV/0!"},{"$error":"#DIV/0!"},0,null,null,null,null,null,null,null,null,null,null,null,null,null,null,null,null,null,null,null,null,null,"2010-03-09",0,0]
["2010-04-21",0,2.31,4,2010,16,0,{"$f":"IF(B15850<Parameters!$A$16,B15850*Parameters!$B$16,IF(AND(B15850>Parameters!$A$16,B15850<Parameters!$A$17),B15850*Parameters!$B$17,B15850*Parameters!$B$18))","v":0},{"$f":"IF(B15850<Parameters!$A$20,B15850*Parameters!$B$20,IF(AND(B15850>Parameters!$A$20,B15850<Parameters!$A$21),B15850*Parameters!$B$21,B15850*Parameters!$B$22))","v":0},{"$error":"#DIV/0!"},"",0,"",0,2.1433333333333335,{"$error":"#DIV/0!"},{"$error":"#DIV/0!"},{"$f":"IF('Gegevens '!$G$20=\"Eigen waarden\",VLOOKUP($F15850,'Gegevens '!$A$25:$C$77,3,FALSE),VLOOKUP($F15850,Lijsten!$A$19:$B$71,2,FALSE))","v":32.719747675074295},{"$error":"#DIV/0!"},{"$error":"#DIV/0!"},{"$error":"#DIV/0!"},{"$error":"#DIV/0!"},{"$error":"#DIV/0!"},{"$error":"#DIV/0!"},{"$error":"#DIV/0!"},"","",{"$error":"#DIV/0!"},0,{"$error":"#DIV/0!"},0,{"$error":"#DIV/0!"},{"$error":"#DIV/0!"},{"$error":"#DIV/0!"},{"$error":"#DIV/0!"},{"$error":"#DIV/0!"},{"$error":"#DIV/0!"},"","","",{"$error":"#DIV/0!"},0,{"$error":"#DIV/0!"},null,null,null,null,null,null,null,null,null,null,null,null,null,null,null,null,null,null,null,null,null,"2010-04-21",0,2.31]
["2010-08-04",4.5,2.82,8,2010,31,4.5,{"$f":"IF(B15955<Parameters!$A$16,B15955*Parameters!$B$16,IF(AND(B15955>Parameters!$A$16,B15955<Parameters!$A$17),B15955*Parameters!$B$17,B15955*Parameters!$B$18))","v":4.2749999999999995},{"$f":"IF(B15955<Parameters!$A$20,B15955*Parameters!$B$20,IF(AND(B15955>Parameters!$A$20,B15955<Parameters!$A$21),B15955*Parameters!$B$21,B15955*Parameters!$B$22))","v":3.375},{"$error":"#DIV/0!"},{"$error":"#DIV/0!"},{"$error":"#DIV/0!"},{"$error":"#DIV/0!"},{"$error":"#DIV/0!"},2.8845161290322578,{"$error":"#DIV/0!"},{"$error":"#DIV/0!"},{"$f":"IF('Gegevens '!$G$20=\"Eigen waarden\",VLOOKUP($F15955,'Gegevens '!$A$25:$C$77,3,FALSE),VLOOKUP($F15955,Lijsten!$A$19:$B$71,2,FALSE))","v":36.543125282102856},{"$error":"#DIV/0!"},{"$error":"#DIV/0!"},{"$error":"#DIV/0!"},{"$error":"#DIV/0!"},{"$error":"#DIV/0!"},{"$error":"#DIV/0!"},{"$error":"#DIV/0!"},{"$error":"#DIV/0!"},{"$error":"#DIV/0!"},{"$error":"#DIV/0!"},{"$error":"#DIV/0!"},{"$error":"#DIV/0!"},{"$error":"#DIV/0!"},{"$error":"#DIV/0!"},{"$error":"#DIV/0!"},{"$error":"#DIV/0!"},{"$error":"#DIV/0!"},{"$error":"#DIV/0!"},{"$error":"#DIV/0!"},{"$error":"#DIV/0!"},{"$error":"#DIV/0!"},{"$error":"#DIV/0!"},{"$error":"#DIV/0!"},0,{"$error":"#DIV/0!"},null,null,null,null,null,null,null,null,null,null,null,null,null,null,null,null,null,null,null,null,null,"2010-08-04",4.5,2.82]
["2010-09-12",9.8000000000000007,1.56,9,2010,36,9.8000000000000007,{"$f":"IF(B15994<Parameters!$A$16,B15994*Parameters!$B$16,IF(AND(B15994>Parameters!$A$16,B15994<Parameters!$A$17),B15994*Parameters!$B$17,B15994*Parameters!$B$18))","v":9.31},{"$f":"IF(B15994<Parameters!$A$20,B15994*Parameters!$B$20,IF(AND(B15994>Parameters!$A$20,B15994<Parameters!$A$21),B15994*Parameters!$B$21,B15994*Parameters!$B$22))","v":7.3500000000000005},{"$error":"#DIV/0!"},{"$error":"#DIV/0!"},{"$error":"#DIV/0!"},{"$error":"#DIV/0!"},{"$error":"#DIV/0!"},1.6933333333333334,{"$error":"#DIV/0!"},{"$error":"#DIV/0!"},{"$f":"IF('Gegevens '!$G$20=\"Eigen waarden\",VLOOKUP($F15994,'Gegevens '!$A$25:$C$77,3,FALSE),VLOOKUP($F15994,Lijsten!$A$19:$B$71,2,FALSE))","v":30.026641895863094},{"$error":"#DIV/0!"},{"$error":"#DIV/0!"},{"$error":"#DIV/0!"},{"$error":"#DIV/0!"},{"$error":"#DIV/0!"},{"$error":"#DIV/0!"},{"$error":"#DIV/0!"},{"$error":"#DIV/0!"},{"$error":"#DIV/0!"},{"$error":"#DIV/0!"},{"$error":"#DIV/0!"},{"$error":"#DIV/0!"},{"$error":"#DIV/0!"},{"$error":"#DIV/0!"},{"$error":"#DIV/0!"},{"$error":"#DIV/0!"},{"$error":"#DIV/0!"},{"$error":"#DIV/0!"},{"$error":"#DIV/0!"},{"$error":"#DIV/0!"},{"$error":"#DIV/0!"},{"$error":"#DIV/0!"},{"$error":"#DIV/0!"},0,{"$error":"#DIV/0!"},null,null,null,null,null,null,null,null,null,null,null,null,null,null,null,null,null,null,null,null,null,"2010-09-12",9.8000000000000007,1.56]
["2010-11-19",0.6,0.27,11,2010,46,0.6,{"$f":"IF(B16062<Parameters!$A$16,B16062*Parameters!$B$16,IF(AND(B16062>Parameters!$A$16,B16062<Parameters!$A$17),B16062*Parameters!$B$17,B16062*Parameters!$B$18))","v":0},{"$f":"IF(B16062<Parameters!$A$20,B16062*Parameters!$B$20,IF(AND(B16062>Parameters!$A$20,B16062<Parameters!$A$21),B16062*Parameters!$B$21,B16062*Parameters!$B$22))","v":0},{"$error":"#DIV/0!"},{"$error":"#DIV/0!"},{"$error":"#DIV/0!"},{"$error":"#DIV/0!"},{"$error":"#DIV/0!"},0.43666666666666665,{"$error":"#DIV/0!"},{"$error":"#DIV/0!"},{"$f":"IF('Gegevens '!$G$20=\"Eigen waarden\",VLOOKUP($F16062,'Gegevens '!$A$25:$C$77,3,FALSE),VLOOKUP($F16062,Lijsten!$A$19:$B$71,2,FALSE))","v":9.880531666666668},{"$error":"#DIV/0!"},{"$error":"#DIV/0!"},{"$error":"#DIV/0!"},{"$error":"#DIV/0!"},{"$error":"#DIV/0!"},{"$error":"#DIV/0!"},{"$error":"#DIV/0!"},{"$error":"#DIV/0!"},{"$error":"#DIV/0!"},{"$error":"#DIV/0!"},{"$error":"#DIV/0!"},{"$error":"#DIV/0!"},{"$error":"#DIV/0!"},{"$error":"#DIV/0!"},{"$error":"#DIV/0!"},{"$error":"#DIV/0!"},{"$error":"#DIV/0!"},{"$error":"#DIV/0!"},{"$error":"#DIV/0!"},{"$error":"#DIV/0!"},{"$error":"#DIV/0!"},{"$error":"#DIV/0!"},{"$error":"#DIV/0!"},{"$error":"#DIV/0!"},0,null,null,null,null,null,null,null,null,null,null,null,null,null,null,null,null,null,null,null,null,null,"2010-11-19",0.6,0.27]
["2011-02-08",0,1.1399999999999999,2,2011,6,0,{"$f":"IF(B16143<Parameters!$A$16,B16143*Parameters!$B$16,IF(AND(B16143>Parameters!$A$16,B16143<Parameters!$A$17),B16143*Parameters!$B$17,B16143*Parameters!$B$18))","v":0},{"$f":"IF(B16143<Parameters!$A$20,B16143*Parameters!$B$20,IF(AND(B16143>Parameters!$A$20,B16143<Parameters!$A$21),B16143*Parameters!$B$21,B16143*Parameters!$B$22))","v":0},{"$error":"#DIV/0!"},"",0,"",0,1.1042857142857141,{"$error":"#DIV/0!"},{"$error":"#DIV/0!"},{"$f":"IF('Gegevens '!$G$20=\"Eigen waarden\",VLOOKUP($F16143,'Gegevens '!$A$25:$C$77,3,FALSE),VLOOKUP($F16143,Lijsten!$A$19:$B$71,2,FALSE))","v":9.1430429772914277},{"$error":"#DIV/0!"},{"$error":"#DIV/0!"},{"$error":"#DIV/0!"},{"$error":"#DIV/0!"},{"$error":"#DIV/0!"},{"$error":"#DIV/0!"},{"$error":"#DIV/0!"},"","",{"$error":"#DIV/0!"},0,{"$error":"#DIV/0!"},0,{"$error":"#DIV/0!"},{"$error":"#DIV/0!"},{"$error":"#DIV/0!"},{"$error":"#DIV/0!"},{"$error":"#DIV/0!"},{"$error":"#DIV/0!"},"","","",{"$error":"#DIV/0!"},{"$error":"#DIV/0!"},0,null,null,null,null,null,null,null,null,null,null,null,null,null,null,null,null,null,null,null,null,null,"2011-02-08",0,1.1399999999999999]
["2011-03-23",0,3.02,3,2011,12,0,{"$f":"IF(B16186<Parameters!$A$16,B16186*Parameters!$B$16,IF(AND(B16186>Parameters!$A$16,B16186<Parameters!$A$17),B16186*Parameters!$B$17,B16186*Parameters!$B$18))","v":0},{"$f":"IF(B16186<Parameters!$A$20,B16186*Parameters!$B$20,IF(AND(B16186>Parameters!$A$20,B16186<Parameters!$A$21),B16186*Parameters!$B$21,B16186*Parameters!$B$22))","v":0},{"$error":"#DIV/0!"},"",0,"",0,2.923225806451613,{"$error":"#DIV/0!"},{"$error":"#DIV/0!"},{"$f":"IF('Gegevens '!$G$20=\"Eigen waarden\",VLOOKUP($F16186,'Gegevens '!$A$25:$C$77,3,FALSE),VLOOKUP($F16186,Lijsten!$A$19:$B$71,2,FALSE))","v":22.555070739851423},{"$error":"#DIV/0!"},{"$error":"#DIV/0!"},{"$error":"#DIV/0!"},{"$error":"#DIV/0!"},{"$error":"#DIV/0!"},{"$error":"#DIV/0!"},{"$error":"#DIV/0!"},"","",{"$error":"#DIV/0!"},0,{"$error":"#DIV/0!"},0,{"$error":"#DIV/0!"},{"$error":"#DIV/0!"},{"$error":"#DIV/0!"},{"$error":"#DIV/0!"},{"$error":"#DIV/0!"},{"$error":"#DIV/0!"},"","","",{"$error":"#DIV/0!"},{"$error":"#DIV/0!"},0,null,null,null,null,null,null,null,null,null,null,null,null,null,null,null,null,null,null,null,null,null,"2011-03-23",0,3.02]
["2011-07-06",3,4.1100000000000003,{"$f":"MONTH(A16291)","v":7},2011,{"$f":"INT((A16291-DATE(YEAR(A16291-WEEKDAY(A16291-1)+4),1,3)+WEEKDAY(DATE(YEAR(A16291-WEEKDAY(A16291-1)+4),1,3))+5)/7)","v":27},3,{"$f":"IF(B16291<Parameters!$A$16,B16291*Parameters!$B$16,IF(AND(B16291>Parameters!$A$16,B16291<Parameters!$A$17),B16291*Parameters!$B$17,B16291*Parameters!$B$18))","v":2.8499999999999996},{"$f":"IF(B16291<Parameters!$A$20,B16291*Parameters!$B$20,IF(AND(B16291>Parameters!$A$20,B16291<Parameters!$A$21),B16291*Parameters!$B$21,B16291*Parameters!$B$22))","v":2.25},{"$error":"#DIV/0!"},{"$f":"IF(B16291=0,\"\",SUM(J16291/(B16291*10)))","v":{"$error":"#DIV/0!"}},{"$error":"#DIV/0!"},{"$f":"IF(B16291=0,\"\",L16291/J16291)","v":{"$error":"#DIV/0!"}},{"$f":"IF(B16291=0,0,SUM(J16291-L16291))","v":{"$error":"#DIV/0!"}},{"$f":"IF(OR($D16291=1,$D16291=12,$D16291=8),C16291+(2/31),IF($D16291=2,C16291-(1/28),IF($D16291=3,C16291-(3/31),IF($D16291=4,C16291-(5/30),IF($D16291=5,C16291-(6/31),IF($D16291=6,C16291-(4/30),IF($D16291=7,C16291-(1/31),IF($D16291=9,C16291+(4/30),IF($D16291=10,C16291+(5/31),IF($D16291=11,C16291+(5/30)))))))))))","v":4.0777419354838713},{"$f":"-(($BH$3-$BI$3)*($AN$3+$AK$3-U16291)/($AK$3)-$BH$3)","v":{"$error":"#DIV/0!"}},{"$error":"#DIV/0!"},{"$f":"IF('Gegevens '!$G$20=\"Eigen waarden\",VLOOKUP($F16291,'Gegevens '!$A$25:$C$77,3,FALSE),VLOOKUP($F16291,Lijsten!$A$19:$B$71,2,FALSE))","v":44.20203263918858},{"$error":"#DIV/0!"},{"$error":"#DIV/0!"},{"$error":"#DIV/0!"},{"$error":"#DIV/0!"},{"$error":"#DIV/0!"},{"$error":"#DIV/0!"},{"$f":"IF(R16291=0,\"\",((R16291-W16291)/R16291))","v":{"$error":"#DIV/0!"}},{"$f":"IF(B16291=0,\"\",X16291/(B16291*10))","v":{"$error":"#DIV/0!"}},{"$error":"#DIV/0!"},{"$f":"J16291/10","v":{"$error":"#DIV/0!"}},{"$f":"L16291/10","v":{"$error":"#DIV/0!"}},{"$f":"X16291/10","v":{"$error":"#DIV/0!"}},{"$error":"#DIV/0!"},{"$error":"#DIV/0!"},{"$error":"#DIV/0!"},{"$f":"(R16291-W16291)/10","v":{"$error":"#DIV/0!"}},{"$f":"SUM(AC16291-AF16291-AG16291-AD16291)","v":{"$error":"#DIV/0!"}},{"$f":"IF(AB16291=0,\"\",AE16291/AB16291)","v":{"$error":"#DIV/0!"}},{"$error":"#DIV/0!"},{"$f":"IF(AC16291=0,\"\",AG16291/AC16291)","v":{"$error":"#DIV/0!"}},{"$f":"IF(AC16291=0,\"\",AD16291/AC16291)","v":{"$error":"#DIV/0!"}},{"$f":"IF(AC16291=0,\"\",AI16291/AC16291)","v":{"$error":"#DIV/0!"}},{"$error":"#DIV/0!"},0,{"$error":"#DIV/0!"},null,null,null,null,null,null,null,null,null,null,null,null,null,null,null,null,null,null,null,null,null,"2011-07-06",3,4.1100000000000003]
["2011-08-14",22.7,1.74,8,2011,32,22.7,{"$f":"IF(B16330<Parameters!$A$16,B16330*Parameters!$B$16,IF(AND(B16330>Parameters!$A$16,B16330<Parameters!$A$17),B16330*Parameters!$B$17,B16330*Parameters!$B$18))","v":21.564999999999998},{"$f":"IF(B16330<Parameters!$A$20,B16330*Parameters!$B$20,IF(AND(B16330>Parameters!$A$20,B16330<Parameters!$A$21),B16330*Parameters!$B$21,B16330*Parameters!$B$22))","v":17.024999999999999},{"$error":"#DIV/0!"},{"$error":"#DIV/0!"},{"$error":"#DIV/0!"},{"$error":"#DIV/0!"},{"$error":"#DIV/0!"},1.804516129032258,{"$error":"#DIV/0!"},{"$error":"#DIV/0!"},{"$f":"IF('Gegevens '!$G$20=\"Eigen waarden\",VLOOKUP($F16330,'Gegevens '!$A$25:$C$77,3,FALSE),VLOOKUP($F16330,Lijsten!$A$19:$B$71,2,FALSE))","v":35.235564143205707},{"$error":"#DIV/0!"},{"$error":"#DIV/0!"},{"$error":"#DIV/0!"},{"$error":"#DIV/0!"},{"$error":"#DIV/0!"},{"$error":"#DIV/0!"},{"$error":"#DIV/0!"},{"$error":"#DIV/0!"},{"$error":"#DIV/0!"},{"$error":"#DIV/0!"},{"$error":"#DIV/0!"},{"$error":"#DIV/0!"},{"$error":"#DIV/0!"},{"$error":"#DIV/0!"},{"$error":"#DIV/0!"},{"$error":"#DIV/0!"},{"$error":"#DIV/0!"},{"$error":"#DIV/0!"},{"$error":"#DIV/0!"},{"$error":"#DIV/0!"},{"$error":"#DIV/0!"},{"$error":"#DIV/0!"},{"$error":"#DIV/0!"},0,{"$error":"#DIV/0!"},null,null,null,null,null,null,null,null,null,null,null,null,null,null,null,null,null,null,null,null,null,"2011-08-14",22.7,1.74]
["2011-12-01",8.4,0.77,12,2011,48,8.4,{"$f":"IF(B16439<Parameters!$A$16,B16439*Parameters!$B$16,IF(AND(B16439>Parameters!$A$16,B16439<Parameters!$A$17),B16439*Parameters!$B$17,B16439*Parameters!$B$18))","v":7.9799999999999995},{"$f":"IF(B16439<Parameters!$A$20,B16439*Parameters!$B$20,IF(AND(B16439>Parameters!$A$20,B16439<Parameters!$A$21),B16439*Parameters!$B$21,B16439*Parameters!$B$22))","v":6.3000000000000007},{"$error":"#DIV/0!"},{"$error":"#DIV/0!"},{"$error":"#DIV/0!"},{"$error":"#DIV/0!"},{"$error":"#DIV/0!"},0.83451612903225802,{"$error":"#DIV/0!"},{"$error":"#DIV/0!"},{"$f":"IF('Gegevens '!$G$20=\"Eigen waarden\",VLOOKUP($F16439,'Gegevens '!$A$25:$C$77,3,FALSE),VLOOKUP($F16439,Lijsten!$A$19:$B$71,2,FALSE))","v":8.6779285714285717},{"$error":"#DIV/0!"},{"$error":"#DIV/0!"},{"$error":"#DIV/0!"},{"$error":"#DIV/0!"},{"$error":"#DIV/0!"},{"$error":"#DIV/0!"},{"$error":"#DIV/0!"},{"$error":"#DIV/0!"},{"$error":"#DIV/0!"},{"$error":"#DIV/0!"},{"$error":"#DIV/0!"},{"$error":"#DIV/0!"},{"$error":"#DIV/0!"},{"$error":"#DIV/0!"},{"$error":"#DIV/0!"},{"$error":"#DIV/0!"},{"$error":"#DIV/0!"},{"$error":"#DIV/0!"},{"$error":"#DIV/0!"},{"$error":"#DIV/0!"},{"$error":"#DIV/0!"},{"$error":"#DIV/0!"},{"$error":"#DIV/0!"},{"$error":"#DIV/0!"},0,null,null,null,null,null,null,null,null,null,null,null,null,null,null,null,null,null,null,null,null,null,"2011-12-01",8.4,0.77]
["2012-01-09",1.7,0.48,1,2012,2,1.7,{"$f":"IF(B16478<Parameters!$A$16,B16478*Parameters!$B$16,IF(AND(B16478>Parameters!$A$16,B16478<Parameters!$A$17),B16478*Parameters!$B$17,B16478*Parameters!$B$18))","v":1.36},{"$f":"IF(B16478<Parameters!$A$20,B16478*Parameters!$B$20,IF(AND(B16478>Parameters!$A$20,B16478<Parameters!$A$21),B16478*Parameters!$B$21,B16478*Parameters!$B$22))","v":1.02},{"$error":"#DIV/0!"},{"$error":"#DIV/0!"},{"$error":"#DIV/0!"},{"$error":"#DIV/0!"},{"$error":"#DIV/0!"},0.54451612903225799,{"$error":"#DIV/0!"},{"$error":"#DIV/0!"},{"$f":"IF('Gegevens '!$G$20=\"Eigen waarden\",VLOOKUP($F16478,'Gegevens '!$A$25:$C$77,3,FALSE),VLOOKUP($F16478,Lijsten!$A$19:$B$71,2,FALSE))","v":4.3012032855657143},{"$error":"#DIV/0!"},{"$error":"#DIV/0!"},{"$error":"#DIV/0!"},{"$error":"#DIV/0!"},{"$error":"#DIV/0!"},{"$error":"#DIV/0!"},{"$error":"#DIV/0!"},{"$error":"#DIV/0!"},{"$error":"#DIV/0!"},{"$error":"#DIV/0!"},{"$error":"#DIV/0!"},{"$error":"#DIV/0!"},{"$error":"#DIV/0!"},{"$error":"#DIV/0!"},{"$error":"#DIV/0!"},{"$error":"#DIV/0!"},{"$error":"#DIV/0!"},{"$error":"#DIV/0!"},{"$error":"#DIV/0!"},{"$error":"#DIV/0!"},{"$error":"#DIV/0!"},{"$error":"#DIV/0!"},{"$error":"#DIV/0!"},{"$error":"#DIV/0!"},0,null,null,null,null,null,null,null,null,null,null,null,null,null,null,null,null,null,null,null,null,null,"2012-01-09",1.7,0.48]
["2012-02-17",2,0.5,2,2012,7,2,{"$f":"IF(B16517<Parameters!$A$16,B16517*Parameters!$B$16,IF(AND(B16517>Parameters!$A$16,B16517<Parameters!$A$17),B16517*Parameters!$B$17,B16517*Parameters!$B$18))","v":1.9},{"$f":"IF(B16517<Parameters!$A$20,B16517*Parameters!$B$20,IF(AND(B16517>Parameters!$A$20,B16517<Parameters!$A$21),B16517*Parameters!$B$21,B16517*Parameters!$B$22))","v":1.5},{"$error":"#DIV/0!"},{"$error":"#DIV/0!"},{"$error":"#DIV/0!"},{"$error":"#DIV/0!"},{"$error":"#DIV/0!"},0.4642857142857143,{"$error":"#DIV/0!"},{"$error":"#DIV/0!"},{"$f":"IF('Gegevens '!$G$20=\"Eigen waarden\",VLOOKUP($F16517,'Gegevens '!$A$25:$C$77,3,FALSE),VLOOKUP($F16517,Lijsten!$A$19:$B$71,2,FALSE))","v":10.977630682914283},{"$error":"#DIV/0!"},{"$error":"#DIV/0!"},{"$error":"#DIV/0!"},{"$error":"#DIV/0!"},{"$error":"#DIV/0!"},{"$error":"#DIV/0!"},{"$error":"#DIV/0!"},{"$error":"#DIV/0!"},{"$error":"#DIV/0!"},{"$error":"#DIV/0!"},{"$error":"#DIV/0!"},{"$error":"#DIV/0!"},{"$error":"#DIV/0!"},{"$error":"#DIV/0!"},{"$error":"#DIV/0!"},{"$error":"#DIV/0!"},{"$error":"#DIV/0!"},{"$error":"#DIV/0!"},{"$error":"#DIV/0!"},{"$error":"#DIV/0!"},{"$error":"#DIV/0!"},{"$error":"#DIV/0!"},{"$error":"#DIV/0!"},{"$error":"#DIV/0!"},0,null,null,null,null,null,null,null,null,null,null,null,null,null,null,null,null,null,null,null,null,null,"2012-02-17",2,0.5]
["2012-06-05",0,4.3499999999999996,6,2012,23,0,{"$f":"IF(B16626<Parameters!$A$16,B16626*Parameters!$B$16,IF(AND(B16626>Parameters!$A$16,B16626<Parameters!$A$17),B16626*Parameters!$B$17,B16626*Parameters!$B$18))","v":0},{"$f":"IF(B16626<Parameters!$A$20,B16626*Parameters!$B$20,IF(AND(B16626>Parameters!$A$20,B16626<Parameters!$A$21),B16626*Parameters!$B$21,B16626*Parameters!$B$22))","v":0},{"$error":"#DIV/0!"},"",0,"",0,4.2166666666666659,{"$error":"#DIV/0!"},{"$error":"#DIV/0!"},{"$f":"IF('Gegevens '!$G$20=\"Eigen waarden\",VLOOKUP($F16626,'Gegevens '!$A$25:$C$77,3,FALSE),VLOOKUP($F16626,Lijsten!$A$19:$B$71,2,FALSE))","v":40.291810686080005},{"$error":"#DIV/0!"},{"$error":"#DIV/0!"},{"$error":"#DIV/0!"},{"$error":"#DIV/0!"},{"$error":"#DIV/0!"},{"$error":"#DIV/0!"},{"$error":"#DIV/0!"},"","",{"$error":"#DIV/0!"},0,{"$error":"#DIV/0!"},0,{"$error":"#DIV/0!"},{"$error":"#DIV/0!"},{"$error":"#DIV/0!"},{"$error":"#DIV/0!"},{"$error":"#DIV/0!"},{"$error":"#DIV/0!"},"","","",{"$error":"#DIV/0!"},0,{"$error":"#DIV/0!"},null,null,null,null,null,null,null,null,null,null,null,null,null,null,null,null,null,null,null,null,null,"2012-06-05",0,4.3499999999999996]
["2012-07-14",9.1,2.33,7,2012,28,9.1,{"$f":"IF(B16665<Parameters!$A$16,B16665*Parameters!$B$16,IF(AND(B16665>Parameters!$A$16,B16665<Parameters!$A$17),B16665*Parameters!$B$17,B16665*Parameters!$B$18))","v":8.6449999999999996},{"$f":"IF(B16665<Parameters!$A$20,B16665*Parameters!$B$20,IF(AND(B16665>Parameters!$A$20,B16665<Parameters!$A$21),B16665*Parameters!$B$21,B16665*Parameters!$B$22))","v":6.8249999999999993},{"$error":"#DIV/0!"},{"$error":"#DIV/0!"},{"$error":"#DIV/0!"},{"$error":"#DIV/0!"},{"$error":"#DIV/0!"},2.2977419354838711,{"$error":"#DIV/0!"},{"$error":"#DIV/0!"},{"$f":"IF('Gegevens '!$G$20=\"Eigen waarden\",VLOOKUP($F16665,'Gegevens '!$A$25:$C$77,3,FALSE),VLOOKUP($F16665,Lijsten!$A$19:$B$71,2,FALSE))","v":37.93215799035999},{"$error":"#DIV/0!"},{"$error":"#DIV/0!"},{"$error":"#DIV/0!"},{"$error":"#DIV/0!"},{"$error":"#DIV/0!"},{"$error":"#DIV/0!"},{"$error":"#DIV/0!"},{"$error":"#DIV/0!"},{"$error":"#DIV/0!"},{"$error":"#DIV/0!"},{"$error":"#DIV/0!"},{"$error":"#DIV/0!"},{"$error":"#DIV/0!"},{"$error":"#DIV/0!"},{"$error":"#DIV/0!"},{"$error":"#DIV/0!"},{"$error":"#DIV/0!"},{"$error":"#DIV/0!"},{"$error":"#DIV/0!"},{"$error":"#DIV/0!"},{"$error":"#DIV/0!"},{"$error":"#DIV/0!"},{"$error":"#DIV/0!"},0,{"$error":"#DIV/0!"},null,null,null,null,null,null,null,null,null,null,null,null,null,null,null,null,null,null,null,null,null,"2012-07-14",9.1,2.33]
["2012-09-09",0,4.82,9,2012,36,0,{"$f":"IF(B16722<Parameters!$A$16,B16722*Parameters!$B$16,IF(AND(B16722>Parameters!$A$16,B16722<Parameters!$A$17),B16722*Parameters!$B$17,B16722*Parameters!$B$18))","v":0},{"$f":"IF(B16722<Parameters!$A$20,B16722*Parameters!$B$20,IF(AND(B16722>Parameters!$A$20,B16722<Parameters!$A$21),B16722*Parameters!$B$21,B16722*Parameters!$B$22))","v":0},{"$error":"#DIV/0!"},"",0,"",0,4.953333333333334,{"$error":"#DIV/0!"},{"$error":"#DIV/0!"},{"$f":"IF('Gegevens '!$G$20=\"Eigen waarden\",VLOOKUP($F16722,'Gegevens '!$A$25:$C$77,3,FALSE),VLOOKUP($F16722,Lijsten!$A$19:$B$71,2,FALSE))","v":30.026641895863094},{"$error":"#DIV/0!"},{"$error":"#DIV/0!"},{"$error":"#DIV/0!"},{"$error":"#DIV/0!"},{"$error":"#DIV/0!"},{"$error":"#DIV/0!"},{"$error":"#DIV/0!"},"","",{"$error":"#DIV/0!"},0,{"$error":"#DIV/0!"},0,{"$error":"#DIV/0!"},{"$error":"#DIV/0!"},{"$error":"#DIV/0!"},{"$error":"#DIV/0!"},{"$error":"#DIV/0!"},{"$error":"#DIV/0!"},"","","",{"$error":"#DIV/0!"},0,{"$error":"#DIV/0!"},null,null,null,null,null,null,null,null,null,null,null,null,null,null,null,null,null,null,null,null,null,"2012-09-09",0,4.82]
["2012-11-01",2.5,0.62,11,2012,44,2.5,{"$f":"IF(B16775<Parameters!$A$16,B16775*Parameters!$B$16,IF(AND(B16775>Parameters!$A$16,B16775<Parameters!$A$17),B16775*Parameters!$B$17,B16775*Parameters!$B$18))","v":2.375},{"$f":"IF(B16775<Parameters!$A$20,B16775*Parameters!$B$20,IF(AND(B16775>Parameters!$A$20,B16775<Parameters!$A$21),B16775*Parameters!$B$21,B16775*Parameters!$B$22))","v":1.875},{"$error":"#DIV/0!"},{"$error":"#DIV/0!"},{"$error":"#DIV/0!"},{"$error":"#DIV/0!"},{"$error":"#DIV/0!"},0.78666666666666663,{"$error":"#DIV/0!"},{"$error":"#DIV/0!"},{"$f":"IF('Gegevens '!$G$20=\"Eigen waarden\",VLOOKUP($F16775,'Gegevens '!$A$25:$C$77,3,FALSE),VLOOKUP($F16775,Lijsten!$A$19:$B$71,2,FALSE))","v":11.034608376916669},{"$error":"#DIV/0!"},{"$error":"#DIV/0!"},{"$error":"#DIV/0!"},{"$error":"#DIV/0!"},{"$error":"#DIV/0!"},{"$error":"#DIV/0!"},{"$error":"#DIV/0!"},{"$error":"#DIV/0!"},{"$error":"#DIV/0!"},{"$error":"#DIV/0!"},{"$error":"#DIV/0!"},{"$error":"#DIV/0!"},{"$error":"#DIV/0!"},{"$error":"#DIV/0!"},{"$error":"#DIV/0!"},{"$error":"#DIV/0!"},{"$error":"#DIV/0!"},{"$error":"#DIV/0!"},{"$error":"#DIV/0!"},{"$error":"#DIV/0!"},{"$error":"#DIV/0!"},{"$error":"#DIV/0!"},{"$error":"#DIV/0!"},{"$error":"#DIV/0!"},0,null,null,null,null,null,null,null,null,null,null,null,null,null,null,null,null,null,null,null,null,null,"2012-11-01",2.5,0.62]
["2012-11-02",7.4,0.76,11,2012,44,7.4,{"$f":"IF(B16776<Parameters!$A$16,B16776*Parameters!$B$16,IF(AND(B16776>Parameters!$A$16,B16776<Parameters!$A$17),B16776*Parameters!$B$17,B16776*Parameters!$B$18))","v":7.03},{"$f":"IF(B16776<Parameters!$A$20,B16776*Parameters!$B$20,IF(AND(B16776>Parameters!$A$20,B16776<Parameters!$A$21),B16776*Parameters!$B$21,B16776*Parameters!$B$22))","v":5.5500000000000007},{"$error":"#DIV/0!"},{"$error":"#DIV/0!"},{"$error":"#DIV/0!"},{"$error":"#DIV/0!"},{"$error":"#DIV/0!"},0.92666666666666664,{"$error":"#DIV/0!"},{"$error":"#DIV/0!"},{"$f":"IF('Gegevens '!$G$20=\"Eigen waarden\",VLOOKUP($F16776,'Gegevens '!$A$25:$C$77,3,FALSE),VLOOKUP($F16776,Lijsten!$A$19:$B$71,2,FALSE))","v":11.034608376916669},{"$error":"#DIV/0!"},{"$error":"#DIV/0!"},{"$error":"#DIV/0!"},{"$error":"#DIV/0!"},{"$error":"#DIV/0!"},{"$error":"#DIV/0!"},{"$error":"#DIV/0!"},{"$error":"#DIV/0!"},{"$error":"#DIV/0!"},{"$error":"#DIV/0!"},{"$error":"#DIV/0!"},{"$error":"#DIV/0!"},{"$error":"#DIV/0!"},{"$error":"#DIV/0!"},{"$error":"#DIV/0!"},{"$error":"#DIV/0!"},{"$error":"#DIV/0!"},{"$error":"#DIV/0!"},{"$error":"#DIV/0!"},{"$error":"#DIV/0!"},{"$error":"#DIV/0!"},{"$error":"#DIV/0!"},{"$error":"#DIV/0!"},{"$error":"#DIV/0!"},0,null,null,null,null,null,null,null,null,null,null,null,null,null,null,null,null,null,null,null,null,null,"2012-11-02",7.4,0.76]
["2012-11-03",5.4,0.42,11,2012,44,5.4,{"$f":"IF(B16777<Parameters!$A$16,B16777*Parameters!$B$16,IF(AND(B16777>Parameters!$A$16,B16777<Parameters!$A$17),B16777*Parameters!$B$17,B16777*Parameters!$B$18))","v":5.13},{"$f":"IF(B16777<Parameters!$A$20,B16777*Parameters!$B$20,IF(AND(B16777>Parameters!$A$20,B16777<Parameters!$A$21),B16777*Parameters!$B$21,B16777*Parameters!$B$22))","v":4.0500000000000007},{"$error":"#DIV/0!"},{"$error":"#DIV/0!"},{"$error":"#DIV/0!"},{"$error":"#DIV/0!"},{"$error":"#DIV/0!"},0.58666666666666667,{"$error":"#DIV/0!"},{"$error":"#DIV/0!"},{"$f":"IF('Gegevens '!$G$20=\"Eigen waarden\",VLOOKUP($F16777,'Gegevens '!$A$25:$C$77,3,FALSE),VLOOKUP($F16777,Lijsten!$A$19:$B$71,2,FALSE))","v":11.034608376916669},{"$error":"#DIV/0!"},{"$error":"#DIV/0!"},{"$error":"#DIV/0!"},{"$error":"#DIV/0!"},{"$error":"#DIV/0!"},{"$error":"#DIV/0!"},{"$error":"#DIV/0!"},{"$error":"#DIV/0!"},{"$error":"#DIV/0!"},{"$error":"#DIV/0!"},{"$error":"#DIV/0!"},{"$error":"#DIV/0!"},{"$error":"#DIV/0!"},{"$error":"#DIV/0!"},{"$error":"#DIV/0!"},{"$error":"#DIV/0!"},{"$error":"#DIV/0!"},{"$error":"#DIV/0!"},{"$error":"#DIV/0!"},{"$error":"#DIV/0!"},{"$error":"#DIV/0!"},{"$error":"#DIV/0!"},{"$error":"#DIV/0!"},{"$error":"#DIV/0!"},0,null,null,null,null,null,null,null,null,null,null,null,null,null,null,null,null,null,null,null,null,null,"2012-11-03",5.4,0.42]
["2012-11-04",5,0.66,11,2012,44,5,{"$f":"IF(B16778<Parameters!$A$16,B16778*Parameters!$B$16,IF(AND(B16778>Parameters!$A$16,B16778<Parameters!$A$17),B16778*Parameters!$B$17,B16778*Parameters!$B$18))","v":4.75},{"$f":"IF(B16778<Parameters!$A$20,B16778*Parameters!$B$20,IF(AND(B16778>Parameters!$A$20,B16778<Parameters!$A$21),B16778*Parameters!$B$21,B16778*Parameters!$B$22))","v":3.75},{"$error":"#DIV/0!"},{"$error":"#DIV/0!"},{"$error":"#DIV/0!"},{"$error":"#DIV/0!"},{"$error":"#DIV/0!"},0.82666666666666666,{"$error":"#DIV/0!"},{"$error":"#DIV/0!"},{"$f":"IF('Gegevens '!$G$20=\"Eigen waarden\",VLOOKUP($F16778,'Gegevens '!$A$25:$C$77,3,FALSE),VLOOKUP($F16778,Lijsten!$A$19:$B$71,2,FALSE))","v":11.034608376916669},{"$error":"#DIV/0!"},{"$error":"#DIV/0!"},{"$error":"#DIV/0!"},{"$error":"#DIV/0!"},{"$error":"#DIV/0!"},{"$error":"#DIV/0!"},{"$error":"#DIV/0!"},{"$error":"#DIV/0!"},{"$error":"#DIV/0!"},{"$error":"#DIV/0!"},{"$error":"#DIV/0!"},{"$error":"#DIV/0!"},{"$error":"#DIV/0!"},{"$error":"#DIV/0!"},{"$error":"#DIV/0!"},{"$error":"#DIV/0!"},{"$error":"#DIV/0!"},{"$error":"#DIV/0!"},{"$error":"#DIV/0!"},{"$error":"#DIV/0!"},{"$error":"#DIV/0!"},{"$error":"#DIV/0!"},{"$error":"#DIV/0!"},{"$error":"#DIV/0!"},0,null,null,null,null,null,null,null,null,null,null,null,null,null,null,null,null,null,null,null,null,null,"2012-11-04",5,0.66]
["2012-11-05",0.4,0.23,11,2012,45,0.4,{"$f":"IF(B16779<Parameters!$A$16,B16779*Parameters!$B$16,IF(AND(B16779>Parameters!$A$16,B16779<Parameters!$A$17),B16779*Parameters!$B$17,B16779*Parameters!$B$18))","v":0},{"$f":"IF(B16779<Parameters!$A$20,B16779*Parameters!$B$20,IF(AND(B16779>Parameters!$A$20,B16779<Parameters!$A$21),B16779*Parameters!$B$21,B16779*Parameters!$B$22))","v":0},{"$error":"#DIV/0!"},{"$error":"#DIV/0!"},{"$error":"#DIV/0!"},{"$error":"#DIV/0!"},{"$error":"#DIV/0!"},0.39666666666666667,{"$error":"#DIV/0!"},{"$error":"#DIV/0!"},{"$f":"IF('Gegevens '!$G$20=\"Eigen waarden\",VLOOKUP($F16779,'Gegevens '!$A$25:$C$77,3,FALSE),VLOOKUP($F16779,Lijsten!$A$19:$B$71,2,FALSE))","v":11.050358269480521},{"$error":"#DIV/0!"},{"$error":"#DIV/0!"},{"$error":"#DIV/0!"},{"$error":"#DIV/0!"},{"$error":"#DIV/0!"},{"$error":"#DIV/0!"},{"$error":"#DIV/0!"},{"$error":"#DIV/0!"},{"$error":"#DIV/0!"},{"$error":"#DIV/0!"},{"$error":"#DIV/0!"},{"$error":"#DIV/0!"},{"$error":"#DIV/0!"},{"$error":"#DIV/0!"},{"$error":"#DIV/0!"},{"$error":"#DIV/0!"},{"$error":"#DIV/0!"},{"$error":"#DIV/0!"},{"$error":"#DIV/0!"},{"$error":"#DIV/0!"},{"$error":"#DIV/0!"},{"$error":"#DIV/0!"},{"$error":"#DIV/0!"},{"$error":"#DIV/0!"},0,null,null,null,null,null,null,null,null,null,null,null,null,null,null,null,null,null,null,null,null,null,"2012-11-05",0.4,0.23]
["2012-11-06",1.5,0.69,11,2012,45,1.5,{"$f":"IF(B16780<Parameters!$A$16,B16780*Parameters!$B$16,IF(AND(B16780>Parameters!$A$16,B16780<Parameters!$A$17),B16780*Parameters!$B$17,B16780*Parameters!$B$18))","v":1.2000000000000002},{"$f":"IF(B16780<Parameters!$A$20,B16780*Parameters!$B$20,IF(AND(B16780>Parameters!$A$20,B16780<Parameters!$A$21),B16780*Parameters!$B$21,B16780*Parameters!$B$22))","v":0.89999999999999991},{"$error":"#DIV/0!"},{"$error":"#DIV/0!"},{"$error":"#DIV/0!"},{"$error":"#DIV/0!"},{"$error":"#DIV/0!"},0.85666666666666658,{"$error":"#DIV/0!"},{"$error":"#DIV/0!"},{"$f":"IF('Gegevens '!$G$20=\"Eigen waarden\",VLOOKUP($F16780,'Gegevens '!$A$25:$C$77,3,FALSE),VLOOKUP($F16780,Lijsten!$A$19:$B$71,2,FALSE))","v":11.050358269480521},{"$error":"#DIV/0!"},{"$error":"#DIV/0!"},{"$error":"#DIV/0!"},{"$error":"#DIV/0!"},{"$error":"#DIV/0!"},{"$error":"#DIV/0!"},{"$error":"#DIV/0!"},{"$error":"#DIV/0!"},{"$error":"#DIV/0!"},{"$error":"#DIV/0!"},{"$error":"#DIV/0!"},{"$error":"#DIV/0!"},{"$error":"#DIV/0!"},{"$error":"#DIV/0!"},{"$error":"#DIV/0!"},{"$error":"#DIV/0!"},{"$error":"#DIV/0!"},{"$error":"#DIV/0!"},{"$error":"#DIV/0!"},{"$error":"#DIV/0!"},{"$error":"#DIV/0!"},{"$error":"#DIV/0!"},{"$error":"#DIV/0!"},{"$error":"#DIV/0!"},0,null,null,null,null,null,null,null,null,null,null,null,null,null,null,null,null,null,null,null,null,null,"2012-11-06",1.5,0.69]
["2012-11-07",0.8,0.55000000000000004,11,2012,45,0.8,{"$f":"IF(B16781<Parameters!$A$16,B16781*Parameters!$B$16,IF(AND(B16781>Parameters!$A$16,B16781<Parameters!$A$17),B16781*Parameters!$B$17,B16781*Parameters!$B$18))","v":0},{"$f":"IF(B16781<Parameters!$A$20,B16781*Parameters!$B$20,IF(AND(B16781>Parameters!$A$20,B16781<Parameters!$A$21),B16781*Parameters!$B$21,B16781*Parameters!$B$22))","v":0},{"$error":"#DIV/0!"},{"$error":"#DIV/0!"},{"$error":"#DIV/0!"},{"$error":"#DIV/0!"},{"$error":"#DIV/0!"},0.71666666666666667,{"$error":"#DIV/0!"},{"$error":"#DIV/0!"},{"$f":"IF('Gegevens '!$G$20=\"Eigen waarden\",VLOOKUP($F16781,'Gegevens '!$A$25:$C$77,3,FALSE),VLOOKUP($F16781,Lijsten!$A$19:$B$71,2,FALSE))","v":11.050358269480521},{"$error":"#DIV/0!"},{"$error":"#DIV/0!"},{"$error":"#DIV/0!"},{"$error":"#DIV/0!"},{"$error":"#DIV/0!"},{"$error":"#DIV/0!"},{"$error":"#DIV/0!"},{"$error":"#DIV/0!"},{"$error":"#DIV/0!"},{"$error":"#DIV/0!"},{"$error":"#DIV/0!"},{"$error":"#DIV/0!"},{"$error":"#DIV/0!"},{"$error":"#DIV/0!"},{"$error":"#DIV/0!"},{"$error":"#DIV/0!"},{"$error":"#DIV/0!"},{"$error":"#DIV/0!"},{"$error":"#DIV/0!"},{"$error":"#DIV/0!"},{"$error":"#DIV/0!"},{"$error":"#DIV/0!"},{"$error":"#DIV/0!"},{"$error":"#DIV/0!"},0,null,null,null,null,null,null,null,null,null,null,null,null,null,null,null,null,null,null,null,null,null,"2012-11-07",0.8,0.55000000000000004]
["2012-11-08",0,0.67,11,2012,45,0,{"$f":"IF(B16782<Parameters!$A$16,B16782*Parameters!$B$16,IF(AND(B16782>Parameters!$A$16,B16782<Parameters!$A$17),B16782*Parameters!$B$17,B16782*Parameters!$B$18))","v":0},{"$f":"IF(B16782<Parameters!$A$20,B16782*Parameters!$B$20,IF(AND(B16782>Parameters!$A$20,B16782<Parameters!$A$21),B16782*Parameters!$B$21,B16782*Parameters!$B$22))","v":0},{"$error":"#DIV/0!"},"",0,"",0,0.83666666666666667,{"$error":"#DIV/0!"},{"$error":"#DIV/0!"},{"$f":"IF('Gegevens '!$G$20=\"Eigen waarden\",VLOOKUP($F16782,'Gegevens '!$A$25:$C$77,3,FALSE),VLOOKUP($F16782,Lijsten!$A$19:$B$71,2,FALSE))","v":11.050358269480521},{"$error":"#DIV/0!"},{"$error":"#DIV/0!"},{"$error":"#DIV/0!"},{"$error":"#DIV/0!"},{"$error":"#DIV/0!"},{"$error":"#DIV/0!"},{"$error":"#DIV/0!"},"","",{"$error":"#DIV/0!"},0,{"$error":"#DIV/0!"},0,{"$error":"#DIV/0!"},{"$error":"#DIV/0!"},{"$error":"#DIV/0!"},{"$error":"#DIV/0!"},{"$error":"#DIV/0!"},{"$error":"#DIV/0!"},"","","",{"$error":"#DIV/0!"},{"$error":"#DIV/0!"},0,null,null,null,null,null,null,null,null,null,null,null,null,null,null,null,null,null,null,null,null,null,"2012-11-08",0,0.67]
["2012-11-09",2.2999999999999998,0.71,11,2012,45,2.2999999999999998,{"$f":"IF(B16783<Parameters!$A$16,B16783*Parameters!$B$16,IF(AND(B16783>Parameters!$A$16,B16783<Parameters!$A$17),B16783*Parameters!$B$17,B16783*Parameters!$B$18))","v":2.1849999999999996},{"$f":"IF(B16783<Parameters!$A$20,B16783*Parameters!$B$20,IF(AND(B16783>Parameters!$A$20,B16783<Parameters!$A$21),B16783*Parameters!$B$21,B16783*Parameters!$B$22))","v":1.7249999999999999},{"$error":"#DIV/0!"},{"$error":"#DIV/0!"},{"$error":"#DIV/0!"},{"$error":"#DIV/0!"},{"$error":"#DIV/0!"},0.87666666666666659,{"$error":"#DIV/0!"},{"$error":"#DIV/0!"},{"$f":"IF('Gegevens '!$G$20=\"Eigen waarden\",VLOOKUP($F16783,'Gegevens '!$A$25:$C$77,3,FALSE),VLOOKUP($F16783,Lijsten!$A$19:$B$71,2,FALSE))","v":11.050358269480521},{"$error":"#DIV/0!"},{"$error":"#DIV/0!"},{"$error":"#DIV/0!"},{"$error":"#DIV/0!"},{"$error":"#DIV/0!"},{"$error":"#DIV/0!"},{"$error":"#DIV/0!"},{"$error":"#DIV/0!"},{"$error":"#DIV/0!"},{"$error":"#DIV/0!"},{"$error":"#DIV/0!"},{"$error":"#DIV/0!"},{"$error":"#DIV/0!"},{"$error":"#DIV/0!"},{"$error":"#DIV/0!"},{"$error":"#DIV/0!"},{"$error":"#DIV/0!"},{"$error":"#DIV/0!"},{"$error":"#DIV/0!"},{"$error":"#DIV/0!"},{"$error":"#DIV/0!"},{"$error":"#DIV/0!"},{"$error":"#DIV/0!"},{"$error":"#DIV/0!"},0,null,null,null,null,null,null,null,null,null,null,null,null,null,null,null,null,null,null,null,null,null,"2012-11-09",2.2999999999999998,0.71]
["2012-11-10",1.3,0.33,11,2012,45,1.3,{"$f":"IF(B16784<Parameters!$A$16,B16784*Parameters!$B$16,IF(AND(B16784>Parameters!$A$16,B16784<Parameters!$A$17),B16784*Parameters!$B$17,B16784*Parameters!$B$18))","v":1.04},{"$f":"IF(B16784<Parameters!$A$20,B16784*Parameters!$B$20,IF(AND(B16784>Parameters!$A$20,B16784<Parameters!$A$21),B16784*Parameters!$B$21,B16784*Parameters!$B$22))","v":0.78},{"$error":"#DIV/0!"},{"$error":"#DIV/0!"},{"$error":"#DIV/0!"},{"$error":"#DIV/0!"},{"$error":"#DIV/0!"},0.4966666666666667,{"$error":"#DIV/0!"},{"$error":"#DIV/0!"},{"$f":"IF('Gegevens '!$G$20=\"Eigen waarden\",VLOOKUP($F16784,'Gegevens '!$A$25:$C$77,3,FALSE),VLOOKUP($F16784,Lijsten!$A$19:$B$71,2,FALSE))","v":11.050358269480521},{"$error":"#DIV/0!"},{"$error":"#DIV/0!"},{"$error":"#DIV/0!"},{"$error":"#DIV/0!"},{"$error":"#DIV/0!"},{"$error":"#DIV/0!"},{"$error":"#DIV/0!"},{"$error":"#DIV/0!"},{"$error":"#DIV/0!"},{"$error":"#DIV/0!"},{"$error":"#DIV/0!"},{"$error":"#DIV/0!"},{"$error":"#DIV/0!"},{"$error":"#DIV/0!"},{"$error":"#DIV/0!"},{"$error":"#DIV/0!"},{"$error":"#DIV/0!"},{"$error":"#DIV/0!"},{"$error":"#DIV/0!"},{"$error":"#DIV/0!"},{"$error":"#DIV/0!"},{"$error":"#DIV/0!"},{"$error":"#DIV/0!"},{"$error":"#DIV/0!"},0,null,null,null,null,null,null,null,null,null,null,null,null,null,null,null,null,null,null,null,null,null,"2012-11-10",1.3,0.33]
["2012-11-11",0,0.4,11,2012,45,0,{"$f":"IF(B16785<Parameters!$A$16,B16785*Parameters!$B$16,IF(AND(B16785>Parameters!$A$16,B16785<Parameters!$A$17),B16785*Parameters!$B$17,B16785*Parameters!$B$18))","v":0},{"$f":"IF(B16785<Parameters!$A$20,B16785*Parameters!$B$20,IF(AND(B16785>Parameters!$A$20,B16785<Parameters!$A$21),B16785*Parameters!$B$21,B16785*Parameters!$B$22))","v":0},{"$error":"#DIV/0!"},"",0,"",0,0.56666666666666665,{"$error":"#DIV/0!"},{"$error":"#DIV/0!"},{"$f":"IF('Gegevens '!$G$20=\"Eigen waarden\",VLOOKUP($F16785,'Gegevens '!$A$25:$C$77,3,FALSE),VLOOKUP($F16785,Lijsten!$A$19:$B$71,2,FALSE))","v":11.050358269480521},{"$error":"#DIV/0!"},{"$error":"#DIV/0!"},{"$error":"#DIV/0!"},{"$error":"#DIV/0!"},{"$error":"#DIV/0!"},{"$error":"#DIV/0!"},{"$error":"#DIV/0!"},"","",{"$error":"#DIV/0!"},0,{"$error":"#DIV/0!"},0,{"$error":"#DIV/0!"},{"$error":"#DIV/0!"},{"$error":"#DIV/0!"},{"$error":"#DIV/0!"},{"$error":"#DIV/0!"},{"$error":"#DIV/0!"},"","","",{"$error":"#DIV/0!"},{"$error":"#DIV/0!"},0,null,null,null,null,null,null,null,null,null,null,null,null,null,null,null,null,null,null,null,null,null,"2012-11-11",0,0.4]
["2012-11-12",0,0.28000000000000003,11,2012,46,0,{"$f":"IF(B16786<Parameters!$A$16,B16786*Parameters!$B$16,IF(AND(B16786>Parameters!$A$16,B16786<Parameters!$A$17),B16786*Parameters!$B$17,B16786*Parameters!$B$18))","v":0},{"$f":"IF(B16786<Parameters!$A$20,B16786*Parameters!$B$20,IF(AND(B16786>Parameters!$A$20,B16786<Parameters!$A$21),B16786*Parameters!$B$21,B16786*Parameters!$B$22))","v":0},{"$error":"#DIV/0!"},"",0,"",0,0.44666666666666666,{"$error":"#DIV/0!"},{"$error":"#DIV/0!"},{"$f":"IF('Gegevens '!$G$20=\"Eigen waarden\",VLOOKUP($F16786,'Gegevens '!$A$25:$C$77,3,FALSE),VLOOKUP($F16786,Lijsten!$A$19:$B$71,2,FALSE))","v":9.880531666666668},{"$error":"#DIV/0!"},{"$error":"#DIV/0!"},{"$error":"#DIV/0!"},{"$error":"#DIV/0!"},{"$error":"#DIV/0!"},{"$error":"#DIV/0!"},{"$error":"#DIV/0!"},"","",{"$error":"#DIV/0!"},0,{"$error":"#DIV/0!"},0,{"$error":"#DIV/0!"},{"$error":"#DIV/0!"},{"$error":"#DIV/0!"},{"$error":"#DIV/0!"},{"$error":"#DIV/0!"},{"$error":"#DIV/0!"},"","","",{"$error":"#DIV/0!"},{"$error":"#DIV/0!"},0,null,null,null,null,null,null,null,null,null,null,null,null,null,null,null,null,null,null,null,null,null,"2012-11-12",0,0.28000000000000003]
["2012-11-13",0.6,0.32,11,2012,46,0.6,{"$f":"IF(B16787<Parameters!$A$16,B16787*Parameters!$B$16,IF(AND(B16787>Parameters!$A$16,B16787<Parameters!$A$17),B16787*Parameters!$B$17,B16787*Parameters!$B$18))","v":0},{"$f":"IF(B16787<Parameters!$A$20,B16787*Parameters!$B$20,IF(AND(B16787>Parameters!$A$20,B16787<Parameters!$A$21),B16787*Parameters!$B$21,B16787*Parameters!$B$22))","v":0},{"$error":"#DIV/0!"},{"$error":"#DIV/0!"},{"$error":"#DIV/0!"},{"$error":"#DIV/0!"},{"$error":"#DIV/0!"},0.48666666666666669,{"$error":"#DIV/0!"},{"$error":"#DIV/0!"},{"$f":"IF('Gegevens '!$G$20=\"Eigen waarden\",VLOOKUP($F16787,'Gegevens '!$A$25:$C$77,3,FALSE),VLOOKUP($F16787,Lijsten!$A$19:$B$71,2,FALSE))","v":9.880531666666668},{"$error":"#DIV/0!"},{"$error":"#DIV/0!"},{"$error":"#DIV/0!"},{"$error":"#DIV/0!"},{"$error":"#DIV/0!"},{"$error":"#DIV/0!"},{"$error":"#DIV/0!"},{"$error":"#DIV/0!"},{"$error":"#DIV/0!"},{"$error":"#DIV/0!"},{"$error":"#DIV/0!"},{"$error":"#DIV/0!"},{"$error":"#DIV/0!"},{"$error":"#DIV/0!"},{"$error":"#DIV/0!"},{"$error":"#DIV/0!"},{"$error":"#DIV/0!"},{"$error":"#DIV/0!"},{"$error":"#DIV/0!"},{"$error":"#DIV/0!"},{"$error":"#DIV/0!"},{"$error":"#DIV/0!"},{"$error":"#DIV/0!"},{"$error":"#DIV/0!"},0,null,null,null,null,null,null,null,null,null,null,null,null,null,null,null,null,null,null,null,null,null,"2012-11-13",0.6,0.32]
["2012-11-14",0,0.64,11,2012,46,0,{"$f":"IF(B16788<Parameters!$A$16,B16788*Parameters!$B$16,IF(AND(B16788>Parameters!$A$16,B16788<Parameters!$A$17),B16788*Parameters!$B$17,B16788*Parameters!$B$18))","v":0},{"$f":"IF(B16788<Parameters!$A$20,B16788*Parameters!$B$20,IF(AND(B16788>Parameters!$A$20,B16788<Parameters!$A$21),B16788*Parameters!$B$21,B16788*Parameters!$B$22))","v":0},{"$error":"#DIV/0!"},"",0,"",0,0.80666666666666664,{"$error":"#DIV/0!"},{"$error":"#DIV/0!"},{"$f":"IF('Gegevens '!$G$20=\"Eigen waarden\",VLOOKUP($F16788,'Gegevens '!$A$25:$C$77,3,FALSE),VLOOKUP($F16788,Lijsten!$A$19:$B$71,2,FALSE))","v":9.880531666666668},{"$error":"#DIV/0!"},{"$error":"#DIV/0!"},{"$error":"#DIV/0!"},{"$error":"#DIV/0!"},{"$error":"#DIV/0!"},{"$error":"#DIV/0!"},{"$error":"#DIV/0!"},"","",{"$error":"#DIV/0!"},0,{"$error":"#DIV/0!"},0,{"$error":"#DIV/0!"},{"$error":"#DIV/0!"},{"$error":"#DIV/0!"},{"$error":"#DIV/0!"},{"$error":"#DIV/0!"},{"$error":"#DIV/0!"},"","","",{"$error":"#DIV/0!"},{"$error":"#DIV/0!"},0,null,null,null,null,null,null,null,null,null,null,null,null,null,null,null,null,null,null,null,null,null,"2012-11-14",0,0.64]
["2012-11-15",0,0.22,11,2012,46,0,{"$f":"IF(B16789<Parameters!$A$16,B16789*Parameters!$B$16,IF(AND(B16789>Parameters!$A$16,B16789<Parameters!$A$17),B16789*Parameters!$B$17,B16789*Parameters!$B$18))","v":0},{"$f":"IF(B16789<Parameters!$A$20,B16789*Parameters!$B$20,IF(AND(B16789>Parameters!$A$20,B16789<Parameters!$A$21),B16789*Parameters!$B$21,B16789*Parameters!$B$22))","v":0},{"$error":"#DIV/0!"},"",0,"",0,0.38666666666666666,{"$error":"#DIV/0!"},{"$error":"#DIV/0!"},{"$f":"IF('Gegevens '!$G$20=\"Eigen waarden\",VLOOKUP($F16789,'Gegevens '!$A$25:$C$77,3,FALSE),VLOOKUP($F16789,Lijsten!$A$19:$B$71,2,FALSE))","v":9.880531666666668},{"$error":"#DIV/0!"},{"$error":"#DIV/0!"},{"$error":"#DIV/0!"},{"$error":"#DIV/0!"},{"$error":"#DIV/0!"},{"$error":"#DIV/0!"},{"$error":"#DIV/0!"},"","",{"$error":"#DIV/0!"},0,{"$error":"#DIV/0!"},0,{"$error":"#DIV/0!"},{"$error":"#DIV/0!"},{"$error":"#DIV/0!"},{"$error":"#DIV/0!"},{"$error":"#DIV/0!"},{"$error":"#DIV/0!"},"","","",{"$error":"#DIV/0!"},{"$error":"#DIV/0!"},0,null,null,null,null,null,null,null,null,null,null,null,null,null,null,null,null,null,null,null,null,null,"2012-11-15",0,0.22]
["2012-11-16",0,0.27,11,2012,46,0,{"$f":"IF(B16790<Parameters!$A$16,B16790*Parameters!$B$16,IF(AND(B16790>Parameters!$A$16,B16790<Parameters!$A$17),B16790*Parameters!$B$17,B16790*Parameters!$B$18))","v":0},{"$f":"IF(B16790<Parameters!$A$20,B16790*Parameters!$B$20,IF(AND(B16790>Parameters!$A$20,B16790<Parameters!$A$21),B16790*Parameters!$B$21,B16790*Parameters!$B$22))","v":0},{"$error":"#DIV/0!"},"",0,"",0,0.43666666666666665,{"$error":"#DIV/0!"},{"$error":"#DIV/0!"},{"$f":"IF('Gegevens '!$G$20=\"Eigen waarden\",VLOOKUP($F16790,'Gegevens '!$A$25:$C$77,3,FALSE),VLOOKUP($F16790,Lijsten!$A$19:$B$71,2,FALSE))","v":9.880531666666668},{"$error":"#DIV/0!"},{"$error":"#DIV/0!"},{"$error":"#DIV/0!"},{"$error":"#DIV/0!"},{"$error":"#DIV/0!"},{"$error":"#DIV/0!"},{"$error":"#DIV/0!"},"","",{"$error":"#DIV/0!"},0,{"$error":"#DIV/0!"},0,{"$error":"#DIV/0!"},{"$error":"#DIV/0!"},{"$error":"#DIV/0!"},{"$error":"#DIV/0!"},{"$error":"#DIV/0!"},{"$error":"#DIV/0!"},"","","",{"$error":"#DIV/0!"},{"$error":"#DIV/0!"},0,null,null,null,null,null,null,null,null,null,null,null,null,null,null,null,null,null,null,null,null,null,"2012-11-16",0,0.27]
["2012-11-17",0.2,0.22,11,2012,46,0.2,{"$f":"IF(B16791<Parameters!$A$16,B16791*Parameters!$B$16,IF(AND(B16791>Parameters!$A$16,B16791<Parameters!$A$17),B16791*Parameters!$B$17,B16791*Parameters!$B$18))","v":0},{"$f":"IF(B16791<Parameters!$A$20,B16791*Parameters!$B$20,IF(AND(B16791>Parameters!$A$20,B16791<Parameters!$A$21),B16791*Parameters!$B$21,B16791*Parameters!$B$22))","v":0},{"$error":"#DIV/0!"},{"$error":"#DIV/0!"},{"$error":"#DIV/0!"},{"$error":"#DIV/0!"},{"$error":"#DIV/0!"},0.38666666666666666,{"$error":"#DIV/0!"},{"$error":"#DIV/0!"},{"$f":"IF('Gegevens '!$G$20=\"Eigen waarden\",VLOOKUP($F16791,'Gegevens '!$A$25:$C$77,3,FALSE),VLOOKUP($F16791,Lijsten!$A$19:$B$71,2,FALSE))","v":9.880531666666668},{"$error":"#DIV/0!"},{"$error":"#DIV/0!"},{"$error":"#DIV/0!"},{"$error":"#DIV/0!"},{"$error":"#DIV/0!"},{"$error":"#DIV/0!"},{"$error":"#DIV/0!"},{"$error":"#DIV/0!"},{"$error":"#DIV/0!"},{"$error":"#DIV/0!"},{"$error":"#DIV/0!"},{"$error":"#DIV/0!"},{"$error":"#DIV/0!"},{"$error":"#DIV/0!"},{"$error":"#DIV/0!"},{"$error":"#DIV/0!"},{"$error":"#DIV/0!"},{"$error":"#DIV/0!"},{"$error":"#DIV/0!"},{"$error":"#DIV/0!"},{"$error":"#DIV/0!"},{"$error":"#DIV/0!"},{"$error":"#DIV/0!"},{"$error":"#DIV/0!"},0,null,null,null,null,null,null,null,null,null,null,null,null,null,null,null,null,null,null,null,null,null,"2012-11-17",0.2,0.22]
["2012-11-18",6.8,0.09,11,2012,46,6.8,{"$f":"IF(B16792<Parameters!$A$16,B16792*Parameters!$B$16,IF(AND(B16792>Parameters!$A$16,B16792<Parameters!$A$17),B16792*Parameters!$B$17,B16792*Parameters!$B$18))","v":6.46},{"$f":"IF(B16792<Parameters!$A$20,B16792*Parameters!$B$20,IF(AND(B16792>Parameters!$A$20,B16792<Parameters!$A$21),B16792*Parameters!$B$21,B16792*Parameters!$B$22))","v":5.0999999999999996},{"$error":"#DIV/0!"},{"$error":"#DIV/0!"},{"$error":"#DIV/0!"},{"$error":"#DIV/0!"},{"$error":"#DIV/0!"},0.25666666666666665,{"$error":"#DIV/0!"},{"$error":"#DIV/0!"},{"$f":"IF('Gegevens '!$G$20=\"Eigen waarden\",VLOOKUP($F16792,'Gegevens '!$A$25:$C$77,3,FALSE),VLOOKUP($F16792,Lijsten!$A$19:$B$71,2,FALSE))","v":9.880531666666668},{"$error":"#DIV/0!"},{"$error":"#DIV/0!"},{"$error":"#DIV/0!"},{"$error":"#DIV/0!"},{"$error":"#DIV/0!"},{"$error":"#DIV/0!"},{"$error":"#DIV/0!"},{"$error":"#DIV/0!"},{"$error":"#DIV/0!"},{"$error":"#DIV/0!"},{"$error":"#DIV/0!"},{"$error":"#DIV/0!"},{"$error":"#DIV/0!"},{"$error":"#DIV/0!"},{"$error":"#DIV/0!"},{"$error":"#DIV/0!"},{"$error":"#DIV/0!"},{"$error":"#DIV/0!"},{"$error":"#DIV/0!"},{"$error":"#DIV/0!"},{"$error":"#DIV/0!"},{"$error":"#DIV/0!"},{"$error":"#DIV/0!"},{"$error":"#DIV/0!"},0,null,null,null,null,null,null,null,null,null,null,null,null,null,null,null,null,null,null,null,null,null,"2012-11-18",6.8,0.09]
["2012-11-19",0,0.28000000000000003,11,2012,47,0,{"$f":"IF(B16793<Parameters!$A$16,B16793*Parameters!$B$16,IF(AND(B16793>Parameters!$A$16,B16793<Parameters!$A$17),B16793*Parameters!$B$17,B16793*Parameters!$B$18))","v":0},{"$f":"IF(B16793<Parameters!$A$20,B16793*Parameters!$B$20,IF(AND(B16793>Parameters!$A$20,B16793<Parameters!$A$21),B16793*Parameters!$B$21,B16793*Parameters!$B$22))","v":0},{"$error":"#DIV/0!"},"",0,"",0,0.44666666666666666,{"$error":"#DIV/0!"},{"$error":"#DIV/0!"},{"$f":"IF('Gegevens '!$G$20=\"Eigen waarden\",VLOOKUP($F16793,'Gegevens '!$A$25:$C$77,3,FALSE),VLOOKUP($F16793,Lijsten!$A$19:$B$71,2,FALSE))","v":7.1842085238095237},{"$error":"#DIV/0!"},{"$error":"#DIV/0!"},{"$error":"#DIV/0!"},{"$error":"#DIV/0!"},{"$error":"#DIV/0!"},{"$error":"#DIV/0!"},{"$error":"#DIV/0!"},"","",{"$error":"#DIV/0!"},0,{"$error":"#DIV/0!"},0,{"$error":"#DIV/0!"},{"$error":"#DIV/0!"},{"$error":"#DIV/0!"},{"$error":"#DIV/0!"},{"$error":"#DIV/0!"},{"$error":"#DIV/0!"},"","","",{"$error":"#DIV/0!"},{"$error":"#DIV/0!"},0,null,null,null,null,null,null,null,null,null,null,null,null,null,null,null,null,null,null,null,null,null,"2012-11-19",0,0.28000000000000003]
["2012-11-20",0,0.45,11,2012,47,0,{"$f":"IF(B16794<Parameters!$A$16,B16794*Parameters!$B$16,IF(AND(B16794>Parameters!$A$16,B16794<Parameters!$A$17),B16794*Parameters!$B$17,B16794*Parameters!$B$18))","v":0},{"$f":"IF(B16794<Parameters!$A$20,B16794*Parameters!$B$20,IF(AND(B16794>Parameters!$A$20,B16794<Parameters!$A$21),B16794*Parameters!$B$21,B16794*Parameters!$B$22))","v":0},{"$error":"#DIV/0!"},"",0,"",0,0.6166666666666667,{"$error":"#DIV/0!"},{"$error":"#DIV/0!"},{"$f":"IF('Gegevens '!$G$20=\"Eigen waarden\",VLOOKUP($F16794,'Gegevens '!$A$25:$C$77,3,FALSE),VLOOKUP($F16794,Lijsten!$A$19:$B$71,2,FALSE))","v":7.1842085238095237},{"$error":"#DIV/0!"},{"$error":"#DIV/0!"},{"$error":"#DIV/0!"},{"$error":"#DIV/0!"},{"$error":"#DIV/0!"},{"$error":"#DIV/0!"},{"$error":"#DIV/0!"},"","",{"$error":"#DIV/0!"},0,{"$error":"#DIV/0!"},0,{"$error":"#DIV/0!"},{"$error":"#DIV/0!"},{"$error":"#DIV/0!"},{"$error":"#DIV/0!"},{"$error":"#DIV/0!"},{"$error":"#DIV/0!"},"","","",{"$error":"#DIV/0!"},{"$error":"#DIV/0!"},0,null,null,null,null,null,null,null,null,null,null,null,null,null,null,null,null,null,null,null,null,null,"2012-11-20",0,0.45]
["2012-11-21",0.5,0.39,11,2012,47,0.5,{"$f":"IF(B16795<Parameters!$A$16,B16795*Parameters!$B$16,IF(AND(B16795>Parameters!$A$16,B16795<Parameters!$A$17),B16795*Parameters!$B$17,B16795*Parameters!$B$18))","v":0},{"$f":"IF(B16795<Parameters!$A$20,B16795*Parameters!$B$20,IF(AND(B16795>Parameters!$A$20,B16795<Parameters!$A$21),B16795*Parameters!$B$21,B16795*Parameters!$B$22))","v":0},{"$error":"#DIV/0!"},{"$error":"#DIV/0!"},{"$error":"#DIV/0!"},{"$error":"#DIV/0!"},{"$error":"#DIV/0!"},0.55666666666666664,{"$error":"#DIV/0!"},{"$error":"#DIV/0!"},{"$f":"IF('Gegevens '!$G$20=\"Eigen waarden\",VLOOKUP($F16795,'Gegevens '!$A$25:$C$77,3,FALSE),VLOOKUP($F16795,Lijsten!$A$19:$B$71,2,FALSE))","v":7.1842085238095237},{"$error":"#DIV/0!"},{"$error":"#DIV/0!"},{"$error":"#DIV/0!"},{"$error":"#DIV/0!"},{"$error":"#DIV/0!"},{"$error":"#DIV/0!"},{"$error":"#DIV/0!"},{"$error":"#DIV/0!"},{"$error":"#DIV/0!"},{"$error":"#DIV/0!"},{"$error":"#DIV/0!"},{"$error":"#DIV/0!"},{"$error":"#DIV/0!"},{"$error":"#DIV/0!"},{"$error":"#DIV/0!"},{"$error":"#DIV/0!"},{"$error":"#DIV/0!"},{"$error":"#DIV/0!"},{"$error":"#DIV/0!"},{"$error":"#DIV/0!"},{"$error":"#DIV/0!"},{"$error":"#DIV/0!"},{"$error":"#DIV/0!"},{"$error":"#DIV/0!"},0,null,null,null,null,null,null,null,null,null,null,null,null,null,null,null,null,null,null,null,null,null,"2012-11-21",0.5,0.39]
["2012-11-22",0,0.69,11,2012,47,0,{"$f":"IF(B16796<Parameters!$A$16,B16796*Parameters!$B$16,IF(AND(B16796>Parameters!$A$16,B16796<Parameters!$A$17),B16796*Parameters!$B$17,B16796*Parameters!$B$18))","v":0},{"$f":"IF(B16796<Parameters!$A$20,B16796*Parameters!$B$20,IF(AND(B16796>Parameters!$A$20,B16796<Parameters!$A$21),B16796*Parameters!$B$21,B16796*Parameters!$B$22))","v":0},{"$error":"#DIV/0!"},"",0,"",0,0.85666666666666658,{"$error":"#DIV/0!"},{"$error":"#DIV/0!"},{"$f":"IF('Gegevens '!$G$20=\"Eigen waarden\",VLOOKUP($F16796,'Gegevens '!$A$25:$C$77,3,FALSE),VLOOKUP($F16796,Lijsten!$A$19:$B$71,2,FALSE))","v":7.1842085238095237},{"$error":"#DIV/0!"},{"$error":"#DIV/0!"},{"$error":"#DIV/0!"},{"$error":"#DIV/0!"},{"$error":"#DIV/0!"},{"$error":"#DIV/0!"},{"$error":"#DIV/0!"},"","",{"$error":"#DIV/0!"},0,{"$error":"#DIV/0!"},0,{"$error":"#DIV/0!"},{"$error":"#DIV/0!"},{"$error":"#DIV/0!"},{"$error":"#DIV/0!"},{"$error":"#DIV/0!"},{"$error":"#DIV/0!"},"","","",{"$error":"#DIV/0!"},{"$error":"#DIV/0!"},0,null,null,null,null,null,null,null,null,null,null,null,null,null,null,null,null,null,null,null,null,null,"2012-11-22",0,0.69]
["2012-11-23",6.7,0.12,11,2012,47,6.7,{"$f":"IF(B16797<Parameters!$A$16,B16797*Parameters!$B$16,IF(AND(B16797>Parameters!$A$16,B16797<Parameters!$A$17),B16797*Parameters!$B$17,B16797*Parameters!$B$18))","v":6.3650000000000002},{"$f":"IF(B16797<Parameters!$A$20,B16797*Parameters!$B$20,IF(AND(B16797>Parameters!$A$20,B16797<Parameters!$A$21),B16797*Parameters!$B$21,B16797*Parameters!$B$22))","v":5.0250000000000004},{"$error":"#DIV/0!"},{"$error":"#DIV/0!"},{"$error":"#DIV/0!"},{"$error":"#DIV/0!"},{"$error":"#DIV/0!"},0.28666666666666663,{"$error":"#DIV/0!"},{"$error":"#DIV/0!"},{"$f":"IF('Gegevens '!$G$20=\"Eigen waarden\",VLOOKUP($F16797,'Gegevens '!$A$25:$C$77,3,FALSE),VLOOKUP($F16797,Lijsten!$A$19:$B$71,2,FALSE))","v":7.1842085238095237},{"$error":"#DIV/0!"},{"$error":"#DIV/0!"},{"$error":"#DIV/0!"},{"$error":"#DIV/0!"},{"$error":"#DIV/0!"},{"$error":"#DIV/0!"},{"$error":"#DIV/0!"},{"$error":"#DIV/0!"},{"$error":"#DIV/0!"},{"$error":"#DIV/0!"},{"$error":"#DIV/0!"},{"$error":"#DIV/0!"},{"$error":"#DIV/0!"},{"$error":"#DIV/0!"},{"$error":"#DIV/0!"},{"$error":"#DIV/0!"},{"$error":"#DIV/0!"},{"$error":"#DIV/0!"},{"$error":"#DIV/0!"},{"$error":"#DIV/0!"},{"$error":"#DIV/0!"},{"$error":"#DIV/0!"},{"$error":"#DIV/0!"},{"$error":"#DIV/0!"},0,null,null,null,null,null,null,null,null,null,null,null,null,null,null,null,null,null,null,null,null,null,"2012-11-23",6.7,0.12]
["2012-11-24",0.8,0.17,11,2012,47,0.8,{"$f":"IF(B16798<Parameters!$A$16,B16798*Parameters!$B$16,IF(AND(B16798>Parameters!$A$16,B16798<Parameters!$A$17),B16798*Parameters!$B$17,B16798*Parameters!$B$18))","v":0},{"$f":"IF(B16798<Parameters!$A$20,B16798*Parameters!$B$20,IF(AND(B16798>Parameters!$A$20,B16798<Parameters!$A$21),B16798*Parameters!$B$21,B16798*Parameters!$B$22))","v":0},{"$error":"#DIV/0!"},{"$error":"#DIV/0!"},{"$error":"#DIV/0!"},{"$error":"#DIV/0!"},{"$error":"#DIV/0!"},0.33666666666666667,{"$error":"#DIV/0!"},{"$error":"#DIV/0!"},{"$f":"IF('Gegevens '!$G$20=\"Eigen waarden\",VLOOKUP($F16798,'Gegevens '!$A$25:$C$77,3,FALSE),VLOOKUP($F16798,Lijsten!$A$19:$B$71,2,FALSE))","v":7.1842085238095237},{"$error":"#DIV/0!"},{"$error":"#DIV/0!"},{"$error":"#DIV/0!"},{"$error":"#DIV/0!"},{"$error":"#DIV/0!"},{"$error":"#DIV/0!"},{"$error":"#DIV/0!"},{"$error":"#DIV/0!"},{"$error":"#DIV/0!"},{"$error":"#DIV/0!"},{"$error":"#DIV/0!"},{"$error":"#DIV/0!"},{"$error":"#DIV/0!"},{"$error":"#DIV/0!"},{"$error":"#DIV/0!"},{"$error":"#DIV/0!"},{"$error":"#DIV/0!"},{"$error":"#DIV/0!"},{"$error":"#DIV/0!"},{"$error":"#DIV/0!"},{"$error":"#DIV/0!"},{"$error":"#DIV/0!"},{"$error":"#DIV/0!"},{"$error":"#DIV/0!"},0,null,null,null,null,null,null,null,null,null,null,null,null,null,null,null,null,null,null,null,null,null,"2012-11-24",0.8,0.17]
["2012-11-25",0.7,1.01,11,2012,47,0.7,{"$f":"IF(B16799<Parameters!$A$16,B16799*Parameters!$B$16,IF(AND(B16799>Parameters!$A$16,B16799<Parameters!$A$17),B16799*Parameters!$B$17,B16799*Parameters!$B$18))","v":0},{"$f":"IF(B16799<Parameters!$A$20,B16799*Parameters!$B$20,IF(AND(B16799>Parameters!$A$20,B16799<Parameters!$A$21),B16799*Parameters!$B$21,B16799*Parameters!$B$22))","v":0},{"$error":"#DIV/0!"},{"$error":"#DIV/0!"},{"$error":"#DIV/0!"},{"$error":"#DIV/0!"},{"$error":"#DIV/0!"},1.1766666666666667,{"$error":"#DIV/0!"},{"$error":"#DIV/0!"},{"$f":"IF('Gegevens '!$G$20=\"Eigen waarden\",VLOOKUP($F16799,'Gegevens '!$A$25:$C$77,3,FALSE),VLOOKUP($F16799,Lijsten!$A$19:$B$71,2,FALSE))","v":7.1842085238095237},{"$error":"#DIV/0!"},{"$error":"#DIV/0!"},{"$error":"#DIV/0!"},{"$error":"#DIV/0!"},{"$error":"#DIV/0!"},{"$error":"#DIV/0!"},{"$error":"#DIV/0!"},{"$error":"#DIV/0!"},{"$error":"#DIV/0!"},{"$error":"#DIV/0!"},{"$error":"#DIV/0!"},{"$error":"#DIV/0!"},{"$error":"#DIV/0!"},{"$error":"#DIV/0!"},{"$error":"#DIV/0!"},{"$error":"#DIV/0!"},{"$error":"#DIV/0!"},{"$error":"#DIV/0!"},{"$error":"#DIV/0!"},{"$error":"#DIV/0!"},{"$error":"#DIV/0!"},{"$error":"#DIV/0!"},{"$error":"#DIV/0!"},{"$error":"#DIV/0!"},0,null,null,null,null,null,null,null,null,null,null,null,null,null,null,null,null,null,null,null,null,null,"2012-11-25",0.7,1.01]
["2012-11-26",0.1,0.76,11,2012,48,0.1,{"$f":"IF(B16800<Parameters!$A$16,B16800*Parameters!$B$16,IF(AND(B16800>Parameters!$A$16,B16800<Parameters!$A$17),B16800*Parameters!$B$17,B16800*Parameters!$B$18))","v":0},{"$f":"IF(B16800<Parameters!$A$20,B16800*Parameters!$B$20,IF(AND(B16800>Parameters!$A$20,B16800<Parameters!$A$21),B16800*Parameters!$B$21,B16800*Parameters!$B$22))","v":0},{"$error":"#DIV/0!"},{"$error":"#DIV/0!"},{"$error":"#DIV/0!"},{"$error":"#DIV/0!"},{"$error":"#DIV/0!"},0.92666666666666664,{"$error":"#DIV/0!"},{"$error":"#DIV/0!"},{"$f":"IF('Gegevens '!$G$20=\"Eigen waarden\",VLOOKUP($F16800,'Gegevens '!$A$25:$C$77,3,FALSE),VLOOKUP($F16800,Lijsten!$A$19:$B$71,2,FALSE))","v":8.6779285714285717},{"$error":"#DIV/0!"},{"$error":"#DIV/0!"},{"$error":"#DIV/0!"},{"$error":"#DIV/0!"},{"$error":"#DIV/0!"},{"$error":"#DIV/0!"},{"$error":"#DIV/0!"},{"$error":"#DIV/0!"},{"$error":"#DIV/0!"},{"$error":"#DIV/0!"},{"$error":"#DIV/0!"},{"$error":"#DIV/0!"},{"$error":"#DIV/0!"},{"$error":"#DIV/0!"},{"$error":"#DIV/0!"},{"$error":"#DIV/0!"},{"$error":"#DIV/0!"},{"$error":"#DIV/0!"},{"$error":"#DIV/0!"},{"$error":"#DIV/0!"},{"$error":"#DIV/0!"},{"$error":"#DIV/0!"},{"$error":"#DIV/0!"},{"$error":"#DIV/0!"},0,null,null,null,null,null,null,null,null,null,null,null,null,null,null,null,null,null,null,null,null,null,"2012-11-26",0.1,0.76]
["2012-11-27",1,0.26,11,2012,48,1,{"$f":"IF(B16801<Parameters!$A$16,B16801*Parameters!$B$16,IF(AND(B16801>Parameters!$A$16,B16801<Parameters!$A$17),B16801*Parameters!$B$17,B16801*Parameters!$B$18))","v":0.95},{"$f":"IF(B16801<Parameters!$A$20,B16801*Parameters!$B$20,IF(AND(B16801>Parameters!$A$20,B16801<Parameters!$A$21),B16801*Parameters!$B$21,B16801*Parameters!$B$22))","v":0.75},{"$error":"#DIV/0!"},{"$error":"#DIV/0!"},{"$error":"#DIV/0!"},{"$error":"#DIV/0!"},{"$error":"#DIV/0!"},0.42666666666666664,{"$error":"#DIV/0!"},{"$error":"#DIV/0!"},{"$f":"IF('Gegevens '!$G$20=\"Eigen waarden\",VLOOKUP($F16801,'Gegevens '!$A$25:$C$77,3,FALSE),VLOOKUP($F16801,Lijsten!$A$19:$B$71,2,FALSE))","v":8.6779285714285717},{"$error":"#DIV/0!"},{"$error":"#DIV/0!"},{"$error":"#DIV/0!"},{"$error":"#DIV/0!"},{"$error":"#DIV/0!"},{"$error":"#DIV/0!"},{"$error":"#DIV/0!"},{"$error":"#DIV/0!"},{"$error":"#DIV/0!"},{"$error":"#DIV/0!"},{"$error":"#DIV/0!"},{"$error":"#DIV/0!"},{"$error":"#DIV/0!"},{"$error":"#DIV/0!"},{"$error":"#DIV/0!"},{"$error":"#DIV/0!"},{"$error":"#DIV/0!"},{"$error":"#DIV/0!"},{"$error":"#DIV/0!"},{"$error":"#DIV/0!"},{"$error":"#DIV/0!"},{"$error":"#DIV/0!"},{"$error":"#DIV/0!"},{"$error":"#DIV/0!"},0,null,null,null,null,null,null,null,null,null,null,null,null,null,null,null,null,null,null,null,null,null,"2012-11-27",1,0.26]
["2012-11-28",0.6,0.23,11,2012,48,0.6,{"$f":"IF(B16802<Parameters!$A$16,B16802*Parameters!$B$16,IF(AND(B16802>Parameters!$A$16,B16802<Parameters!$A$17),B16802*Parameters!$B$17,B16802*Parameters!$B$18))","v":0},{"$f":"IF(B16802<Parameters!$A$20,B16802*Parameters!$B$20,IF(AND(B16802>Parameters!$A$20,B16802<Parameters!$A$21),B16802*Parameters!$B$21,B16802*Parameters!$B$22))","v":0},{"$error":"#DIV/0!"},{"$error":"#DIV/0!"},{"$error":"#DIV/0!"},{"$error":"#DIV/0!"},{"$error":"#DIV/0!"},0.39666666666666667,{"$error":"#DIV/0!"},{"$error":"#DIV/0!"},{"$f":"IF('Gegevens '!$G$20=\"Eigen waarden\",VLOOKUP($F16802,'Gegevens '!$A$25:$C$77,3,FALSE),VLOOKUP($F16802,Lijsten!$A$19:$B$71,2,FALSE))","v":8.6779285714285717},{"$error":"#DIV/0!"},{"$error":"#DIV/0!"},{"$error":"#DIV/0!"},{"$error":"#DIV/0!"},{"$error":"#DIV/0!"},{"$error":"#DIV/0!"},{"$error":"#DIV/0!"},{"$error":"#DIV/0!"},{"$error":"#DIV/0!"},{"$error":"#DIV/0!"},{"$error":"#DIV/0!"},{"$error":"#DIV/0!"},{"$error":"#DIV/0!"},{"$error":"#DIV/0!"},{"$error":"#DIV/0!"},{"$error":"#DIV/0!"},{"$error":"#DIV/0!"},{"$error":"#DIV/0!"},{"$error":"#DIV/0!"},{"$error":"#DIV/0!"},{"$error":"#DIV/0!"},{"$error":"#DIV/0!"},{"$error":"#DIV/0!"},{"$error":"#DIV/0!"},0,null,null,null,null,null,null,null,null,null,null,null,null,null,null,null,null,null,null,null,null,null,"2012-11-28",0.6,0.23]
["2012-11-29",0,0.4,{"$f":"MONTH(A16803)","v":11},2012,{"$f":"INT((A16803-DATE(YEAR(A16803-WEEKDAY(A16803-1)+4),1,3)+WEEKDAY(DATE(YEAR(A16803-WEEKDAY(A16803-1)+4),1,3))+5)/7)","v":48},0,{"$f":"IF(B16803<Parameters!$A$16,B16803*Parameters!$B$16,IF(AND(B16803>Parameters!$A$16,B16803<Parameters!$A$17),B16803*Parameters!$B$17,B16803*Parameters!$B$18))","v":0},{"$f":"IF(B16803<Parameters!$A$20,B16803*Parameters!$B$20,IF(AND(B16803>Parameters!$A$20,B16803<Parameters!$A$21),B16803*Parameters!$B$21,B16803*Parameters!$B$22))","v":0},{"$error":"#DIV/0!"},{"$f":"IF(B16803=0,\"\",SUM(J16803/(B16803*10)))","v":""},0,{"$f":"IF(B16803=0,\"\",L16803/J16803)","v":""},{"$f":"IF(B16803=0,0,SUM(J16803-L16803))","v":0},{"$f":"IF(OR($D16803=1,$D16803=12,$D16803=8),C16803+(2/31),IF($D16803=2,C16803-(1/28),IF($D16803=3,C16803-(3/31),IF($D16803=4,C16803-(5/30),IF($D16803=5,C16803-(6/31),IF($D16803=6,C16803-(4/30),IF($D16803=7,C16803-(1/31),IF($D16803=9,C16803+(4/30),IF($D16803=10,C16803+(5/31),IF($D16803=11,C16803+(5/30)))))))))))","v":0.56666666666666665},{"$f":"-(($BH$3-$BI$3)*($AN$3+$AK$3-U16803)/($AK$3)-$BH$3)","v":{"$error":"#DIV/0!"}},{"$error":"#DIV/0!"},{"$f":"IF('Gegevens '!$G$20=\"Eigen waarden\",VLOOKUP($F16803,'Gegevens '!$A$25:$C$77,3,FALSE),VLOOKUP($F16803,Lijsten!$A$19:$B$71,2,FALSE))","v":8.6779285714285717},{"$error":"#DIV/0!"},{"$error":"#DIV/0!"},{"$error":"#DIV/0!"},{"$error":"#DIV/0!"},{"$error":"#DIV/0!"},{"$error":"#DIV/0!"},{"$f":"IF(R16803=0,\"\",((R16803-W16803)/R16803))","v":{"$error":"#DIV/0!"}},{"$f":"IF(B16803=0,\"\",X16803/(B16803*10))","v":""},"",{"$f":"J16803/10","v":{"$error":"#DIV/0!"}},{"$f":"L16803/10","v":0},{"$f":"X16803/10","v":{"$error":"#DIV/0!"}},0,{"$error":"#DIV/0!"},{"$error":"#DIV/0!"},{"$f":"(R16803-W16803)/10","v":{"$error":"#DIV/0!"}},{"$f":"SUM(AC16803-AF16803-AG16803-AD16803)","v":{"$error":"#DIV/0!"}},{"$f":"IF(AB16803=0,\"\",AE16803/AB16803)","v":{"$error":"#DIV/0!"}},{"$error":"#DIV/0!"},{"$f":"IF(AC16803=0,\"\",AG16803/AC16803)","v":""},{"$f":"IF(AC16803=0,\"\",AD16803/AC16803)","v":""},{"$f":"IF(AC16803=0,\"\",AI16803/AC16803)","v":""},{"$error":"#DIV/0!"},{"$error":"#DIV/0!"},0,null,null,null,null,null,null,null,null,null,null,null,null,null,null,null,null,null,null,null,null,null,"2012-11-29",0,0.4]
["2012-11-30",0,7.0000000000000007E-2,11,{"$f":"IF(AND((F16803>1),(F16804=1)),E16803+1,E16803)","v":2012},48,{"$f":"B16804","v":0},{"$f":"IF(B16804<Parameters!$A$16,B16804*Parameters!$B$16,IF(AND(B16804>Parameters!$A$16,B16804<Parameters!$A$17),B16804*Parameters!$B$17,B16804*Parameters!$B$18))","v":0},{"$f":"IF(B16804<Parameters!$A$20,B16804*Parameters!$B$20,IF(AND(B16804>Parameters!$A$20,B16804<Parameters!$A$21),B16804*Parameters!$B$21,B16804*Parameters!$B$22))","v":0},{"$error":"#DIV/0!"},"",{"$f":"IF(B16804=0,0,SUM(B16804*$D$3+H16804*$B$3+I16804*$C$3)/$E$3*10)","v":0},"",0,0.23666666666666666,{"$error":"#DIV/0!"},{"$error":"#DIV/0!"},{"$f":"IF('Gegevens '!$G$20=\"Eigen waarden\",VLOOKUP($F16804,'Gegevens '!$A$25:$C$77,3,FALSE),VLOOKUP($F16804,Lijsten!$A$19:$B$71,2,FALSE))","v":8.6779285714285717},{"$f":"SUM(L16804-R16804-Q16804)","v":{"$error":"#DIV/0!"}},{"$f":"L16804-Q16804","v":{"$error":"#DIV/0!"}},{"$f":"IF(U16803<$AN$3,U16803+T16804,IF(AND((U16803>$AN$3),(SUM(U16803+S16804)<$AN$3)),SUM($AN$3+T16804),IF((SUM(U16803+S16804)>($AN$3+$AK$3)),$AN$3+$AK$3,U16803+S16804)))","v":{"$error":"#DIV/0!"}},{"$error":"#DIV/0!"},{"$error":"#DIV/0!"},{"$f":"R16804-W16804","v":{"$error":"#DIV/0!"}},{"$error":"#DIV/0!"},"",{"$f":"K16804","v":""},{"$error":"#DIV/0!"},0,{"$error":"#DIV/0!"},0,{"$error":"#DIV/0!"},{"$error":"#DIV/0!"},{"$error":"#DIV/0!"},{"$error":"#DIV/0!"},{"$error":"#DIV/0!"},{"$f":"IF(AB16804=0,\"\",AF16804/AB16804)","v":{"$error":"#DIV/0!"}},"","","",{"$f":"AI16804*$E$5/1000","v":{"$error":"#DIV/0!"}},{"$f":"IF(OR(F16804<=13,F16804>=40),VALUE(AO16804),0)","v":{"$error":"#DIV/0!"}},{"$f":"IF(OR(F16804<=13,F16804>=40),0,VALUE(AO16804))","v":0},null,null,null,null,null,null,null,null,null,null,null,null,null,null,null,null,null,null,null,null,null,"2012-11-30",0,7.0000000000000007E-2]
["2012-12-01",0.8,0.21,12,2012,48,0.8,{"$f":"IF(B16805<Parameters!$A$16,B16805*Parameters!$B$16,IF(AND(B16805>Parameters!$A$16,B16805<Parameters!$A$17),B16805*Parameters!$B$17,B16805*Parameters!$B$18))","v":0},{"$f":"IF(B16805<Parameters!$A$20,B16805*Parameters!$B$20,IF(AND(B16805>Parameters!$A$20,B16805<Parameters!$A$21),B16805*Parameters!$B$21,B16805*Parameters!$B$22))","v":0},{"$f":"B16805*SUM($B$3,$C$3,$D$3)/$E$3*10","v":{"$error":"#DIV/0!"}},{"$error":"#DIV/0!"},{"$error":"#DIV/0!"},{"$error":"#DIV/0!"},{"$error":"#DIV/0!"},0.27451612903225808,{"$error":"#DIV/0!"},{"$error":"#DIV/0!"},{"$f":"IF('Gegevens '!$G$20=\"Eigen waarden\",VLOOKUP($F16805,'Gegevens '!$A$25:$C$77,3,FALSE),VLOOKUP($F16805,Lijsten!$A$19:$B$71,2,FALSE))","v":8.6779285714285717},{"$error":"#DIV/0!"},{"$error":"#DIV/0!"},{"$error":"#DIV/0!"},{"$f":"IF(SUM(U16804+S16805)>SUM($AK$3+$AN$3),SUM(U16804+S16805-($AK$3+$AN$3)),0)","v":{"$error":"#DIV/0!"}},{"$f":"IF(U16804<$AN$3,R16805,IF(SUM(U16804-R16805)>$AN$3,0,IF(SUM(U16804+S16805)<$AN$3,SUM(R16805-(U16804-$AN$3)),0)))","v":{"$error":"#DIV/0!"}},{"$error":"#DIV/0!"},{"$error":"#DIV/0!"},{"$error":"#DIV/0!"},{"$error":"#DIV/0!"},{"$error":"#DIV/0!"},{"$error":"#DIV/0!"},{"$error":"#DIV/0!"},{"$f":"N16805/10","v":{"$error":"#DIV/0!"}},{"$error":"#DIV/0!"},{"$f":"Q16805/10","v":{"$error":"#DIV/0!"}},{"$error":"#DIV/0!"},{"$error":"#DIV/0!"},{"$error":"#DIV/0!"},{"$error":"#DIV/0!"},{"$error":"#DIV/0!"},{"$error":"#DIV/0!"},{"$error":"#DIV/0!"},{"$error":"#DIV/0!"},{"$error":"#DIV/0!"},0,null,null,null,null,null,null,null,null,null,null,null,null,null,null,null,null,null,null,null,null,null,"2012-12-01",0.8,0.21]
["2012-12-02",19.899999999999999,0.21,12,2012,48,19.899999999999999,{"$f":"IF(B16806<Parameters!$A$16,B16806*Parameters!$B$16,IF(AND(B16806>Parameters!$A$16,B16806<Parameters!$A$17),B16806*Parameters!$B$17,B16806*Parameters!$B$18))","v":18.904999999999998},{"$f":"IF(B16806<Parameters!$A$20,B16806*Parameters!$B$20,IF(AND(B16806>Parameters!$A$20,B16806<Parameters!$A$21),B16806*Parameters!$B$21,B16806*Parameters!$B$22))","v":14.924999999999999},{"$error":"#DIV/0!"},{"$error":"#DIV/0!"},{"$error":"#DIV/0!"},{"$error":"#DIV/0!"},{"$error":"#DIV/0!"},0.27451612903225808,{"$error":"#DIV/0!"},{"$f":"SUM(O16806*P16805)/$E$3*10","v":{"$error":"#DIV/0!"}},{"$f":"IF('Gegevens '!$G$20=\"Eigen waarden\",VLOOKUP($F16806,'Gegevens '!$A$25:$C$77,3,FALSE),VLOOKUP($F16806,Lijsten!$A$19:$B$71,2,FALSE))","v":8.6779285714285717},{"$error":"#DIV/0!"},{"$error":"#DIV/0!"},{"$error":"#DIV/0!"},{"$error":"#DIV/0!"},{"$error":"#DIV/0!"},{"$error":"#DIV/0!"},{"$error":"#DIV/0!"},{"$error":"#DIV/0!"},{"$error":"#DIV/0!"},{"$error":"#DIV/0!"},{"$error":"#DIV/0!"},{"$error":"#DIV/0!"},{"$error":"#DIV/0!"},{"$error":"#DIV/0!"},{"$error":"#DIV/0!"},{"$error":"#DIV/0!"},{"$error":"#DIV/0!"},{"$error":"#DIV/0!"},{"$error":"#DIV/0!"},{"$error":"#DIV/0!"},{"$error":"#DIV/0!"},{"$error":"#DIV/0!"},{"$error":"#DIV/0!"},{"$error":"#DIV/0!"},0,null,null,null,null,null,null,null,null,null,null,null,null,null,null,null,null,null,null,null,null,null,"2012-12-02",19.899999999999999,0.21]
["2012-12-03",8.6999999999999993,0.11,12,2012,49,8.6999999999999993,{"$f":"IF(B16807<Parameters!$A$16,B16807*Parameters!$B$16,IF(AND(B16807>Parameters!$A$16,B16807<Parameters!$A$17),B16807*Parameters!$B$17,B16807*Parameters!$B$18))","v":8.2649999999999988},{"$f":"IF(B16807<Parameters!$A$20,B16807*Parameters!$B$20,IF(AND(B16807>Parameters!$A$20,B16807<Parameters!$A$21),B16807*Parameters!$B$21,B16807*Parameters!$B$22))","v":6.5249999999999995},{"$error":"#DIV/0!"},{"$error":"#DIV/0!"},{"$error":"#DIV/0!"},{"$error":"#DIV/0!"},{"$error":"#DIV/0!"},0.17451612903225805,{"$error":"#DIV/0!"},{"$error":"#DIV/0!"},{"$f":"IF('Gegevens '!$G$20=\"Eigen waarden\",VLOOKUP($F16807,'Gegevens '!$A$25:$C$77,3,FALSE),VLOOKUP($F16807,Lijsten!$A$19:$B$71,2,FALSE))","v":3.2736734693877558},{"$error":"#DIV/0!"},{"$error":"#DIV/0!"},{"$error":"#DIV/0!"},{"$error":"#DIV/0!"},{"$error":"#DIV/0!"},{"$error":"#DIV/0!"},{"$error":"#DIV/0!"},{"$error":"#DIV/0!"},{"$error":"#DIV/0!"},{"$error":"#DIV/0!"},{"$error":"#DIV/0!"},{"$error":"#DIV/0!"},{"$error":"#DIV/0!"},{"$error":"#DIV/0!"},{"$error":"#DIV/0!"},{"$error":"#DIV/0!"},{"$error":"#DIV/0!"},{"$error":"#DIV/0!"},{"$error":"#DIV/0!"},{"$error":"#DIV/0!"},{"$error":"#DIV/0!"},{"$error":"#DIV/0!"},{"$error":"#DIV/0!"},{"$error":"#DIV/0!"},0,null,null,null,null,null,null,null,null,null,null,null,null,null,null,null,null,null,null,null,null,null,"2012-12-03",8.6999999999999993,0.11]
["2012-12-04",4,0.28000000000000003,12,2012,49,4,{"$f":"IF(B16808<Parameters!$A$16,B16808*Parameters!$B$16,IF(AND(B16808>Parameters!$A$16,B16808<Parameters!$A$17),B16808*Parameters!$B$17,B16808*Parameters!$B$18))","v":3.8},{"$f":"IF(B16808<Parameters!$A$20,B16808*Parameters!$B$20,IF(AND(B16808>Parameters!$A$20,B16808<Parameters!$A$21),B16808*Parameters!$B$21,B16808*Parameters!$B$22))","v":3},{"$error":"#DIV/0!"},{"$error":"#DIV/0!"},{"$error":"#DIV/0!"},{"$error":"#DIV/0!"},{"$error":"#DIV/0!"},0.34451612903225809,{"$error":"#DIV/0!"},{"$error":"#DIV/0!"},{"$f":"IF('Gegevens '!$G$20=\"Eigen waarden\",VLOOKUP($F16808,'Gegevens '!$A$25:$C$77,3,FALSE),VLOOKUP($F16808,Lijsten!$A$19:$B$71,2,FALSE))","v":3.2736734693877558},{"$error":"#DIV/0!"},{"$error":"#DIV/0!"},{"$error":"#DIV/0!"},{"$error":"#DIV/0!"},{"$error":"#DIV/0!"},{"$error":"#DIV/0!"},{"$error":"#DIV/0!"},{"$error":"#DIV/0!"},{"$error":"#DIV/0!"},{"$error":"#DIV/0!"},{"$error":"#DIV/0!"},{"$error":"#DIV/0!"},{"$error":"#DIV/0!"},{"$error":"#DIV/0!"},{"$error":"#DIV/0!"},{"$error":"#DIV/0!"},{"$error":"#DIV/0!"},{"$error":"#DIV/0!"},{"$error":"#DIV/0!"},{"$error":"#DIV/0!"},{"$error":"#DIV/0!"},{"$error":"#DIV/0!"},{"$error":"#DIV/0!"},{"$error":"#DIV/0!"},0,null,null,null,null,null,null,null,null,null,null,null,null,null,null,null,null,null,null,null,null,null,"2012-12-04",4,0.28000000000000003]
["2012-12-05",8,0.02,12,2012,49,8,{"$f":"IF(B16809<Parameters!$A$16,B16809*Parameters!$B$16,IF(AND(B16809>Parameters!$A$16,B16809<Parameters!$A$17),B16809*Parameters!$B$17,B16809*Parameters!$B$18))","v":7.6},{"$f":"IF(B16809<Parameters!$A$20,B16809*Parameters!$B$20,IF(AND(B16809>Parameters!$A$20,B16809<Parameters!$A$21),B16809*Parameters!$B$21,B16809*Parameters!$B$22))","v":6},{"$error":"#DIV/0!"},{"$error":"#DIV/0!"},{"$error":"#DIV/0!"},{"$error":"#DIV/0!"},{"$error":"#DIV/0!"},8.4516129032258067E-2,{"$error":"#DIV/0!"},{"$error":"#DIV/0!"},{"$f":"IF('Gegevens '!$G$20=\"Eigen waarden\",VLOOKUP($F16809,'Gegevens '!$A$25:$C$77,3,FALSE),VLOOKUP($F16809,Lijsten!$A$19:$B$71,2,FALSE))","v":3.2736734693877558},{"$error":"#DIV/0!"},{"$error":"#DIV/0!"},{"$error":"#DIV/0!"},{"$error":"#DIV/0!"},{"$error":"#DIV/0!"},{"$error":"#DIV/0!"},{"$error":"#DIV/0!"},{"$error":"#DIV/0!"},{"$error":"#DIV/0!"},{"$error":"#DIV/0!"},{"$error":"#DIV/0!"},{"$error":"#DIV/0!"},{"$error":"#DIV/0!"},{"$f":"V16809/10","v":{"$error":"#DIV/0!"}},{"$error":"#DIV/0!"},{"$error":"#DIV/0!"},{"$error":"#DIV/0!"},{"$error":"#DIV/0!"},{"$error":"#DIV/0!"},{"$error":"#DIV/0!"},{"$error":"#DIV/0!"},{"$error":"#DIV/0!"},{"$error":"#DIV/0!"},{"$error":"#DIV/0!"},0,null,null,null,null,null,null,null,null,null,null,null,null,null,null,null,null,null,null,null,null,null,"2012-12-05",8,0.02]
["2012-12-06",0.7,0.21,12,2012,49,0.7,{"$f":"IF(B16810<Parameters!$A$16,B16810*Parameters!$B$16,IF(AND(B16810>Parameters!$A$16,B16810<Parameters!$A$17),B16810*Parameters!$B$17,B16810*Parameters!$B$18))","v":0},{"$f":"IF(B16810<Parameters!$A$20,B16810*Parameters!$B$20,IF(AND(B16810>Parameters!$A$20,B16810<Parameters!$A$21),B16810*Parameters!$B$21,B16810*Parameters!$B$22))","v":0},{"$error":"#DIV/0!"},{"$error":"#DIV/0!"},{"$error":"#DIV/0!"},{"$error":"#DIV/0!"},{"$error":"#DIV/0!"},0.27451612903225808,{"$error":"#DIV/0!"},{"$error":"#DIV/0!"},{"$f":"IF('Gegevens '!$G$20=\"Eigen waarden\",VLOOKUP($F16810,'Gegevens '!$A$25:$C$77,3,FALSE),VLOOKUP($F16810,Lijsten!$A$19:$B$71,2,FALSE))","v":3.2736734693877558},{"$error":"#DIV/0!"},{"$error":"#DIV/0!"},{"$error":"#DIV/0!"},{"$error":"#DIV/0!"},{"$error":"#DIV/0!"},{"$error":"#DIV/0!"},{"$error":"#DIV/0!"},{"$error":"#DIV/0!"},{"$error":"#DIV/0!"},{"$error":"#DIV/0!"},{"$error":"#DIV/0!"},{"$error":"#DIV/0!"},{"$error":"#DIV/0!"},{"$error":"#DIV/0!"},{"$error":"#DIV/0!"},{"$error":"#DIV/0!"},{"$error":"#DIV/0!"},{"$error":"#DIV/0!"},{"$error":"#DIV/0!"},{"$error":"#DIV/0!"},{"$error":"#DIV/0!"},{"$error":"#DIV/0!"},{"$error":"#DIV/0!"},{"$error":"#DIV/0!"},0,null,null,null,null,null,null,null,null,null,null,null,null,null,null,null,null,null,null,null,null,null,"2012-12-06",0.7,0.21]
["2012-12-07",10.4,0.2,12,2012,49,10.4,{"$f":"IF(B16811<Parameters!$A$16,B16811*Parameters!$B$16,IF(AND(B16811>Parameters!$A$16,B16811<Parameters!$A$17),B16811*Parameters!$B$17,B16811*Parameters!$B$18))","v":9.879999999999999},{"$f":"IF(B16811<Parameters!$A$20,B16811*Parameters!$B$20,IF(AND(B16811>Parameters!$A$20,B16811<Parameters!$A$21),B16811*Parameters!$B$21,B16811*Parameters!$B$22))","v":7.8000000000000007},{"$error":"#DIV/0!"},{"$error":"#DIV/0!"},{"$error":"#DIV/0!"},{"$error":"#DIV/0!"},{"$error":"#DIV/0!"},0.26451612903225807,{"$error":"#DIV/0!"},{"$error":"#DIV/0!"},{"$f":"IF('Gegevens '!$G$20=\"Eigen waarden\",VLOOKUP($F16811,'Gegevens '!$A$25:$C$77,3,FALSE),VLOOKUP($F16811,Lijsten!$A$19:$B$71,2,FALSE))","v":3.2736734693877558},{"$error":"#DIV/0!"},{"$error":"#DIV/0!"},{"$error":"#DIV/0!"},{"$error":"#DIV/0!"},{"$error":"#DIV/0!"},{"$error":"#DIV/0!"},{"$error":"#DIV/0!"},{"$error":"#DIV/0!"},{"$error":"#DIV/0!"},{"$error":"#DIV/0!"},{"$error":"#DIV/0!"},{"$error":"#DIV/0!"},{"$error":"#DIV/0!"},{"$error":"#DIV/0!"},{"$error":"#DIV/0!"},{"$error":"#DIV/0!"},{"$error":"#DIV/0!"},{"$error":"#DIV/0!"},{"$error":"#DIV/0!"},{"$error":"#DIV/0!"},{"$error":"#DIV/0!"},{"$error":"#DIV/0!"},{"$error":"#DIV/0!"},{"$error":"#DIV/0!"},0,null,null,null,null,null,null,null,null,null,null,null,null,null,null,null,null,null,null,null,null,null,"2012-12-07",10.4,0.2]
["2012-12-08",0,0,12,2012,49,0,{"$f":"IF(B16812<Parameters!$A$16,B16812*Parameters!$B$16,IF(AND(B16812>Parameters!$A$16,B16812<Parameters!$A$17),B16812*Parameters!$B$17,B16812*Parameters!$B$18))","v":0},{"$f":"IF(B16812<Parameters!$A$20,B16812*Parameters!$B$20,IF(AND(B16812>Parameters!$A$20,B16812<Parameters!$A$21),B16812*Parameters!$B$21,B16812*Parameters!$B$22))","v":0},{"$error":"#DIV/0!"},"",0,"",0,6.4516129032258063E-2,{"$error":"#DIV/0!"},{"$error":"#DIV/0!"},{"$f":"IF('Gegevens '!$G$20=\"Eigen waarden\",VLOOKUP($F16812,'Gegevens '!$A$25:$C$77,3,FALSE),VLOOKUP($F16812,Lijsten!$A$19:$B$71,2,FALSE))","v":3.2736734693877558},{"$error":"#DIV/0!"},{"$error":"#DIV/0!"},{"$error":"#DIV/0!"},{"$error":"#DIV/0!"},{"$error":"#DIV/0!"},{"$error":"#DIV/0!"},{"$error":"#DIV/0!"},"","",{"$error":"#DIV/0!"},0,{"$error":"#DIV/0!"},0,{"$error":"#DIV/0!"},{"$error":"#DIV/0!"},{"$error":"#DIV/0!"},{"$error":"#DIV/0!"},{"$error":"#DIV/0!"},{"$error":"#DIV/0!"},"","","",{"$error":"#DIV/0!"},{"$error":"#DIV/0!"},0,null,null,null,null,null,null,null,null,null,null,null,null,null,null,null,null,null,null,null,null,null,"2012-12-08",0,0]
["2012-12-09",3.3,0.2,12,2012,49,3.3,{"$f":"IF(B16813<Parameters!$A$16,B16813*Parameters!$B$16,IF(AND(B16813>Parameters!$A$16,B16813<Parameters!$A$17),B16813*Parameters!$B$17,B16813*Parameters!$B$18))","v":3.1349999999999998},{"$f":"IF(B16813<Parameters!$A$20,B16813*Parameters!$B$20,IF(AND(B16813>Parameters!$A$20,B16813<Parameters!$A$21),B16813*Parameters!$B$21,B16813*Parameters!$B$22))","v":2.4749999999999996},{"$error":"#DIV/0!"},{"$error":"#DIV/0!"},{"$error":"#DIV/0!"},{"$error":"#DIV/0!"},{"$error":"#DIV/0!"},0.26451612903225807,{"$error":"#DIV/0!"},{"$error":"#DIV/0!"},{"$f":"IF('Gegevens '!$G$20=\"Eigen waarden\",VLOOKUP($F16813,'Gegevens '!$A$25:$C$77,3,FALSE),VLOOKUP($F16813,Lijsten!$A$19:$B$71,2,FALSE))","v":3.2736734693877558},{"$error":"#DIV/0!"},{"$error":"#DIV/0!"},{"$error":"#DIV/0!"},{"$error":"#DIV/0!"},{"$error":"#DIV/0!"},{"$error":"#DIV/0!"},{"$error":"#DIV/0!"},{"$error":"#DIV/0!"},{"$error":"#DIV/0!"},{"$error":"#DIV/0!"},{"$error":"#DIV/0!"},{"$error":"#DIV/0!"},{"$error":"#DIV/0!"},{"$error":"#DIV/0!"},{"$error":"#DIV/0!"},{"$error":"#DIV/0!"},{"$error":"#DIV/0!"},{"$error":"#DIV/0!"},{"$error":"#DIV/0!"},{"$error":"#DIV/0!"},{"$error":"#DIV/0!"},{"$error":"#DIV/0!"},{"$error":"#DIV/0!"},{"$error":"#DIV/0!"},0,null,null,null,null,null,null,null,null,null,null,null,null,null,null,null,null,null,null,null,null,null,"2012-12-09",3.3,0.2]
["2012-12-10",6.5,0.31,12,2012,50,6.5,{"$f":"IF(B16814<Parameters!$A$16,B16814*Parameters!$B$16,IF(AND(B16814>Parameters!$A$16,B16814<Parameters!$A$17),B16814*Parameters!$B$17,B16814*Parameters!$B$18))","v":6.1749999999999998},{"$f":"IF(B16814<Parameters!$A$20,B16814*Parameters!$B$20,IF(AND(B16814>Parameters!$A$20,B16814<Parameters!$A$21),B16814*Parameters!$B$21,B16814*Parameters!$B$22))","v":4.875},{"$error":"#DIV/0!"},{"$error":"#DIV/0!"},{"$error":"#DIV/0!"},{"$error":"#DIV/0!"},{"$error":"#DIV/0!"},0.37451612903225806,{"$error":"#DIV/0!"},{"$error":"#DIV/0!"},{"$f":"IF('Gegevens '!$G$20=\"Eigen waarden\",VLOOKUP($F16814,'Gegevens '!$A$25:$C$77,3,FALSE),VLOOKUP($F16814,Lijsten!$A$19:$B$71,2,FALSE))","v":6.1862244897959169},{"$error":"#DIV/0!"},{"$error":"#DIV/0!"},{"$error":"#DIV/0!"},{"$error":"#DIV/0!"},{"$error":"#DIV/0!"},{"$error":"#DIV/0!"},{"$error":"#DIV/0!"},{"$error":"#DIV/0!"},{"$error":"#DIV/0!"},{"$error":"#DIV/0!"},{"$error":"#DIV/0!"},{"$error":"#DIV/0!"},{"$error":"#DIV/0!"},{"$error":"#DIV/0!"},{"$error":"#DIV/0!"},{"$error":"#DIV/0!"},{"$error":"#DIV/0!"},{"$error":"#DIV/0!"},{"$error":"#DIV/0!"},{"$error":"#DIV/0!"},{"$error":"#DIV/0!"},{"$error":"#DIV/0!"},{"$error":"#DIV/0!"},{"$error":"#DIV/0!"},0,null,null,null,null,null,null,null,null,null,null,null,null,null,null,null,null,null,null,null,null,null,"2012-12-10",6.5,0.31]
["2012-12-11",0,0,12,2012,50,0,{"$f":"IF(B16815<Parameters!$A$16,B16815*Parameters!$B$16,IF(AND(B16815>Parameters!$A$16,B16815<Parameters!$A$17),B16815*Parameters!$B$17,B16815*Parameters!$B$18))","v":0},{"$f":"IF(B16815<Parameters!$A$20,B16815*Parameters!$B$20,IF(AND(B16815>Parameters!$A$20,B16815<Parameters!$A$21),B16815*Parameters!$B$21,B16815*Parameters!$B$22))","v":0},{"$error":"#DIV/0!"},"",0,"",0,6.4516129032258063E-2,{"$error":"#DIV/0!"},{"$error":"#DIV/0!"},{"$f":"IF('Gegevens '!$G$20=\"Eigen waarden\",VLOOKUP($F16815,'Gegevens '!$A$25:$C$77,3,FALSE),VLOOKUP($F16815,Lijsten!$A$19:$B$71,2,FALSE))","v":6.1862244897959169},{"$error":"#DIV/0!"},{"$error":"#DIV/0!"},{"$error":"#DIV/0!"},{"$error":"#DIV/0!"},{"$error":"#DIV/0!"},{"$error":"#DIV/0!"},{"$error":"#DIV/0!"},"","",{"$error":"#DIV/0!"},0,{"$error":"#DIV/0!"},0,{"$error":"#DIV/0!"},{"$error":"#DIV/0!"},{"$error":"#DIV/0!"},{"$error":"#DIV/0!"},{"$error":"#DIV/0!"},{"$error":"#DIV/0!"},"","","",{"$error":"#DIV/0!"},{"$error":"#DIV/0!"},0,null,null,null,null,null,null,null,null,null,null,null,null,null,null,null,null,null,null,null,null,null,"2012-12-11",0,0]
["2012-12-12",0,0,12,2012,50,0,{"$f":"IF(B16816<Parameters!$A$16,B16816*Parameters!$B$16,IF(AND(B16816>Parameters!$A$16,B16816<Parameters!$A$17),B16816*Parameters!$B$17,B16816*Parameters!$B$18))","v":0},{"$f":"IF(B16816<Parameters!$A$20,B16816*Parameters!$B$20,IF(AND(B16816>Parameters!$A$20,B16816<Parameters!$A$21),B16816*Parameters!$B$21,B16816*Parameters!$B$22))","v":0},{"$error":"#DIV/0!"},"",0,"",0,6.4516129032258063E-2,{"$error":"#DIV/0!"},{"$error":"#DIV/0!"},{"$f":"IF('Gegevens '!$G$20=\"Eigen waarden\",VLOOKUP($F16816,'Gegevens '!$A$25:$C$77,3,FALSE),VLOOKUP($F16816,Lijsten!$A$19:$B$71,2,FALSE))","v":6.1862244897959169},{"$error":"#DIV/0!"},{"$error":"#DIV/0!"},{"$error":"#DIV/0!"},{"$error":"#DIV/0!"},{"$error":"#DIV/0!"},{"$error":"#DIV/0!"},{"$error":"#DIV/0!"},"","",{"$error":"#DIV/0!"},0,{"$error":"#DIV/0!"},0,{"$error":"#DIV/0!"},{"$error":"#DIV/0!"},{"$error":"#DIV/0!"},{"$error":"#DIV/0!"},{"$error":"#DIV/0!"},{"$error":"#DIV/0!"},"","","",{"$error":"#DIV/0!"},{"$error":"#DIV/0!"},0,null,null,null,null,null,null,null,null,null,null,null,null,null,null,null,null,null,null,null,null,null,"2012-12-12",0,0]
["2012-12-13",0.2,0,12,2012,50,0.2,{"$f":"IF(B16817<Parameters!$A$16,B16817*Parameters!$B$16,IF(AND(B16817>Parameters!$A$16,B16817<Parameters!$A$17),B16817*Parameters!$B$17,B16817*Parameters!$B$18))","v":0},{"$f":"IF(B16817<Parameters!$A$20,B16817*Parameters!$B$20,IF(AND(B16817>Parameters!$A$20,B16817<Parameters!$A$21),B16817*Parameters!$B$21,B16817*Parameters!$B$22))","v":0},{"$error":"#DIV/0!"},{"$error":"#DIV/0!"},{"$error":"#DIV/0!"},{"$error":"#DIV/0!"},{"$error":"#DIV/0!"},6.4516129032258063E-2,{"$error":"#DIV/0!"},{"$error":"#DIV/0!"},{"$f":"IF('Gegevens '!$G$20=\"Eigen waarden\",VLOOKUP($F16817,'Gegevens '!$A$25:$C$77,3,FALSE),VLOOKUP($F16817,Lijsten!$A$19:$B$71,2,FALSE))","v":6.1862244897959169},{"$error":"#DIV/0!"},{"$error":"#DIV/0!"},{"$error":"#DIV/0!"},{"$error":"#DIV/0!"},{"$error":"#DIV/0!"},{"$error":"#DIV/0!"},{"$error":"#DIV/0!"},{"$error":"#DIV/0!"},{"$error":"#DIV/0!"},{"$error":"#DIV/0!"},{"$error":"#DIV/0!"},{"$error":"#DIV/0!"},{"$error":"#DIV/0!"},{"$error":"#DIV/0!"},{"$error":"#DIV/0!"},{"$error":"#DIV/0!"},{"$error":"#DIV/0!"},{"$error":"#DIV/0!"},{"$error":"#DIV/0!"},{"$error":"#DIV/0!"},{"$error":"#DIV/0!"},{"$error":"#DIV/0!"},{"$error":"#DIV/0!"},{"$error":"#DIV/0!"},0,null,null,null,null,null,null,null,null,null,null,null,null,null,null,null,null,null,null,null,null,null,"2012-12-13",0.2,0]
["2012-12-14",8.6,0.47,12,2012,50,8.6,{"$f":"IF(B16818<Parameters!$A$16,B16818*Parameters!$B$16,IF(AND(B16818>Parameters!$A$16,B16818<Parameters!$A$17),B16818*Parameters!$B$17,B16818*Parameters!$B$18))","v":8.17},{"$f":"IF(B16818<Parameters!$A$20,B16818*Parameters!$B$20,IF(AND(B16818>Parameters!$A$20,B16818<Parameters!$A$21),B16818*Parameters!$B$21,B16818*Parameters!$B$22))","v":6.4499999999999993},{"$error":"#DIV/0!"},{"$error":"#DIV/0!"},{"$error":"#DIV/0!"},{"$error":"#DIV/0!"},{"$error":"#DIV/0!"},0.53451612903225798,{"$error":"#DIV/0!"},{"$error":"#DIV/0!"},{"$f":"IF('Gegevens '!$G$20=\"Eigen waarden\",VLOOKUP($F16818,'Gegevens '!$A$25:$C$77,3,FALSE),VLOOKUP($F16818,Lijsten!$A$19:$B$71,2,FALSE))","v":6.1862244897959169},{"$error":"#DIV/0!"},{"$error":"#DIV/0!"},{"$error":"#DIV/0!"},{"$error":"#DIV/0!"},{"$error":"#DIV/0!"},{"$error":"#DIV/0!"},{"$error":"#DIV/0!"},{"$error":"#DIV/0!"},{"$error":"#DIV/0!"},{"$error":"#DIV/0!"},{"$error":"#DIV/0!"},{"$error":"#DIV/0!"},{"$error":"#DIV/0!"},{"$error":"#DIV/0!"},{"$error":"#DIV/0!"},{"$error":"#DIV/0!"},{"$error":"#DIV/0!"},{"$error":"#DIV/0!"},{"$error":"#DIV/0!"},{"$error":"#DIV/0!"},{"$error":"#DIV/0!"},{"$error":"#DIV/0!"},{"$error":"#DIV/0!"},{"$error":"#DIV/0!"},0,null,null,null,null,null,null,null,null,null,null,null,null,null,null,null,null,null,null,null,null,null,"2012-12-14",8.6,0.47]
["2012-12-15",2.8,0.78,12,2012,50,2.8,{"$f":"IF(B16819<Parameters!$A$16,B16819*Parameters!$B$16,IF(AND(B16819>Parameters!$A$16,B16819<Parameters!$A$17),B16819*Parameters!$B$17,B16819*Parameters!$B$18))","v":2.6599999999999997},{"$f":"IF(B16819<Parameters!$A$20,B16819*Parameters!$B$20,IF(AND(B16819>Parameters!$A$20,B16819<Parameters!$A$21),B16819*Parameters!$B$21,B16819*Parameters!$B$22))","v":2.0999999999999996},{"$error":"#DIV/0!"},{"$error":"#DIV/0!"},{"$error":"#DIV/0!"},{"$error":"#DIV/0!"},{"$error":"#DIV/0!"},0.84451612903225803,{"$error":"#DIV/0!"},{"$error":"#DIV/0!"},{"$f":"IF('Gegevens '!$G$20=\"Eigen waarden\",VLOOKUP($F16819,'Gegevens '!$A$25:$C$77,3,FALSE),VLOOKUP($F16819,Lijsten!$A$19:$B$71,2,FALSE))","v":6.1862244897959169},{"$error":"#DIV/0!"},{"$error":"#DIV/0!"},{"$error":"#DIV/0!"},{"$error":"#DIV/0!"},{"$error":"#DIV/0!"},{"$error":"#DIV/0!"},{"$error":"#DIV/0!"},{"$error":"#DIV/0!"},{"$error":"#DIV/0!"},{"$error":"#DIV/0!"},{"$error":"#DIV/0!"},{"$error":"#DIV/0!"},{"$error":"#DIV/0!"},{"$error":"#DIV/0!"},{"$error":"#DIV/0!"},{"$error":"#DIV/0!"},{"$error":"#DIV/0!"},{"$error":"#DIV/0!"},{"$error":"#DIV/0!"},{"$error":"#DIV/0!"},{"$error":"#DIV/0!"},{"$error":"#DIV/0!"},{"$error":"#DIV/0!"},{"$error":"#DIV/0!"},0,null,null,null,null,null,null,null,null,null,null,null,null,null,null,null,null,null,null,null,null,null,"2012-12-15",2.8,0.78]
["2012-12-16",0.3,0.55000000000000004,12,2012,50,0.3,{"$f":"IF(B16820<Parameters!$A$16,B16820*Parameters!$B$16,IF(AND(B16820>Parameters!$A$16,B16820<Parameters!$A$17),B16820*Parameters!$B$17,B16820*Parameters!$B$18))","v":0},{"$f":"IF(B16820<Parameters!$A$20,B16820*Parameters!$B$20,IF(AND(B16820>Parameters!$A$20,B16820<Parameters!$A$21),B16820*Parameters!$B$21,B16820*Parameters!$B$22))","v":0},{"$error":"#DIV/0!"},{"$error":"#DIV/0!"},{"$error":"#DIV/0!"},{"$error":"#DIV/0!"},{"$error":"#DIV/0!"},0.61451612903225805,{"$error":"#DIV/0!"},{"$error":"#DIV/0!"},{"$f":"IF('Gegevens '!$G$20=\"Eigen waarden\",VLOOKUP($F16820,'Gegevens '!$A$25:$C$77,3,FALSE),VLOOKUP($F16820,Lijsten!$A$19:$B$71,2,FALSE))","v":6.1862244897959169},{"$error":"#DIV/0!"},{"$error":"#DIV/0!"},{"$error":"#DIV/0!"},{"$error":"#DIV/0!"},{"$error":"#DIV/0!"},{"$error":"#DIV/0!"},{"$error":"#DIV/0!"},{"$error":"#DIV/0!"},{"$error":"#DIV/0!"},{"$error":"#DIV/0!"},{"$error":"#DIV/0!"},{"$error":"#DIV/0!"},{"$error":"#DIV/0!"},{"$error":"#DIV/0!"},{"$error":"#DIV/0!"},{"$error":"#DIV/0!"},{"$error":"#DIV/0!"},{"$error":"#DIV/0!"},{"$error":"#DIV/0!"},{"$error":"#DIV/0!"},{"$error":"#DIV/0!"},{"$error":"#DIV/0!"},{"$error":"#DIV/0!"},{"$error":"#DIV/0!"},0,null,null,null,null,null,null,null,null,null,null,null,null,null,null,null,null,null,null,null,null,null,"2012-12-16",0.3,0.55000000000000004]
["2012-12-17",2.2000000000000002,0.49,12,2012,51,2.2000000000000002,{"$f":"IF(B16821<Parameters!$A$16,B16821*Parameters!$B$16,IF(AND(B16821>Parameters!$A$16,B16821<Parameters!$A$17),B16821*Parameters!$B$17,B16821*Parameters!$B$18))","v":2.09},{"$f":"IF(B16821<Parameters!$A$20,B16821*Parameters!$B$20,IF(AND(B16821>Parameters!$A$20,B16821<Parameters!$A$21),B16821*Parameters!$B$21,B16821*Parameters!$B$22))","v":1.6500000000000001},{"$error":"#DIV/0!"},{"$error":"#DIV/0!"},{"$error":"#DIV/0!"},{"$error":"#DIV/0!"},{"$error":"#DIV/0!"},0.554516129032258,{"$error":"#DIV/0!"},{"$error":"#DIV/0!"},{"$f":"IF('Gegevens '!$G$20=\"Eigen waarden\",VLOOKUP($F16821,'Gegevens '!$A$25:$C$77,3,FALSE),VLOOKUP($F16821,Lijsten!$A$19:$B$71,2,FALSE))","v":6.588010204081634},{"$error":"#DIV/0!"},{"$error":"#DIV/0!"},{"$error":"#DIV/0!"},{"$error":"#DIV/0!"},{"$error":"#DIV/0!"},{"$error":"#DIV/0!"},{"$error":"#DIV/0!"},{"$error":"#DIV/0!"},{"$error":"#DIV/0!"},{"$error":"#DIV/0!"},{"$error":"#DIV/0!"},{"$error":"#DIV/0!"},{"$error":"#DIV/0!"},{"$error":"#DIV/0!"},{"$error":"#DIV/0!"},{"$error":"#DIV/0!"},{"$error":"#DIV/0!"},{"$error":"#DIV/0!"},{"$error":"#DIV/0!"},{"$error":"#DIV/0!"},{"$error":"#DIV/0!"},{"$error":"#DIV/0!"},{"$error":"#DIV/0!"},{"$error":"#DIV/0!"},0,null,null,null,null,null,null,null,null,null,null,null,null,null,null,null,null,null,null,null,null,null,"2012-12-17",2.2000000000000002,0.49]
["2012-12-18",0.1,0.27,12,2012,51,0.1,{"$f":"IF(B16822<Parameters!$A$16,B16822*Parameters!$B$16,IF(AND(B16822>Parameters!$A$16,B16822<Parameters!$A$17),B16822*Parameters!$B$17,B16822*Parameters!$B$18))","v":0},{"$f":"IF(B16822<Parameters!$A$20,B16822*Parameters!$B$20,IF(AND(B16822>Parameters!$A$20,B16822<Parameters!$A$21),B16822*Parameters!$B$21,B16822*Parameters!$B$22))","v":0},{"$error":"#DIV/0!"},{"$error":"#DIV/0!"},{"$error":"#DIV/0!"},{"$error":"#DIV/0!"},{"$error":"#DIV/0!"},0.33451612903225808,{"$error":"#DIV/0!"},{"$error":"#DIV/0!"},{"$f":"IF('Gegevens '!$G$20=\"Eigen waarden\",VLOOKUP($F16822,'Gegevens '!$A$25:$C$77,3,FALSE),VLOOKUP($F16822,Lijsten!$A$19:$B$71,2,FALSE))","v":6.588010204081634},{"$error":"#DIV/0!"},{"$error":"#DIV/0!"},{"$error":"#DIV/0!"},{"$error":"#DIV/0!"},{"$error":"#DIV/0!"},{"$error":"#DIV/0!"},{"$error":"#DIV/0!"},{"$error":"#DIV/0!"},{"$error":"#DIV/0!"},{"$error":"#DIV/0!"},{"$error":"#DIV/0!"},{"$error":"#DIV/0!"},{"$error":"#DIV/0!"},{"$error":"#DIV/0!"},{"$error":"#DIV/0!"},{"$error":"#DIV/0!"},{"$error":"#DIV/0!"},{"$error":"#DIV/0!"},{"$error":"#DIV/0!"},{"$error":"#DIV/0!"},{"$error":"#DIV/0!"},{"$error":"#DIV/0!"},{"$error":"#DIV/0!"},{"$error":"#DIV/0!"},0,null,null,null,null,null,null,null,null,null,null,null,null,null,null,null,null,null,null,null,null,null,"2012-12-18",0.1,0.27]
["2012-12-19",0,0.45,12,2012,51,0,{"$f":"IF(B16823<Parameters!$A$16,B16823*Parameters!$B$16,IF(AND(B16823>Parameters!$A$16,B16823<Parameters!$A$17),B16823*Parameters!$B$17,B16823*Parameters!$B$18))","v":0},{"$f":"IF(B16823<Parameters!$A$20,B16823*Parameters!$B$20,IF(AND(B16823>Parameters!$A$20,B16823<Parameters!$A$21),B16823*Parameters!$B$21,B16823*Parameters!$B$22))","v":0},{"$error":"#DIV/0!"},"",0,"",0,0.51451612903225807,{"$error":"#DIV/0!"},{"$error":"#DIV/0!"},{"$f":"IF('Gegevens '!$G$20=\"Eigen waarden\",VLOOKUP($F16823,'Gegevens '!$A$25:$C$77,3,FALSE),VLOOKUP($F16823,Lijsten!$A$19:$B$71,2,FALSE))","v":6.588010204081634},{"$error":"#DIV/0!"},{"$error":"#DIV/0!"},{"$error":"#DIV/0!"},{"$error":"#DIV/0!"},{"$error":"#DIV/0!"},{"$error":"#DIV/0!"},{"$error":"#DIV/0!"},"","",{"$error":"#DIV/0!"},0,{"$error":"#DIV/0!"},0,{"$error":"#DIV/0!"},{"$error":"#DIV/0!"},{"$error":"#DIV/0!"},{"$error":"#DIV/0!"},{"$error":"#DIV/0!"},{"$error":"#DIV/0!"},"","","",{"$error":"#DIV/0!"},{"$error":"#DIV/0!"},0,null,null,null,null,null,null,null,null,null,null,null,null,null,null,null,null,null,null,null,null,null,"2012-12-19",0,0.45]
["2012-12-20",10.6,0.22,12,2012,51,10.6,{"$f":"IF(B16824<Parameters!$A$16,B16824*Parameters!$B$16,IF(AND(B16824>Parameters!$A$16,B16824<Parameters!$A$17),B16824*Parameters!$B$17,B16824*Parameters!$B$18))","v":10.069999999999999},{"$f":"IF(B16824<Parameters!$A$20,B16824*Parameters!$B$20,IF(AND(B16824>Parameters!$A$20,B16824<Parameters!$A$21),B16824*Parameters!$B$21,B16824*Parameters!$B$22))","v":7.9499999999999993},{"$error":"#DIV/0!"},{"$error":"#DIV/0!"},{"$error":"#DIV/0!"},{"$error":"#DIV/0!"},{"$error":"#DIV/0!"},0.28451612903225809,{"$error":"#DIV/0!"},{"$error":"#DIV/0!"},{"$f":"IF('Gegevens '!$G$20=\"Eigen waarden\",VLOOKUP($F16824,'Gegevens '!$A$25:$C$77,3,FALSE),VLOOKUP($F16824,Lijsten!$A$19:$B$71,2,FALSE))","v":6.588010204081634},{"$error":"#DIV/0!"},{"$error":"#DIV/0!"},{"$error":"#DIV/0!"},{"$error":"#DIV/0!"},{"$error":"#DIV/0!"},{"$error":"#DIV/0!"},{"$error":"#DIV/0!"},{"$error":"#DIV/0!"},{"$error":"#DIV/0!"},{"$error":"#DIV/0!"},{"$error":"#DIV/0!"},{"$error":"#DIV/0!"},{"$error":"#DIV/0!"},{"$error":"#DIV/0!"},{"$error":"#DIV/0!"},{"$error":"#DIV/0!"},{"$error":"#DIV/0!"},{"$error":"#DIV/0!"},{"$error":"#DIV/0!"},{"$error":"#DIV/0!"},{"$error":"#DIV/0!"},{"$error":"#DIV/0!"},{"$error":"#DIV/0!"},{"$error":"#DIV/0!"},0,null,null,null,null,null,null,null,null,null,null,null,null,null,null,null,null,null,null,null,null,null,"2012-12-20",10.6,0.22]
["2012-12-21",0.9,0.41,12,2012,51,0.9,{"$f":"IF(B16825<Parameters!$A$16,B16825*Parameters!$B$16,IF(AND(B16825>Parameters!$A$16,B16825<Parameters!$A$17),B16825*Parameters!$B$17,B16825*Parameters!$B$18))","v":0},{"$f":"IF(B16825<Parameters!$A$20,B16825*Parameters!$B$20,IF(AND(B16825>Parameters!$A$20,B16825<Parameters!$A$21),B16825*Parameters!$B$21,B16825*Parameters!$B$22))","v":0},{"$error":"#DIV/0!"},{"$error":"#DIV/0!"},{"$error":"#DIV/0!"},{"$error":"#DIV/0!"},{"$error":"#DIV/0!"},0.47451612903225804,{"$error":"#DIV/0!"},{"$error":"#DIV/0!"},{"$f":"IF('Gegevens '!$G$20=\"Eigen waarden\",VLOOKUP($F16825,'Gegevens '!$A$25:$C$77,3,FALSE),VLOOKUP($F16825,Lijsten!$A$19:$B$71,2,FALSE))","v":6.588010204081634},{"$error":"#DIV/0!"},{"$error":"#DIV/0!"},{"$error":"#DIV/0!"},{"$error":"#DIV/0!"},{"$error":"#DIV/0!"},{"$error":"#DIV/0!"},{"$error":"#DIV/0!"},{"$error":"#DIV/0!"},{"$error":"#DIV/0!"},{"$error":"#DIV/0!"},{"$error":"#DIV/0!"},{"$error":"#DIV/0!"},{"$error":"#DIV/0!"},{"$error":"#DIV/0!"},{"$error":"#DIV/0!"},{"$error":"#DIV/0!"},{"$error":"#DIV/0!"},{"$error":"#DIV/0!"},{"$error":"#DIV/0!"},{"$error":"#DIV/0!"},{"$error":"#DIV/0!"},{"$error":"#DIV/0!"},{"$error":"#DIV/0!"},{"$error":"#DIV/0!"},0,null,null,null,null,null,null,null,null,null,null,null,null,null,null,null,null,null,null,null,null,null,"2012-12-21",0.9,0.41]
["2012-12-22",20.6,0.26,12,2012,51,20.6,{"$f":"IF(B16826<Parameters!$A$16,B16826*Parameters!$B$16,IF(AND(B16826>Parameters!$A$16,B16826<Parameters!$A$17),B16826*Parameters!$B$17,B16826*Parameters!$B$18))","v":19.57},{"$f":"IF(B16826<Parameters!$A$20,B16826*Parameters!$B$20,IF(AND(B16826>Parameters!$A$20,B16826<Parameters!$A$21),B16826*Parameters!$B$21,B16826*Parameters!$B$22))","v":15.450000000000001},{"$error":"#DIV/0!"},{"$error":"#DIV/0!"},{"$error":"#DIV/0!"},{"$error":"#DIV/0!"},{"$error":"#DIV/0!"},0.32451612903225807,{"$error":"#DIV/0!"},{"$error":"#DIV/0!"},{"$f":"IF('Gegevens '!$G$20=\"Eigen waarden\",VLOOKUP($F16826,'Gegevens '!$A$25:$C$77,3,FALSE),VLOOKUP($F16826,Lijsten!$A$19:$B$71,2,FALSE))","v":6.588010204081634},{"$error":"#DIV/0!"},{"$error":"#DIV/0!"},{"$error":"#DIV/0!"},{"$error":"#DIV/0!"},{"$error":"#DIV/0!"},{"$error":"#DIV/0!"},{"$error":"#DIV/0!"},{"$error":"#DIV/0!"},{"$error":"#DIV/0!"},{"$error":"#DIV/0!"},{"$error":"#DIV/0!"},{"$error":"#DIV/0!"},{"$error":"#DIV/0!"},{"$error":"#DIV/0!"},{"$error":"#DIV/0!"},{"$error":"#DIV/0!"},{"$error":"#DIV/0!"},{"$error":"#DIV/0!"},{"$error":"#DIV/0!"},{"$error":"#DIV/0!"},{"$error":"#DIV/0!"},{"$error":"#DIV/0!"},{"$error":"#DIV/0!"},{"$error":"#DIV/0!"},0,null,null,null,null,null,null,null,null,null,null,null,null,null,null,null,null,null,null,null,null,null,"2012-12-22",20.6,0.26]
["2012-12-23",16.899999999999999,0.6,12,2012,51,16.899999999999999,{"$f":"IF(B16827<Parameters!$A$16,B16827*Parameters!$B$16,IF(AND(B16827>Parameters!$A$16,B16827<Parameters!$A$17),B16827*Parameters!$B$17,B16827*Parameters!$B$18))","v":16.054999999999996},{"$f":"IF(B16827<Parameters!$A$20,B16827*Parameters!$B$20,IF(AND(B16827>Parameters!$A$20,B16827<Parameters!$A$21),B16827*Parameters!$B$21,B16827*Parameters!$B$22))","v":12.674999999999999},{"$error":"#DIV/0!"},{"$error":"#DIV/0!"},{"$error":"#DIV/0!"},{"$error":"#DIV/0!"},{"$error":"#DIV/0!"},0.6645161290322581,{"$error":"#DIV/0!"},{"$error":"#DIV/0!"},{"$f":"IF('Gegevens '!$G$20=\"Eigen waarden\",VLOOKUP($F16827,'Gegevens '!$A$25:$C$77,3,FALSE),VLOOKUP($F16827,Lijsten!$A$19:$B$71,2,FALSE))","v":6.588010204081634},{"$error":"#DIV/0!"},{"$error":"#DIV/0!"},{"$error":"#DIV/0!"},{"$error":"#DIV/0!"},{"$error":"#DIV/0!"},{"$error":"#DIV/0!"},{"$error":"#DIV/0!"},{"$error":"#DIV/0!"},{"$error":"#DIV/0!"},{"$error":"#DIV/0!"},{"$error":"#DIV/0!"},{"$error":"#DIV/0!"},{"$error":"#DIV/0!"},{"$error":"#DIV/0!"},{"$error":"#DIV/0!"},{"$error":"#DIV/0!"},{"$error":"#DIV/0!"},{"$error":"#DIV/0!"},{"$error":"#DIV/0!"},{"$error":"#DIV/0!"},{"$error":"#DIV/0!"},{"$error":"#DIV/0!"},{"$error":"#DIV/0!"},{"$error":"#DIV/0!"},0,null,null,null,null,null,null,null,null,null,null,null,null,null,null,null,null,null,null,null,null,null,"2012-12-23",16.899999999999999,0.6]
["2012-12-24",2,1.1000000000000001,12,2012,52,2,{"$f":"IF(B16828<Parameters!$A$16,B16828*Parameters!$B$16,IF(AND(B16828>Parameters!$A$16,B16828<Parameters!$A$17),B16828*Parameters!$B$17,B16828*Parameters!$B$18))","v":1.9},{"$f":"IF(B16828<Parameters!$A$20,B16828*Parameters!$B$20,IF(AND(B16828>Parameters!$A$20,B16828<Parameters!$A$21),B16828*Parameters!$B$21,B16828*Parameters!$B$22))","v":1.5},{"$error":"#DIV/0!"},{"$error":"#DIV/0!"},{"$error":"#DIV/0!"},{"$error":"#DIV/0!"},{"$error":"#DIV/0!"},1.1645161290322581,{"$error":"#DIV/0!"},{"$error":"#DIV/0!"},{"$f":"IF('Gegevens '!$G$20=\"Eigen waarden\",VLOOKUP($F16828,'Gegevens '!$A$25:$C$77,3,FALSE),VLOOKUP($F16828,Lijsten!$A$19:$B$71,2,FALSE))","v":0},{"$error":"#DIV/0!"},{"$error":"#DIV/0!"},{"$error":"#DIV/0!"},{"$error":"#DIV/0!"},{"$error":"#DIV/0!"},{"$error":"#DIV/0!"},"",{"$error":"#DIV/0!"},{"$error":"#DIV/0!"},{"$error":"#DIV/0!"},{"$error":"#DIV/0!"},{"$error":"#DIV/0!"},{"$error":"#DIV/0!"},{"$error":"#DIV/0!"},{"$error":"#DIV/0!"},{"$error":"#DIV/0!"},{"$error":"#DIV/0!"},{"$error":"#DIV/0!"},{"$error":"#DIV/0!"},{"$error":"#DIV/0!"},{"$error":"#DIV/0!"},{"$error":"#DIV/0!"},{"$error":"#DIV/0!"},{"$error":"#DIV/0!"},0,null,null,null,null,null,null,null,null,null,null,null,null,null,null,null,null,null,null,null,null,null,"2012-12-24",2,1.1000000000000001]
["2012-12-25",6.5,0.85,12,2012,52,6.5,{"$f":"IF(B16829<Parameters!$A$16,B16829*Parameters!$B$16,IF(AND(B16829>Parameters!$A$16,B16829<Parameters!$A$17),B16829*Parameters!$B$17,B16829*Parameters!$B$18))","v":6.1749999999999998},{"$f":"IF(B16829<Parameters!$A$20,B16829*Parameters!$B$20,IF(AND(B16829>Parameters!$A$20,B16829<Parameters!$A$21),B16829*Parameters!$B$21,B16829*Parameters!$B$22))","v":4.875},{"$error":"#DIV/0!"},{"$error":"#DIV/0!"},{"$error":"#DIV/0!"},{"$error":"#DIV/0!"},{"$error":"#DIV/0!"},0.9145161290322581,{"$error":"#DIV/0!"},{"$error":"#DIV/0!"},{"$f":"IF('Gegevens '!$G$20=\"Eigen waarden\",VLOOKUP($F16829,'Gegevens '!$A$25:$C$77,3,FALSE),VLOOKUP($F16829,Lijsten!$A$19:$B$71,2,FALSE))","v":0},{"$error":"#DIV/0!"},{"$error":"#DIV/0!"},{"$error":"#DIV/0!"},{"$error":"#DIV/0!"},{"$error":"#DIV/0!"},{"$error":"#DIV/0!"},"",{"$error":"#DIV/0!"},{"$error":"#DIV/0!"},{"$error":"#DIV/0!"},{"$error":"#DIV/0!"},{"$error":"#DIV/0!"},{"$error":"#DIV/0!"},{"$error":"#DIV/0!"},{"$error":"#DIV/0!"},{"$error":"#DIV/0!"},{"$error":"#DIV/0!"},{"$error":"#DIV/0!"},{"$error":"#DIV/0!"},{"$error":"#DIV/0!"},{"$error":"#DIV/0!"},{"$error":"#DIV/0!"},{"$error":"#DIV/0!"},{"$error":"#DIV/0!"},0,null,null,null,null,null,null,null,null,null,null,null,null,null,null,null,null,null,null,null,null,null,"2012-12-25",6.5,0.85]
["2012-12-26",7.7,0.56999999999999995,12,2012,52,7.7,{"$f":"IF(B16830<Parameters!$A$16,B16830*Parameters!$B$16,IF(AND(B16830>Parameters!$A$16,B16830<Parameters!$A$17),B16830*Parameters!$B$17,B16830*Parameters!$B$18))","v":7.3149999999999995},{"$f":"IF(B16830<Parameters!$A$20,B16830*Parameters!$B$20,IF(AND(B16830>Parameters!$A$20,B16830<Parameters!$A$21),B16830*Parameters!$B$21,B16830*Parameters!$B$22))","v":5.7750000000000004},{"$error":"#DIV/0!"},{"$error":"#DIV/0!"},{"$error":"#DIV/0!"},{"$error":"#DIV/0!"},{"$error":"#DIV/0!"},0.63451612903225807,{"$error":"#DIV/0!"},{"$error":"#DIV/0!"},{"$f":"IF('Gegevens '!$G$20=\"Eigen waarden\",VLOOKUP($F16830,'Gegevens '!$A$25:$C$77,3,FALSE),VLOOKUP($F16830,Lijsten!$A$19:$B$71,2,FALSE))","v":0},{"$error":"#DIV/0!"},{"$error":"#DIV/0!"},{"$error":"#DIV/0!"},{"$error":"#DIV/0!"},{"$error":"#DIV/0!"},{"$error":"#DIV/0!"},"",{"$error":"#DIV/0!"},{"$error":"#DIV/0!"},{"$error":"#DIV/0!"},{"$error":"#DIV/0!"},{"$error":"#DIV/0!"},{"$error":"#DIV/0!"},{"$error":"#DIV/0!"},{"$error":"#DIV/0!"},{"$error":"#DIV/0!"},{"$error":"#DIV/0!"},{"$error":"#DIV/0!"},{"$error":"#DIV/0!"},{"$error":"#DIV/0!"},{"$error":"#DIV/0!"},{"$error":"#DIV/0!"},{"$error":"#DIV/0!"},{"$error":"#DIV/0!"},0,null,null,null,null,null,null,null,null,null,null,null,null,null,null,null,null,null,null,null,null,null,"2012-12-26",7.7,0.56999999999999995]
["2012-12-27",7.9,0.56000000000000005,12,2012,52,7.9,{"$f":"IF(B16831<Parameters!$A$16,B16831*Parameters!$B$16,IF(AND(B16831>Parameters!$A$16,B16831<Parameters!$A$17),B16831*Parameters!$B$17,B16831*Parameters!$B$18))","v":7.5049999999999999},{"$f":"IF(B16831<Parameters!$A$20,B16831*Parameters!$B$20,IF(AND(B16831>Parameters!$A$20,B16831<Parameters!$A$21),B16831*Parameters!$B$21,B16831*Parameters!$B$22))","v":5.9250000000000007},{"$error":"#DIV/0!"},{"$error":"#DIV/0!"},{"$error":"#DIV/0!"},{"$error":"#DIV/0!"},{"$error":"#DIV/0!"},0.62451612903225806,{"$error":"#DIV/0!"},{"$error":"#DIV/0!"},{"$f":"IF('Gegevens '!$G$20=\"Eigen waarden\",VLOOKUP($F16831,'Gegevens '!$A$25:$C$77,3,FALSE),VLOOKUP($F16831,Lijsten!$A$19:$B$71,2,FALSE))","v":0},{"$error":"#DIV/0!"},{"$error":"#DIV/0!"},{"$error":"#DIV/0!"},{"$error":"#DIV/0!"},{"$error":"#DIV/0!"},{"$error":"#DIV/0!"},"",{"$error":"#DIV/0!"},{"$error":"#DIV/0!"},{"$error":"#DIV/0!"},{"$error":"#DIV/0!"},{"$error":"#DIV/0!"},{"$error":"#DIV/0!"},{"$error":"#DIV/0!"},{"$error":"#DIV/0!"},{"$error":"#DIV/0!"},{"$error":"#DIV/0!"},{"$error":"#DIV/0!"},{"$error":"#DIV/0!"},{"$error":"#DIV/0!"},{"$error":"#DIV/0!"},{"$error":"#DIV/0!"},{"$error":"#DIV/0!"},{"$error":"#DIV/0!"},0,null,null,null,null,null,null,null,null,null,null,null,null,null,null,null,null,null,null,null,null,null,"2012-12-27",7.9,0.56000000000000005]
["2012-12-28",4.9000000000000004,0.41,12,2012,52,4.9000000000000004,{"$f":"IF(B16832<Parameters!$A$16,B16832*Parameters!$B$16,IF(AND(B16832>Parameters!$A$16,B16832<Parameters!$A$17),B16832*Parameters!$B$17,B16832*Parameters!$B$18))","v":4.6550000000000002},{"$f":"IF(B16832<Parameters!$A$20,B16832*Parameters!$B$20,IF(AND(B16832>Parameters!$A$20,B16832<Parameters!$A$21),B16832*Parameters!$B$21,B16832*Parameters!$B$22))","v":3.6750000000000003},{"$error":"#DIV/0!"},{"$error":"#DIV/0!"},{"$error":"#DIV/0!"},{"$error":"#DIV/0!"},{"$error":"#DIV/0!"},0.47451612903225804,{"$error":"#DIV/0!"},{"$error":"#DIV/0!"},{"$f":"IF('Gegevens '!$G$20=\"Eigen waarden\",VLOOKUP($F16832,'Gegevens '!$A$25:$C$77,3,FALSE),VLOOKUP($F16832,Lijsten!$A$19:$B$71,2,FALSE))","v":0},{"$error":"#DIV/0!"},{"$error":"#DIV/0!"},{"$error":"#DIV/0!"},{"$error":"#DIV/0!"},{"$error":"#DIV/0!"},{"$error":"#DIV/0!"},"",{"$error":"#DIV/0!"},{"$error":"#DIV/0!"},{"$error":"#DIV/0!"},{"$error":"#DIV/0!"},{"$error":"#DIV/0!"},{"$error":"#DIV/0!"},{"$error":"#DIV/0!"},{"$error":"#DIV/0!"},{"$error":"#DIV/0!"},{"$error":"#DIV/0!"},{"$error":"#DIV/0!"},{"$error":"#DIV/0!"},{"$error":"#DIV/0!"},{"$error":"#DIV/0!"},{"$error":"#DIV/0!"},{"$error":"#DIV/0!"},{"$error":"#DIV/0!"},0,null,null,null,null,null,null,null,null,null,null,null,null,null,null,null,null,null,null,null,null,null,"2012-12-28",4.9000000000000004,0.41]
["2012-12-29",0.7,0.99,12,2012,52,0.7,{"$f":"IF(B16833<Parameters!$A$16,B16833*Parameters!$B$16,IF(AND(B16833>Parameters!$A$16,B16833<Parameters!$A$17),B16833*Parameters!$B$17,B16833*Parameters!$B$18))","v":0},{"$f":"IF(B16833<Parameters!$A$20,B16833*Parameters!$B$20,IF(AND(B16833>Parameters!$A$20,B16833<Parameters!$A$21),B16833*Parameters!$B$21,B16833*Parameters!$B$22))","v":0},{"$error":"#DIV/0!"},{"$error":"#DIV/0!"},{"$error":"#DIV/0!"},{"$error":"#DIV/0!"},{"$error":"#DIV/0!"},1.054516129032258,{"$error":"#DIV/0!"},{"$error":"#DIV/0!"},{"$f":"IF('Gegevens '!$G$20=\"Eigen waarden\",VLOOKUP($F16833,'Gegevens '!$A$25:$C$77,3,FALSE),VLOOKUP($F16833,Lijsten!$A$19:$B$71,2,FALSE))","v":0},{"$error":"#DIV/0!"},{"$error":"#DIV/0!"},{"$error":"#DIV/0!"},{"$error":"#DIV/0!"},{"$error":"#DIV/0!"},{"$error":"#DIV/0!"},"",{"$error":"#DIV/0!"},{"$error":"#DIV/0!"},{"$error":"#DIV/0!"},{"$error":"#DIV/0!"},{"$error":"#DIV/0!"},{"$error":"#DIV/0!"},{"$error":"#DIV/0!"},{"$error":"#DIV/0!"},{"$error":"#DIV/0!"},{"$error":"#DIV/0!"},{"$error":"#DIV/0!"},{"$error":"#DIV/0!"},{"$error":"#DIV/0!"},{"$error":"#DIV/0!"},{"$error":"#DIV/0!"},{"$error":"#DIV/0!"},{"$error":"#DIV/0!"},0,null,null,null,null,null,null,null,null,null,null,null,null,null,null,null,null,null,null,null,null,null,"2012-12-29",0.7,0.99]
["2012-12-30",5.7,0.65,12,2012,52,5.7,{"$f":"IF(B16834<Parameters!$A$16,B16834*Parameters!$B$16,IF(AND(B16834>Parameters!$A$16,B16834<Parameters!$A$17),B16834*Parameters!$B$17,B16834*Parameters!$B$18))","v":5.415},{"$f":"IF(B16834<Parameters!$A$20,B16834*Parameters!$B$20,IF(AND(B16834>Parameters!$A$20,B16834<Parameters!$A$21),B16834*Parameters!$B$21,B16834*Parameters!$B$22))","v":4.2750000000000004},{"$error":"#DIV/0!"},{"$error":"#DIV/0!"},{"$error":"#DIV/0!"},{"$error":"#DIV/0!"},{"$error":"#DIV/0!"},0.71451612903225814,{"$error":"#DIV/0!"},{"$error":"#DIV/0!"},{"$f":"IF('Gegevens '!$G$20=\"Eigen waarden\",VLOOKUP($F16834,'Gegevens '!$A$25:$C$77,3,FALSE),VLOOKUP($F16834,Lijsten!$A$19:$B$71,2,FALSE))","v":0},{"$error":"#DIV/0!"},{"$error":"#DIV/0!"},{"$error":"#DIV/0!"},{"$error":"#DIV/0!"},{"$error":"#DIV/0!"},{"$error":"#DIV/0!"},"",{"$error":"#DIV/0!"},{"$error":"#DIV/0!"},{"$error":"#DIV/0!"},{"$error":"#DIV/0!"},{"$error":"#DIV/0!"},{"$error":"#DIV/0!"},{"$error":"#DIV/0!"},{"$error":"#DIV/0!"},{"$error":"#DIV/0!"},{"$error":"#DIV/0!"},{"$error":"#DIV/0!"},{"$error":"#DIV/0!"},{"$error":"#DIV/0!"},{"$error":"#DIV/0!"},{"$error":"#DIV/0!"},{"$error":"#DIV/0!"},{"$error":"#DIV/0!"},0,null,null,null,null,null,null,null,null,null,null,null,null,null,null,null,null,null,null,null,null,null,"2012-12-30",5.7,0.65]
[]
[null,null,null,null,null,null,null,null,null,null,null,null,null,null,null,null,null,null,null,null,null,null,{"$f":"SUM(W35,W16834)","v":{"$error":"#DIV/0!"}}]

{"sheet":"simvgl","index":6,"n_rows":16834,"n_cols":122,"rows_kept":562,"cut":true,"hidden":true,"merged":[[0,21,0,23],[0,1,0,9],[0,11,0,13],[0,14,0,15],[0,16,0,17],[0,18,0,20],[0,24,0,25],[0,26,0,30],[0,31,0,32],[0,36,0,61],[1,63,1,117],[2,103,3,104],[2,105,3,106],[2,107,3,108],[2,109,3,110],[2,86,3,87],[2,88,3,89],[2,90,3,91],[2,92,3,93],[2,95,3,96],[2,97,3,98],[3,1,3,4],[3,5,3,9],[3,36,3,61],[2,99,3,100],[2,101,3,102],[2,73,3,74],[2,75,3,76],[2,77,3,78],[2,80,3,81],[2,82,3,83],[2,84,3,85],[2,63,3,64],[2,65,3,66],[2,67,3,68],[2,69,3,70],[2,71,3,72],[2,111,3,112],[2,113,3,114],[2,116,3,117],[2,118,3,119],[2,120,3,121],[10,0,10,3],[4,101,4,102],[4,103,4,104],[4,105,4,106],[4,107,4,108],[4,88,4,89],[4,90,4,91],[4,92,4,93],[4,95,4,96],[4,97,4,98],[4,99,4,100],[4,75,4,76],[4,77,4,78],[4,80,4,81],[4,82,4,83],[4,84,4,85],[4,113,4,114],[4,116,4,117],[4,118,4,119],[4,120,4,121],[5,1,5,4],[4,109,4,110],[4,111,4,112],[4,86,4,87],[4,63,4,64],[4,65,4,66],[4,67,4,68],[4,69,4,70],[4,71,4,72],[4,73,4,74],[31,3,31,5],[16,0,16,3],[26,0,26,2],[26,3,26,8],[26,9,26,13],[26,20,26,22],[26,23,26,25],[28,3,28,5],[29,3,29,5],[30,3,30,5],[26,14,26,15],[26,18,26,19],[32,72,32,78],[32,80,32,86],[32,88,32,94],[32,0,32,2],[32,14,32,15],[32,18,32,19],[32,20,32,22],[32,64,32,66],[32,68,32,70]],"bounds":{"rows_first":250,"rows_last":62,"rows_between":250,"halvings":3}}
[null,"In de gele cellen kunnen afmetingen geplakt worden voor simulatie",null,null,null,null,null,null,null,null,null,"Uitkomst Simulatie Ronde Volumes",null,null,"Efficiëntie",null,"Opvangverhouding",null,"Opvangverliezen",null,null,"Waar blijft de opgevangen neerslag?",null,null,"Wat gebeurt er met nuttige neerslag?",null,"Bruto neerslag - Verlies/gebruikspercentages",null,null,null,null,"Terugkeerperiode watertekort",null,null,null,null,"Volumeberekeningen"]
[null,"Serre","Bedrijfsgebouwen","Bassin","Teeltoppervlakte","Lengte","Breedte","Totale diepte","Diepte Overloop","Hoogte dode zone",null,"Nuttig volume               per ha teeltopp.","Bruto volume Water  per ha teeltopp.","Netto Oppervlakte per ha teeltopp.","Hemelwater-percentage","Benuttings-percentage","Neerslag mm","Opvang-verhouding","Bruto neerslag mm","Opvang-verlies    mm","Opgevangen  neerslag       mm","Overloop-verlies       mm","Evaporatie-verlies     mm","Nuttige neerslag mm","Hemelwater-benutting     mm","Buffer-opbouw mm","Opvang-verlies-percentage","Overloop-percentage","Evaporatie-percentage","Hemelwater-benuttings percentage","Bufferopbouw","Maximaal watertekort m³/jaar per ha teeltopp.","Terugkeer-periode #jaar","Gemiddelde Overloop m³/jaar per ha teeltopp.","Gemiddeld Watertekort m³/jaar               per ha teeltopp.",null,"Nuttig volume","Bruto volume Water","%Nuttig?","Volume Dode Zone","Volume Overloop","Totaal Volume-verlies (Dode zone+Overloop)","Volume Waterniveau","Netto Oppervlakte","Bruto Oppervlakte","Oppervlakte Wal","%Nuttig?","Netto hoogte","Nuttige Lengte boven","Nuttige Lengte onder","Lengte onder","Lengte Startniveau","Nuttige Breedte boven","Nuttige Breedte onder","Breedte onder","Breedte Startniveau","Bruto volume (-aarden wallen)","%Nuttig?","Totaal Volume-verlies (aarden Wallen)","Oppervlakte bij               maximale berging","Oppervlakte bij waterniveau Dode Zone","Diepte startniveau",null,"Berekening naar ronde nuttige volumes"]
[null,{"$f":"B5","v":22000},{"$f":"C5","v":1250},{"$f":"AR3*D12","v":2800},{"$f":"'Gegevens vergelijking'!C4","v":21500},{"$f":"F5","v":70},{"$f":"G5","v":40},{"$f":"H5","v":6},{"$f":"I5","v":0.3},{"$f":"J5","v":1},null,{"$f":"AK3","v":4923.9677519379857},{"$f":"AL3","v":6106.0465116279083},{"$f":"AR3","v":1302.325581395349},{"$f":"Y29","v":0.97855202501932748},{"$f":"Z29","v":0.82382338514765519},{"$f":"B29","v":829.09999999999764},{"$f":"K29","v":1.2116279069767442},{"$f":"AB29","v":1004.5606976743979},{"$f":"AE29","v":85.386033872600692},{"$f":"AC29","v":919.17466380181588},{"$f":"AF29","v":51.381505381577178},{"$f":"AG29","v":34.627514993410784},{"$f":"AD29","v":827.5805945444182},{"$f":"AH29","v":827.5805945444182},5.5850488823911064,8.4998381949715041E-2,5.114823375086007E-2,3.4470306347416338E-2,0.82382338514766063,5.55969280434795E-3,{"$f":"C21","v":0},{"$f":"C20","v":"> 46jaar"},{"$f":"V29","v":513.81505381577233},{"$f":"C22","v":0},null,{"$f":"((AX3*BB3*AV3)+(AV3^2*((AX3+BB3)))+(AV3^3/3)*4)/$D$12","v":4923.9677519379857},{"$f":"SUM(AK3+AO3+AN3)","v":6106.0465116279083},{"$f":"AK3/BE3","v":0.80640849075766818},{"$f":"((AY3*BC3*J3)+(J3^2*((AY3+BC3)))+(J3^3/3)*4)/$D$12","v":795.96899224806202},{"$f":"((AW3*BA3*I3)+(I3^2*(AW3+BA3))+(I3^3/3)*4)/$D$12","v":386.10976744186047},{"$f":"AN3+AO3","v":1182.0787596899224},{"$f":"((AY3*BC3*(H3-BJ3))+((H3-BJ3)^2*((AY3+BC3)))+((H3-BJ3)^3/3)*4)/$D$12","v":6106.0465116279074},{"$f":"G3*F3/$D$12","v":1302.325581395349},{"$f":"SUM((F3+(2*(Parameters!$D$5)))*(G3+2*(Parameters!$D$5)))/$D$12","v":1683.2558139534885},{"$f":"2*(((2*Parameters!$D$5+G3)*Parameters!$D$5+(Parameters!$D$5*F3)))/$D$12","v":380.93023255813955},{"$f":"SUM(AR3/AS3)","v":0.77369439071566737},{"$f":"H3-J3-I3","v":4.7},{"$f":"F3-2*I3","v":69.400000000000006},{"$f":"AW3-2*AV3","v":60.000000000000007},{"$f":"F3-2*H3","v":58},{"$f":"F3-2*BJ3","v":70},{"$f":"G3-(2*I3)","v":39.4},{"$f":"BA3-2*AV3","v":30},{"$f":"G3-2*H3","v":28},{"$f":"G3-2*BJ3","v":40},{"$f":"((AY3*BC3*H3)+(H3^2*((AY3+BC3)))+(H3^3/3)*4)/$D$12","v":6106.0465116279074},{"$f":"AK3/BE3","v":0.80640849075766818},{"$f":"(BE3-AK3)","v":1182.0787596899218},{"$f":"AW3*BA3/$D$12","v":1271.7953488372093},{"$f":"SUM(AX3*BB3)/$D$12","v":837.20930232558158},0,null,"Lengte",null,"Breedte",null,"Totale diepte",null,"Diepte Overloop",null,"Hoogte dode zone",null,"Diepte Waterniveau",null,"Netto volume",null,"Bruto volume Water",null,"%Nuttig?","Volume Dode Zone",null,"Volume Overloop",null,"Totaal Volume-verlies (Dode zone+Overloop)",null,"Volume Waterniveau",null,"Netto Oppervlakte",null,"Bruto Oppervlakte",null,"Oppervlakte Wal",null,"%Nuttig?","Netto hoogte",null,"Nuttige Lengte boven",null,"Nuttige Lengte onder",null,"Lengte onder",null,"Lengte Startniveau",null,"Nuttige Breedte boven",null,"Nuttige Breedte onder",null,"Breedte onder",null,"Breedte Startniveau",null,"Bruto volume (-aarden wallen)",null,"%Nuttig?","Totaal Volume-verlies (aarden Wallen)",null,"Oppervlakte bij               maximale berging",null,"Oppervlakte bij waterniveau Dode Zone"]
[null,"Afmetingen bedrijfsgebouwen en teelt",null,null,null,"Afmetingen voor ronde nuttige volumes per ha",null,null,null,null,null,null,null,null,null,null,null,null,null,null,null,null,null,null,null,null,null,null,null,null,null,null,null,null,null,null,"Totale volumes en oppervlakken (niet per ha teeltopp.)"]
["Invulblad: AFBLIJVEN!",{"$f":"'Gegevens vergelijking'!C3","v":22000},{"$f":"'Gegevens vergelijking'!C5","v":1250},{"$f":"AR5","v":2800},{"$f":"'Gegevens vergelijking'!C4","v":21500},{"$f":"'Gegevens vergelijking'!C9","v":70},{"$f":"'Gegevens vergelijking'!C10","v":40},{"$f":"'Gegevens vergelijking'!C11","v":6},{"$f":"'Gegevens vergelijking'!C12","v":0.3},{"$f":"'Gegevens vergelijking'!C13","v":1},null,4923.9677519379857,6106.0465116279083,1302.325581395349,1,0.60415932761722979,829.09999999999764,1.2116279069767442,1004.5606976743979,85.386033872600692,919.17466380181588,267.81817836488807,38.857323690456859,606.91471565771349,606.91471565771349,5.5844460887389005,8.4998381949715041E-2,0.26660228593941498,3.8680911746212319E-2,0.60415932761728353,5.5590927473741884E-3,0,"> 46jaar",2678.1817836488817,0,null,{"$f":"((AX5*BB5*AV5)+(AV5^2*((AX5+BB5)))+(AV5^3/3)*4)","v":10586.530666666669},{"$f":"SUM(AK5+AO5+AN5)","v":13128.000000000004},{"$f":"AK5/BE5","v":0.80640849075766829},{"$f":"((AY5*BC5*J5)+(J5^2*((AY5+BC5)))+(J5^3/3)*4)","v":1711.3333333333333},{"$f":"((AW5*BA5*I5)+(I5^2*(AW5+BA5))+(I5^3/3)*4)","v":830.13599999999997},{"$f":"AN5+AO5","v":2541.4693333333335},{"$f":"((AY5*BC5*(H5-BJ5))+((H5-BJ5)^2*((AY5+BC5)))+((H5-BJ5)^3/3)*4)","v":13128},{"$f":"G5*F5","v":2800},{"$f":"SUM((F5+(2*(Parameters!$D$5)))*(G5+2*(Parameters!$D$5)))","v":3619},{"$f":"2*(((2*Parameters!$D$5+G5)*Parameters!$D$5+(Parameters!$D$5*F5)))/$D$12","v":380.93023255813955},{"$f":"SUM(AR5/AS5)","v":0.77369439071566726},{"$f":"H5-J5-I5","v":4.7},{"$f":"F5-2*I5","v":69.400000000000006},{"$f":"AW5-2*AV5","v":60.000000000000007},{"$f":"F5-2*H5","v":58},{"$f":"F5-2*BJ5","v":70},{"$f":"G5-(2*I5)","v":39.4},{"$f":"BA5-2*AV5","v":30},{"$f":"G5-2*H5","v":28},{"$f":"G5-2*BJ5","v":40},{"$f":"((AY5*BC5*H5)+(H5^2*((AY5+BC5)))+(H5^3/3)*4)","v":13128},{"$f":"AK5/BE5","v":0.80640849075766829},{"$f":"(BE5-AK5)","v":2541.4693333333307},{"$f":"AW5*BA5","v":2734.36},{"$f":"SUM(AX5*BB5)","v":1800.0000000000002},0,null,"Lb",null,"Bb",null,"H",null,"Ho",null,"Hs",null,"Hd",null,"Vn",null,"Vb",null,null,"Vd",null,"Vo",null,"Vv",null,"Vs",null,"An",null,"Ab",null,"Av",null,"A%","Hn",null,"Lnb",null,"Lno",null,"Lo",null,"Ls",null,"Bnb",null,"Bno",null,"Bo",null,"Bs",null,null,null,null,null,null,"Am",null,"Ad"]
[null,"Bedrijfstypes",null,null,null,{"$f":"BL6","v":20.178792936771423},{"$f":"F6","v":20.178792936771423},{"$f":"'Gegevens '!$C$13","v":0},{"$f":"'Gegevens '!$C$14","v":0.75},{"$f":"'Gegevens '!$C$15","v":0.5},null,500.04024147286822,594.52512319210928,189.38776017911457,0.76574690474951979,0.50942636833264732,829.09999999999764,1.1003341248551208,912.2870229174049,85.386033872600706,826.90098904478953,358.39416577229878,3.2865035545792454,464.7430649618255,464.7430649618255,0.47725475610064905,9.3595580916567792E-2,0.39285242118888108,3.6024885502254846E-3,0.50942636833265753,5.2314101166805473E-4,2937.2968493395024,1,3583.9416577229863,1421.7165069587707,null,{"$f":"L6*$E$3/10000","v":1075.0865191666667},{"$f":"SUM(AK6+AO6+AN6)","v":1572.1835457292216},{"$f":"AK6/BE6","v":{"$error":"#DIV/0!"}},{"$f":"((AY6*BC6*J6)+(J6^2*((AY6+BC6)))+(J6^3/3)*4)","v":213.8479053276005},{"$f":"((AW6*BA6*I6)+(I6^2*(AW6+BA6))+(I6^3/3)*4)","v":283.24912123495432},{"$f":"AN6+AO6","v":497.09702656255479},{"$f":"((AY6*BC6*(H6-BJ6))+((H6-BJ6)^2*((AY6+BC6)))+((H6-BJ6)^3/3)*4)","v":0},{"$f":"G6*F6","v":407.18368438509629},{"$f":"SUM((F6+(2*(Parameters!$D$5)))*(G6+2*(Parameters!$D$5)))","v":738.68678549989613},{"$f":"2*(((2*Parameters!$D$5+G6)*Parameters!$D$5+(Parameters!$D$5*F6)))","v":331.5031011147999},{"$f":"SUM(AR6/AS6)","v":0.55122643639758673},{"$f":"H6-J6-I6","v":-1.25},{"$f":"F6-2*I6","v":18.678792936771423},{"$f":"AW6-2*AV6","v":21.178792936771423},{"$f":"F6-2*H6","v":20.178792936771423},20.178792936771423,{"$f":"G6-(2*I6)","v":18.678792936771423},{"$f":"BA6-2*AV6","v":21.178792936771423},{"$f":"G6-2*H6","v":20.178792936771423},20.178792936771423,{"$f":"((AY6*BC6*H6)+(H6^2*((AY6+BC6)))+(H6^3/3)*4)","v":0},{"$f":"AK6/BE6","v":{"$error":"#DIV/0!"}},-1075.0865191666667,348.89730557478197,448.54127025863909,{"$f":"E6","v":0},500,{"$f":"CT6+2*BR6","v":20.178792936771423},"m",{"$f":"DD6+2*BR6+2*CR6","v":20.178792936771419},"m",{"$f":"$H$5","v":6},"m",{"$f":"$I$5","v":0.3},"m",{"$f":"$J$5","v":1},"m",{"$f":"$D$13*$H$5","v":3.84},"m",{"$f":"BK6*$E$3/10000","v":1075},"m³",{"$f":"SUM(BX6+CE6+CC6)","v":1278.1424956963683},"m³",{"$f":"BX6/BZ6","v":0.84106428165844649},{"$f":"(CX6*DF6*BT6)+(BT6^2*((CX6+DF6)))+(BT6^3/3)*4","v":84.583573109458214},"m³",{"$f":"(CT6*DB6*BR6)+(BR6^2*(CT6+DB6))+(BR6^3/3)*4","v":118.55892258691},"m³",{"$f":"CC6+CE6","v":203.1424956963682},"m³",{"$f":"(CX6*DF6*(BP6-BT6))+((BP6-BT6)^2*((CX6+DF6)))+((BP6-BT6)^3/3)*4","v":910.06958301814791},"m³",{"$f":"BN6*BL6","v":407.18368438509617},"m²",{"$f":"SUM((BL6+(2*(Parameters!$D$5)))*(BN6+2*(Parameters!$D$5)))","v":738.68678549989613},"m²",{"$f":"2*(((2*Parameters!$D$5+BN6)*Parameters!$D$5+(Parameters!$D$5*BL6)))","v":331.50310111479985},"m²",{"$f":"SUM(CK6/CM6)","v":0.55122643639758662},{"$f":"BP6-BT6-BR6","v":4.7},"m",{"$f":"CV6+2*CR6","v":19.578792936771421},"m",{"$f":"-CR6+((-1.33*(CR6^4)+4*CR6*BX6)^(1/2))/(2*CR6)","v":10.178792936771419},"m",{"$f":"CV6-2*BT6","v":8.1787929367714192},"m",{"$f":"BL6-2*BV6","v":12.498792936771423},"m",{"$f":"DD6+2*CR6","v":19.578792936771421},"m",{"$f":"CV6","v":10.178792936771419},"m",{"$f":"DD6-2*BT6","v":8.1787929367714192},"m",{"$f":"BN6-2*BV6","v":12.498792936771419},"m",{"$f":"(CX6*DF6*BP6)+(BP6^2*((CX6+DF6)))+(BP6^3/3)*4","v":1278.2290148630345},"m³",{"$f":"BX6/DJ6","v":0.84100735275140737},{"$f":"DJ6-BX6","v":203.22901486303454},"m³",{"$f":"CT6*DB6","v":383.3291328609705},"m²",{"$f":"SUM(CV6*DD6)","v":103.60782564966773},"m²"]
["Bedrijf/Situatie 1",31000,1000,{"$f":"D5","v":2800},30000,{"$f":"BL7","v":26.515604717062352},26.515604717062352,{"$f":"'Gegevens '!$C$13","v":0},{"$f":"'Gegevens '!$C$14","v":0.75},{"$f":"'Gegevens '!$C$15","v":0.5},null,1000.0402414728685,1208.0652192746543,327.01269465651131,0.85640161336449394,0.56269800249055757,829.09999999999764,1.1140966183028604,923.69750623486846,85.386033872600734,838.31147236232005,310.67572892488545,6.8459455273839307,519.76274166391329,519.76274166391329,1.027056246085067,9.2439389839480246E-2,0.33633925265344383,7.4114582763019961E-3,0.56269800249060464,1.1118967401693054E-3,2401.3694391712997,1.0454545454545454,3106.7572892488515,911.13427357144292,null,{"$f":"L7*$E$3/10000","v":2150.0865191666676},3013.0900497745447,{"$error":"#DIV/0!"},{"$f":"((AY7*BC7*J7)+(J7^2*((AY7+BC7)))+(J7^3/3)*4)","v":364.96311578094753},{"$f":"((AW7*BA7*I7)+(I7^2*(AW7+BA7))+(I7^3/3)*4)","v":498.04041482692935},{"$f":"AN7+AO7","v":863.00353060787688},{"$f":"((AY7*BC7*(H7-BJ7))+((H7-BJ7)^2*((AY7+BC7)))+((H7-BJ7)^3/3)*4)","v":0},{"$f":"G7*F7","v":703.07729351149931},{"$f":"SUM((F7+(2*(Parameters!$D$5)))*(G7+2*(Parameters!$D$5)))","v":1123.2957595503722},{"$f":"2*(((2*Parameters!$D$5+G7)*Parameters!$D$5+(Parameters!$D$5*F7)))","v":420.21846603887292},0.62590576661032171,-1.25,25.015604717062352,27.515604717062352,26.515604717062352,26.515604717062352,25.015604717062352,27.515604717062352,26.515604717062352,26.515604717062352,{"$f":"((AY7*BC7*H7)+(H7^2*((AY7+BC7)))+(H7^3/3)*4)","v":0},{"$error":"#DIV/0!"},-2150.0865191666676,625.78047936031226,757.10850294562397,0,1000,{"$f":"CT7+2*BR7","v":26.515604717062352},"m",{"$f":"DD7+2*BR7+2*CR7","v":26.515604717062352},"m",{"$f":"$H$5","v":6},"m",{"$f":"$I$5","v":0.3},"m",{"$f":"$J$5","v":1},"m",{"$f":"$D$13*$H$5","v":3.84},"m",{"$f":"BK7*$E$3/10000","v":2150},"m³",{"$f":"SUM(BX7+CE7+CC7)","v":2597.2537022738393},"m³",{"$f":"BX7/BZ7","v":0.82779745317822495},{"$f":"(CX7*DF7*BT7)+(BT7^2*((CX7+DF7)))+(BT7^3/3)*4","v":241.06732306946074},"m³",{"$f":"(CT7*DB7*BR7)+(BR7^2*(CT7+DB7))+(BR7^3/3)*4","v":206.18637920437854},"m³",{"$f":"CC7+CE7","v":447.25370227383928},"m³",{"$f":"(CX7*DF7*(BP7-BT7))+((BP7-BT7)^2*((CX7+DF7)))+((BP7-BT7)^3/3)*4","v":1945.9608040297978},"m³",{"$f":"BN7*BL7","v":703.07729351149931},"m131",{"$f":"SUM((BL7+(2*(Parameters!$D$5)))*(BN7+2*(Parameters!$D$5)))","v":1123.2957595503722},"m131",{"$f":"2*(((2*Parameters!$D$5+BN7)*Parameters!$D$5+(Parameters!$D$5*BL7)))","v":420.21846603887292},"m131",{"$f":"SUM(CK7/CM7)","v":0.62590576661032171},{"$f":"BP7-BT7-BR7","v":4.7},"m",{"$f":"CV7+2*CR7","v":25.915604717062351},"m",{"$f":"-CR7+((-1.33*(CR7^4)+4*CR7*BX7)^(1/2))/(2*CR7)","v":16.515604717062349},"m",{"$f":"CV7-2*BT7","v":14.515604717062349},"m",{"$f":"BL7-2*BV7","v":18.835604717062353},"m",{"$f":"DD7+2*CR7","v":25.915604717062351},"m",{"$f":"CV7","v":16.515604717062349},"m",{"$f":"DD7-2*BT7","v":14.515604717062349},"m",{"$f":"BN7-2*BV7","v":18.835604717062353},"m",{"$f":"(CX7*DF7*BP7)+(BP7^2*((CX7+DF7)))+(BP7^3/3)*4","v":2597.3402214405055},"m132",{"$f":"BX7/DJ7","v":0.82776987868289076},{"$f":"DJ7-BX7","v":447.3402214405055},"m132",{"$f":"CT7*DB7","v":671.61856785102441},"m131",{"$f":"SUM(CV7*DD7)","v":272.76519917025212},"m131"]
["Bedrijf/Situatie 2",31000,1500,{"$f":"D5","v":2800},30000,31.354275805824223,31.354275805824223,{"$f":"'Gegevens '!$C$13","v":0},{"$f":"'Gegevens '!$C$14","v":0.75},{"$f":"'Gegevens '!$C$15","v":0.5},null,1500.0402414728685,1827.4585161985217,457.2514471198578,0.92675666332369155,0.60188860823068857,829.09999999999764,1.127120493549195,934.49560120160891,85.386033872600706,849.10956732905174,274.25889633469143,10.794149489470358,562.46225680498628,562.46225680498628,1.5942646998601049,9.1371252858556198E-2,0.29348334650483021,1.1550776135907803E-2,0.60188860823074131,1.7060162699643964E-3,1901.6669871380113,1.4838709677419355,2742.5889633469233,659.61713136296714,null,3225.0865191666676,4435.0825275893121,{"$error":"#DIV/0!"},507.38911022342592,702.60689819921845,1209.9960084226443,0,983.09061130769419,{"$f":"SUM((F8+(2*(Parameters!$D$5)))*(G8+2*(Parameters!$D$5)))","v":1471.0504725892333},{"$f":"2*(((2*Parameters!$D$5+G8)*Parameters!$D$5+(Parameters!$D$5*F8)))","v":487.95986128153913},0.66829155737758705,-1.25,29.854275805824223,32.354275805824223,31.354275805824223,31.354275805824223,29.854275805824223,32.354275805824223,31.354275805824223,31.354275805824223,0,{"$error":"#DIV/0!"},-3225.0865191666676,891.2777838902216,1046.7991629193427,0,1500,31.354275805824223,"m",31.354275805824223,"m",6,"m",0.3,"m",1,"m",3.84,"m",3225,"m³",3928.9492906601545,"m³",0.82083014094033402,414.62987691289459,"m³",289.31941374725983,"m³",703.94929066015447,"m³",3007.3204167974418,"m³",983.09061130769419,"m132",{"$f":"SUM((BL8+(2*(Parameters!$D$5)))*(BN8+2*(Parameters!$D$5)))","v":1471.0504725892333},"m132",{"$f":"2*(((2*Parameters!$D$5+BN8)*Parameters!$D$5+(Parameters!$D$5*BL8)))","v":487.95986128153913},"m132",0.66829155737758705,4.7,"m",30.754275805824221,"m",21.354275805824223,"m",19.354275805824223,"m",23.674275805824223,"m",30.754275805824221,"m",21.354275805824223,"m",19.354275805824223,"m",23.674275805824223,"m",3929.0358098268212,"m133",0.82081206588497535,704.03580982682115,"m133",945.8254803407051,"m132",456.00509519120976,"m132"]
["Bedrijf/Situatie 3",31000,2000,{"$f":"D5","v":2800},30000,35.425548825229335,35.425548825229335,{"$f":"'Gegevens '!$C$13","v":0},{"$f":"'Gegevens '!$C$14","v":0.75},{"$f":"'Gegevens '!$C$15","v":0.5},null,2000.0402414728685,2449.8500195328993,583.70674863660815,0.97227321098624908,0.62444381149495265,829.09999999999764,1.13976602370087,944.98001025036331,85.386033872600692,859.59397637779057,252.40333133603841,14.934052379366657,590.08691938733102,590.08691938733102,2.1696732750265255,9.0357502747575036E-2,0.26709912230753602,1.5803564326625306E-2,0.6244438114950106,2.2959991232530852E-3,1405.3978822419613,2.3000000000000003,2524.0333133603858,387.039314218767,null,4300.0865191666671,5847.3866047784504,{"$error":"#DIV/0!"},645.36419586363502,901.93588974814759,1547.3000856117826,0,1254.9695095687075,{"$f":"SUM((F9+(2*(Parameters!$D$5)))*(G9+2*(Parameters!$D$5)))","v":1799.9271931219182},{"$f":"2*(((2*Parameters!$D$5+G9)*Parameters!$D$5+(Parameters!$D$5*F9)))","v":544.9576835532107},0.69723348497891269,-1.25,33.925548825229335,36.425548825229335,35.425548825229335,35.425548825229335,33.925548825229335,36.425548825229335,35.425548825229335,35.425548825229335,0,{"$error":"#DIV/0!"},-4300.0865191666671,1150.9428630930195,1326.8206072191663,0,2000,35.425548825229335,"m",35.425548825229335,"m",6,"m",0.3,"m",1,"m",3.84,"m",4300,"m³",5267.0910228290668,"m³",0.81638991643823511,596.94076874699545,"m³",370.15025408207094,"m³",967.09102282906633,"m³",4081.7257967441501,"m³",1254.9695095687075,"m133",{"$f":"SUM((BL9+(2*(Parameters!$D$5)))*(BN9+2*(Parameters!$D$5)))","v":1799.9271931219182},"m133",{"$f":"2*(((2*Parameters!$D$5+BN9)*Parameters!$D$5+(Parameters!$D$5*BL9)))","v":544.9576835532107},"m133",0.69723348497891269,4.7,"m",34.825548825229333,"m",25.425548825229335,"m",23.425548825229335,"m",27.745548825229335,"m",34.825548825229333,"m",25.425548825229335,"m",23.425548825229335,"m",27.745548825229335,"m",5267.1775419957321,"m134",0.81637650633867398,967.1775419957321,"m134",1212.8188509784322,"m133",646.45853306412084,"m133"]
[null,null,null,null,null,39.008635336907311,39.008635336907311,{"$f":"'Gegevens '!$C$13","v":0},{"$f":"'Gegevens '!$C$14","v":0.75},{"$f":"'Gegevens '!$C$15","v":0.5},null,2500.0402414728696,3074.148856199794,707.75517713851798,0.99170478828768083,0.6300663317201709,829.09999999999764,1.152170866551061,955.26486545750549,85.386033872600763,869.8788315848841,246.13531097980831,19.113062246779783,601.88022960001024,601.88022960001024,2.7502287583063207,8.9384669069459369E-2,0.25766184843606343,2.0008128570316416E-2,0.63006633172020976,2.8790222039508928E-3,911.28711799645919,9.2000000000000011,2461.3531097980836,463.17271730862683,null,5375.0865191666699,7253.5273273075363,{"$error":"#DIV/0!"},780.50779975902708,1097.9330083818395,1878.4408081408665,0,1521.6736308478137,{"$f":"SUM((F10+(2*(Parameters!$D$5)))*(G10+2*(Parameters!$D$5)))","v":2116.7945255645159},{"$f":"2*(((2*Parameters!$D$5+G10)*Parameters!$D$5+(Parameters!$D$5*F10)))","v":595.12089471670231},0.71885750481238009,-1.25,37.508635336907311,40.008635336907311,39.008635336907311,39.008635336907311,37.508635336907311,40.008635336907311,39.008635336907311,39.008635336907311,0,{"$error":"#DIV/0!"},-5375.0865191666699,1406.8977248370918,1600.6909015216283,{"$f":"E10","v":0},2500,39.008635336907311,"m",39.008635336907311,"m",6,"m",0.3,"m",1,"m",3.84,"m",5375,"m³",6609.3335216628866,"m³",0.81324387434569467,784.81698676918609,"m³",449.51653489370079,"m³",1234.3335216628868,"m³",5164.4303473222226,"m³",1521.6736308478137,"m134",{"$f":"SUM((BL10+(2*(Parameters!$D$5)))*(BN10+2*(Parameters!$D$5)))","v":2116.7945255645159},"m134",{"$f":"2*(((2*Parameters!$D$5+BN10)*Parameters!$D$5+(Parameters!$D$5*BL10)))","v":595.12089471670231},"m134",0.71885750481238009,4.7,"m",38.408635336907309,"m",29.008635336907307,"m",27.008635336907307,"m",31.328635336907311,"m",38.408635336907309,"m",29.008635336907307,"m",27.008635336907307,"m",31.328635336907311,"m",6609.4200408295546,"m135",0.81323322875472426,1234.4200408295546,"m135",1475.2232684435248,"m134",841.50092410966738,"m134"]
["Parameters voor de simulatie (afblijven)",null,null,null,null,42.24584551112499,42.24584551112499,{"$f":"'Gegevens '!$C$13","v":0},{"$f":"'Gegevens '!$C$14","v":0.75},{"$f":"'Gegevens '!$C$15","v":0.5},null,3000.0402414728687,3699.7990236735068,830.09835486039049,0.99805495358660679,0.62743837433529337,829.09999999999764,1.1644051843232484,965.40833832239196,85.386033872600763,880.02230444980444,247.7015526927311,23.251173821209537,605.73423836678671,605.73423836678671,3.3353395690637626,8.8445511068381347E-2,0.25657697666374696,2.4084289412305612E-2,0.62743837433534333,3.4548485202226908E-3,419.3229287762544,15.333333333333334,2477.0155269273087,181.00651794191617,null,6450.086519166668,8655.3013610761809,{"$error":"#DIV/0!"},913.64532089714885,1291.569521012364,2205.2148419095129,0,1784.7114629498394,{"$f":"SUM((F11+(2*(Parameters!$D$5)))*(G11+2*(Parameters!$D$5)))","v":2425.1533001055896},{"$f":"2*(((2*Parameters!$D$5+G11)*Parameters!$D$5+(Parameters!$D$5*F11)))","v":640.44183715574991},0.73591696775298054,-1.25,40.74584551112499,43.24584551112499,42.24584551112499,42.24584551112499,40.74584551112499,43.24584551112499,42.24584551112499,42.24584551112499,0,{"$error":"#DIV/0!"},-6450.086519166668,1660.2239264164646,1870.2031539720895,0,3000,42.24584551112499,"m",42.24584551112499,"m",6,"m",0.3,"m",1,"m",3.84,"m",6450,"m³",7954.4813817313716,"m³",0.81086367425705053,976.63619503842301,"m³",527.84518669294926,"m³",1504.4813817313723,"m³",6253.0147956371147,"m³",1784.7114629498394,"m135",{"$f":"SUM((BL11+(2*(Parameters!$D$5)))*(BN11+2*(Parameters!$D$5)))","v":2425.1533001055896},"m135",{"$f":"2*(((2*Parameters!$D$5+BN11)*Parameters!$D$5+(Parameters!$D$5*BL11)))","v":640.44183715574991},"m135",0.73591696775298054,4.7,"m",41.645845511124989,"m",32.24584551112499,"m",30.24584551112499,"m",34.565845511124991,"m",41.645845511124989,"m",32.24584551112499,"m",30.24584551112499,"m",34.565845511124991,"m",7954.5679008980378,"m136",0.81085485476487307,1504.5679008980378,"m136",1734.3764483364894,"m135",1039.7945527273398,"m135"]
["#ha teeltoppervlak",null,null,{"$f":"E3/10000","v":2.15},null,45.221409103227224,45.221409103227224,{"$f":"'Gegevens '!$C$13","v":0},{"$f":"'Gegevens '!$C$14","v":0.75},{"$f":"'Gegevens '!$C$15","v":0.5},null,3500.0402414728674,4326.4714382587408,951.15155408439159,1,0.62219274622685372,829.09999999999764,1.1765105042456485,975.44485907005208,85.386033872600663,890.05882519746683,251.89080745408049,27.329722277519181,606.91471565771349,606.91471565771349,3.9235798081382427,8.7535479918366785E-2,0.25823172382519144,2.8017700870938193E-2,0.62219274622690646,4.022349158597051E-3,0,"> 46jaar",2518.9080745408096,0,null,7525.0865191666644,10053.772106745617,{"$error":"#DIV/0!"},1045.2652918590013,1483.4202957199509,2528.6855875789524,0,2044.9758412814419,{"$f":"SUM((F12+(2*(Parameters!$D$5)))*(G12+2*(Parameters!$D$5)))","v":2727.0755687266233},{"$f":"2*(((2*Parameters!$D$5+G12)*Parameters!$D$5+(Parameters!$D$5*F12)))","v":682.09972744518109},0.74987868496666565,-1.25,43.721409103227224,46.221409103227224,45.221409103227224,45.221409103227224,43.721409103227224,46.221409103227224,45.221409103227224,45.221409103227224,0,{"$error":"#DIV/0!"},-7525.0865191666644,1911.5616139717604,2136.4186594878965,0,3500,45.221409103227224,"m",45.221409103227224,"m",6,"m",0.3,"m",1,"m",3.84,"m",7525,"m³",9301.8270730896274,"m³",0.80898085299499667,1171.4381743437764,"m³",605.38889874585152,"m³",1776.8270730896279,"m³",7346.0472358479719,"m³",2044.9758412814419,"m136",{"$f":"SUM((BL12+(2*(Parameters!$D$5)))*(BN12+2*(Parameters!$D$5)))","v":2727.0755687266233},"m136",{"$f":"2*(((2*Parameters!$D$5+BN12)*Parameters!$D$5+(Parameters!$D$5*BL12)))","v":682.09972744518109},"m136",0.74987868496666565,4.7,"m",44.621409103227222,"m",35.221409103227224,"m",33.221409103227224,"m",37.541409103227224,"m",44.621409103227222,"m",35.221409103227224,"m",33.221409103227224,"m",37.541409103227224,"m",9301.9135922562928,"m137",0.80897332848420056,1776.9135922562928,"m137",1991.0701503575692,"m136",1240.5476592168975,"m136"]
["Gemiddelde waterstand W1",null,null,0.64,null,47.990072722385385,47.990072722385385,{"$f":"'Gegevens '!$C$13","v":0},{"$f":"'Gegevens '!$C$14","v":0.75},{"$f":"'Gegevens '!$C$15","v":0.5},null,4000.0402414728678,4953.9522062266424,1071.1846883255059,1,0.61590895344956786,829.09999999999764,1.1885138176697598,985.39680623003244,85.386033872600692,900.01077235741741,257.23403232374483,31.347819467973412,606.91471565771349,606.91471565771349,4.5142049080000106,8.665142136929968E-2,0.261046139684459,3.1812381844330363E-2,0.61590895344959584,4.5811036523150739E-3,0,"> 46jaar",2572.3403232374535,0,null,8600.0865191666671,11449.630740256642,{"$error":"#DIV/0!"},1175.6852429777782,1673.858978112195,2849.5442210899732,0,2303.0470798998376,{"$f":"SUM((F13+(2*(Parameters!$D$5)))*(G13+2*(Parameters!$D$5)))","v":3023.908098013233},{"$f":"2*(((2*Parameters!$D$5+G13)*Parameters!$D$5+(Parameters!$D$5*F13)))","v":720.8610181133954},0.76161278889824224,-1.25,46.490072722385385,48.990072722385385,47.990072722385385,47.990072722385385,46.490072722385385,48.990072722385385,47.990072722385385,47.990072722385385,0,{"$error":"#DIV/0!"},-8600.0865191666671,2161.3268617326817,2400.0272253446087,0,4000,47.990072722385385,"m",47.990072722385385,"m",6,"m",0.3,"m",1,"m",3.84,"m",8600,"m³",10650.910724220616,"m³",0.80744268942591368,1368.5988133406927,"m³",682.31191087992181,"m³",2050.9107242206146,"m³",8442.5969755988772,"m³",2303.0470798998376,"m137",{"$f":"SUM((BL13+(2*(Parameters!$D$5)))*(BN13+2*(Parameters!$D$5)))","v":3023.908098013233},"m137",{"$f":"2*(((2*Parameters!$D$5+BN13)*Parameters!$D$5+(Parameters!$D$5*BL13)))","v":720.8610181133954},"m137",0.76161278889824224,4.7,"m",47.390072722385383,"m",37.990072722385385,"m",35.990072722385385,"m",40.310072722385385,"m",47.390072722385383,"m",37.990072722385385,"m",35.990072722385385,"m",40.310072722385385,"m",10650.997243387279,"m138",0.80743613048434026,2050.997243387279,"m138",2245.8189926329751,"m137",1443.2456254521301,"m137"]
["Aantal jaren simulatie",null,null,46,null,50.589797011003178,50.589797011003178,{"$f":"'Gegevens '!$C$13","v":0},{"$f":"'Gegevens '!$C$14","v":0.75},{"$f":"'Gegevens '!$C$15","v":0.5},null,4500.0402414728696,5582.0930162301447,1190.38491237884,1,0.60979312408883257,829.09999999999764,1.2004338400750934,995.27969680625176,85.386033872600706,909.89366293366163,262.56035955949011,35.311810407379539,606.91471565771349,606.91471565771349,5.1067773090679793,8.5790993372612284E-2,0.26380560198506892,3.5479283382039678E-2,0.60979312408887587,5.1309971714032674E-3,0,"> 46jaar",2625.6035955949014,0,null,9675.0865191666689,12843.356514719591,{"$error":"#DIV/0!"},1305.1253459794214,1863.1446495735011,3168.2699955529224,0,2559.3275616145061,{"$f":"SUM((F14+(2*(Parameters!$D$5)))*(G14+2*(Parameters!$D$5)))","v":3316.5847197685507},{"$f":"2*(((2*Parameters!$D$5+G14)*Parameters!$D$5+(Parameters!$D$5*F14)))","v":757.25715815404453},0.77167561749880753,-1.25,49.089797011003178,51.589797011003178,50.589797011003178,50.589797011003178,49.089797011003178,51.589797011003178,50.589797011003178,50.589797011003178,0,{"$error":"#DIV/0!"},-9675.0865191666689,2409.8081705814966,2661.5071556365124,0,4500,50.589797011003178,"m",50.589797011003178,"m",6,"m",0.3,"m",1,"m",3.84,"m",9675,"m³",12001.413465728141,"m³",0.80615504395615001,1567.6853607057694,"m³",758.7281050223711,"m³",2326.4134657281406,"m³",9542.0186839689741,"m³",2559.3275616145061,"m138",{"$f":"SUM((BL14+(2*(Parameters!$D$5)))*(BN14+2*(Parameters!$D$5)))","v":3316.5847197685507},"m138",{"$f":"2*(((2*Parameters!$D$5+BN14)*Parameters!$D$5+(Parameters!$D$5*BL14)))","v":757.25715815404453},"m138",0.77167561749880753,4.7,"m",49.989797011003176,"m",40.589797011003178,"m",38.589797011003178,"m",42.909797011003178,"m",49.989797011003176,"m",40.589797011003178,"m",38.589797011003178,"m",42.909797011003178,"m",12001.499984894808,"m139",0.80614923236070812,2326.4999848948082,"m139",2498.979805201302,"m138",1647.5316213944425,"m138"]
["Aantal weken simulatie",null,null,{"$f":"D14*52","v":2392},null,53.048184442481066,53.048184442481066,{"$f":"'Gegevens '!$C$13","v":0},{"$f":"'Gegevens '!$C$14","v":0.75},{"$f":"'Gegevens '!$C$15","v":0.5},null,5000.0402414728669,6210.7860260475836,1308.8883128574373,1,0.60383226441766846,829.09999999999764,1.2122841801229531,1005.1048137399366,85.386033872600692,919.71877986732954,267.86925597718874,39.233829385060524,606.91471565771349,606.91471565771349,5.7009788473731078,8.4952367857919431E-2,0.2665087783038893,3.9034565200293615E-2,0.603832264417697,5.6720242202005743E-3,0,"> 46jaar",2678.69255977189,0,null,10750.086519166663,14235.297911361142,{"$error":"#DIV/0!"},1433.7456952096525,2051.4656969848265,3485.2113921944792,0,2814.1098726434902,{"$f":"SUM((F15+(2*(Parameters!$D$5)))*(G15+2*(Parameters!$D$5)))","v":3605.784454838225},{"$f":"2*(((2*Parameters!$D$5+G15)*Parameters!$D$5+(Parameters!$D$5*F15)))","v":791.67458219473497},0.78044317620470371,-1.25,51.548184442481066,54.048184442481066,53.048184442481066,53.048184442481066,51.548184442481066,54.048184442481066,53.048184442481066,53.048184442481066,0,{"$error":"#DIV/0!"},-10750.086519166663,2657.215319316047,2921.2062415284522,0,5000,53.048184442481066,"m",53.048184442481066,"m",6,"m",0.3,"m",1,"m",3.84,"m",10750,"m³",13353.103436835641,"m³",0.80505629652693578,1768.3831482422402,"m³",834.72028859340026,"m³",2603.1034368356404,"m³",10643.843118910443,"m³",2814.1098726434902,"m139",{"$f":"SUM((BL15+(2*(Parameters!$D$5)))*(BN15+2*(Parameters!$D$5)))","v":3605.784454838225},"m139",{"$f":"2*(((2*Parameters!$D$5+BN15)*Parameters!$D$5+(Parameters!$D$5*BL15)))","v":791.67458219473497},"m139",0.78044317620470371,4.7,"m",52.448184442481065,"m",43.048184442481066,"m",41.048184442481066,"m",45.368184442481066,"m",52.448184442481065,"m",43.048184442481066,"m",41.048184442481066,"m",45.368184442481066,"m",13353.189956002305,"m140",0.80505108033514028,2603.1899560023048,"m140",2750.8120513125127,"m139",1853.1461837938689,"m139"]
["Aantal dagen simulatie",null,null,{"$f":"COUNT(A35:A16834)","v":16800},null,55.386051170046436,55.386051170046436,{"$f":"'Gegevens '!$C$13","v":0},{"$f":"'Gegevens '!$C$14","v":0.75},{"$f":"'Gegevens '!$C$15","v":0.5},null,5500.0402414728669,6839.9499074524047,1426.7975182376754,1,0.59801584168005906,829.09999999999764,1.2240751006609769,1014.8806659580255,85.38603387260072,929.49463208540521,273.16158288535911,43.121763959900697,606.91471565771349,606.91471565771349,6.2965695824515251,8.4134062985620234E-2,0.26915635704568325,4.248949202238933E-2,0.59801584168006494,6.2042462662422471E-3,0,"> 46jaar",2731.6158288535926,0,null,11825.086519166663,15625.717734115804,{"$error":"#DIV/0!"},1561.6670243571909,2238.9641905919493,3800.6312149491405,0,3067.614664211002,{"$f":"SUM((F16+(2*(Parameters!$D$5)))*(G16+2*(Parameters!$D$5)))","v":3892.0193805916524},{"$f":"2*(((2*Parameters!$D$5+G16)*Parameters!$D$5+(Parameters!$D$5*F16)))","v":824.40471638065014},0.78818072682481688,-1.25,53.886051170046436,56.386051170046436,55.386051170046436,55.386051170046436,53.886051170046436,56.386051170046436,55.386051170046436,55.386051170046436,0,{"$error":"#DIV/0!"},-11825.086519166663,2903.706510700863,3179.3867665510952,0,5500,55.386051170046436,"m",55.386051170046436,"m",6,"m",0.3,"m",1,"m",3.84,"m",11825,"m³",14705.805781856005,"m³",0.80410418683685203,1970.4548718033138,"m³",910.35091005269214,"m³",2880.805781856006,"m³",11747.716405818426,"m³",3067.614664211002,"m140",{"$f":"SUM((BL16+(2*(Parameters!$D$5)))*(BN16+2*(Parameters!$D$5)))","v":3892.0193805916524},"m140",{"$f":"2*(((2*Parameters!$D$5+BN16)*Parameters!$D$5+(Parameters!$D$5*BL16)))","v":824.40471638065014},"m140",0.78818072682481688,4.7,"m",54.786051170046434,"m",45.386051170046436,"m",43.386051170046436,"m",47.706051170046436,"m",54.786051170046434,"m",45.386051170046436,"m",43.386051170046436,"m",47.706051170046436,"m",14705.89230102267,"m141",0.80409945605120958,2880.8923010226699,"m141",3001.5114028069461,"m140",2059.8936408100735,"m140"]
["Parameters voor watertekorten",null,null,null,null,57.619555866461916,57.619555866461916,{"$f":"'Gegevens '!$C$13","v":0},{"$f":"'Gegevens '!$C$14","v":0.75},{"$f":"'Gegevens '!$C$15","v":0.5},null,6000.0402414728687,7469.5215288859072,1544.1921945341051,1,0.59233506416247339,829.09999999999764,1.2358145682906199,1024.6138585697593,85.386033872600692,939.22782469716617,278.4382821341988,46.981463646180302,606.91471565771349,606.91471565771349,6.8933632590659499,8.3334841861098366E-2,0.27174947889428896,4.5852848127352984E-2,0.59233506416250825,6.7277669547513991E-3,0,"> 46jaar",2784.3828213419947,0,null,12900.086519166667,{"$f":"SUM(AK17+AO17+AN17)","v":17014.819986227201},{"$error":"#DIV/0!"},1688.9830537240605,2425.7504133364746,4114.7334670605351,0,3320.0132182483258,{"$f":"SUM((F17+(2*(Parameters!$D$5)))*(G17+2*(Parameters!$D$5)))","v":4175.6870003787935},{"$f":"2*(((2*Parameters!$D$5+G17)*Parameters!$D$5+(Parameters!$D$5*F17)))","v":855.67378213046686},0.79508191537036987,-1.25,56.119555866461916,58.619555866461916,57.619555866461916,57.619555866461916,56.119555866461916,58.619555866461916,57.619555866461916,57.619555866461916,0,{"$error":"#DIV/0!"},-12900.086519166667,3149.4045506489401,3436.2523299812497,0,6000,57.619555866461916,"m",57.619555866461916,"m",6,"m",0.3,"m",1,"m",3.84,"m",12900,"m³",16059.384767938031,"m³",0.80326862992624559,2173.7163225194972,"m³",985.66844541853436,"m³",3159.3847679380315,"m³",12853.363847255961,"m³",3320.0132182483258,"m141",{"$f":"SUM((BL17+(2*(Parameters!$D$5)))*(BN17+2*(Parameters!$D$5)))","v":4175.6870003787935},"m141",{"$f":"2*(((2*Parameters!$D$5+BN17)*Parameters!$D$5+(Parameters!$D$5*BL17)))","v":855.67378213046686},"m141",0.79508191537036987,4.7,"m",57.019555866461914,"m",47.619555866461916,"m",45.619555866461916,"m",49.939555866461916,"m",57.019555866461914,"m",47.619555866461916,"m",45.619555866461916,"m",49.939555866461916,"m",16059.471287104698,"m142",0.80326430237826918,3159.4712871046977,"m142",3251.2297512085711,"m141",2267.6221009190876,"m141"]
["Poisson coëfficiënten",null,null,null,null,59.761539918727493,59.761539918727493,{"$f":"'Gegevens '!$C$13","v":0},{"$f":"'Gegevens '!$C$14","v":0.75},{"$f":"'Gegevens '!$C$15","v":0.5},null,6500.0402414728678,8099.4507193477129,1661.1356527710047,1,0.58678242160783634,829.09999999999764,1.2475089141143096,1034.3096406921657,85.386033872600692,948.92360681958246,283.70453419743347,50.813145105199467,606.91471565771349,606.91471565771349,7.4912118592185379,8.2553647876142666E-2,0.2742936186958258,4.9127594973585507E-2,0.58678242160786864,7.242716846577373E-3,0,"> 46jaar",2837.045341974338,0,null,13975.086519166667,18402.766790206206,{"$error":"#DIV/0!"},1815.7682633548604,2611.9120076846762,4427.6802710395368,0,3571.4416534576599,{"$f":"SUM((F18+(2*(Parameters!$D$5)))*(G18+2*(Parameters!$D$5)))","v":4457.1032123198447},{"$f":"2*(((2*Parameters!$D$5+G18)*Parameters!$D$5+(Parameters!$D$5*F18)))","v":885.66155886218485},0.80129211358307018,-1.25,58.261539918727493,60.761539918727493,59.761539918727493,59.761539918727493,58.261539918727493,60.761539918727493,59.761539918727493,59.761539918727493,0,{"$error":"#DIV/0!"},-13975.086519166667,3394.4070337014773,3691.9647332951145,0,6500,59.761539918727493,"m",59.761539918727493,"m",6,"m",0.3,"m",1,"m",3.84,"m",13975,"m³",17413.732527430915,"m³",0.8025275441658436,2378.0211085789883,"m³",1060.711418851927,"m³",3438.7325274309151,"m³",13960.567139644039,"m³",3571.4416534576599,"m142",{"$f":"SUM((BL18+(2*(Parameters!$D$5)))*(BN18+2*(Parameters!$D$5)))","v":4457.1032123198447},"m142",{"$f":"2*(((2*Parameters!$D$5+BN18)*Parameters!$D$5+(Parameters!$D$5*BL18)))","v":885.66155886218485},"m142",0.80129211358307018,4.7,"m",59.161539918727492,"m",49.761539918727493,"m",47.761539918727493,"m",52.081539918727493,"m",59.161539918727492,"m",49.761539918727493,"m",47.761539918727493,"m",52.081539918727493,"m",17413.819046597579,"m143",0.80252355687195009,3438.8190465975786,"m143",3500.0878055551866,"m142",2476.2108550831099,"m142"]
["Gemiddelde",null,"Gemiddelde","Gemiddelde",null,61.822409136328119,61.822409136328119,{"$f":"'Gegevens '!$C$13","v":0},{"$f":"'Gegevens '!$C$14","v":0.75},{"$f":"'Gegevens '!$C$15","v":0.5},null,7000.0402414728696,8729.696823582166,1777.6791960090914,1,0.58135137829216177,829.09999999999764,1.2591632684381184,1043.9722658620369,85.386033872600706,958.5862319894369,288.96117538794107,54.620345504788823,606.91471565771349,606.91471565771349,8.0899954389927871,8.1789561528337232E-2,0.27679008804830441,5.231972849363703E-2,0.58135137829218786,7.7492436375334673E-3,0,"> 46jaar",2889.6117538794092,0,null,15050.086519166669,19789.689519397565,{"$error":"#DIV/0!"},1942.083006944604,2797.5199932862902,4739.6030002308944,0,3822.0102714195464,{"$f":"SUM((F19+(2*(Parameters!$D$5)))*(G19+2*(Parameters!$D$5)))","v":4736.5239993281402},{"$f":"2*(((2*Parameters!$D$5+G19)*Parameters!$D$5+(Parameters!$D$5*F19)))","v":914.51372790859364},0.80692302455591602,-1.25,60.322409136328119,62.822409136328119,61.822409136328119,61.822409136328119,60.322409136328119,62.822409136328119,61.822409136328119,61.822409136328119,0,{"$error":"#DIV/0!"},-15050.086519166669,3638.793044010562,3946.6550896922026,0,7000,61.822409136328119,"m",61.822409136328119,"m",6,"m",0.3,"m",1,"m",3.84,"m",15050,"m³",18768.761651534987,"m³",0.80186430407192844,2583.2506037536614,"m³",1135.5110477813248,"m³",3718.7616515349864,"m³",15069.149384221431,"m³",3822.0102714195464,"m143",{"$f":"SUM((BL19+(2*(Parameters!$D$5)))*(BN19+2*(Parameters!$D$5)))","v":4736.5239993281402},"m143",{"$f":"2*(((2*Parameters!$D$5+BN19)*Parameters!$D$5+(Parameters!$D$5*BL19)))","v":914.51372790859364},"m143",0.80692302455591602,4.7,"m",61.222409136328118,"m",51.822409136328119,"m",49.822409136328119,"m",54.142409136328119,"m",61.222409136328118,"m",51.822409136328119,"m",49.822409136328119,"m",54.142409136328119,"m",18768.848170701654,"m144",0.80186060770064671,3718.8481707016545,"m144",3748.1833804559524,"m143",2685.5620886929842,"m143"]
["Maximaal jaarlijks watertekort:",0,{"$f":"IF(D20=\"> 46jaar\",\"> 46jaar\",1/D20)","v":"> 46jaar"},{"$f":"IF(COUNTIF($CV$98:$CV$143,\">\"&$B$20)=0,\"> 46jaar\",(COUNTIF($CV$98:$CV$143,\">\"&$B$20)/COUNT($CV$98:$CV$143)))","v":"> 46jaar"},null,63.810735244310393,63.810735244310393,{"$f":"'Gegevens '!$C$13","v":0},{"$f":"'Gegevens '!$C$14","v":0.75},{"$f":"'Gegevens '!$C$15","v":0.5},null,7500.0402414728678,9360.226352058844,1893.8650848462685,1,0.57603616024552962,829.09999999999764,1.2707818573218361,1053.6052379055227,85.38603387260072,968.21920403294803,294.20443442441854,58.410438755528475,606.91471565771349,606.91471565771349,8.6896151952614673,8.104177048544374E-2,0.27923592617029108,5.5438637408108796E-2,0.57603616024556614,8.2475056905902261E-3,0,"> 46jaar",2942.0443442441815,0,null,16125.086519166667,21175.696391829988,{"$error":"#DIV/0!"},2067.9770004985603,2982.6328721647583,5050.609872663319,0,4071.8099324194768,{"$f":"SUM((F20+(2*(Parameters!$D$5)))*(G20+2*(Parameters!$D$5)))","v":5014.1602258398225},{"$f":"2*(((2*Parameters!$D$5+G20)*Parameters!$D$5+(Parameters!$D$5*F20)))","v":942.35029342034545},0.81206218968351551,-1.25,62.310735244310393,64.810735244310393,63.810735244310393,63.810735244310393,62.310735244310393,64.810735244310393,63.810735244310393,63.810735244310393,0,{"$error":"#DIV/0!"},-16125.086519166667,3882.6277266865454,4200.431402908097,0,7500,63.810735244310393,"m",63.810735244310393,"m",6,"m",0.3,"m",1,"m",3.84,"m",16125,"m³",20124.400137759847,"m³",0.80126611921934077,2789.3070903779812,"m³",1210.0930473818671,"m³",3999.4001377598483,"m³",16178.96486166232,"m³",4071.8099324194768,"m144",{"$f":"SUM((BL20+(2*(Parameters!$D$5)))*(BN20+2*(Parameters!$D$5)))","v":5014.1602258398225},"m144",{"$f":"2*(((2*Parameters!$D$5+BN20)*Parameters!$D$5+(Parameters!$D$5*BL20)))","v":942.35029342034545},"m144",0.81206218968351551,4.7,"m",63.210735244310392,"m",53.810735244310393,"m",51.810735244310393,"m",56.130735244310394,"m",63.210735244310392,"m",53.810735244310393,"m",51.810735244310393,"m",56.130735244310394,"m",20124.48665692651,"m145",0.80126267441709109,3999.4866569265105,"m145",3995.5970501263041,"m144",2895.5952275332688,"m144"]
["Maximaal jaarlijks watertekort:",null,{"$f":"MAX(CV98:CV143)","v":0},null,null,65.73367888094441,65.73367888094441,{"$f":"'Gegevens '!$C$13","v":0},{"$f":"'Gegevens '!$C$14","v":0.75},{"$f":"'Gegevens '!$C$15","v":0.5},null,8000.0402414728705,9991.0113283305618,2009.7286228944731,1,0.57083160300596647,829.09999999999764,1.2823682111266566,1063.2114838451164,85.386033872600649,977.82544997252592,299.43513602278688,62.185609701969767,606.91471565771349,606.91471565771349,9.2899885900457093,8.0309548166091177E-2,0.28163271425537684,5.84884669201228E-2,0.57083160300601676,8.7376676523925039E-3,0,"> 46jaar",2994.3513602278754,0,null,17200.086519166671,22560.87781056164,{"$error":"#DIV/0!"},2193.4917757186972,3167.2995156762754,5360.7912913949731,0,4320.9165392231171,{"$f":"SUM((F21+(2*(Parameters!$D$5)))*(G21+2*(Parameters!$D$5)))","v":5290.1880435563389},{"$f":"2*(((2*Parameters!$D$5+G21)*Parameters!$D$5+(Parameters!$D$5*F21)))","v":969.27150433322174},0.81677938546743467,-1.25,64.23367888094441,66.73367888094441,65.73367888094441,65.73367888094441,64.23367888094441,66.73367888094441,65.73367888094441,65.73367888094441,0,{"$error":"#DIV/0!"},-17200.086519166671,4125.965502580284,4453.3838969850058,0,8000,65.73367888094441,"m",65.73367888094441,"m",6,"m",0.3,"m",1,"m",3.84,"m",17200,"m³",21480.587836744038,"m³",0.80072296581093583,2996.1089371756734,"m³",1284.4788995683655,"m³",4280.5878367440391,"m³",17289.891841116143,"m³",4320.9165392231171,"m145",{"$f":"SUM((BL21+(2*(Parameters!$D$5)))*(BN21+2*(Parameters!$D$5)))","v":5290.1880435563389},"m145",{"$f":"2*(((2*Parameters!$D$5+BN21)*Parameters!$D$5+(Parameters!$D$5*BL21)))","v":969.27150433322174},"m145",0.81677938546743467,4.7,"m",65.133678880944416,"m",55.73367888094441,"m",53.73367888094441,"m",58.05367888094441,"m",65.133678880944416,"m",55.73367888094441,"m",53.73367888094441,"m",58.05367888094441,"m",21480.674355910705,"m146",0.80071974068482543,4280.6743559107053,"m146",4242.3961245659848,"m145",3106.2429616042291,"m145"]
["Gemiddeld jaarlijks watertekort",null,{"$f":"IF(COUNTIF(CV98:CV143,\">\"&0)=0,0,SUMIF(CV98:CV143,\">\"&0,CV98:CV143)/(COUNTIF(CV98:CV143,\">\"&0)))","v":0},null,null,67.59729486374529,67.59729486374529,{"$f":"'Gegevens '!$C$13","v":0},{"$f":"'Gegevens '!$C$14","v":0.75},{"$f":"'Gegevens '!$C$15","v":0.5},null,8500.0402414728705,10622.028096366092,2125.2996618121515,1,0.56573303969318511,829.09999999999764,1.2939253150184244,1072.7934786817732,85.386033872600706,987.40744480916499,304.6541435410382,65.947539778738914,606.91471565771349,606.91471565771349,9.8910458316818222,7.9592237993021106E-2,0.28398209869376817,6.1472726194955911E-2,0.56573303969322963,9.2198974250251205E-3,0,"> 46jaar",3046.5414354103732,0,null,18275.086519166671,23945.310217663653,{"$error":"#DIV/0!"},2318.662450546602,3351.5612479503802,5670.2236984969823,0,4569.3942728961256,{"$f":"SUM((F22+(2*(Parameters!$D$5)))*(G22+2*(Parameters!$D$5)))","v":5564.7564009885591},{"$f":"2*(((2*Parameters!$D$5+G22)*Parameters!$D$5+(Parameters!$D$5*F22)))","v":995.36212809243398},0.82113105114257812,-1.25,66.09729486374529,68.59729486374529,67.59729486374529,67.59729486374529,66.09729486374529,68.59729486374529,67.59729486374529,67.59729486374529,0,{"$error":"#DIV/0!"},-18275.086519166671,4368.8523883048892,4705.5888626236156,0,8500,67.59729486374529,"m",67.59729486374529,"m",6,"m",0.3,"m",1,"m",3.84,"m",18275,"m³",22837.273888020427,"m³",0.80022686112226271,3203.5871192270624,"m³",1358.6867687933636,"m³",4562.2738880204261,"m³",18401.827390685125,"m³",4569.3942728961256,"m146",{"$f":"SUM((BL22+(2*(Parameters!$D$5)))*(BN22+2*(Parameters!$D$5)))","v":5564.7564009885591},"m146",{"$f":"2*(((2*Parameters!$D$5+BN22)*Parameters!$D$5+(Parameters!$D$5*BL22)))","v":995.36212809243398},"m146",0.82113105114257812,4.7,"m",66.997294863745296,"m",57.59729486374529,"m",55.59729486374529,"m",59.91729486374529,"m",66.997294863745296,"m",57.59729486374529,"m",55.59729486374529,"m",59.91729486374529,"m",22837.36040718709,"m147",0.80022382946886972,4562.3604071870905,"m147",4488.6375190596318,"m146",3317.4483756212194,"m146"]
[null,null,null,null,null,69.406757456571953,69.406757456571953,{"$f":"'Gegevens '!$C$13","v":0},{"$f":"'Gegevens '!$C$14","v":0.75},{"$f":"'Gegevens '!$C$15","v":0.5},null,9000.0402414728687,11253.256440436868,2240.6037119234447,1,0.56073621676327923,829.09999999999764,1.3054557200295538,1082.353337476485,85.386033872600692,996.96730360387858,309.8621240407532,69.697736627018585,606.91471565771349,606.91471565771349,10.492727278399002,7.8889241540732791E-2,0.28628555325860511,6.43946243927324E-2,0.56073621676331664,9.6943640446130793E-3,0,"> 46jaar",3098.6212404075368,0,null,19350.086519166671,25329.058938217237,{"$error":"#DIV/0!"},2443.5190357126553,3535.4533833379114,5978.9724190505667,0,4817.297980635406,{"$f":"SUM((F23+(2*(Parameters!$D$5)))*(G23+2*(Parameters!$D$5)))","v":5837.992585027414},{"$f":"2*(((2*Parameters!$D$5+G23)*Parameters!$D$5+(Parameters!$D$5*F23)))","v":1020.6946043920072},0.82516342911949503,-1.25,67.906757456571953,70.406757456571953,69.406757456571953,69.406757456571953,67.906757456571953,70.406757456571953,69.406757456571953,69.406757456571953,0,{"$error":"#DIV/0!"},{"$f":"(BE23-AK23)","v":-19350.086519166671},{"$f":"AW23*BA23","v":4611.3277082656905},{"$f":"SUM(AX23*BB23)","v":4957.11149554855},0,9000,69.406757456571953,"m",69.406757456571953,"m",6,"m",0.3,"m",1,"m",3.84,"m",19350,"m³",24194.414827772598,"m³",0.7997713578833191,3411.682649924157,"m³",1432.7321778484391,"m³",4844.4148277725963,"m³",19514.683547883662,"m³",4817.297980635406,"m147",{"$f":"SUM((BL23+(2*(Parameters!$D$5)))*(BN23+2*(Parameters!$D$5)))","v":5837.992585027414},"m147",{"$f":"2*(((2*Parameters!$D$5+BN23)*Parameters!$D$5+(Parameters!$D$5*BL23)))","v":1020.6946043920072},"m147",0.82516342911949503,4.7,"m",68.806757456571958,"m",59.406757456571953,"m",57.406757456571953,"m",61.726757456571953,"m",68.806757456571958,"m",59.406757456571953,"m",57.406757456571953,"m",61.726757456571953,"m",24194.501346939258,"m148",0.79976849791317917,4844.5013469392579,"m148",4734.3698716875206,"m147",3529.1628315039675,"m147"]
[]
[null,null,null,null,null,null,null,null,null,null,null,null,{"$f":"BH3-((AK3+AN3-U38)*(BH3-BI3)/(AK3))","v":1059.3387602386583}]
[null,null,null,null,null,null,null,null,null,null,null,null,null,null,null,null,null,null,null,null,null,null,null,null,null,null,null,"Schepers-stroomdiagram"]
["Klimaatdata",null,null,"Berekeningen data en neerslag",null,null,null,null,null,"Opvang",null,null,null,null,"Berekening Evaporatie",null,"Evaporatie","Waterbehoefte","Berekeningen Simulatie",null,"Simulatie",null,null,"Invulling en benutting",null,null,"Opvangverhouding",null,null,null,"Waar blijft de opgevangen neerslag?",null,null,"Wat gebeurt er met nuttige neerslag?",null,"Bruto neerslag - Verlies/gebruikspercentages",null,null,null,null,"Terugkeerperiode watertekort"]
["Datum","KMI:  Neerslag          mm    ","KMI: Penman ETo       mm ","Maand","Jaar","Week","RR","RR (corr. serre) mm","RR (corr. Loods) mm","Bruto neerslag m³/ha teeltopp.","Opvang-verhouding","Opvang m³/ha teeltopp.","Opvang-percentage  (%)","Opvang-verliezen (m³/ha)","E (mm/dag)  Warmteopslag","Evaporatie-oppervlak","Evaporatie-verliezen       m³/ha teeltopp.","Waterbehoefte m³/ha teeltopp.","Niveau-verschil nuttige zone     m³","Niveau-verschil dode zone     m³","Water-voorraad m³/ha","Overloop Totaal aantal m³/ha teeltopp.","Watertekort   Totaal aantal m³/ha teeltopp.","Hemelwater-verbruik m³/ha teeltopp.","Hemelwater-percentage","Benuttings-percentage","Opvangverhouding","Bruto neerslag mm","Opgevangen neerslag mm","Nuttige neerslag mm","Opvang-verlies               mm","Overloop-verlies       mm","Evaporatie-verlies     mm","Hemelwater-benutting     mm","Bufferopbouw mm","Opvang-verlies-percentage","Overloop-percentage","Evaporatie-percentage","Hemelwater-benuttings percentage","Bufferopbouw","Aantal overschreden maximale watertekorten","Terugkeer-periode"]
["Som",{"$f":"SUM(B35:B16834)/$D$14","v":829.09999999999764},{"$f":"SUM(C35:C16834)/$D$14","v":698.4231086956579},"45-jaarlijkse jaargemiddelde som",null,null,{"$f":"SUM(G35:G16834)/$D$14","v":829.09999999999764},{"$f":"SUM(H35:H16834)/$D$14","v":758.79021739130701},{"$f":"SUM(I35:I16834)/$D$14","v":597.91239130434963},{"$f":"SUM(J35:J16834)/$D$14","v":10045.60697674433},{"$f":"SUM((B3+C3+D3)/E3)","v":1.2116279069767442},{"$f":"SUM(L35:L16834)/$D$14","v":9191.746638018034},{"$f":"SUM(L29/J29)","v":0.91500161805025915},{"$f":"SUM(N35:N16834)/$D$14","v":853.86033872598102},698.41098687638851,394397.37178448978,346.2751499341079,8457.1956665063226,388.27236275227773,8845.4680292584399,null,{"$f":"SUM(V35:V16834)/$D$14","v":513.81505381577233},{"$f":"SUM(W35:W16834)/$D$14","v":181.38972106187978},{"$f":"SUM(X35:X16834)/$D$14","v":8275.8059454444156},{"$f":"IF(R29=0,\"\",((R29-W29)/R29))","v":0.97855202501932748},{"$f":"IF(J29=0,\"\",X29/J29)","v":0.82382338514765519},{"$f":"K29","v":1.2116279069767442},{"$f":"SUM($AB$35:$AB$16834)/$D$14","v":1004.5606976743979},{"$f":"SUM($AC$35:$AC$16834)/$D$14","v":919.17466380181588},{"$f":"SUM($AD$35:$AD$16834)/$D$14","v":827.5805945444182},{"$f":"SUM($AE$35:$AE$16834)/$D$14","v":85.386033872600692},{"$f":"SUM($AF$35:$AF$16834)/$D$14","v":51.381505381577178},{"$f":"SUM($AG$35:$AG$16834)/$D$14","v":34.627514993410784},{"$f":"SUM($AH$35:$AH$16834)/$D$14","v":827.5805945444182},{"$f":"SUM(AB29-AE29-AF29-AG29-AD29)","v":5.5850488823911064},{"$f":"AE29/AB29","v":8.4998381949715041E-2},{"$f":"AF29/AB29","v":5.114823375086007E-2},{"$f":"AG29/AB29","v":3.4470306347416338E-2},{"$f":"AH29/AB29","v":0.82382338514766063},{"$f":"AI29/AB29","v":5.55969280434795E-3},{"$f":"COUNTIF($W$35:$W$16834,\">\"&$B$20)/COUNT($W$35:$W$16834)","v":1.8154761904761906E-2},{"$f":"IF(AO29=0,\"onwaarschijnlijk\",SUM(1/AO29))","v":55.081967213114751}]
["Min",{"$f":"MIN(B34:B16834)","v":0},{"$f":"MIN(C34:C16834)","v":0},"45-jaarlijks minimum",null,null,{"$f":"MIN(G34:G16834)","v":0},{"$f":"MIN(H34:H16834)","v":0},0,0,1.2116279069767439,0,0.10748560460652591,0,-0.14866666666666667,834.24183576411065,-8.7672556350041828E-2,{"$f":"MIN(R34:R16834)","v":0},-47.879228791713786,-4.1113047198660126,762.34685971315071,0,0,0,0,0,null,0,0,{"$f":"MIN(AD34:AD16834)","v":0},{"$f":"SUM(AB29+AE29)","v":1089.9467315469985},{"$f":"SUM(AC29+AF29)","v":970.55616918339308},-8.7672556350041828E-3,0,{"$f":"MIN(AI34:AI16834)","v":-4.7879228791713784},null,null,null,{"$f":"SUM(AJ29:AN29)","v":1}]
["Max",{"$f":"MAX(B34:B16834)","v":81},{"$f":"MAX(C34:C16834)","v":7.7709999999999999},"45-jaarlijks maximum",null,"Max",{"$f":"MAX(G34:G16834)","v":81},{"$f":"MAX(H34:H16834)","v":76.95},60.75,981.41860465116281,1.2116279069767444,928.20348837209303,0.94577735124760098,53.215116279069775,7.6376666666666662,1271.7953488372093,4.1113047198660126,{"$f":"MAX(R34:R16834)","v":44.20203263918858},896.32157969879461,928.14461645318318,5719.9367441860477,328.98787461665688,44.20203263918858,44.20203263918858,1,{"$f":"MAX(Z34:Z16834)","v":44.20203263918858},null,98.141860465116281,92.820348837209309,{"$f":"MAX(AD34:AD16834)","v":4.4202032639188582},{"$f":"MAX(AE34:AE16834)","v":5.3215116279069772},32.898787461665691,0.41113047198660124,4.4202032639188582,{"$f":"MAX(AI34:AI16834)","v":89.632157969879472}]
["Gemiddeld",{"$f":"AVERAGE(B34:B16834)","v":2.2701547619047555},{"$f":"AVERAGE(C34:C16834)","v":1.9123489880952538},"45-jaarlijks daggemiddelde",null,null,{"$f":"AVERAGE(G34:G16834)","v":2.2701547619047555},{"$f":"AVERAGE(H34:H16834)","v":2.0776398809523884},1.6371410714285766,27.50582862679995,1.2116279069766283,25.167877699335094,0.65064728757726598,2.3379509274639956,1.9123157973996352,1079.8975656003886,0.94813433910529543,23.156607182100647,1.0631267075359985,24.219733889636206,3545.6872396031135,1.4068745521146147,0.49666233147895655,22.659944850621613,0.98293829525712073,3.7625176724270935,null,2.7505828626798992,2.5167877699335435,{"$f":"AVERAGE(AD34:AD16834)","v":2.2659944850620977},{"$f":"AVERAGE(AE34:AE16834)","v":0.23379509274640664},0.14068745521146134,9.4813433910529529E-2,2.2659944850620977,{"$f":"AVERAGE(AI34:AI16834)","v":1.5292395749439344E-2}]
["Invoer klimaatdata",null,null,null,null,null,null,null,null,null,null,null,null,null,"Berekening Evaporatie",null,"Evaporatie","Waterbehoefte","Berekeningen Simulatie",null,"Simulatie",null,null,null,null,null,null,null,null,null,null,null,null,null,{"$f":"1-AJ44","v":0.81190019193857965},null,null,null,null,null,null,null,null,null,null,null,null,null,null,null,null,null,null,null,null,null,null,null,null,null,null,null,null,null,"DATA KMI 1967-2012",null,null,null,"DATA KMI 1975-2012",null,null,null,"DATA2020",null,null,null,null,null,null,null,"DATA2030",null,null,null,null,null,null,null,"DATA 2080"]
["Datum","RR (mm)","KMI: ETP_0 (mm) Penman","Maand","Jaar","Week","RR          mm","RR (corr. serre) mm","RR (corr. Loods) mm","Bruto neerslag m³/ha teeltopp.","Opvang-verhouding   %","Opvangbare neerslag m³/ha teeltopp.","Opvang-percentage  (%)","Opvang-verliezen m³/ha teeltopp.","E  incl. Warmteopslag     mm/m² bassinopp.","Evaporatie-oppervlak          m²","Evaporatie-verliezen                  m³ / ha teeltopp.","Water-behoefte                      m³/ha teeltopp.","Niveau-verschil nuttige zone     m³","Niveau-verschil dode zone     m³","Water-voorraad m³/ha teeltopp.","Overloop m³/ha teeltopp.","Watertekort m³/ha teeltopp.","Hemelwater-verbruik (m³/ha)","Hemelwater-percentage","Benuttings-percentage","Opvang-verhouding","Bruto neerslag mm","Opgevangen neerslag mm","Nuttige neerslag mm","Opvang-verlies","Overloop-verlies","Evaporatie-verlies (mm)","Hemelwater-benutting     mm","Bufferopbouw mm","Opvang-verlies-percentage","Overloop-percentage","Evaporatie-percentage","Hemelwater-benuttings percentage","Bufferopbouw","Bufferopbouw m³","Bufferopbouw Hydrologische winter","Bufferopbouw Hydrologische zomer",null,null,null,null,null,null,null,null,null,null,null,null,null,null,null,null,null,null,null,null,null,"Datum","RR (mm)","KMI: ETP_0 (mm) Penman",null,"Datum","RR","Eto",null,null,"Rainfall","ETo","Rainfall","ETo","Rainfall","ETo",null,null,"Rainfall","ETo","Rainfall","ETo","Rainfall","ETo",null,null,"Rainfall","ETo","Rainfall","ETo","Rainfall","ETo"]
["1967-01-02",0,0.245,{"$f":"MONTH(A35)","v":1},1967,{"$f":"INT((A35-DATE(YEAR(A35-WEEKDAY(A35-1)+4),1,3)+WEEKDAY(DATE(YEAR(A35-WEEKDAY(A35-1)+4),1,3))+5)/7)","v":1},{"$f":"B35","v":0},{"$f":"IF(B35<Parameters!$A$16,B35*Parameters!$B$16,IF(AND(B35>Parameters!$A$16,B35<Parameters!$A$17),B35*Parameters!$B$17,B35*Parameters!$B$18))","v":0},{"$f":"IF(B35<Parameters!$A$20,B35*Parameters!$B$20,IF(AND(B35>Parameters!$A$20,B35<Parameters!$A$21),B35*Parameters!$B$21,B35*Parameters!$B$22))","v":0},{"$f":"B35*SUM($B$3,$C$3,$D$3)/$E$3*10","v":0},{"$f":"IF(B35=0,\"\",SUM(J35/(B35*10)))","v":""},{"$f":"IF(B35=0,0,SUM(B35*$D$3+H35*$B$3+I35*$C$3)/$E$3*10)","v":0},{"$f":"IF(B35=0,\"\",L35/J35)","v":""},{"$f":"IF(B35=0,0,SUM(J35-L35))","v":0},{"$f":"IF(OR($D35=1,$D35=12,$D35=8),C35+(2/31),IF($D35=2,C35-(1/28),IF($D35=3,C35-(3/31),IF($D35=4,C35-(5/30),IF($D35=5,C35-(6/31),IF($D35=6,C35-(4/30),IF($D35=7,C35-(1/31),IF($D35=9,C35+(4/30),IF($D35=10,C35+(5/31),IF($D35=11,C35+(5/30)))))))))))","v":0.30951612903225806},{"$f":"-(($BH$3-$BI$3)*($AN$3+$AK$3-U35)/($AK$3)-$BH$3)","v":1044.7979601776503},{"$f":"SUM(O35*P35)/1000/$D$12","v":0.15041014895580729},{"$f":"VLOOKUP($F35,'Gegevens vergelijking'!$I$16:$Q$68,9,FALSE)","v":3.0894753415257137},{"$f":"SUM(L35-R35-O35)","v":-3.3989914705579718},{"$f":"L35-O35","v":-0.30951612903225806},{"$f":"ROUND($AK$3*$D$13+S35,0)","v":3148},0,{"$f":"IF(U35<$AN$3,0,0)","v":0},{"$f":"R35-W35","v":3.0894753415257137},{"$f":"IF(R35=0,\"\",((R35-W35)/R35))","v":1},{"$f":"IF(B35=0,\"\",X35/(B35*10))","v":""},{"$f":"K35","v":""},{"$f":"J35/10","v":0},{"$f":"L35/10","v":0},{"$f":"X35/10","v":0.30894753415257137},{"$f":"N35/10","v":0},{"$f":"V35/10","v":0},{"$f":"Q35/10","v":1.5041014895580729E-2},{"$f":"(R35-W35)/10","v":0.30894753415257137},{"$f":"SUM(AC35-AF35-AG35-AD35)","v":-0.32398854904815211},{"$f":"IF(AB35=0,\"\",AE35/AB35)","v":""},{"$f":"IF(AB35=0,\"\",AF35/AB35)","v":""},{"$f":"IF(AC35=0,\"\",AG35/AC35)","v":""},{"$f":"IF(AC35=0,\"\",AD35/AC35)","v":""},{"$f":"IF(AC35=0,\"\",AI35/AC35)","v":""},{"$f":"AI35*$E$5/1000","v":-6.9657538045352707},{"$f":"IF(OR(F35<=13,F35>=40),VALUE(AO35),0)","v":-6.9657538045352707},{"$f":"IF(OR(F35<=13,F35>=40),0,VALUE(AO35))","v":0},null,null,null,null,null,null,null,null,null,null,null,null,null,null,null,null,null,null,null,null,null,"1967-01-02",0,0.245,null,"1975-01-01",0,0.30599999999999999,null,"2006-01-01",0,0.3115,0,0.29253000000000001,0,0.27356000000000003,{"$f":"SUM(YEAR(BU41)-YEAR(BU13909))","v":-37},"2016-01-01",0,0.32307000000000002,0,0.29868,0,0.27428999999999998,{"$f":"SUM(YEAR(CC35)-YEAR(CC13912))","v":-37},"2066-01-01",2.2799999999999998,0.38092999999999999,0,0.32944000000000001,0,0.27794999999999997]
["1967-01-03",0.6,0.14499999999999999,1,{"$f":"IF(AND((F35>1),(F36=1)),E35+1,E35)","v":1967},1,{"$f":"B36","v":0.6},{"$f":"IF(B36<Parameters!$A$16,B36*Parameters!$B$16,IF(AND(B36>Parameters!$A$16,B36<Parameters!$A$17),B36*Parameters!$B$17,B36*Parameters!$B$18))","v":0},{"$f":"IF(B36<Parameters!$A$20,B36*Parameters!$B$20,IF(AND(B36>Parameters!$A$20,B36<Parameters!$A$21),B36*Parameters!$B$21,B36*Parameters!$B$22))","v":0},{"$f":"B36*SUM($B$3,$C$3,$D$3)/$E$3*10","v":7.2697674418604654},{"$f":"IF(B36=0,\"\",SUM(J36/(B36*10)))","v":1.2116279069767442},{"$f":"IF(B36=0,0,SUM(B36*$D$3+H36*$B$3+I36*$C$3)/$E$3*10)","v":0.78139534883720929},{"$f":"IF(B36=0,\"\",L36/J36)","v":0.10748560460652591},6.4883720930232558,{"$f":"IF(OR($D36=1,$D36=12,$D36=8),C36+(2/31),IF($D36=2,C36-(1/28),IF($D36=3,C36-(3/31),IF($D36=4,C36-(5/30),IF($D36=5,C36-(6/31),IF($D36=6,C36-(4/30),IF($D36=7,C36-(1/31),IF($D36=9,C36+(4/30),IF($D36=10,C36+(5/31),IF($D36=11,C36+(5/30)))))))))))","v":0.20951612903225805},{"$f":"-(($BH$3-$BI$3)*($AN$3+$AK$3-U36)/($AK$3)-$BH$3)","v":1044.585264493091},{"$f":"SUM(O36*P35)/$E$3*10","v":0.10181489499405609},{"$f":"VLOOKUP($F36,'Gegevens vergelijking'!$I$16:$Q$68,9,FALSE)","v":3.0894753415257137},{"$f":"SUM(L36-R36-Q36)","v":-2.4098948876825608},{"$f":"L36-Q36","v":0.67958045384315324},{"$f":"IF(U35<$AN$3,U35+T36,IF(AND((U35>$AN$3),(SUM(U35+S36)<$AN$3)),SUM($AN$3+T36),IF((SUM(U35+S36)>($AN$3+$AK$3)),$AN$3+$AK$3,U35+S36)))","v":3145.5901051123174},{"$f":"IF(SUM(U35+S36)>SUM($AK$3+$AN$3),SUM(U35+S36-($AK$3+$AN$3)),0)","v":0},{"$f":"IF(U35<$AN$3,R36,IF(SUM(U35-R36)>$AN$3,0,IF(SUM(U35+S36)<$AN$3,SUM(R36-(U35-$AN$3)),0)))","v":0},{"$f":"R36-W36","v":3.0894753415257137},1,0.51491255692095228,{"$f":"K36","v":1.2116279069767442},0.72697674418604652,7.8139534883720926E-2,{"$f":"X36/10","v":0.30894753415257137},{"$f":"N36/10","v":0.64883720930232558},0,{"$f":"Q36/10","v":1.0181489499405609E-2},0.30894753415257137,-0.24098948876825604,0.8925143953934741,{"$f":"IF(AB36=0,\"\",AF36/AB36)","v":0},0.13029882395072656,3.9537928477858837,-3.0840916717366103,{"$f":"AI36*$E$5/1000","v":-5.1812740085175042},{"$f":"IF(OR(F36<=13,F36>=40),VALUE(AO36),0)","v":-5.1812740085175042},{"$f":"IF(OR(F36<=13,F36>=40),0,VALUE(AO36))","v":0},null,null,null,null,null,null,null,null,null,null,null,null,null,null,null,null,null,null,null,null,null,"1967-01-03",0.6,0.14499999999999999,null,"1975-01-02",0.1,0.253,null,"2006-01-02",0,0.28161999999999998,0,0.26446999999999998,0,0.24732000000000001,null,"2016-01-02",0,0.29208000000000001,0,0.27002999999999999,0,0.24798000000000001,null,"2066-01-02",0,0.34438000000000002,0,0.29782999999999998,0,0.25128]
["1967-01-04",0.4,0.109,1,1967,1,0.4,{"$f":"IF(B37<Parameters!$A$16,B37*Parameters!$B$16,IF(AND(B37>Parameters!$A$16,B37<Parameters!$A$17),B37*Parameters!$B$17,B37*Parameters!$B$18))","v":0},{"$f":"IF(B37<Parameters!$A$20,B37*Parameters!$B$20,IF(AND(B37>Parameters!$A$20,B37<Parameters!$A$21),B37*Parameters!$B$21,B37*Parameters!$B$22))","v":0},{"$f":"B37*SUM($B$3,$C$3,$D$3)/$E$3*10","v":4.8465116279069766},{"$f":"IF(B37=0,\"\",SUM(J37/(B37*10)))","v":1.2116279069767442},0.52093023255813953,0.10748560460652591,4.3255813953488369,0.17351612903225805,{"$f":"-(($BH$3-$BI$3)*($AN$3+$AK$3-U37)/($AK$3)-$BH$3)","v":1044.3511258837277},{"$f":"SUM(O37*P36)/$E$3*10","v":8.430343792510632E-2},{"$f":"VLOOKUP($F37,'Gegevens vergelijking'!$I$16:$Q$68,9,FALSE)","v":3.0894753415257137},{"$f":"SUM(L37-R37-Q37)","v":-2.6528485468926801},0.43662679463303322,{"$f":"IF(U36<$AN$3,U36+T37,IF(AND((U36>$AN$3),(SUM(U36+S37)<$AN$3)),SUM($AN$3+T37),IF((SUM(U36+S37)>($AN$3+$AK$3)),$AN$3+$AK$3,U36+S37)))","v":3142.9372565654248},{"$f":"IF(SUM(U36+S37)>SUM($AK$3+$AN$3),SUM(U36+S37-($AK$3+$AN$3)),0)","v":0},{"$f":"IF(U36<$AN$3,R37,IF(SUM(U36-R37)>$AN$3,0,IF(SUM(U36+S37)<$AN$3,SUM(R37-(U36-$AN$3)),0)))","v":0},3.0894753415257137,1,0.77236883538142842,1.2116279069767442,0.48465116279069764,5.2093023255813956E-2,0.30894753415257137,{"$f":"N37/10","v":0.4325581395348837},0,{"$f":"Q37/10","v":8.4303437925106316E-3},0.30894753415257137,-0.26528485468926805,0.8925143953934741,0,0.16183249244551659,5.9306892716788253,-5.0925217641243421,-5.7036243758192633,-5.7036243758192633,0,null,null,null,null,null,null,null,null,null,null,null,null,null,null,null,null,null,null,null,null,null,"1967-01-04",0.4,0.109,null,"1975-01-03",0,0.217,null,"2006-01-03",0.75,0.16667000000000001,0.63,0.15651999999999999,0.55000000000000004,0.14637,null,"2016-01-03",0.77,0.17286000000000001,0.64,0.15981000000000001,0.54,0.14676,null,"2066-01-03",0.92,0.20382,0.68,0.17627000000000001,0.5,0.14871999999999999]
["1967-01-05",15.1,0.20799999999999999,1,1967,1,15.1,{"$f":"IF(B38<Parameters!$A$16,B38*Parameters!$B$16,IF(AND(B38>Parameters!$A$16,B38<Parameters!$A$17),B38*Parameters!$B$17,B38*Parameters!$B$18))","v":14.344999999999999},{"$f":"IF(B38<Parameters!$A$20,B38*Parameters!$B$20,IF(AND(B38>Parameters!$A$20,B38<Parameters!$A$21),B38*Parameters!$B$21,B38*Parameters!$B$22))","v":11.324999999999999},182.95581395348836,1.2116279069767442,173.03546511627906,0.94577735124760076,9.9203488372093034,0.27251612903225808,1059.3387602386583,0.13237326798898325,{"$f":"VLOOKUP($F38,'Gegevens vergelijking'!$I$16:$Q$68,9,FALSE)","v":3.0894753415257137},169.81361650676436,172.90309184829007,{"$f":"IF(U37<$AN$3,U37+T38,IF(AND((U37>$AN$3),(SUM(U37+S38)<$AN$3)),SUM($AN$3+T38),IF((SUM(U37+S38)>($AN$3+$AK$3)),$AN$3+$AK$3,U37+S38)))","v":3312.7508730721893},0,0,3.0894753415257137,1,2.0460101599508038E-2,1.2116279069767442,18.295581395348837,17.303546511627907,0.30894753415257137,0.99203488372093029,0,1.3237326798898325E-2,0.30894753415257137,16.981361650676437,5.4222648752399238E-2,0,7.6500657191882018E-4,1.7854578767708688E-2,0.98138041466037251,365.0992754895434,365.0992754895434,0,null,null,null,null,null,null,null,null,null,null,null,null,null,null,null,null,null,null,null,null,null,"1967-01-05",15.1,0.20799999999999999,null,"1975-01-04",0.2,0.38200000000000001,null,"2006-01-04",0.5,0.12529000000000001,0.42,0.11766,0.36,0.11003,null,"2016-01-04",0.52,0.12994,0.42,0.12013,0.35,0.11032,null,"2066-01-04",0.62,0.15322,0.45,0.13250999999999999,0.31,0.1118]
["1967-01-06",0.2,0,1,1967,1,0.2,{"$f":"IF(B39<Parameters!$A$16,B39*Parameters!$B$16,IF(AND(B39>Parameters!$A$16,B39<Parameters!$A$17),B39*Parameters!$B$17,B39*Parameters!$B$18))","v":0},{"$f":"IF(B39<Parameters!$A$20,B39*Parameters!$B$20,IF(AND(B39>Parameters!$A$20,B39<Parameters!$A$21),B39*Parameters!$B$21,B39*Parameters!$B$22))","v":0},2.4232558139534883,1.2116279069767442,0.26046511627906976,0.10748560460652591,2.1627906976744184,6.4516129032258063E-2,1059.0862681223523,3.1788109834618404E-2,{"$f":"VLOOKUP($F39,'Gegevens vergelijking'!$I$16:$Q$68,9,FALSE)","v":3.0894753415257137},-2.8607983350812622,0.22867700644445135,3309.8900747371081,0,0,3.0894753415257137,1,1.5447376707628568,1.2116279069767442,0.24232558139534882,2.6046511627906978E-2,0.30894753415257137,0.21627906976744185,0,3.1788109834618404E-3,0.30894753415257137,-0.28607983350812621,0.8925143953934741,0,0.12204363597219565,11.861378543357651,-10.983422179329846,-6.1507164204247138,-6.1507164204247138,0,null,null,null,null,null,null,null,null,null,null,null,null,null,null,null,null,null,null,null,null,null,"1967-01-06",0.2,0,null,"1975-01-05",0.7,0.189,null,"2006-01-05",18.45,0.23909,15.65,0.22453000000000001,13.8,0.20996999999999999,null,"2016-01-05",19.02,0.24797,15.8,0.22925000000000001,13.6,0.21052999999999999,null,"2066-01-05",21.92,0.29237999999999997,16.59,0.25285999999999997,12.51,0.21334]
["1967-01-07",0,0,1,1967,1,0,{"$f":"IF(B40<Parameters!$A$16,B40*Parameters!$B$16,IF(AND(B40>Parameters!$A$16,B40<Parameters!$A$17),B40*Parameters!$B$17,B40*Parameters!$B$18))","v":0},{"$f":"IF(B40<Parameters!$A$20,B40*Parameters!$B$20,IF(AND(B40>Parameters!$A$20,B40<Parameters!$A$21),B40*Parameters!$B$21,B40*Parameters!$B$22))","v":0},0,"",0,"",0,6.4516129032258063E-2,1058.8107882006561,3.1780533176964811E-2,{"$f":"VLOOKUP($F40,'Gegevens vergelijking'!$I$16:$Q$68,9,FALSE)","v":3.0894753415257137},-3.1212558747026784,-3.1780533176964811E-2,3306.7688188624056,{"$f":"IF(SUM(U39+S40)>SUM($AK$3+$AN$3),SUM(U39+S40-($AK$3+$AN$3)),0)","v":0},0,3.0894753415257137,1,"","",0,0,0.30894753415257137,0,0,3.1780533176964812E-3,0.30894753415257137,-0.31212558747026786,"","","","","",-6.7107001306107588,-6.7107001306107588,0,null,null,null,null,null,null,null,null,null,null,null,null,null,null,null,null,null,null,null,null,null,"1967-01-07",0,0,null,"1975-01-06",1.2,0.34,null,"2006-01-06",0.26,0,0.21,0,0.17,0,null,"2016-01-06",0.27,0,0.21,0,0.16,0,null,"2066-01-06",0.32,0,0.22,0,0.13,0,null,null,null,null,"Waarden",null,null,null,null,"Waarden"]
["1967-01-08",0.1,0,1,1967,1,0.1,{"$f":"IF(B41<Parameters!$A$16,B41*Parameters!$B$16,IF(AND(B41>Parameters!$A$16,B41<Parameters!$A$17),B41*Parameters!$B$17,B41*Parameters!$B$18))","v":0},{"$f":"IF(B41<Parameters!$A$20,B41*Parameters!$B$20,IF(AND(B41>Parameters!$A$20,B41<Parameters!$A$21),B41*Parameters!$B$21,B41*Parameters!$B$22))","v":0},1.2116279069767442,1.2116279069767442,0.13023255813953488,0.10748560460652591,1.0813953488372092,6.4516129032258063E-2,1058.5468032456029,3.1772266712697859E-2,{"$f":"VLOOKUP($F41,'Gegevens vergelijking'!$I$16:$Q$68,9,FALSE)","v":3.0894753415257137},-2.9910150500988766,9.8460291426837016E-2,3303.777803812307,0,0,3.0894753415257137,1,3.0894753415257137,1.2116279069767442,0.12116279069767441,1.3023255813953489E-2,0.30894753415257137,0.10813953488372093,0,3.1772266712697859E-3,0.30894753415257137,-0.29910150500988769,0.8925143953934741,0,0.24396561940107284,23.722757086715301,-22.966722706116375,-6.4306823577125849,-6.4306823577125849,0,null,null,null,null,null,null,null,null,null,null,null,null,null,null,null,null,null,null,null,null,null,"1967-01-08",0.1,0,null,"1975-01-07",8.9,0.35099999999999998,null,"2006-01-07",0,0,0,0,0,0,null,"2016-01-07",0,0,0,0,0,0,null,"2066-01-07",0,0,0,0,0,0,null,null,null,"Rijlabels","Som van Bruto neerslag mm","Som van Opgevangen neerslag mm","Som van Opvangpercentages","Som van RR (mm)","Rijlabels","Som van Bruto neerslag mm","Som van Opvangpercentages","Som van Wekelijkse neerslag","Som van Opvangverliezen per week"]
["1967-01-09",0.8,0,1,1967,2,0.8,{"$f":"IF(B42<Parameters!$A$16,B42*Parameters!$B$16,IF(AND(B42>Parameters!$A$16,B42<Parameters!$A$17),B42*Parameters!$B$17,B42*Parameters!$B$18))","v":0},{"$f":"IF(B42<Parameters!$A$20,B42*Parameters!$B$20,IF(AND(B42>Parameters!$A$20,B42<Parameters!$A$21),B42*Parameters!$B$21,B42*Parameters!$B$22))","v":0},9.6930232558139533,1.2116279069767442,1.0418604651162791,0.10748560460652591,8.6511627906976738,6.4516129032258063E-2,1058.2563323644326,3.1764345183664E-2,{"$f":"VLOOKUP($F42,'Gegevens vergelijking'!$I$16:$Q$68,9,FALSE)","v":4.3012032855657143},-3.2911071656330995,1.0100961199326151,3300.4866966466739,0,0,4.3012032855657143,1,0.53765041069571429,1.2116279069767442,0.96930232558139529,0.10418604651162791,0.43012032855657145,0.8651162790697674,0,3.1764345183663998E-3,0.43012032855657145,-0.32911071656330992,0.8925143953934741,0,3.0488099171820354E-2,4.1283870821278059,-3.1588751812996265,-7.0758804061111631,-7.0758804061111631,0,null,null,null,null,null,null,null,null,null,null,null,null,null,null,null,null,null,null,null,null,null,"1967-01-09",0.8,0,null,"1975-01-08",0,0.28299999999999997,null,"2006-01-08",0.12,0,0.1,0,0.09,0,null,"2016-01-08",0.13,0,0.1,0,0.09,0,null,"2066-01-08",0.14000000000000001,0,0.11,0,0.08,0,null,null,null,1967,{"$error":"#DIV/0!"},{"$error":"#DIV/0!"},{"$error":"#DIV/0!"},707.09999999999991,1,{"$error":"#DIV/0!"},{"$error":"#DIV/0!"},17.795652173913044,{"$error":"#DIV/0!"}]
["1967-01-10",0.7,0,1,1967,2,0.7,{"$f":"IF(B43<Parameters!$A$16,B43*Parameters!$B$16,IF(AND(B43>Parameters!$A$16,B43<Parameters!$A$17),B43*Parameters!$B$17,B43*Parameters!$B$18))","v":0},{"$f":"IF(B43<Parameters!$A$20,B43*Parameters!$B$20,IF(AND(B43>Parameters!$A$20,B43<Parameters!$A$21),B43*Parameters!$B$21,B43*Parameters!$B$22))","v":0},8.4813953488372089,1.2116279069767442,0.91162790697674412,0.10748560460652591,7.5697674418604652,6.4516129032258063E-2,1057.9543680155075,3.175562887815251E-2,{"$f":"VLOOKUP($F43,'Gegevens vergelijking'!$I$16:$Q$68,9,FALSE)","v":4.3012032855657143},-3.4213310074671228,0.87987227809859159,3297.0653656392069,0,0,4.3012032855657143,1,0.61445761222367345,1.2116279069767442,0.84813953488372085,9.1162790697674412E-2,0.43012032855657145,0.75697674418604655,0,3.1755628878152508E-3,0.43012032855657145,-0.34213310074671227,0.89251439539347421,0,3.4833980657157093E-2,4.7181566652889222,-3.7529906459460789,-7.3558616660543139,-7.3558616660543139,0,null,null,null,null,null,null,null,null,null,null,null,null,null,null,null,null,null,null,null,null,null,"1967-01-10",0.7,0,null,"1975-01-09",0.9,0.36399999999999999,null,"2006-01-09",0.99,0,0.84,0,0.74,0,null,"2016-01-09",1.02,0,0.85,0,0.73,0,null,"2066-01-09",1.19,0,0.91,0,0.68,0,null,null,null,1968,{"$error":"#DIV/0!"},{"$error":"#DIV/0!"},{"$error":"#DIV/0!"},773.60000000000025,2,{"$error":"#DIV/0!"},{"$error":"#DIV/0!"},14.030434782608699,{"$error":"#DIV/0!"}]
["1967-01-11",1.2,0,1,1967,2,1.2,{"$f":"IF(B44<Parameters!$A$16,B44*Parameters!$B$16,IF(AND(B44>Parameters!$A$16,B44<Parameters!$A$17),B44*Parameters!$B$17,B44*Parameters!$B$18))","v":0.96},{"$f":"IF(B44<Parameters!$A$20,B44*Parameters!$B$20,IF(AND(B44>Parameters!$A$20,B44<Parameters!$A$21),B44*Parameters!$B$21,B44*Parameters!$B$22))","v":0.72},14.539534883720931,1.2116279069767442,11.804651162790698,0.81190019193857965,2.7348837209302328,6.4516129032258063E-2,1058.6138152938843,3.1746567682385818E-2,{"$f":"VLOOKUP($F44,'Gegevens vergelijking'!$I$16:$Q$68,9,FALSE)","v":4.3012032855657143},7.4717013095425981,11.772904595108312,3304.5370669487497,0,0,4.3012032855657143,1,0.35843360713047617,1.2116279069767442,1.453953488372093,1.1804651162790698,0.43012032855657145,0.27348837209302329,0,3.1746567682385818E-3,0.43012032855657145,0.74717013095425988,0.18809980806142038,0,2.6893270495322893E-3,0.36436513254398289,0.63294554040648487,16.064157815516587,16.064157815516587,0,null,null,null,null,null,null,null,null,null,null,null,null,null,null,null,null,null,null,null,null,null,"1967-01-11",1.2,0,null,"1975-01-10",0,0.61299999999999999,null,"2006-01-10",0.87,0,0.73,0,0.64,0,null,"2016-01-10",0.89,0,0.74,0,0.63,0,null,"2066-01-10",1.05,0,0.78,0,0,0,null,null,null,1969,{"$error":"#DIV/0!"},{"$error":"#DIV/0!"},{"$error":"#DIV/0!"},779.19999999999959,3,{"$error":"#DIV/0!"},{"$error":"#DIV/0!"},15.360869565217389,{"$error":"#DIV/0!"}]
["1967-01-12",0.5,0.189,1,1967,2,0.5,{"$f":"IF(B45<Parameters!$A$16,B45*Parameters!$B$16,IF(AND(B45>Parameters!$A$16,B45<Parameters!$A$17),B45*Parameters!$B$17,B45*Parameters!$B$18))","v":0},{"$f":"IF(B45<Parameters!$A$20,B45*Parameters!$B$20,IF(AND(B45>Parameters!$A$20,B45<Parameters!$A$21),B45*Parameters!$B$21,B45*Parameters!$B$22))","v":0},6.058139534883721,1.2116279069767442,0.65116279069767447,0.10748560460652591,5.4069767441860463,0.25351612903225806,1058.2806481523426,0.12482589608994203,{"$f":"VLOOKUP($F45,'Gegevens vergelijking'!$I$16:$Q$68,9,FALSE)","v":4.3012032855657143},-3.7748663909579818,0.52633689460773248,3300.7622005577919,0,0,4.3012032855657143,1,0.8602406571131429,1.2116279069767442,0.60581395348837208,6.5116279069767441E-2,0.43012032855657145,0.54069767441860461,0,1.2482589608994203E-2,0.43012032855657145,-0.37748663909579822,0.89251439539347399,0,0.19169691185241097,6.60541933140449,-5.7971162432569017,-8.1159627405596613,-8.1159627405596613,0,null,null,null,null,null,null,null,null,null,null,null,null,null,null,null,null,null,null,null,null,null,"1967-01-12",0.5,0.189,null,"1975-01-11",0,0.432,null,"2006-01-11",1.48,0,1.26,0,1.1000000000000001,0,null,"2016-01-11",1.54,0,1.27,0,1.0900000000000001,0,null,"2066-01-11",1.78,0,1.35,0,1.04,0,null,null,null,1970,{"$error":"#DIV/0!"},{"$error":"#DIV/0!"},{"$error":"#DIV/0!"},730.90000000000009,4,{"$error":"#DIV/0!"},{"$error":"#DIV/0!"},18.745652173913044,{"$error":"#DIV/0!"}]
["1967-01-13",0,0.11,1,1967,2,0,{"$f":"IF(B46<Parameters!$A$16,B46*Parameters!$B$16,IF(AND(B46>Parameters!$A$16,B46<Parameters!$A$17),B46*Parameters!$B$17,B46*Parameters!$B$18))","v":0},{"$f":"IF(B46<Parameters!$A$20,B46*Parameters!$B$20,IF(AND(B46>Parameters!$A$20,B46<Parameters!$A$21),B46*Parameters!$B$21,B46*Parameters!$B$22))","v":0},0,"",0,"",0,0.17451612903225805,1057.8934453148449,8.5900949835021348E-2,{"$f":"VLOOKUP($F46,'Gegevens vergelijking'!$I$16:$Q$68,9,FALSE)","v":4.3012032855657143},-4.3871042354007352,-8.5900949835021348E-2,3296.3750963223911,0,0,4.3012032855657143,1,"","",0,0,0.43012032855657145,0,0,8.5900949835021351E-3,0.43012032855657145,-0.43871042354007361,"","","","","",-9.4322741061115831,-9.4322741061115831,0,null,null,null,null,null,null,null,null,null,null,null,null,null,null,null,null,null,null,null,null,null,"1967-01-13",0,0.11,null,"1975-01-12",0,0.78400000000000003,null,"2006-01-12",0.63,0.21725,0.52,0.20402000000000001,0.45,0.19078999999999999,null,"2016-01-12",0.66,0.22531999999999999,0.53,0.20831,0.44,0.1913,null,"2066-01-12",0.8,0.26567000000000002,0.56999999999999995,0.22975999999999999,0.39,0.19384999999999999,null,null,null,1971,{"$error":"#DIV/0!"},{"$error":"#DIV/0!"},{"$error":"#DIV/0!"},696.09999999999991,5,{"$error":"#DIV/0!"},{"$error":"#DIV/0!"},12.121739130434783,{"$error":"#DIV/0!"}]
["1967-01-14",0.2,0.245,1,1967,2,0.2,{"$f":"IF(B47<Parameters!$A$16,B47*Parameters!$B$16,IF(AND(B47>Parameters!$A$16,B47<Parameters!$A$17),B47*Parameters!$B$17,B47*Parameters!$B$18))","v":0},{"$f":"IF(B47<Parameters!$A$20,B47*Parameters!$B$20,IF(AND(B47>Parameters!$A$20,B47<Parameters!$A$21),B47*Parameters!$B$21,B47*Parameters!$B$22))","v":0},2.4232558139534883,1.2116279069767442,0.26046511627906976,0.10748560460652591,2.1627906976744184,0.30951612903225806,1057.5233710234731,0.15229538796393002,{"$f":"VLOOKUP($F47,'Gegevens vergelijking'!$I$16:$Q$68,9,FALSE)","v":4.3012032855657143},-4.1930335572505744,0.10816972831513974,3292.1820627651405,0,0,4.3012032855657143,1,2.1506016427828571,1.2116279069767442,0.24232558139534882,2.6046511627906978E-2,0.43012032855657145,0.21627906976744185,0,1.5229538796393003E-2,0.43012032855657145,-0.4193033557250575,0.8925143953934741,0,0.58470550736151705,16.513548328511224,-16.098253835872743,-9.015022148088736,-9.015022148088736,0,null,null,null,null,null,null,null,null,null,null,null,null,null,null,null,null,null,null,null,null,null,"1967-01-14",0.2,0.245,null,"1975-01-13",0,0.72099999999999997,null,"2006-01-13",0.38,0.12644,0,0.11874,0,0.11104,null,"2016-01-13",0,0.13114000000000001,0,0.12124,0,0.11133999999999999,null,"2066-01-13",0,0.15462000000000001,0,0.13372000000000001,0,0.11282,null,null,null,1972,{"$error":"#DIV/0!"},{"$error":"#DIV/0!"},{"$error":"#DIV/0!"},712.40000000000009,6,{"$error":"#DIV/0!"},{"$error":"#DIV/0!"},15.439130434782614,{"$error":"#DIV/0!"}]
["1967-01-15",0,0.10100000000000001,1,1967,2,0,{"$f":"IF(B48<Parameters!$A$16,B48*Parameters!$B$16,IF(AND(B48>Parameters!$A$16,B48<Parameters!$A$17),B48*Parameters!$B$17,B48*Parameters!$B$18))","v":0},{"$f":"IF(B48<Parameters!$A$20,B48*Parameters!$B$20,IF(AND(B48>Parameters!$A$20,B48<Parameters!$A$21),B48*Parameters!$B$21,B48*Parameters!$B$22))","v":0},0,"",0,"",0,0.16551612903225807,1057.1365643212025,8.1412639410674281E-2,{"$f":"VLOOKUP($F48,'Gegevens vergelijking'!$I$16:$Q$68,9,FALSE)","v":4.3012032855657143},-4.3826159249763883,-8.1412639410674281E-2,3287.7994468401639,0,0,4.3012032855657143,1,"","",0,0,0.43012032855657145,0,0,8.1412639410674281E-3,0.43012032855657145,-0.43826159249763885,"","","","","",-9.4226242386992354,-9.4226242386992354,0,null,null,null,null,null,null,null,null,null,null,null,null,null,null,null,null,null,null,null,null,null,"1967-01-15",0,0.10100000000000001,null,"1975-01-14",0.1,1.54,null,"2006-01-14",0.26,0.28161999999999998,0.21,0.26446999999999998,0.17,0.24732000000000001,null,"2016-01-14",0.27,0.29208000000000001,0.21,0.27002999999999999,0.16,0.24798000000000001,null,"2066-01-14",0.32,0.34438000000000002,0.22,0.29782999999999998,0.13,0.25128,null,null,null,1973,{"$error":"#DIV/0!"},{"$error":"#DIV/0!"},{"$error":"#DIV/0!"},693.2,7,{"$error":"#DIV/0!"},{"$error":"#DIV/0!"},16.169565217391305,{"$error":"#DIV/0!"}]
["1967-01-16",0,0.25600000000000001,1,1967,3,0,{"$f":"IF(B49<Parameters!$A$16,B49*Parameters!$B$16,IF(AND(B49>Parameters!$A$16,B49<Parameters!$A$17),B49*Parameters!$B$17,B49*Parameters!$B$18))","v":0},{"$f":"IF(B49<Parameters!$A$20,B49*Parameters!$B$20,IF(AND(B49>Parameters!$A$20,B49<Parameters!$A$21),B49*Parameters!$B$21,B49*Parameters!$B$22))","v":0},0,"",0,"",0,0.32051612903225807,1056.6470554074594,0.15759503230450816,{"$f":"VLOOKUP($F49,'Gegevens vergelijking'!$I$16:$Q$68,9,FALSE)","v":5.3886624347828569},-5.546257467087365,-0.15759503230450816,3282.2531893730766,0,0,5.3886624347828569,1,"","",0,0,0.53886624347828571,0,0,1.5759503230450816E-2,0.53886624347828571,-0.55462574670873654,"","","","","",-11.924453554237836,-11.924453554237836,0,null,null,null,null,null,null,null,null,null,null,null,null,null,null,null,null,null,null,null,null,null,"1967-01-16",0,0.25600000000000001,null,"1975-01-15",0.8,1.7809999999999999,null,"2006-01-15",0,0.11609,0,0.10902000000000001,0,0.10195,null,"2016-01-15",0,0.12041,0,0.11132,0,0.10223,null,"2066-01-15",0,0.14197000000000001,0,0.12278,0,0.10359,null,null,null,1974,{"$error":"#DIV/0!"},{"$error":"#DIV/0!"},{"$error":"#DIV/0!"},1039.2,8,{"$error":"#DIV/0!"},{"$error":"#DIV/0!"},12.989130434782613,{"$error":"#DIV/0!"}]
["1967-01-17",0,0.34300000000000003,1,1967,3,0,{"$f":"IF(B50<Parameters!$A$16,B50*Parameters!$B$16,IF(AND(B50>Parameters!$A$16,B50<Parameters!$A$17),B50*Parameters!$B$17,B50*Parameters!$B$18))","v":0},{"$f":"IF(B50<Parameters!$A$20,B50*Parameters!$B$20,IF(AND(B50>Parameters!$A$20,B50<Parameters!$A$21),B50*Parameters!$B$21,B50*Parameters!$B$22))","v":0},0,"",0,"",0,0.40751612903225809,1056.1537792001209,0.20027940361534036,{"$f":"VLOOKUP($F50,'Gegevens vergelijking'!$I$16:$Q$68,9,FALSE)","v":5.3886624347828569},-5.5889418383981972,-0.20027940361534036,3276.6642475346785,0,0,5.3886624347828569,1,"","",0,0,0.53886624347828571,0,0,2.0027940361534036E-2,0.53886624347828571,-0.5588941838398197,"","","","","",-12.016224952556124,-12.016224952556124,0,null,null,null,null,null,null,null,null,null,null,null,null,null,null,null,null,null,null,null,null,null,"1967-01-17",0,0.34300000000000003,null,"1975-01-16",5.0999999999999996,0.84699999999999998,null,"2006-01-16",0,0.29426000000000002,0,0.27633999999999997,0,0.25841999999999998,null,"2016-01-16",0,0.30519000000000002,0,0.28215000000000001,0,0.25911000000000001,null,"2066-01-16",4.82,0.35985,0,0.31120999999999999,0,0.26257000000000003,null,null,null,1975,{"$error":"#DIV/0!"},{"$error":"#DIV/0!"},{"$error":"#DIV/0!"},730.69999999999993,9,{"$error":"#DIV/0!"},{"$error":"#DIV/0!"},14.232608695652175,{"$error":"#DIV/0!"}]
["1967-01-18",0,0.14699999999999999,1,1967,3,0,{"$f":"IF(B51<Parameters!$A$16,B51*Parameters!$B$16,IF(AND(B51>Parameters!$A$16,B51<Parameters!$A$17),B51*Parameters!$B$17,B51*Parameters!$B$18))","v":0},{"$f":"IF(B51<Parameters!$A$20,B51*Parameters!$B$20,IF(AND(B51>Parameters!$A$20,B51<Parameters!$A$21),B51*Parameters!$B$21,B51*Parameters!$B$22))","v":0},0,"",0,"",0,0.21151612903225805,1055.6690090220718,0.10390398094846499,{"$f":"VLOOKUP($F51,'Gegevens vergelijking'!$I$16:$Q$68,9,FALSE)","v":5.3886624347828569},-5.4925664157313223,-0.10390398094846499,3271.1716811189472,0,0,5.3886624347828569,1,"","",0,0,0.53886624347828571,0,0,1.0390398094846499E-2,0.53886624347828571,-0.54925664157313225,"","","","","",-11.809017793822344,-11.809017793822344,0,null,null,null,null,null,null,null,null,null,null,null,null,null,null,null,null,null,null,null,null,null,"1967-01-18",0,0.14699999999999999,null,"1975-01-17",4.8,0.59599999999999997,null,"2006-01-17",0,0.39426,0,0.37025000000000002,0,0.34623999999999999,null,"2016-01-17",0.13,0.40891,0,0.37803999999999999,0,0.34716999999999998,null,"2066-01-17",0,0.48214000000000001,0,0.41697000000000001,0,0.3518,null,null,null,1976,{"$error":"#DIV/0!"},{"$error":"#DIV/0!"},{"$error":"#DIV/0!"},547.00000000000023,10,{"$error":"#DIV/0!"},{"$error":"#DIV/0!"},12.795652173913041,{"$error":"#DIV/0!"}]
["1967-01-19",0,0.52100000000000002,1,1967,3,0,{"$f":"IF(B52<Parameters!$A$16,B52*Parameters!$B$16,IF(AND(B52>Parameters!$A$16,B52<Parameters!$A$17),B52*Parameters!$B$17,B52*Parameters!$B$18))","v":0},{"$f":"IF(B52<Parameters!$A$20,B52*Parameters!$B$20,IF(AND(B52>Parameters!$A$20,B52<Parameters!$A$21),B52*Parameters!$B$21,B52*Parameters!$B$22))","v":0},0,"",0,"",0,0.58551612903225814,1055.1680353493884,0.28749359614042952,{"$f":"VLOOKUP($F52,'Gegevens vergelijking'!$I$16:$Q$68,9,FALSE)","v":5.3886624347828569},-5.6761560309232868,-0.28749359614042952,3265.4955250880239,0,0,5.3886624347828569,1,"","",0,0,0.53886624347828571,0,0,2.8749359614042951E-2,0.53886624347828571,-0.56761560309232861,"","","","","",-12.203735466485064,-12.203735466485064,0,null,null,null,null,null,null,null,null,null,null,null,null,null,null,null,null,null,null,null,null,null,"1967-01-19",0,0.52100000000000002,null,"1975-01-18",5.4,0.32600000000000001,null,"2006-01-18",0,0.16897000000000001,0,0.15867999999999999,0,0.14838999999999999,null,"2016-01-18",2.69,0.17524999999999999,0,0.16202,0,0.14879000000000001,null,"2066-01-18",0,0.20663000000000001,0,0.1787,0,0.15076999999999999,null,null,null,1977,{"$error":"#DIV/0!"},{"$error":"#DIV/0!"},{"$error":"#DIV/0!"},855.40000000000055,11,{"$error":"#DIV/0!"},{"$error":"#DIV/0!"},17.326086956521745,{"$error":"#DIV/0!"}]
["1967-01-20",0,0.72599999999999998,1,1967,3,0,{"$f":"IF(B53<Parameters!$A$16,B53*Parameters!$B$16,IF(AND(B53>Parameters!$A$16,B53<Parameters!$A$17),B53*Parameters!$B$17,B53*Parameters!$B$18))","v":0},{"$f":"IF(B53<Parameters!$A$20,B53*Parameters!$B$20,IF(AND(B53>Parameters!$A$20,B53<Parameters!$A$21),B53*Parameters!$B$21,B53*Parameters!$B$22))","v":0},0,"",0,"",0,0.79051612903225799,1054.658194032136,0.38796620966649831,{"$f":"VLOOKUP($F53,'Gegevens vergelijking'!$I$16:$Q$68,9,FALSE)","v":5.3886624347828569},-5.7766286444493549,-0.38796620966649831,3259.7188964435745,0,0,5.3886624347828569,1,"","",0,0,0.53886624347828571,0,0,3.8796620966649834E-2,0.53886624347828571,-0.57766286444493553,"","","","","",-12.419751585566113,-12.419751585566113,0,null,null,null,null,null,null,null,null,null,null,null,null,null,null,null,null,null,null,null,null,null,"1967-01-20",0,0.72599999999999998,null,"1975-01-19",0,0.36299999999999999,null,"2006-01-19",0,0.59885999999999995,0,0.56238999999999995,0,0.52592000000000005,null,"2016-01-19",0,0.62111000000000005,0,0.57421999999999995,0,0.52732999999999997,null,"2066-01-19",0,0.73233999999999999,0,0.63334999999999997,0,0.53435999999999995,null,null,null,1978,{"$error":"#DIV/0!"},{"$error":"#DIV/0!"},{"$error":"#DIV/0!"},767.90000000000055,12,{"$error":"#DIV/0!"},{"$error":"#DIV/0!"},14.671739130434785,{"$error":"#DIV/0!"}]
["1967-01-21",2,0.48499999999999999,1,1967,3,2,{"$f":"IF(B54<Parameters!$A$16,B54*Parameters!$B$16,IF(AND(B54>Parameters!$A$16,B54<Parameters!$A$17),B54*Parameters!$B$17,B54*Parameters!$B$18))","v":1.9},{"$f":"IF(B54<Parameters!$A$20,B54*Parameters!$B$20,IF(AND(B54>Parameters!$A$20,B54<Parameters!$A$21),B54*Parameters!$B$21,B54*Parameters!$B$22))","v":1.5},24.232558139534884,1.2116279069767442,22.918604651162791,0.94577735124760076,1.3139534883720927,0.5495161290322581,1056.1815837279819,0.26955892476125187,{"$f":"VLOOKUP($F54,'Gegevens vergelijking'!$I$16:$Q$68,9,FALSE)","v":5.3886624347828569},17.260383291618684,22.649045726401539,3276.9792797351934,0,0,5.3886624347828569,1,0.26943312173914286,1.2116279069767442,2.4232558139534883,2.2918604651162791,0.53886624347828571,0.13139534883720927,0,2.6955892476125187E-2,0.53886624347828571,1.7260383291618684,5.4222648752399218E-2,0,1.1761576625808047E-2,0.23512175007170255,0.75311667330248955,37.109824076980168,37.109824076980168,0,null,null,null,null,null,null,null,null,null,null,null,null,null,null,null,null,null,null,null,null,null,"1967-01-21",2,0.48499999999999999,null,"1975-01-20",2.4,0.64400000000000002,null,"2006-01-20",0,0.83450000000000002,0,0.78368000000000004,0,0.73285999999999996,null,"2016-01-20",0,0.86550000000000005,0,0.80015999999999998,0,0.73482000000000003,null,"2066-01-20",0,1.0205,0,0.88256000000000001,0,0.74461999999999995,null,null,null,1979,{"$error":"#DIV/0!"},{"$error":"#DIV/0!"},{"$error":"#DIV/0!"},831.0000000000008,13,{"$error":"#DIV/0!"},{"$error":"#DIV/0!"},17.486956521739138,{"$error":"#DIV/0!"}]
["1967-01-22",0.2,0.442,1,1967,3,0.2,{"$f":"IF(B55<Parameters!$A$16,B55*Parameters!$B$16,IF(AND(B55>Parameters!$A$16,B55<Parameters!$A$17),B55*Parameters!$B$17,B55*Parameters!$B$18))","v":0},{"$f":"IF(B55<Parameters!$A$20,B55*Parameters!$B$20,IF(AND(B55>Parameters!$A$20,B55<Parameters!$A$21),B55*Parameters!$B$21,B55*Parameters!$B$22))","v":0},2.4232558139534883,1.2116279069767442,0.26046511627906976,0.10748560460652591,2.1627906976744184,0.50651612903225807,1055.7070114238948,0.24882465457909633,{"$f":"VLOOKUP($F55,'Gegevens vergelijking'!$I$16:$Q$68,9,FALSE)","v":5.3886624347828569},-5.3770219730828837,1.1640461699973431E-2,3271.6022577621106,0,0,5.3886624347828569,1,2.6943312173914284,1.2116279069767442,0.24232558139534882,2.6046511627906978E-2,0.53886624347828571,0.21627906976744185,0,2.4882465457909633E-2,0.53886624347828571,-0.53770219730828839,0.8925143953934741,0,0.95530894168760194,20.688614704969897,-20.643923646657498,-11.5605972421282,-11.5605972421282,0,null,null,null,null,null,null,null,null,null,null,null,null,null,null,null,null,null,null,null,null,null,"1967-01-22",0.2,0.442,null,"1975-01-21",0.9,0.28199999999999997,null,"2006-01-21",2.4900000000000002,0.55747999999999998,2.11,0.52353000000000005,1.85,0.48958000000000002,null,"2016-01-21",2.57,0.57818999999999998,2.13,0.53454000000000002,1.83,0.49088999999999999,null,"2066-01-21",3.03,0.68174000000000001,2.2799999999999998,0.58958999999999995,1.75,0.49743999999999999,null,null,null,1980,{"$error":"#DIV/0!"},{"$error":"#DIV/0!"},{"$error":"#DIV/0!"},920.30000000000041,14,{"$error":"#DIV/0!"},{"$error":"#DIV/0!"},12.363043478260877,{"$error":"#DIV/0!"},{"$f":"GETPIVOTDATA(\"Som van Wekelijkse neerslag\",$CZ$40,\"Week\",14)-GETPIVOTDATA(\"Som van Opvangverliezen per week\",$CZ$40,\"Week\",14)","v":{"$error":"#DIV/0!"}},{"$f":"DE55/GETPIVOTDATA(\"Som van Wekelijkse neerslag\",$CZ$40,\"Week\",14)","v":{"$error":"#DIV/0!"}}]
["1967-01-23",6.7,0.28599999999999998,1,1967,4,6.7,{"$f":"IF(B56<Parameters!$A$16,B56*Parameters!$B$16,IF(AND(B56>Parameters!$A$16,B56<Parameters!$A$17),B56*Parameters!$B$17,B56*Parameters!$B$18))","v":6.3650000000000002},{"$f":"IF(B56<Parameters!$A$20,B56*Parameters!$B$20,IF(AND(B56>Parameters!$A$20,B56<Parameters!$A$21),B56*Parameters!$B$21,B56*Parameters!$B$22))","v":5.0250000000000004},81.17906976744186,1.2116279069767442,76.77732558139536,0.94577735124760087,4.4017441860464999,0.35051612903225804,1061.9170109686324,0.17211271397047317,{"$f":"VLOOKUP($F56,'Gegevens vergelijking'!$I$16:$Q$68,9,FALSE)","v":6.2443769793828574},70.360835888042018,76.605212867424882,3341.9630936501526,0,0,6.2443769793828574,1,9.3199656408699358E-2,1.2116279069767442,8.1179069767441856,7.6777325581395361,0.62443769793828574,0.44017441860465001,0,1.7211271397047319E-2,0.62443769793828574,7.0360835888042033,5.4222648752399093E-2,0,2.2417128060550659E-3,8.133100407050374E-2,0.91642728312344124,151.27579715929039,151.27579715929039,0,null,null,null,null,null,null,null,null,null,null,null,null,null,null,null,null,null,null,null,null,null,"1967-01-23",6.7,0.28599999999999998,null,"1975-01-22",9.4,0.44700000000000001,null,"2006-01-22",0.26,0.50805999999999996,0.21,0.47711999999999999,0.17,0.44618000000000002,null,"2016-01-22",0.27,0.52693000000000001,0.21,0.48715000000000003,0.16,0.44736999999999999,null,"2066-01-22",0.32,0.62129999999999996,0.22,0.53732000000000002,0.13,0.45334000000000002,null,null,null,1981,{"$error":"#DIV/0!"},{"$error":"#DIV/0!"},{"$error":"#DIV/0!"},1024.1999999999998,15,{"$error":"#DIV/0!"},{"$error":"#DIV/0!"},12.054347826086962,{"$error":"#DIV/0!"}]
["1967-01-24",0,0.38100000000000001,1,1967,4,0,{"$f":"IF(B57<Parameters!$A$16,B57*Parameters!$B$16,IF(AND(B57>Parameters!$A$16,B57<Parameters!$A$17),B57*Parameters!$B$17,B57*Parameters!$B$18))","v":0},{"$f":"IF(B57<Parameters!$A$20,B57*Parameters!$B$20,IF(AND(B57>Parameters!$A$20,B57<Parameters!$A$21),B57*Parameters!$B$21,B57*Parameters!$B$22))","v":0},0,"",0,"",0,0.44551612903225807,1061.3464652983218,0.22004704933965166,{"$f":"VLOOKUP($F57,'Gegevens vergelijking'!$I$16:$Q$68,9,FALSE)","v":6.2443769793828574},-6.464424028722509,-0.22004704933965166,3335.4986696214301,0,0,6.2443769793828574,1,"","",0,0,0.62443769793828574,0,0,2.2004704933965166E-2,0.62443769793828574,-0.64644240287225085,"","","","","",-13.898511661753393,-13.898511661753393,0,null,null,null,null,null,null,null,null,null,null,null,null,null,null,null,null,null,null,null,null,null,"1967-01-24",0,0.38100000000000001,null,"1975-01-23",1.2,0.76600000000000001,null,"2006-01-23",8.1300000000000008,0.32873999999999998,6.96,0.30871999999999999,6.2,0.28870000000000001,null,"2016-01-23",8.3699999999999992,0.34094999999999998,7.04,0.31520999999999999,6.13,0.28947000000000001,null,"2066-01-23",9.5500000000000007,0.40201999999999999,7.4,0.34767999999999999,5.8,0.29333999999999999,null,null,null,1982,{"$error":"#DIV/0!"},{"$error":"#DIV/0!"},{"$error":"#DIV/0!"},796.20000000000095,16,{"$error":"#DIV/0!"},{"$error":"#DIV/0!"},11.695652173913034,{"$error":"#DIV/0!"}]
["1967-01-25",1.7,0.46400000000000002,1,1967,4,1.7,{"$f":"IF(B58<Parameters!$A$16,B58*Parameters!$B$16,IF(AND(B58>Parameters!$A$16,B58<Parameters!$A$17),B58*Parameters!$B$17,B58*Parameters!$B$18))","v":1.36},{"$f":"IF(B58<Parameters!$A$20,B58*Parameters!$B$20,IF(AND(B58>Parameters!$A$20,B58<Parameters!$A$21),B58*Parameters!$B$21,B58*Parameters!$B$22))","v":1.02},20.597674418604651,1.2116279069767442,16.723255813953489,0.81190019193857976,3.8744186046511615,0.52851612903225809,1062.2482970112287,0.2609017327449018,{"$f":"VLOOKUP($F58,'Gegevens vergelijking'!$I$16:$Q$68,9,FALSE)","v":6.2443769793828574},10.217977101825731,16.462354081208588,3345.716646723256,0,0,6.2443769793828574,1,0.36731629290487394,1.2116279069767442,2.059767441860465,1.672325581395349,0.62443769793828574,0.38744186046511614,0,2.6090173274490182E-2,0.62443769793828574,1.021797710182573,0.18809980806142029,0,1.5601132677000107E-2,0.37339481311842976,0.61100405420457005,21.968650768925318,21.968650768925318,0,null,null,null,null,null,null,null,null,null,null,null,null,null,null,null,null,null,null,null,null,null,"1967-01-25",1.7,0.46400000000000002,null,"1975-01-24",1.3,0.55800000000000005,null,"2006-01-24",0,0.43794,0,0.41127000000000002,0,0.3846,null,"2016-01-24",0,0.45421,0,0.41992000000000002,0,0.38562999999999997,null,"2066-01-24",0,0.53554999999999997,0,0.46316000000000002,0,0.39077000000000001,null,null,null,1983,{"$error":"#DIV/0!"},{"$error":"#DIV/0!"},{"$error":"#DIV/0!"},696.90000000000032,17,{"$error":"#DIV/0!"},{"$error":"#DIV/0!"},12.386956521739126,{"$error":"#DIV/0!"}]
["1967-01-26",7.7,0.502,1,1967,4,7.7,{"$f":"IF(B59<Parameters!$A$16,B59*Parameters!$B$16,IF(AND(B59>Parameters!$A$16,B59<Parameters!$A$17),B59*Parameters!$B$17,B59*Parameters!$B$18))","v":7.3149999999999995},{"$f":"IF(B59<Parameters!$A$20,B59*Parameters!$B$20,IF(AND(B59>Parameters!$A$20,B59<Parameters!$A$21),B59*Parameters!$B$21,B59*Parameters!$B$22))","v":5.7750000000000004},93.295348837209303,1.2116279069767442,88.23662790697675,0.94577735124760087,5.0587209302325533,0.56651612903225801,1069.4601737293756,0.27989804339251612,{"$f":"VLOOKUP($F59,'Gegevens vergelijking'!$I$16:$Q$68,9,FALSE)","v":6.2443769793828574},81.712352884201366,87.956729863584229,3427.4289996074572,0,0,6.2443769793828574,1,8.1095804927050097E-2,1.2116279069767442,9.32953488372093,8.823662790697675,0.62443769793828574,0.50587209302325531,0,2.7989804339251613E-2,0.62443769793828574,8.1712352884201387,5.4222648752399183E-2,0,3.172129874314757E-3,7.0768536009399363E-2,0.92605933411628594,175.68155870103297,175.68155870103297,0,null,null,null,null,null,null,null,null,null,null,null,null,null,null,null,null,null,null,null,null,null,"1967-01-26",7.7,0.502,null,"1975-01-25",5.7,0.56499999999999995,null,"2006-01-25",2.11,0.53334000000000004,1.79,0.50085999999999997,1.57,0.46838000000000002,null,"2016-01-25",2.19,0.55315999999999999,1.81,0.51139999999999997,1.56,0.46964,null,"2066-01-25",2.5299999999999998,0.65222000000000002,1.94,0.56406000000000001,1.47,0.47589999999999999,null,null,null,1984,{"$error":"#DIV/0!"},{"$error":"#DIV/0!"},{"$error":"#DIV/0!"},928.40000000000032,18,{"$error":"#DIV/0!"},{"$error":"#DIV/0!"},15.023913043478256,{"$error":"#DIV/0!"}]
["1967-01-27",4.4000000000000004,0.38,1,1967,4,4.4000000000000004,{"$f":"IF(B60<Parameters!$A$16,B60*Parameters!$B$16,IF(AND(B60>Parameters!$A$16,B60<Parameters!$A$17),B60*Parameters!$B$17,B60*Parameters!$B$18))","v":4.18},{"$f":"IF(B60<Parameters!$A$20,B60*Parameters!$B$20,IF(AND(B60>Parameters!$A$20,B60<Parameters!$A$21),B60*Parameters!$B$21,B60*Parameters!$B$22))","v":3.3000000000000003},53.311627906976753,1.2116279069767444,50.420930232558135,0.94577735124760054,2.8906976744186181,0.44451612903225807,1073.339651032383,0.2211126960838829,{"$f":"VLOOKUP($F60,'Gegevens vergelijking'!$I$16:$Q$68,9,FALSE)","v":6.2443769793828574},43.955440557091393,50.199817536474249,3471.3844401645488,0,0,6.2443769793828574,1,0.14191765862233766,1.2116279069767444,5.3311627906976753,5.0420930232558137,0.62443769793828574,0.2890697674418618,0,2.2111269608388291E-2,0.62443769793828574,4.3955440557091396,5.4222648752399474E-2,0,4.3853355157082077E-3,0.12384493801644891,0.8717697264678429,94.504197197746507,94.504197197746507,0,null,null,null,null,null,null,null,null,null,null,null,null,null,null,null,null,null,null,null,null,null,"1967-01-27",4.4000000000000004,0.38,null,"1975-01-26",0.1,0.69,null,"2006-01-26",9.36,0.57701999999999998,8.02,0.54188000000000003,7.16,0.50673999999999997,null,"2016-01-26",9.64,0.59845999999999999,8.11,0.55327999999999999,7.08,0.5081,null,"2066-01-26",11.05,0.70564000000000004,8.57,0.61026000000000002,6.76,0.51488,null,null,null,1985,{"$error":"#DIV/0!"},{"$error":"#DIV/0!"},{"$error":"#DIV/0!"},760.30000000000075,19,{"$error":"#DIV/0!"},{"$error":"#DIV/0!"},14.600000000000003,{"$error":"#DIV/0!"}]
["1967-01-28",0.3,0.92700000000000005,1,1967,4,0.3,{"$f":"IF(B61<Parameters!$A$16,B61*Parameters!$B$16,IF(AND(B61>Parameters!$A$16,B61<Parameters!$A$17),B61*Parameters!$B$17,B61*Parameters!$B$18))","v":0},{"$f":"IF(B61<Parameters!$A$20,B61*Parameters!$B$20,IF(AND(B61>Parameters!$A$20,B61<Parameters!$A$21),B61*Parameters!$B$21,B61*Parameters!$B$22))","v":0},3.6348837209302327,1.2116279069767442,0.39069767441860465,0.10748560460652591,3.2441860465116279,0.99151612903225805,1072.779321586931,0.49499236089695964,{"$f":"VLOOKUP($F61,'Gegevens vergelijking'!$I$16:$Q$68,9,FALSE)","v":6.2443769793828574},-6.3486716658612119,-0.10429468647835499,3465.0357684986875,0,0,6.2443769793828574,1,2.0814589931276193,1.2116279069767442,0.36348837209302326,3.9069767441860463E-2,0.62443769793828574,0.32441860465116279,0,4.9499236089695961E-2,0.62443769793828574,-0.63486716658612119,0.8925143953934741,0,1.2669447332481705,15.982631554372791,-16.249576287620961,-13.649644081601606,-13.649644081601606,0,null,null,null,null,null,null,null,null,null,null,null,null,null,null,null,null,null,null,null,null,null,"1967-01-28",0.3,0.92700000000000005,null,"1975-01-27",5.7,0.746,null,"2006-01-27",5.38,0.43679000000000001,4.5999999999999996,0.41019,4.09,0.38358999999999999,null,"2016-01-27",5.56,0.45301999999999998,4.66,0.41882000000000003,4.0599999999999996,0.38462000000000002,null,"2066-01-27",6.4,0.53415000000000001,4.93,0.46195000000000003,3.87,0.38974999999999999,null,null,null,1986,{"$error":"#DIV/0!"},{"$error":"#DIV/0!"},{"$error":"#DIV/0!"},923.30000000000121,20,{"$error":"#DIV/0!"},{"$error":"#DIV/0!"},16.828260869565216,{"$error":"#DIV/0!"}]
["1967-01-29",0,1.1160000000000001,1,1967,4,0,{"$f":"IF(B62<Parameters!$A$16,B62*Parameters!$B$16,IF(AND(B62>Parameters!$A$16,B62<Parameters!$A$17),B62*Parameters!$B$17,B62*Parameters!$B$18))","v":0},{"$f":"IF(B62<Parameters!$A$20,B62*Parameters!$B$20,IF(AND(B62>Parameters!$A$20,B62<Parameters!$A$21),B62*Parameters!$B$21,B62*Parameters!$B$22))","v":0},0,"",0,"",0,1.1805161290322581,1072.1762089607982,0.58903874047704929,{"$f":"VLOOKUP($F62,'Gegevens vergelijking'!$I$16:$Q$68,9,FALSE)","v":6.2443769793828574},-6.8334157198599064,-0.58903874047704929,3458.2023527788274,0,0,6.2443769793828574,1,"","",0,0,0.62443769793828574,0,0,5.8903874047704932E-2,0.62443769793828574,-0.68334157198599066,"","","","","",-14.691843797698798,-14.691843797698798,0,null,null,null,null,null,null,null,null,null,null,null,null,null,null,null,null,null,null,null,null,null,"1967-01-29",0,1.1160000000000001,null,"1975-01-28",13.4,0.246,null,"2006-01-28",0.38,1.0655399999999999,0.31,1.00065,0.26,0.93576000000000004,null,"2016-01-28",0.4,1.1051200000000001,0.31,1.02169,0.25,0.93825999999999998,null,"2066-01-28",0.48,1.30304,0.33,1.1269100000000001,0.21,0.95077999999999996,null,null,null,1987,{"$error":"#DIV/0!"},{"$error":"#DIV/0!"},{"$error":"#DIV/0!"},944.10000000000025,21,{"$error":"#DIV/0!"},{"$error":"#DIV/0!"},15.610869565217397,{"$error":"#DIV/0!"}]
["1967-01-30",0,1.27,1,1967,5,0,{"$f":"IF(B63<Parameters!$A$16,B63*Parameters!$B$16,IF(AND(B63>Parameters!$A$16,B63<Parameters!$A$17),B63*Parameters!$B$17,B63*Parameters!$B$18))","v":0},{"$f":"IF(B63<Parameters!$A$20,B63*Parameters!$B$20,IF(AND(B63>Parameters!$A$20,B63<Parameters!$A$21),B63*Parameters!$B$21,B63*Parameters!$B$22))","v":0},0,"",0,"",0,1.334516129032258,1071.3890749871389,0.66550532280132368,{"$f":"VLOOKUP($F63,'Gegevens vergelijking'!$I$16:$Q$68,9,FALSE)","v":8.2529179304628588},-8.9184232532641818,-0.66550532280132368,3449.2839295255631,0,0,8.2529179304628588,1,"","",0,0,0.82529179304628586,0,0,6.6550532280132371E-2,0.82529179304628586,-0.89184232532641827,"","","","","",-19.174609994517994,-19.174609994517994,0,null,null,null,null,null,null,null,null,null,null,null,null,null,null,null,null,null,null,null,null,null,"1967-01-30",0,1.27,null,"1975-01-29",4.8,0.36699999999999999,null,"2006-01-29",0,1.2827900000000001,0,1.2046699999999999,0,1.1265499999999999,null,"2016-01-29",0,1.3304400000000001,0,1.23,0,1.1295599999999999,null,"2066-01-29",0,1.56871,0,1.35667,0,1.14463,null,null,null,1988,{"$error":"#DIV/0!"},{"$error":"#DIV/0!"},{"$error":"#DIV/0!"},992.10000000000025,22,{"$error":"#DIV/0!"},{"$error":"#DIV/0!"},16.593478260869578,{"$error":"#DIV/0!"}]
["1967-01-31",0,0.87,1,1967,5,0,{"$f":"IF(B64<Parameters!$A$16,B64*Parameters!$B$16,IF(AND(B64>Parameters!$A$16,B64<Parameters!$A$17),B64*Parameters!$B$17,B64*Parameters!$B$18))","v":0},{"$f":"IF(B64<Parameters!$A$20,B64*Parameters!$B$20,IF(AND(B64>Parameters!$A$20,B64<Parameters!$A$21),B64*Parameters!$B$21,B64*Parameters!$B$22))","v":0},0,"",0,"",0,0.93451612903225811,1070.6195767064833,0.46568854467182919,{"$f":"VLOOKUP($F64,'Gegevens vergelijking'!$I$16:$Q$68,9,FALSE)","v":8.2529179304628588},-8.7186064751346883,-0.46568854467182919,3440.5653230504286,0,0,8.2529179304628588,1,"","",0,0,0.82529179304628586,0,0,4.6568854467182917E-2,0.82529179304628586,-0.87186064751346881,"","","","","",-18.745003921539581,-18.745003921539581,0,null,null,null,null,null,null,null,null,null,null,null,null,null,null,null,null,null,null,null,null,null,"1967-01-31",0,0.87,null,"1975-01-30",2.9,0.66400000000000003,null,"2006-01-30",0,1.4598,0,1.3709,0,1.282,null,"2016-01-30",0,1.51403,0,1.3997299999999999,0,1.2854300000000001,null,"2066-01-30",1.78,1.78518,0,1.5438799999999999,0,1.3025800000000001,null,null,null,1989,{"$error":"#DIV/0!"},{"$error":"#DIV/0!"},{"$error":"#DIV/0!"},639.20000000000027,23,{"$error":"#DIV/0!"},{"$error":"#DIV/0!"},18.0695652173913,{"$error":"#DIV/0!"}]
["1967-02-01",6.2,0.48799999999999999,2,1967,5,6.2,{"$f":"IF(B65<Parameters!$A$16,B65*Parameters!$B$16,IF(AND(B65>Parameters!$A$16,B65<Parameters!$A$17),B65*Parameters!$B$17,B65*Parameters!$B$18))","v":5.89},{"$f":"IF(B65<Parameters!$A$20,B65*Parameters!$B$20,IF(AND(B65>Parameters!$A$20,B65<Parameters!$A$21),B65*Parameters!$B$21,B65*Parameters!$B$22))","v":4.6500000000000004},75.120930232558138,1.2116279069767442,71.047674418604657,0.94577735124760087,4.0732558139534802,0.45228571428571429,1076.1419213419611,0.22522136743207483,{"$f":"VLOOKUP($F65,'Gegevens vergelijking'!$I$16:$Q$68,9,FALSE)","v":8.2529179304628588},62.569535120709723,70.822453051172587,3503.1348581711381,0,0,8.2529179304628588,1,0.13311157952359451,1.2116279069767442,7.5120930232558134,7.1047674418604654,0.82529179304628586,0.40732558139534802,0,2.2522136743207483E-2,0.82529179304628586,6.2569535120709725,5.4222648752399127E-2,0,3.170003371329182E-3,0.11616028248634323,0.88066971414232764,134.52450050952592,134.52450050952592,0,null,null,null,null,null,null,null,null,null,null,null,null,null,null,null,null,null,null,null,null,null,"1967-02-01",6.2,0.48799999999999999,null,"1975-01-31",5.4,0.85199999999999998,null,"2006-01-31",0,1.0000199999999999,0,0.93911999999999995,0,0.87822,null,"2016-01-31",8.3699999999999992,1.0371699999999999,0,0.95887,0,0.88056999999999996,null,"2066-01-31",0,1.22292,0,1.05762,0,0.89232,null,null,null,1990,{"$error":"#DIV/0!"},{"$error":"#DIV/0!"},{"$error":"#DIV/0!"},755.60000000000025,24,{"$error":"#DIV/0!"},{"$error":"#DIV/0!"},14.021739130434787,{"$error":"#DIV/0!"}]
["1967-02-02",2.7,0.44400000000000001,2,1967,5,2.7,{"$f":"IF(B66<Parameters!$A$16,B66*Parameters!$B$16,IF(AND(B66>Parameters!$A$16,B66<Parameters!$A$17),B66*Parameters!$B$17,B66*Parameters!$B$18))","v":2.5649999999999999},{"$f":"IF(B66<Parameters!$A$20,B66*Parameters!$B$20,IF(AND(B66>Parameters!$A$20,B66<Parameters!$A$21),B66*Parameters!$B$21,B66*Parameters!$B$22))","v":2.0250000000000004},32.713953488372091,1.2116279069767442,30.940116279069766,0.94577735124760076,1.7738372093023251,0.40828571428571431,1078.1262413966906,0.20435970838507139,{"$f":"VLOOKUP($F66,'Gegevens vergelijking'!$I$16:$Q$68,9,FALSE)","v":8.2529179304628588},22.482838640221836,30.735756570684696,3525.61769681136,0,0,8.2529179304628588,1,0.30566362705417993,1.2116279069767442,3.2713953488372089,3.0940116279069767,0.82529179304628586,0.17738372093023252,0,2.043597083850714E-2,0.82529179304628586,2.2482838640221834,5.4222648752399225E-2,0,6.6050077686138414E-3,0.26673842645012152,0.72665656578126459,48.338103076476948,48.338103076476948,0,null,null,null,null,null,null,null,null,null,null,null,null,null,null,null,null,null,null,null,null,null,"1967-02-02",2.7,0.44400000000000001,null,"1975-02-01",0.2,0.70499999999999996,null,"2006-02-01",7.46,0.53463000000000005,6.5,0.50814999999999999,5.91,0.48185,null,"2016-02-01",7.65,0.54795000000000005,6.58,0.51390999999999998,5.9,0.48009000000000002,null,"2066-02-01",8.67,0.61456,6.99,0.54269999999999996,5.85,0.47131000000000001,null,null,null,1991,{"$error":"#DIV/0!"},{"$error":"#DIV/0!"},{"$error":"#DIV/0!"},798.09999999999991,25,{"$error":"#DIV/0!"},{"$error":"#DIV/0!"},13.404347826086955,{"$error":"#DIV/0!"}]
["1967-02-03",0.4,0.82399999999999995,2,1967,5,0.4,{"$f":"IF(B67<Parameters!$A$16,B67*Parameters!$B$16,IF(AND(B67>Parameters!$A$16,B67<Parameters!$A$17),B67*Parameters!$B$17,B67*Parameters!$B$18))","v":0},{"$f":"IF(B67<Parameters!$A$20,B67*Parameters!$B$20,IF(AND(B67>Parameters!$A$20,B67<Parameters!$A$21),B67*Parameters!$B$21,B67*Parameters!$B$22))","v":0},4.8465116279069766,1.2116279069767442,0.52093023255813953,0.10748560460652591,4.3255813953488369,0.78828571428571426,1077.4089334734479,0.39528907641375011,{"$f":"VLOOKUP($F67,'Gegevens vergelijking'!$I$16:$Q$68,9,FALSE)","v":8.2529179304628588},-8.1272767743184691,0.12564115614438942,3517.4904200370415,0,0,8.2529179304628588,1,2.0632294826157147,1.2116279069767442,0.48465116279069764,5.2093023255813956E-2,0.82529179304628586,0.4325581395348837,0,3.9528907641375011E-2,0.82529179304628586,-0.81272767743184693,0.8925143953934741,0,0.75881385204425245,15.842654955799237,-15.601468807843489,-17.473645064784709,-17.473645064784709,0,null,null,null,null,null,null,null,null,null,null,null,null,null,null,null,null,null,null,null,null,null,"1967-02-03",0.4,0.82399999999999995,null,"1975-02-02",0.1,0.51400000000000001,null,"2006-02-02",3.46,0.48642000000000002,2.9,0.46233999999999997,2.52,0.43841000000000002,null,"2016-02-02",3.61,0.49854999999999999,2.96,0.46758,2.5099999999999998,0.43680999999999998,null,"2066-02-02",4.34,0.55915000000000004,3.25,0.49376999999999999,2.42,0.42881999999999998,null,null,null,1992,{"$error":"#DIV/0!"},{"$error":"#DIV/0!"},{"$error":"#DIV/0!"},916.49999999999977,26,{"$error":"#DIV/0!"},{"$error":"#DIV/0!"},18.682608695652185,{"$error":"#DIV/0!"}]
["1967-02-04",0,0.66100000000000003,2,1967,5,0,{"$f":"IF(B68<Parameters!$A$16,B68*Parameters!$B$16,IF(AND(B68>Parameters!$A$16,B68<Parameters!$A$17),B68*Parameters!$B$17,B68*Parameters!$B$18))","v":0},{"$f":"IF(B68<Parameters!$A$20,B68*Parameters!$B$20,IF(AND(B68>Parameters!$A$20,B68<Parameters!$A$21),B68*Parameters!$B$21,B68*Parameters!$B$22))","v":0},0,"",0,"",0,0.62528571428571433,1076.6528810674065,0.3133434486254672,{"$f":"VLOOKUP($F68,'Gegevens vergelijking'!$I$16:$Q$68,9,FALSE)","v":8.2529179304628588},-8.566261379088326,-0.3133434486254672,3508.9241586579533,0,0,8.2529179304628588,1,"","",0,0,0.82529179304628586,0,0,3.1334344862546722E-2,0.82529179304628586,-0.85662613790883257,"","","","","",-18.417461965039902,-18.417461965039902,0,null,null,null,null,null,null,null,null,null,null,null,null,null,null,null,null,null,null,null,null,null,"1967-02-04",0,0.66100000000000003,null,"1975-02-03",0,0.70399999999999996,null,"2006-02-03",0.55000000000000004,0.90273000000000003,0.44,0.85802999999999996,0.36,0.81362000000000001,null,"2016-02-03",0.57999999999999996,0.92523,0.45,0.86775000000000002,0.36,0.81064999999999998,null,"2066-02-03",0.73,1.0377000000000001,0.51,0.91637000000000002,0.34,0.79581999999999997,null,null,null,1993,{"$error":"#DIV/0!"},{"$error":"#DIV/0!"},{"$error":"#DIV/0!"},869.80000000000064,27,{"$error":"#DIV/0!"},{"$error":"#DIV/0!"},20.289130434782599,{"$error":"#DIV/0!"},{"$f":"GETPIVOTDATA(\"Som van Wekelijkse neerslag\",$CZ$40,\"Week\",27)-GETPIVOTDATA(\"Som van Opvangverliezen per week\",$CZ$40,\"Week\",27)","v":{"$error":"#DIV/0!"}},{"$f":"DE68/GETPIVOTDATA(\"Som van Wekelijkse neerslag\",$CZ$40,\"Week\",27)","v":{"$error":"#DIV/0!"}}]
["1967-02-05",0,0.38400000000000001,2,1967,5,0,{"$f":"IF(B69<Parameters!$A$16,B69*Parameters!$B$16,IF(AND(B69>Parameters!$A$16,B69<Parameters!$A$17),B69*Parameters!$B$17,B69*Parameters!$B$18))","v":0},{"$f":"IF(B69<Parameters!$A$20,B69*Parameters!$B$20,IF(AND(B69>Parameters!$A$20,B69<Parameters!$A$21),B69*Parameters!$B$21,B69*Parameters!$B$22))","v":0},0,"",0,"",0,0.34828571428571431,1075.9090907790014,0.17441061289317855,{"$f":"VLOOKUP($F69,'Gegevens vergelijking'!$I$16:$Q$68,9,FALSE)","v":8.2529179304628588},-8.4273285433560368,-0.17441061289317855,3500.4968301145973,0,0,8.2529179304628588,1,"","",0,0,0.82529179304628586,0,0,1.7441061289317855E-2,0.82529179304628586,-0.84273285433560374,"","","","","",-18.118756368215479,-18.118756368215479,0,null,null,null,null,null,null,null,null,null,null,null,null,null,null,null,null,null,null,null,null,null,"1967-02-05",0,0.38400000000000001,null,"1975-02-04",0,0.84199999999999997,null,"2006-02-04",0,0.72416000000000003,0,0.68830000000000002,0,0.65266999999999997,null,"2016-02-04",0,0.74219999999999997,0,0.69610000000000005,0,0.65029000000000003,null,"2066-02-04",0,0.83243,0,0.73509999999999998,0,0.63839000000000001,null,null,null,1994,{"$error":"#DIV/0!"},{"$error":"#DIV/0!"},{"$error":"#DIV/0!"},887.19999999999993,28,{"$error":"#DIV/0!"},{"$error":"#DIV/0!"},15.817391304347829,{"$error":"#DIV/0!"}]
["1967-02-06",0,0.36399999999999999,2,1967,6,0,{"$f":"IF(B70<Parameters!$A$16,B70*Parameters!$B$16,IF(AND(B70>Parameters!$A$16,B70<Parameters!$A$17),B70*Parameters!$B$17,B70*Parameters!$B$18))","v":0},{"$f":"IF(B70<Parameters!$A$20,B70*Parameters!$B$20,IF(AND(B70>Parameters!$A$20,B70<Parameters!$A$21),B70*Parameters!$B$21,B70*Parameters!$B$22))","v":0},0,"",0,"",0,0.32828571428571429,1075.0876326329287,0.16428166715017578,{"$f":"VLOOKUP($F70,'Gegevens vergelijking'!$I$16:$Q$68,9,FALSE)","v":9.1430429772914277},-9.3073246444416036,-0.16428166715017578,3491.1895054701558,0,0,9.1430429772914277,1,"","",0,0,0.91430429772914279,0,0,1.6428166715017577E-2,0.91430429772914279,-0.93073246444416036,"","","","","",-20.01074798554945,-20.01074798554945,0,null,null,null,null,null,null,null,null,null,null,null,null,null,null,null,null,null,null,null,null,null,"1967-02-06",0,0.36399999999999999,null,"1975-02-05",0,0.68300000000000005,null,"2006-02-05",0,0.42069000000000001,0,0.39985999999999999,0,0.37916,null,"2016-02-05",0,0.43117,0,0.40439000000000003,0,0.37778,null,"2066-02-05",0,0.48359000000000002,0,0.42704999999999999,0,0.37086999999999998,null,null,null,1995,{"$error":"#DIV/0!"},{"$error":"#DIV/0!"},{"$error":"#DIV/0!"},758.2,29,{"$error":"#DIV/0!"},{"$error":"#DIV/0!"},16.606521739130436,{"$error":"#DIV/0!"}]
["1967-02-07",0.1,0.13700000000000001,2,1967,6,0.1,{"$f":"IF(B71<Parameters!$A$16,B71*Parameters!$B$16,IF(AND(B71>Parameters!$A$16,B71<Parameters!$A$17),B71*Parameters!$B$17,B71*Parameters!$B$18))","v":0},{"$f":"IF(B71<Parameters!$A$20,B71*Parameters!$B$20,IF(AND(B71>Parameters!$A$20,B71<Parameters!$A$21),B71*Parameters!$B$21,B71*Parameters!$B$22))","v":0},1.2116279069767442,1.2116279069767442,0.13023255813953488,0.10748560460652591,1.0813953488372092,0.1012857142857143,1074.2876980436624,5.064698548416921E-2,{"$f":"VLOOKUP($F71,'Gegevens vergelijking'!$I$16:$Q$68,9,FALSE)","v":9.1430429772914277},-9.063457404636063,7.9585572655365672E-2,3482.1260480655196,0,0,9.1430429772914277,1,9.1430429772914277,1.2116279069767442,0.12116279069767441,1.3023255813953489E-2,0.91430429772914279,0.10813953488372093,0,5.0646985484169207E-3,0.91430429772914279,-0.90634574046360628,0.8925143953934741,0,0.38889649568201351,70.205508575630603,-69.594405071312622,-19.486433419967536,-19.486433419967536,0,null,null,null,null,null,null,null,null,null,null,null,null,null,null,null,null,null,null,null,null,null,"1967-02-07",0.1,0.13700000000000001,null,"1975-02-06",0,0.65300000000000002,null,"2006-02-06",0,0.39878000000000002,0,0.37902999999999998,0,0.35941000000000001,null,"2016-02-06",0,0.40872000000000003,0,0.38333,0,0.35809999999999997,null,"2066-02-06",0,0.45839999999999997,0,0.40479999999999999,0,0.35154999999999997,null,null,null,1996,{"$error":"#DIV/0!"},{"$error":"#DIV/0!"},{"$error":"#DIV/0!"},743.79999999999984,30,{"$error":"#DIV/0!"},{"$error":"#DIV/0!"},17.360869565217396,{"$error":"#DIV/0!"}]
["1967-02-08",0.6,0.64100000000000001,2,1967,6,0.6,{"$f":"IF(B72<Parameters!$A$16,B72*Parameters!$B$16,IF(AND(B72>Parameters!$A$16,B72<Parameters!$A$17),B72*Parameters!$B$17,B72*Parameters!$B$18))","v":0},{"$f":"IF(B72<Parameters!$A$20,B72*Parameters!$B$20,IF(AND(B72>Parameters!$A$20,B72<Parameters!$A$21),B72*Parameters!$B$21,B72*Parameters!$B$22))","v":0},7.2697674418604654,1.2116279069767442,0.78139534883720929,0.10748560460652591,6.4883720930232558,0.60528571428571432,1073.5230113542364,0.30244232402730886,{"$f":"VLOOKUP($F72,'Gegevens vergelijking'!$I$16:$Q$68,9,FALSE)","v":9.1430429772914277},-8.6640899524815271,0.47895302480990043,3473.4619581130382,0,0,9.1430429772914277,1,1.5238404962152379,1.2116279069767442,0.72697674418604652,7.8139534883720926E-2,0.91430429772914279,0.64883720930232558,0,3.0244232402730886E-2,0.91430429772914279,-0.86640899524815274,0.8925143953934741,0,0.38705416467780601,11.700918095938436,-11.08797226061624,-18.627793397835283,-18.627793397835283,0,null,null,null,null,null,null,null,null,null,null,null,null,null,null,null,null,null,null,null,null,null,"1967-02-08",0.6,0.64100000000000001,null,"1975-02-07",0,0.83599999999999997,null,"2006-02-07",0.13,0.15009,0.11,0.14266000000000001,0.09,0.13527,null,"2016-02-07",0.13,0.15382999999999999,0.11,0.14427000000000001,0.09,0.13478000000000001,null,"2066-02-07",0.15,0.17252999999999999,0.12,0.15236,0,0.13231000000000001,null,null,null,1997,{"$error":"#DIV/0!"},{"$error":"#DIV/0!"},{"$error":"#DIV/0!"},689.39999999999964,31,{"$error":"#DIV/0!"},{"$error":"#DIV/0!"},15.767391304347823,{"$error":"#DIV/0!"}]
["1967-02-09",0.2,0.56200000000000006,2,1967,6,0.2,{"$f":"IF(B73<Parameters!$A$16,B73*Parameters!$B$16,IF(AND(B73>Parameters!$A$16,B73<Parameters!$A$17),B73*Parameters!$B$17,B73*Parameters!$B$18))","v":0},{"$f":"IF(B73<Parameters!$A$20,B73*Parameters!$B$20,IF(AND(B73>Parameters!$A$20,B73<Parameters!$A$21),B73*Parameters!$B$21,B73*Parameters!$B$22))","v":0},2.4232558139534883,1.2116279069767442,0.26046511627906976,0.10748560460652591,2.1627906976744184,0.52628571428571436,1072.7158481704037,0.26278131387568149,{"$f":"VLOOKUP($F73,'Gegevens vergelijking'!$I$16:$Q$68,9,FALSE)","v":9.1430429772914277},-9.1453591748880392,-2.3161975966117243E-3,3464.31659893815,0,0,9.1430429772914277,1,4.5715214886457138,1.2116279069767442,0.24232558139534882,2.6046511627906978E-2,0.91430429772914279,0.21627906976744185,0,2.6278131387568147E-2,0.91430429772914279,-0.91453591748880392,0.8925143953934741,0,1.0088925443441341,35.102754287815301,-35.111646832159437,-19.662522226009283,-19.662522226009283,0,null,null,null,null,null,null,null,null,null,null,null,null,null,null,null,null,null,null,null,null,null,"1967-02-09",0.2,0.56200000000000006,null,"1975-02-08",0,0.53800000000000003,null,"2006-02-08",0.84,0.70225000000000004,0.67,0.66747000000000001,0.56000000000000005,0.63292000000000004,null,"2016-02-08",0.89,0.71975,0.7,0.67503999999999997,0.55000000000000004,0.63061999999999996,null,"2066-02-08",1.1399999999999999,0.80723999999999996,0.8,0.71286000000000005,0.52,0.61907999999999996,null,null,null,1998,{"$error":"#DIV/0!"},{"$error":"#DIV/0!"},{"$error":"#DIV/0!"},972.50000000000034,32,{"$error":"#DIV/0!"},{"$error":"#DIV/0!"},18.113043478260874,{"$error":"#DIV/0!"}]
["1967-02-10",0,0.59199999999999997,2,1967,6,0,{"$f":"IF(B74<Parameters!$A$16,B74*Parameters!$B$16,IF(AND(B74>Parameters!$A$16,B74<Parameters!$A$17),B74*Parameters!$B$17,B74*Parameters!$B$18))","v":0},{"$f":"IF(B74<Parameters!$A$20,B74*Parameters!$B$20,IF(AND(B74>Parameters!$A$20,B74<Parameters!$A$21),B74*Parameters!$B$21,B74*Parameters!$B$22))","v":0},0,"",0,"",0,0.55628571428571427,1071.8843928739943,0.27755186131399012,{"$f":"VLOOKUP($F74,'Gegevens vergelijking'!$I$16:$Q$68,9,FALSE)","v":9.1430429772914277},-9.4205948386054175,-0.27755186131399012,3454.8960040995448,0,0,9.1430429772914277,1,"","",0,0,0.91430429772914279,0,0,2.7755186131399011E-2,0.91430429772914279,-0.94205948386054184,"","","","","",-20.254278903001651,-20.254278903001651,0,null,null,null,null,null,null,null,null,null,null,null,null,null,null,null,null,null,null,null,null,null,"1967-02-10",0,0.59199999999999997,null,"1975-02-09",0,1.0820000000000001,null,"2006-02-09",0.27,0.61570000000000003,0.22,0.58521000000000001,0.18,0.55491999999999997,null,"2016-02-09",0.28000000000000003,0.63104000000000005,0.22,0.59184000000000003,0.17,0.55289999999999995,null,"2066-02-09",0.36,0.70774999999999999,0.25,0.625,0.15,0.54278000000000004,null,null,null,1999,{"$error":"#DIV/0!"},{"$error":"#DIV/0!"},{"$error":"#DIV/0!"},874.2000000000005,33,{"$error":"#DIV/0!"},{"$error":"#DIV/0!"},14.915217391304351,{"$error":"#DIV/0!"}]
["1967-02-11",0,0.57299999999999995,2,1967,6,0,{"$f":"IF(B75<Parameters!$A$16,B75*Parameters!$B$16,IF(AND(B75>Parameters!$A$16,B75<Parameters!$A$17),B75*Parameters!$B$17,B75*Parameters!$B$18))","v":0},{"$f":"IF(B75<Parameters!$A$20,B75*Parameters!$B$20,IF(AND(B75>Parameters!$A$20,B75<Parameters!$A$21),B75*Parameters!$B$21,B75*Parameters!$B$22))","v":0},0,"",0,"",0,0.53728571428571426,1071.0537925981721,0.26786426588698292,{"$f":"VLOOKUP($F75,'Gegevens vergelijking'!$I$16:$Q$68,9,FALSE)","v":9.1430429772914277},-9.4109072431784107,-0.26786426588698292,3445.4850968563665,0,0,9.1430429772914277,1,"","",0,0,0.91430429772914279,0,0,2.6786426588698294E-2,0.91430429772914279,-0.94109072431784113,"","","","","",-20.233450572833583,-20.233450572833583,0,null,null,null,null,null,null,null,null,null,null,null,null,null,null,null,null,null,null,null,null,null,"1967-02-11",0,0.57299999999999995,null,"1975-02-10",0,0.93799999999999994,null,"2006-02-10",0,0.64856999999999998,0,0.61645000000000005,0,0.58453999999999995,null,"2016-02-10",0,0.66473000000000004,0,0.62343999999999999,0,0.58240999999999998,null,"2066-02-10",0,0.74553999999999998,0,0.65835999999999995,0,0.57174999999999998,null,null,null,2000,{"$error":"#DIV/0!"},{"$error":"#DIV/0!"},{"$error":"#DIV/0!"},847.80000000000041,34,{"$error":"#DIV/0!"},{"$error":"#DIV/0!"},16.434782608695649,{"$error":"#DIV/0!"}]
["1967-02-12",0,1.0589999999999999,2,1967,6,0,{"$f":"IF(B76<Parameters!$A$16,B76*Parameters!$B$16,IF(AND(B76>Parameters!$A$16,B76<Parameters!$A$17),B76*Parameters!$B$17,B76*Parameters!$B$18))","v":0},{"$f":"IF(B76<Parameters!$A$20,B76*Parameters!$B$20,IF(AND(B76>Parameters!$A$20,B76<Parameters!$A$21),B76*Parameters!$B$21,B76*Parameters!$B$22))","v":0},0,"",0,"",0,1.0232857142857141,1070.2018423569316,0.50976467218476451,{"$f":"VLOOKUP($F76,'Gegevens vergelijking'!$I$16:$Q$68,9,FALSE)","v":9.1430429772914277},-9.652807649476193,-0.50976467218476451,3435.8322892068904,0,0,9.1430429772914277,1,"","",0,0,0.91430429772914279,0,0,5.097646721847645E-2,0.91430429772914279,-0.96528076494761927,"","","","","",-20.753536446373815,-20.753536446373815,0,null,null,null,null,null,null,null,null,null,null,null,null,null,null,null,null,null,null,null,null,null,"1967-02-12",0,1.0589999999999999,null,"1975-02-11",0,1.115,null,"2006-02-11",0.7,0.62775000000000003,0,0.59665999999999997,0,0.56577999999999995,null,"2016-02-11",0,0.64339000000000002,0,0.60343000000000002,0,0.56372,null,"2066-02-11",0,0.72160999999999997,0,0.63722999999999996,0,0.5534,null,null,null,2001,{"$error":"#DIV/0!"},{"$error":"#DIV/0!"},{"$error":"#DIV/0!"},1092.3,35,{"$error":"#DIV/0!"},{"$error":"#DIV/0!"},17.373913043478268,{"$error":"#DIV/0!"}]
["1967-02-13",0,0,2,1967,7,0,{"$f":"IF(B77<Parameters!$A$16,B77*Parameters!$B$16,IF(AND(B77>Parameters!$A$16,B77<Parameters!$A$17),B77*Parameters!$B$17,B77*Parameters!$B$18))","v":0},{"$f":"IF(B77<Parameters!$A$20,B77*Parameters!$B$20,IF(AND(B77>Parameters!$A$20,B77<Parameters!$A$21),B77*Parameters!$B$21,B77*Parameters!$B$22))","v":0},0,"",0,"",0,-3.5714285714285712E-2,1069.234533160067,-1.7777439241809495E-2,{"$f":"VLOOKUP($F77,'Gegevens vergelijking'!$I$16:$Q$68,9,FALSE)","v":10.977630682914283},-10.959853243672473,1.7777439241809495E-2,3424.8724359632179,0,0,10.977630682914283,1,"","",0,0,1.0977630682914283,0,0,-1.7777439241809495E-3,1.0977630682914283,-1.0959853243672475,"","","","","",-23.563684473895822,-23.563684473895822,0,null,null,null,null,null,null,null,null,null,null,null,null,null,null,null,null,null,null,null,null,null,"1967-02-13",0,0,null,"1975-02-12",0.9,0.73899999999999999,null,"2006-02-12",0,1.1601900000000001,0,1.1027400000000001,0,1.04566,null,"2016-02-12",0,1.1891,0,1.1152299999999999,0,1.0418400000000001,null,"2066-02-12",1.73,1.33365,0,1.17771,0,1.02278,null,null,null,2002,{"$error":"#DIV/0!"},{"$error":"#DIV/0!"},{"$error":"#DIV/0!"},1062.8000000000002,36,{"$error":"#DIV/0!"},{"$error":"#DIV/0!"},16.463043478260865,{"$error":"#DIV/0!"}]
["1967-02-14",0,0,2,1967,7,0,{"$f":"IF(B78<Parameters!$A$16,B78*Parameters!$B$16,IF(AND(B78>Parameters!$A$16,B78<Parameters!$A$17),B78*Parameters!$B$17,B78*Parameters!$B$18))","v":0},{"$f":"IF(B78<Parameters!$A$20,B78*Parameters!$B$20,IF(AND(B78>Parameters!$A$20,B78<Parameters!$A$21),B78*Parameters!$B$21,B78*Parameters!$B$22))","v":0},0,"",0,"",0,-3.5714285714285712E-2,1068.2672225450285,-1.7761370982725365E-2,{"$f":"VLOOKUP($F78,'Gegevens vergelijking'!$I$16:$Q$68,9,FALSE)","v":10.977630682914283},-10.959869311931557,1.7761370982725365E-2,3413.9125666512864,0,0,10.977630682914283,1,"","",0,0,1.0977630682914283,0,0,-1.7761370982725365E-3,1.0977630682914283,-1.0959869311931558,"","","","","",-23.563719020652851,-23.563719020652851,0,null,null,null,null,null,null,null,null,null,null,null,null,null,null,null,null,null,null,null,null,null,"1967-02-14",0,0,null,"1975-02-13",0.4,0.39700000000000002,null,"2006-02-13",0,0,0,0,0,0,null,"2016-02-13",0,0,0,0,0,0,null,"2066-02-13",0,0,0,0,0,0,null,null,null,2003,{"$error":"#DIV/0!"},{"$error":"#DIV/0!"},{"$error":"#DIV/0!"},685.49999999999989,37,{"$error":"#DIV/0!"},{"$error":"#DIV/0!"},15.91739130434782,{"$error":"#DIV/0!"}]
["1967-02-15",0,1.5349999999999999,2,1967,7,0,{"$f":"IF(B79<Parameters!$A$16,B79*Parameters!$B$16,IF(AND(B79>Parameters!$A$16,B79<Parameters!$A$17),B79*Parameters!$B$17,B79*Parameters!$B$18))","v":0},{"$f":"IF(B79<Parameters!$A$20,B79*Parameters!$B$20,IF(AND(B79>Parameters!$A$20,B79<Parameters!$A$21),B79*Parameters!$B$21,B79*Parameters!$B$22))","v":0},0,"",0,"",0,1.4992857142857141,1067.2325957363942,0.7449478073495065,{"$f":"VLOOKUP($F79,'Gegevens vergelijking'!$I$16:$Q$68,9,FALSE)","v":10.977630682914283},-11.722578490263789,-0.7449478073495065,3402.1899881610225,0,0,10.977630682914283,1,"","",0,0,1.0977630682914283,0,0,7.4494780734950652E-2,1.0977630682914283,-1.1722578490263791,"","","","","",-25.203543754067152,-25.203543754067152,0,null,null,null,null,null,null,null,null,null,null,null,null,null,null,null,null,null,null,null,null,null,"1967-02-15",0,1.5349999999999999,null,"1975-02-14",0.8,0.20200000000000001,null,"2006-02-14",0,0,0,0,0,0,null,"2016-02-14",0,0,0,0,0,0,null,"2066-02-14",0,0,0,0,0,0,null,null,null,2004,{"$error":"#DIV/0!"},{"$error":"#DIV/0!"},{"$error":"#DIV/0!"},914.90000000000032,38,{"$error":"#DIV/0!"},{"$error":"#DIV/0!"},13.289130434782615,{"$error":"#DIV/0!"}]
["1967-02-16",0,1.4179999999999999,2,1967,7,0,{"$f":"IF(B80<Parameters!$A$16,B80*Parameters!$B$16,IF(AND(B80>Parameters!$A$16,B80<Parameters!$A$17),B80*Parameters!$B$17,B80*Parameters!$B$18))","v":0},{"$f":"IF(B80<Parameters!$A$20,B80*Parameters!$B$20,IF(AND(B80>Parameters!$A$20,B80<Parameters!$A$21),B80*Parameters!$B$21,B80*Parameters!$B$22))","v":0},0,"",0,"",0,1.3822857142857141,1066.2031584696674,0.68614900972394333,{"$f":"VLOOKUP($F80,'Gegevens vergelijking'!$I$16:$Q$68,9,FALSE)","v":10.977630682914283},-11.663779692638226,-0.68614900972394333,3390.5262084683841,0,0,10.977630682914283,1,"","",0,0,1.0977630682914283,0,0,6.8614900972394338E-2,1.0977630682914283,-1.1663779692638228,"","","","","",-25.077126339172189,-25.077126339172189,0,null,null,null,null,null,null,null,null,null,null,null,null,null,null,null,null,null,null,null,null,null,"1967-02-16",0,1.4179999999999999,null,"1975-02-15",0.2,0.74099999999999999,null,"2006-02-15",0,1.68167,0,1.5984,0,1.51566,null,"2016-02-15",0,1.72357,0,1.6165099999999999,0,1.51013,null,"2066-02-15",0,1.9331,0,1.7070700000000001,0,1.4824999999999999,null,null,null,2005,{"$error":"#DIV/0!"},{"$error":"#DIV/0!"},{"$error":"#DIV/0!"},749.80000000000018,39,{"$error":"#DIV/0!"},{"$error":"#DIV/0!"},14.54782608695653,{"$error":"#DIV/0!"}]
["1967-02-17",0.2,0.80200000000000005,2,1967,7,0.2,{"$f":"IF(B81<Parameters!$A$16,B81*Parameters!$B$16,IF(AND(B81>Parameters!$A$16,B81<Parameters!$A$17),B81*Parameters!$B$17,B81*Parameters!$B$18))","v":0},{"$f":"IF(B81<Parameters!$A$20,B81*Parameters!$B$20,IF(AND(B81>Parameters!$A$20,B81<Parameters!$A$21),B81*Parameters!$B$21,B81*Parameters!$B$22))","v":0},2.4232558139534883,1.2116279069767442,0.26046511627906976,0.10748560460652591,2.1627906976744184,0.76628571428571435,1065.2237295134921,0.38000755761005289,{"$f":"VLOOKUP($F81,'Gegevens vergelijking'!$I$16:$Q$68,9,FALSE)","v":10.977630682914283},-11.097173124245266,-0.11954244133098313,3379.4290353441388,0,0,10.977630682914283,1,5.4888153414571415,1.2116279069767442,0.24232558139534882,2.6046511627906978E-2,1.0977630682914283,0.21627906976744185,0,3.8000755761005291E-2,1.0977630682914283,-1.1097173124245265,0.8925143953934741,0,1.4589575872528817,42.146260657617333,-42.605218244870215,-23.858922217127322,-23.858922217127322,0,null,null,null,null,null,null,null,null,null,null,null,null,null,null,null,null,null,null,null,null,null,"1967-02-17",0.2,0.80200000000000005,null,"1975-02-16",0,1.05,null,"2006-02-16",0,1.55349,0,1.4765600000000001,0,1.4001300000000001,null,"2016-02-16",0,1.5922000000000001,0,1.4933000000000001,0,1.39503,null,"2066-02-16",0,1.78576,0,1.5769599999999999,0,1.3694999999999999,null,null,null,2006,{"$error":"#DIV/0!"},{"$error":"#DIV/0!"},{"$error":"#DIV/0!"},833.60000000000025,40,{"$error":"#DIV/0!"},{"$error":"#DIV/0!"},17.847826086956516,{"$error":"#DIV/0!"}]
["1967-02-18",0.2,1.3089999999999999,2,1967,7,0.2,{"$f":"IF(B82<Parameters!$A$16,B82*Parameters!$B$16,IF(AND(B82>Parameters!$A$16,B82<Parameters!$A$17),B82*Parameters!$B$17,B82*Parameters!$B$18))","v":0},{"$f":"IF(B82<Parameters!$A$20,B82*Parameters!$B$20,IF(AND(B82>Parameters!$A$20,B82<Parameters!$A$21),B82*Parameters!$B$21,B82*Parameters!$B$22))","v":0},2.4232558139534883,1.2116279069767442,0.26046511627906976,0.10748560460652591,2.1627906976744184,1.2732857142857141,1064.2221611005841,0.63085309642217635,{"$f":"VLOOKUP($F82,'Gegevens vergelijking'!$I$16:$Q$68,9,FALSE)","v":10.977630682914283},-11.34801866305739,-0.37038798014310659,3368.0810166810816,0,0,10.977630682914283,1,5.4888153414571415,1.2116279069767442,0.24232558139534882,2.6046511627906978E-2,1.0977630682914283,0.21627906976744185,0,6.3085309642217632E-2,1.0977630682914283,-1.1348018663057391,0.8925143953934741,0,2.4220252809065697,42.146260657617333,-43.568285938523907,-24.398240125573388,-24.398240125573388,0,null,null,null,null,null,null,null,null,null,null,null,null,null,null,null,null,null,null,null,null,null,"1967-02-18",0.2,1.3089999999999999,null,"1975-02-17",0,0.68300000000000005,null,"2006-02-17",0.27,0.87863000000000002,0.22,0.83511999999999997,0.18,0.79188999999999998,null,"2016-02-17",0.28000000000000003,0.90053000000000005,0.22,0.84458999999999995,0.18,0.78900999999999999,null,"2066-02-17",0.36,1.01,0.25,0.89190000000000003,0.15,0.77456999999999998,null,null,null,2007,{"$error":"#DIV/0!"},{"$error":"#DIV/0!"},{"$error":"#DIV/0!"},881.00000000000045,41,{"$error":"#DIV/0!"},{"$error":"#DIV/0!"},15.869565217391287,{"$error":"#DIV/0!"}]
["1967-02-19",8.6,0.75600000000000001,2,1967,7,8.6,{"$f":"IF(B83<Parameters!$A$16,B83*Parameters!$B$16,IF(AND(B83>Parameters!$A$16,B83<Parameters!$A$17),B83*Parameters!$B$17,B83*Parameters!$B$18))","v":8.17},{"$f":"IF(B83<Parameters!$A$20,B83*Parameters!$B$20,IF(AND(B83>Parameters!$A$20,B83<Parameters!$A$21),B83*Parameters!$B$21,B83*Parameters!$B$22))","v":6.4499999999999993},104.2,1.2116279069767442,98.550000000000011,0.94577735124760087,5.6499999999999915,0.72028571428571431,1071.919771604543,0.3565321020776841,{"$f":"VLOOKUP($F83,'Gegevens vergelijking'!$I$16:$Q$68,9,FALSE)","v":10.977630682914283},87.215837215008051,98.193467897922332,3455.2968538960895,0,0,10.977630682914283,1,0.12764686840598002,1.2116279069767442,10.42,9.8550000000000004,1.0977630682914283,0.56499999999999917,0,3.5653210207768411E-2,1.0977630682914283,8.7215837215008047,5.4222648752399155E-2,0,3.6177788135736588E-3,0.11139148333753712,0.88499073784888937,187.51405001226732,187.51405001226732,0,null,null,null,null,null,null,null,null,null,null,null,null,null,null,null,null,null,null,null,null,null,"1967-02-19",8.6,0.75600000000000001,null,"1975-02-18",11.4,0.39200000000000002,null,"2006-02-18",0.27,1.43407,0.22,1.3630599999999999,0.18,1.29251,null,"2016-02-18",0.28000000000000003,1.4698100000000001,0.22,1.3785099999999999,0.18,1.28779,null,"2066-02-18",0.36,1.64849,0.25,1.45574,0.16,1.26423,null,null,null,2008,{"$error":"#DIV/0!"},{"$error":"#DIV/0!"},{"$error":"#DIV/0!"},860.30000000000007,42,{"$error":"#DIV/0!"},{"$error":"#DIV/0!"},13.854347826086958,{"$error":"#DIV/0!"}]
["1967-02-20",14.1,0.97699999999999998,2,1967,8,14.1,{"$f":"IF(B84<Parameters!$A$16,B84*Parameters!$B$16,IF(AND(B84>Parameters!$A$16,B84<Parameters!$A$17),B84*Parameters!$B$17,B84*Parameters!$B$18))","v":13.395},{"$f":"IF(B84<Parameters!$A$20,B84*Parameters!$B$20,IF(AND(B84>Parameters!$A$20,B84<Parameters!$A$21),B84*Parameters!$B$21,B84*Parameters!$B$22))","v":10.574999999999999},170.83953488372092,1.2116279069767442,161.57616279069768,0.94577735124760087,9.2633720930232357,0.94128571428571428,1084.9711932013738,0.46929431063802884,{"$f":"VLOOKUP($F84,'Gegevens vergelijking'!$I$16:$Q$68,9,FALSE)","v":13.231023004605715},147.87584547545396,161.10686848005966,3603.1726993715433,0,0,13.231023004605715,1,9.3837042585856137E-2,1.2116279069767442,17.083953488372092,16.157616279069767,1.3231023004605715,0.92633720930232355,0,4.6929431063802887E-2,1.3231023004605715,14.787584547545393,5.4222648752399114E-2,0,2.9044773841172523E-3,8.1887221333167198E-2,0.91520830128271558,317.93306777222597,317.93306777222597,0,null,null,null,null,null,null,null,null,null,null,null,null,null,null,null,null,null,null,null,null,null,"1967-02-20",14.1,0.97699999999999998,null,"1975-02-19",4.5,0.64300000000000002,null,"2006-02-19",10.36,0.82823999999999998,8.89,0.78722000000000003,7.94,0.74646999999999997,null,"2016-02-19",10.64,0.84887000000000001,8.9600000000000009,0.79613999999999996,7.86,0.74375000000000002,null,"2066-02-19",12,0.95206999999999997,9.3699999999999992,0.84075,7.44,0.73014000000000001,null,null,null,2009,{"$error":"#DIV/0!"},{"$error":"#DIV/0!"},{"$error":"#DIV/0!"},766.70000000000016,43,{"$error":"#DIV/0!"},{"$error":"#DIV/0!"},15.219565217391304,{"$error":"#DIV/0!"}]
["1967-02-21",1.6,1.1319999999999999,2,1967,8,1.6,{"$f":"IF(B85<Parameters!$A$16,B85*Parameters!$B$16,IF(AND(B85>Parameters!$A$16,B85<Parameters!$A$17),B85*Parameters!$B$17,B85*Parameters!$B$18))","v":1.2800000000000002},{"$f":"IF(B85<Parameters!$A$20,B85*Parameters!$B$20,IF(AND(B85>Parameters!$A$20,B85<Parameters!$A$21),B85*Parameters!$B$21,B85*Parameters!$B$22))","v":0.96},19.386046511627907,1.2116279069767442,15.739534883720934,0.81190019193857987,3.6465116279069729,1.0962857142857141,1085.1437653004482,0.55322717186892623,{"$f":"VLOOKUP($F85,'Gegevens vergelijking'!$I$16:$Q$68,9,FALSE)","v":13.231023004605715},1.955284707246292,15.186307711852008,3605.1279840787897,0,0,13.231023004605715,1,0.82693893778785721,1.2116279069767442,1.9386046511627906,1.5739534883720934,1.3231023004605715,0.36465116279069731,0,5.532271718689262E-2,1.3231023004605715,0.1955284707246292,0.18809980806142018,0,3.5148889465667583E-2,0.84062350649829443,0.12422760403603803,4.2038621205795277,4.2038621205795277,0,null,null,null,null,null,null,null,null,null,null,null,null,null,null,null,null,null,null,null,null,null,"1967-02-21",1.6,1.1319999999999999,null,"1975-02-20",0,1.194,null,"2006-02-20",17.52,1.0703499999999999,14.54,1.01735,12.52,0.96469000000000005,null,"2016-02-20",18.149999999999999,1.0970200000000001,14.66,1.02888,12.16,0.96116999999999997,null,"2066-02-20",21.23,1.23038,15.31,1.0865199999999999,10.66,0.94359000000000004,null,null,null,2010,{"$error":"#DIV/0!"},{"$error":"#DIV/0!"},{"$error":"#DIV/0!"},913.29999999999961,44,{"$error":"#DIV/0!"},{"$error":"#DIV/0!"},14.673913043478258,{"$error":"#DIV/0!"}]
["1967-02-22",0.5,1.393,2,1967,8,0.5,{"$f":"IF(B86<Parameters!$A$16,B86*Parameters!$B$16,IF(AND(B86>Parameters!$A$16,B86<Parameters!$A$17),B86*Parameters!$B$17,B86*Parameters!$B$18))","v":0},{"$f":"IF(B86<Parameters!$A$20,B86*Parameters!$B$20,IF(AND(B86>Parameters!$A$20,B86<Parameters!$A$21),B86*Parameters!$B$21,B86*Parameters!$B$22))","v":0},6.058139534883721,1.2116279069767442,0.65116279069767447,0.10748560460652591,5.4069767441860463,1.3572857142857142,1083.9730136448707,0.68504657236674804,{"$f":"VLOOKUP($F86,'Gegevens vergelijking'!$I$16:$Q$68,9,FALSE)","v":13.231023004605715},-13.264906786274789,-3.3883781669073576E-2,3591.8630772925148,0,0,13.231023004605715,1,2.6462046009211431,1.2116279069767442,0.60581395348837208,6.5116279069767441E-2,1.3231023004605715,0.54069767441860461,0,6.8504657236674801E-2,1.3231023004605715,-1.3264906786274788,0.89251439539347399,0,1.0520358075632201,20.31907104278735,-20.371106850350568,-28.519549590490794,-28.519549590490794,0,null,null,null,null,null,null,null,null,null,null,null,null,null,null,null,null,null,null,null,null,null,"1967-02-22",0.5,1.393,null,"1975-02-21",0,1.5449999999999999,null,"2006-02-21",2.16,1.2401599999999999,1.75,1.17875,1.45,1.11774,null,"2016-02-21",2.29,1.2710699999999999,1.79,1.19211,1.43,1.1136600000000001,null,"2066-02-21",2.87,1.4255800000000001,1.99,1.2588999999999999,1.31,1.0932900000000001,null,null,null,2011,{"$error":"#DIV/0!"},{"$error":"#DIV/0!"},{"$error":"#DIV/0!"},816.59999999999968,45,{"$error":"#DIV/0!"},{"$error":"#DIV/0!"},19.186956521739141,{"$error":"#DIV/0!"}]
["1967-02-23",1.6,0.96499999999999997,2,1967,8,1.6,{"$f":"IF(B87<Parameters!$A$16,B87*Parameters!$B$16,IF(AND(B87>Parameters!$A$16,B87<Parameters!$A$17),B87*Parameters!$B$17,B87*Parameters!$B$18))","v":1.2800000000000002},{"$f":"IF(B87<Parameters!$A$20,B87*Parameters!$B$20,IF(AND(B87>Parameters!$A$20,B87<Parameters!$A$21),B87*Parameters!$B$21,B87*Parameters!$B$22))","v":0.96},19.386046511627907,1.2116279069767442,15.739534883720934,0.81190019193857987,3.6465116279069729,0.92928571428571427,1084.1530618331306,0.46852122616344744,{"$f":"VLOOKUP($F87,'Gegevens vergelijking'!$I$16:$Q$68,9,FALSE)","v":13.231023004605715},2.0399906529517708,15.271013657557486,3593.9030679454668,0,0,13.231023004605715,1,0.82693893778785721,1.2116279069767442,1.9386046511627906,1.5739534883720934,1.3231023004605715,0.36465116279069731,0,4.6852122616344742E-2,1.3231023004605715,0.20399906529517708,0.18809980806142018,0,2.9767158281661103E-2,0.84062350649829443,0.1296093352200445,4.385979903846307,4.385979903846307,0,null,null,null,null,null,null,null,null,null,null,null,null,null,null,null,null,null,null,null,null,null,"1967-02-23",1.6,0.96499999999999997,null,"1975-02-22",0,1.19,null,"2006-02-22",0.7,1.5261,0.56000000000000005,1.4505300000000001,0.46,1.3754500000000001,null,"2016-02-22",0.74,1.56413,0.57999999999999996,1.4669700000000001,0,1.37043,null,"2066-02-22",0.96,1.75427,0.67,1.5491600000000001,0.42,1.3453599999999999,null,null,null,2012,{"$error":"#DIV/0!"},{"$error":"#DIV/0!"},{"$error":"#DIV/0!"},959.99999999999977,46,{"$error":"#DIV/0!"},{"$error":"#DIV/0!"},16.276086956521748,{"$error":"#DIV/0!"}]
["1967-02-24",0,1.474,2,1967,8,0,{"$f":"IF(B88<Parameters!$A$16,B88*Parameters!$B$16,IF(AND(B88>Parameters!$A$16,B88<Parameters!$A$17),B88*Parameters!$B$17,B88*Parameters!$B$18))","v":0},{"$f":"IF(B88<Parameters!$A$20,B88*Parameters!$B$20,IF(AND(B88>Parameters!$A$20,B88<Parameters!$A$21),B88*Parameters!$B$21,B88*Parameters!$B$22))","v":0},0,"",0,"",0,1.4382857142857142,1082.9212892545629,0.72526598182963165,{"$f":"VLOOKUP($F88,'Gegevens vergelijking'!$I$16:$Q$68,9,FALSE)","v":13.231023004605715},-13.956288986435347,-0.72526598182963165,3579.9467789590312,0,0,13.231023004605715,1,"","",0,0,1.3231023004605715,0,0,7.252659818296317E-2,1.3231023004605715,-1.3956288986435348,"","","","","",-30.006021320835995,-30.006021320835995,0,null,null,null,null,null,null,null,null,null,null,null,null,null,null,null,null,null,null,null,null,null,"1967-02-24",0,1.474,null,"1975-02-23",0,1.363,null,"2006-02-23",2.16,1.05721,1.75,1.00485,1.45,0.95284000000000002,null,"2016-02-23",2.29,1.08355,1.79,1.01624,1.43,0.94937000000000005,null,"2066-02-23",2.88,1.2152700000000001,1.99,1.07318,1.31,0.93200000000000005,null,null,null,"Eindtotaal",{"$error":"#DIV/0!"},{"$error":"#DIV/0!"},{"$error":"#DIV/0!"},38138.6,47,{"$error":"#DIV/0!"},{"$error":"#DIV/0!"},18.819565217391311,{"$error":"#DIV/0!"}]
["1967-02-25",0.5,1.411,2,1967,8,0.5,{"$f":"IF(B89<Parameters!$A$16,B89*Parameters!$B$16,IF(AND(B89>Parameters!$A$16,B89<Parameters!$A$17),B89*Parameters!$B$17,B89*Parameters!$B$18))","v":0},{"$f":"IF(B89<Parameters!$A$20,B89*Parameters!$B$20,IF(AND(B89>Parameters!$A$20,B89<Parameters!$A$21),B89*Parameters!$B$21,B89*Parameters!$B$22))","v":0},6.058139534883721,1.2116279069767442,0.65116279069767447,0.10748560460652591,5.4069767441860463,1.3752857142857142,1081.7498612432571,0.69270985060821766,{"$f":"VLOOKUP($F89,'Gegevens vergelijking'!$I$16:$Q$68,9,FALSE)","v":13.231023004605715},-13.272570064516259,-4.1547059910543194E-2,3566.6742088945148,0,0,13.231023004605715,1,2.6462046009211431,1.2116279069767442,0.60581395348837208,6.5116279069767441E-2,1.3231023004605715,0.54069767441860461,0,6.9270985060821771E-2,1.3231023004605715,-1.3272570064516258,0.89251439539347399,0,1.0638044134340487,20.31907104278735,-20.382875456221395,-28.536025638709955,-28.536025638709955,0,null,null,null,null,null,null,null,null,null,null,null,null,null,null,null,null,null,null,null,null,null,"1967-02-25",0.5,1.411,null,"1975-02-24",0,1.33,null,"2006-02-24",0,1.6148400000000001,0,1.53488,0,1.45543,null,"2016-02-24",0,1.6550800000000001,0,1.55227,0,1.4501200000000001,null,"2066-02-24",0,1.8562799999999999,3.13,1.63924,0,1.4235899999999999,null,null,null,null,null,null,null,null,48,{"$error":"#DIV/0!"},{"$error":"#DIV/0!"},17.978260869565226,{"$error":"#DIV/0!"}]
["1967-02-26",14.7,1.421,2,1967,8,14.7,{"$f":"IF(B90<Parameters!$A$16,B90*Parameters!$B$16,IF(AND(B90>Parameters!$A$16,B90<Parameters!$A$17),B90*Parameters!$B$17,B90*Parameters!$B$18))","v":13.964999999999998},{"$f":"IF(B90<Parameters!$A$20,B90*Parameters!$B$20,IF(AND(B90>Parameters!$A$20,B90<Parameters!$A$21),B90*Parameters!$B$21,B90*Parameters!$B$22))","v":11.024999999999999},178.10930232558138,1.2116279069767442,168.45174418604648,0.94577735124760065,9.6575581395348991,1.3852857142857142,1095.3880205438104,0.69699192056318038,{"$f":"VLOOKUP($F90,'Gegevens vergelijking'!$I$16:$Q$68,9,FALSE)","v":13.231023004605715},154.52372926087759,167.75475226548329,3721.1979381553924,0,0,13.231023004605715,1,9.0006959215004873E-2,1.2116279069767442,17.810930232558139,16.84517441860465,1.3231023004605715,0.96575581395348986,0,6.9699192056318041E-2,1.3231023004605715,15.452372926087758,5.4222648752399315E-2,0,4.1376355224519833E-3,7.8544885768548137E-2,0.91731747870899971,332.22601791088681,332.22601791088681,0,null,null,null,null,null,null,null,null,null,null,null,null,null,null,null,null,null,null,null,null,null,"1967-02-26",14.7,1.421,null,"1975-02-25",0,1.077,null,"2006-02-25",0.7,1.54582,0.56000000000000005,1.4692700000000001,0.46,1.3932199999999999,null,"2016-02-25",0.74,1.5843400000000001,0.57999999999999996,1.4859199999999999,0.45,1.3881399999999999,null,"2066-02-25",0.96,1.77694,0.66,1.56917,0.42,1.3627400000000001,null,null,null,null,null,null,null,null,49,{"$error":"#DIV/0!"},{"$error":"#DIV/0!"},19.310869565217395,{"$error":"#DIV/0!"}]
["1967-02-27",3.8,1.5289999999999999,2,1967,9,3.8,{"$f":"IF(B91<Parameters!$A$16,B91*Parameters!$B$16,IF(AND(B91>Parameters!$A$16,B91<Parameters!$A$17),B91*Parameters!$B$17,B91*Parameters!$B$18))","v":3.61},{"$f":"IF(B91<Parameters!$A$20,B91*Parameters!$B$20,IF(AND(B91>Parameters!$A$20,B91<Parameters!$A$21),B91*Parameters!$B$21,B91*Parameters!$B$22))","v":2.8499999999999996},46.041860465116279,1.2116279069767442,43.545348837209303,0.94577735124760076,2.4965116279069761,1.4932857142857141,1097.8520940421288,0.76080338729199004,{"$f":"VLOOKUP($F91,'Gegevens vergelijking'!$I$16:$Q$68,9,FALSE)","v":14.865981240331427},27.918564209585885,42.78454544991731,3749.1165023649783,0,0,14.865981240331427,1,0.39121003264030074,1.2116279069767442,4.6041860465116278,4.3545348837209303,1.4865981240331427,0.2496511627906976,0,7.6080338729199004E-2,1.4865981240331427,2.791856420958589,5.4222648752399218E-2,0,1.7471518947665129E-2,0.34139079459224619,0.64113768646008873,60.024913050609662,60.024913050609662,0,null,null,null,null,null,null,null,null,null,null,null,null,null,null,null,null,null,null,null,null,null,"1967-02-27",3.8,1.5289999999999999,null,"1975-02-26",0,1.458,null,"2006-02-26",18.36,1.5567800000000001,15.2,1.4796899999999999,13.08,1.4031,null,"2016-02-26",18.97,1.5955699999999999,15.32,1.4964599999999999,12.77,1.39798,null,"2066-02-26",22.19,1.7895399999999999,16.09,1.58029,11.24,1.3724000000000001,null,null,null,null,null,null,null,null,50,{"$error":"#DIV/0!"},{"$error":"#DIV/0!"},17.791304347826092,{"$error":"#DIV/0!"}]
["1967-02-28",11.1,1.2869999999999999,2,1967,9,11.1,{"$f":"IF(B92<Parameters!$A$16,B92*Parameters!$B$16,IF(AND(B92>Parameters!$A$16,B92<Parameters!$A$17),B92*Parameters!$B$17,B92*Parameters!$B$18))","v":10.545},{"$f":"IF(B92<Parameters!$A$20,B92*Parameters!$B$20,IF(AND(B92>Parameters!$A$20,B92<Parameters!$A$21),B92*Parameters!$B$21,B92*Parameters!$B$22))","v":8.3249999999999993},134.49069767441861,1.2116279069767442,127.19825581395348,0.94577735124760065,7.2924418604651322,1.2512857142857141,1107.7100715917538,0.63894262403421975,{"$f":"VLOOKUP($F92,'Gegevens vergelijking'!$I$16:$Q$68,9,FALSE)","v":14.865981240331427},111.69333194958784,126.55931318991927,3860.8098343145662,0,0,14.865981240331427,1,0.13392775892190475,1.2116279069767442,13.449069767441861,12.719825581395348,1.4865981240331427,0.7292441860465132,0,6.389426240342197E-2,1.4865981240331427,11.169333194958785,5.4222648752399349E-2,0,5.0232027156785E-3,0.11687252427482303,0.87810427300949856,240.1406636916139,240.1406636916139,0,null,null,null,null,null,null,null,null,null,null,null,null,null,null,null,null,null,null,null,null,null,"1967-02-28",11.1,1.2869999999999999,null,"1975-02-27",0,1.649,null,"2006-02-27",4.75,1.6751,4.05,1.59215,3.58,1.50973,null,"2016-02-27",4.93,1.7168399999999999,4.12,1.61019,3.56,1.50423,null,"2066-02-27",5.8,1.9255500000000001,4.47,1.7003999999999999,3.47,1.47671,null,null,null,null,null,null,null,null,51,{"$error":"#DIV/0!"},{"$error":"#DIV/0!"},19.295652173913037,{"$error":"#DIV/0!"}]
["1967-03-01",2,0.96899999999999997,3,1967,9,2,{"$f":"IF(B93<Parameters!$A$16,B93*Parameters!$B$16,IF(AND(B93>Parameters!$A$16,B93<Parameters!$A$17),B93*Parameters!$B$17,B93*Parameters!$B$18))","v":1.9},{"$f":"IF(B93<Parameters!$A$20,B93*Parameters!$B$20,IF(AND(B93>Parameters!$A$20,B93<Parameters!$A$21),B93*Parameters!$B$21,B93*Parameters!$B$22))","v":1.5},24.232558139534884,1.2116279069767442,22.918604651162791,0.94577735124760076,1.3139534883720927,0.87222580645161285,1108.3811284275173,0.44938293512032157,{"$f":"VLOOKUP($F93,'Gegevens vergelijking'!$I$16:$Q$68,9,FALSE)","v":14.865981240331427},7.6032404757110426,22.469221716042469,3868.4130747902773,0,0,14.865981240331427,1,0.74329906201657137,1.2116279069767442,2.4232558139534883,2.2918604651162791,1.4865981240331427,0.13139534883720927,0,4.4938293512032157E-2,1.4865981240331427,0.76032404757110417,5.4222648752399218E-2,0,1.960777900575731E-2,0.64864250972526771,0.33174971126897496,16.346967022778738,16.346967022778738,0,null,null,null,null,null,null,null,null,null,null,null,null,null,null,null,null,null,null,null,null,null,"1967-03-01",2,0.96899999999999997,null,"1975-02-28",0,1.4630000000000001,null,"2006-02-28",13.63,1.4099699999999999,11.45,1.34015,9.99,1.27078,null,"2016-02-28",14.05,1.4451099999999999,11.55,1.35534,9.8000000000000007,1.2661500000000001,null,"2066-02-28",16.27,1.6207800000000001,12.04,1.43127,8.86,1.24298,null,null,null,null,null,null,null,null,52,{"$error":"#DIV/0!"},{"$error":"#DIV/0!"},17.041304347826102,{"$error":"#DIV/0!"}]
["1967-03-02",1,1.028,3,1967,9,1,{"$f":"IF(B94<Parameters!$A$16,B94*Parameters!$B$16,IF(AND(B94>Parameters!$A$16,B94<Parameters!$A$17),B94*Parameters!$B$17,B94*Parameters!$B$18))","v":0.95},{"$f":"IF(B94<Parameters!$A$20,B94*Parameters!$B$20,IF(AND(B94>Parameters!$A$20,B94<Parameters!$A$21),B94*Parameters!$B$21,B94*Parameters!$B$22))","v":0.75},12.116279069767442,1.2116279069767442,11.459302325581396,0.94577735124760076,0.65697674418604635,0.9312258064516129,1108.0380865033328,0.48007121403519232,{"$f":"VLOOKUP($F94,'Gegevens vergelijking'!$I$16:$Q$68,9,FALSE)","v":14.865981240331427},-3.886750128785224,10.979231111546204,3864.5263246614923,0,0,14.865981240331427,1,1.4865981240331427,1.2116279069767442,1.2116279069767442,1.1459302325581395,1.4865981240331427,6.5697674418604635E-2,0,4.8007121403519232E-2,1.4865981240331427,-0.38867501287852235,5.4222648752399218E-2,0,4.1893581336404404E-2,1.2972850194505354,-0.33917860078693984,-8.3565127768882306,-8.3565127768882306,0,null,null,null,null,null,null,null,null,null,null,null,null,null,null,null,null,null,null,null,null,null,"1967-03-02",1,1.028,null,"1975-03-01",0,1.3340000000000001,null,"2006-03-01",2.09,0.97816000000000003,2.09,0.97816000000000003,2.09,0.91981999999999997,null,"2016-02-29",2.12,0.98077000000000003,2.12,0.98077000000000003,2.12,0.90576999999999996,null,"2066-03-01",2.2599999999999998,0.99385000000000001,2.2599999999999998,0.99385000000000001,2.2599999999999998,0.83552000000000004,null,null,null,null,null,null,null,null,53,{"$error":"#DIV/0!"},{"$error":"#DIV/0!"},2.5391304347826091,{"$error":"#DIV/0!"}]
["1967-03-03",0,0.93200000000000005,3,1967,9,0,{"$f":"IF(B95<Parameters!$A$16,B95*Parameters!$B$16,IF(AND(B95>Parameters!$A$16,B95<Parameters!$A$17),B95*Parameters!$B$17,B95*Parameters!$B$18))","v":0},{"$f":"IF(B95<Parameters!$A$20,B95*Parameters!$B$20,IF(AND(B95>Parameters!$A$20,B95<Parameters!$A$21),B95*Parameters!$B$21,B95*Parameters!$B$22))","v":0},0,"",0,"",0,0.83522580645161293,1106.6880341060541,0.43044744389713868,{"$f":"VLOOKUP($F95,'Gegevens vergelijking'!$I$16:$Q$68,9,FALSE)","v":14.865981240331427},-15.296428684228566,-0.43044744389713868,3849.2298959772638,0,0,14.865981240331427,1,"","",0,0,1.4865981240331427,0,0,4.3044744389713868E-2,1.4865981240331427,-1.5296428684228567,"","","","","",-32.887321671091421,-32.887321671091421,0,null,null,null,null,null,null,null,null,null,null,null,null,null,null,null,null,null,null,null,null,null,"1967-03-03",0,0.93200000000000005,null,"1975-03-02",2.2000000000000002,1.198,null,"2006-03-02",1.06,1.0377099999999999,1.06,1.0377099999999999,1.06,0.97582999999999998,null,"2016-03-01",1.08,1.0404899999999999,1.08,1.0404899999999999,1.08,0.96092,null,"2066-03-02",1.17,1.05437,1.17,1.05437,1.17,0.88639000000000001,null,null,null,null,null,null,null,null,"Eindtotaal",{"$error":"#DIV/0!"},{"$error":"#DIV/0!"},829.09999999999161,{"$error":"#DIV/0!"}]
["1967-03-04",0,0.94099999999999995,3,1967,9,0,{"$f":"IF(B96<Parameters!$A$16,B96*Parameters!$B$16,IF(AND(B96>Parameters!$A$16,B96<Parameters!$A$17),B96*Parameters!$B$17,B96*Parameters!$B$18))","v":0},{"$f":"IF(B96<Parameters!$A$20,B96*Parameters!$B$20,IF(AND(B96>Parameters!$A$20,B96<Parameters!$A$21),B96*Parameters!$B$21,B96*Parameters!$B$22))","v":0},0,"",0,"",0,0.84422580645161283,1105.3376191233265,0.43455562701559697,{"$f":"VLOOKUP($F96,'Gegevens vergelijking'!$I$16:$Q$68,9,FALSE)","v":14.865981240331427},-15.300536867347024,-0.43455562701559697,3833.9293591099167,0,0,14.865981240331427,1,"","",0,0,1.4865981240331427,0,0,4.3455562701559695E-2,1.4865981240331427,-1.5300536867347023,"","","","","",-32.896154264796102,-32.896154264796102,0,null,null,null,null,null,null,null,null,null,null,null,null,null,null,null,null,null,null,null,null,null,"1967-03-04",0,0.94099999999999995,null,"1975-03-03",0.2,1.341,null,"2006-03-03",0,0.94081000000000004,0,0.94081000000000004,0,0.88470000000000004,null,"2016-03-02",0,0.94332000000000005,0,0.94332000000000005,0,0.87119000000000002,null,"2066-03-03",0,0.95591000000000004,0,0.95591000000000004,0,0.80362]
["1967-03-05",0,0.71,3,1967,9,0,{"$f":"IF(B97<Parameters!$A$16,B97*Parameters!$B$16,IF(AND(B97>Parameters!$A$16,B97<Parameters!$A$17),B97*Parameters!$B$17,B97*Parameters!$B$18))","v":0},{"$f":"IF(B97<Parameters!$A$20,B97*Parameters!$B$20,IF(AND(B97>Parameters!$A$20,B97<Parameters!$A$21),B97*Parameters!$B$21,B97*Parameters!$B$22))","v":0},0,"",0,"",0,0.61322580645161284,1103.9977325762361,0.31526583855265466,{"$f":"VLOOKUP($F97,'Gegevens vergelijking'!$I$16:$Q$68,9,FALSE)","v":14.865981240331427},-15.181247078884082,-0.31526583855265466,3818.7481120310326,0,0,14.865981240331427,1,"","",0,0,1.4865981240331427,0,0,3.1526583855265466E-2,1.4865981240331427,-1.5181247078884081,"","","","","",-32.639681219600774,-32.639681219600774,0,null,null,null,null,null,null,null,null,null,null,null,null,null,null,null,null,null,null,null,null,null,"1967-03-05",0,0.71,null,"1975-03-04",1.5,1.0549999999999999,null,"2006-03-04",0,0.94989000000000001,0,0.94989000000000001,0,0.89324000000000003,null,"2016-03-03",0,0.95243,0,0.95243,0,0.87960000000000005,null,"2066-03-04",0,0.96514,0,0.96514,0,0.81137999999999999,null,null,null,"Rijlabels","Som van Watertekort m³/ha teeltopp."]
["1967-03-06",0.2,1.5209999999999999,3,1967,10,0.2,{"$f":"IF(B98<Parameters!$A$16,B98*Parameters!$B$16,IF(AND(B98>Parameters!$A$16,B98<Parameters!$A$17),B98*Parameters!$B$17,B98*Parameters!$B$18))","v":0},{"$f":"IF(B98<Parameters!$A$20,B98*Parameters!$B$20,IF(AND(B98>Parameters!$A$20,B98<Parameters!$A$21),B98*Parameters!$B$21,B98*Parameters!$B$22))","v":0},2.4232558139534883,1.2116279069767442,0.26046511627906976,0.10748560460652591,2.1627906976744184,1.4242258064516129,1102.4600911403918,0.73132188883681015,{"$f":"VLOOKUP($F98,'Gegevens vergelijking'!$I$16:$Q$68,9,FALSE)","v":16.951002269891429},-17.421859042449171,-0.47085677255774039,3801.3262529885833,0,0,16.951002269891429,1,8.4755011349457146,1.2116279069767442,0.24232558139534882,2.6046511627906978E-2,1.6951002269891429,0.21627906976744185,0,7.3132188883681018E-2,1.6951002269891429,-1.7421859042449168,0.8925143953934741,0,2.8077536803556105,65.079740857618873,-66.887494537974476,-37.456996941265707,-37.456996941265707,0,null,null,null,null,null,null,null,null,null,null,null,null,null,null,null,null,null,null,null,null,null,"1967-03-06",0.2,1.5209999999999999,null,"1975-03-05",1.3,0.88700000000000001,null,"2006-03-05",0,0.71670999999999996,0,0.71670999999999996,0,0.67396999999999996,null,"2016-03-04",0,0.71862999999999999,0,0.71862999999999999,0,0.66366999999999998,null,"2066-03-05",0,0.72821000000000002,0,0.72821000000000002,0,0.61219999999999997,null,null,null,1967,0]
["1967-03-07",0,1.0389999999999999,{"$f":"MONTH(A99)","v":3},1967,{"$f":"INT((A99-DATE(YEAR(A99-WEEKDAY(A99-1)+4),1,3)+WEEKDAY(DATE(YEAR(A99-WEEKDAY(A99-1)+4),1,3))+5)/7)","v":10},0,{"$f":"IF(B99<Parameters!$A$16,B99*Parameters!$B$16,IF(AND(B99>Parameters!$A$16,B99<Parameters!$A$17),B99*Parameters!$B$17,B99*Parameters!$B$18))","v":0},{"$f":"IF(B99<Parameters!$A$20,B99*Parameters!$B$20,IF(AND(B99>Parameters!$A$20,B99<Parameters!$A$21),B99*Parameters!$B$21,B99*Parameters!$B$22))","v":0},0,"",0,{"$f":"IF(B99=0,\"\",L99/J99)","v":""},{"$f":"IF(B99=0,0,SUM(J99-L99))","v":0},0.9422258064516128,1100.9213649651763,0.48314713881649962,{"$f":"VLOOKUP($F99,'Gegevens vergelijking'!$I$16:$Q$68,9,FALSE)","v":16.951002269891429},-17.434149408707928,-0.48314713881649962,3783.8921035798753,0,0,16.951002269891429,{"$f":"IF(R99=0,\"\",((R99-W99)/R99))","v":1},{"$f":"IF(B99=0,\"\",X99/(B99*10))","v":""},"",{"$f":"J99/10","v":0},{"$f":"L99/10","v":0},1.6951002269891429,0,0,4.8314713881649964E-2,{"$f":"(R99-W99)/10","v":1.6951002269891429},{"$f":"SUM(AC99-AF99-AG99-AD99)","v":-1.7434149408707929},{"$f":"IF(AB99=0,\"\",AE99/AB99)","v":""},"","",{"$f":"IF(AC99=0,\"\",AD99/AC99)","v":""},{"$f":"IF(AC99=0,\"\",AI99/AC99)","v":""},-37.483421228722044,-37.483421228722044,0,null,null,null,null,null,null,null,null,null,null,null,null,null,null,null,null,null,null,null,null,null,"1967-03-07",0,1.0389999999999999,null,"1975-03-06",2.1,0.92200000000000004,null,"2006-03-06",0.21,1.5353699999999999,0.21,1.5353699999999999,0.21,1.44381,null,"2016-03-05",0.21,1.53948,0.21,1.53948,0.21,1.4217500000000001,null,"2066-03-06",0.22,1.5600099999999999,0.22,1.5600099999999999,0.22,1.31148,null,null,null,1968,0]
["1967-03-08",1.3,1.1339999999999999,3,{"$f":"IF(AND((F99>1),(F100=1)),E99+1,E99)","v":1967},10,{"$f":"B100","v":1.3},{"$f":"IF(B100<Parameters!$A$16,B100*Parameters!$B$16,IF(AND(B100>Parameters!$A$16,B100<Parameters!$A$17),B100*Parameters!$B$17,B100*Parameters!$B$18))","v":1.04},{"$f":"IF(B100<Parameters!$A$20,B100*Parameters!$B$20,IF(AND(B100>Parameters!$A$20,B100<Parameters!$A$21),B100*Parameters!$B$21,B100*Parameters!$B$22))","v":0.78},15.751162790697675,1.2116279069767442,{"$f":"IF(B100=0,0,SUM(B100*$D$3+H100*$B$3+I100*$C$3)/$E$3*10)","v":12.788372093023256},0.81190019193857965,2.9627906976744196,{"$f":"IF(OR($D100=1,$D100=12,$D100=8),C100+(2/31),IF($D100=2,C100-(1/28),IF($D100=3,C100-(3/31),IF($D100=4,C100-(5/30),IF($D100=5,C100-(6/31),IF($D100=6,C100-(4/30),IF($D100=7,C100-(1/31),IF($D100=9,C100+(4/30),IF($D100=10,C100+(5/31),IF($D100=11,C100+(5/30)))))))))))","v":1.0372258064516129},{"$f":"-(($BH$3-$BI$3)*($AN$3+$AK$3-U100)/($AK$3)-$BH$3)","v":1100.507097927466},0.53111816307712345,{"$f":"VLOOKUP($F100,'Gegevens vergelijking'!$I$16:$Q$68,9,FALSE)","v":16.951002269891429},-4.6937483399452971,{"$f":"L100-Q100","v":12.257253929946133},{"$f":"IF(U99<$AN$3,U99+T100,IF(AND((U99>$AN$3),(SUM(U99+S100)<$AN$3)),SUM($AN$3+T100),IF((SUM(U99+S100)>($AN$3+$AK$3)),$AN$3+$AK$3,U99+S100)))","v":3779.1983552399302},0,0,{"$f":"R100-W100","v":16.951002269891429},1,1.30392325153011,{"$f":"K100","v":1.2116279069767442},1.5751162790697675,1.2788372093023255,{"$f":"X100/10","v":1.6951002269891429},0.29627906976744195,{"$f":"V100/10","v":0},5.3111816307712348E-2,1.6951002269891429,-0.46937483399452984,0.1880998080614204,{"$f":"IF(AB100=0,\"\",AF100/AB100)","v":0},4.1531334810540665E-2,1.3255011776783625,-0.36703251248890317,{"$f":"AI100*$E$5/1000","v":-10.091558930882391},{"$f":"IF(OR(F100<=13,F100>=40),VALUE(AO100),0)","v":-10.091558930882391},{"$f":"IF(OR(F100<=13,F100>=40),0,VALUE(AO100))","v":0},null,null,null,null,null,null,null,null,null,null,null,null,null,null,null,null,null,null,null,null,null,"1967-03-08",1.3,1.1339999999999999,null,"1975-03-07",9.3000000000000007,0.32400000000000001,null,"2006-03-07",0,1.0488200000000001,0,1.0488200000000001,0,0.98626999999999998,null,"2016-03-06",3.58,1.05162,3.58,1.05162,3.58,0.97121000000000002,null,"2066-03-07",0,1.06565,0,1.06565,0,0.89588000000000001,null,null,null,1969,0]
["1967-03-09",0.3,1.9019999999999999,3,1967,10,0.3,{"$f":"IF(B101<Parameters!$A$16,B101*Parameters!$B$16,IF(AND(B101>Parameters!$A$16,B101<Parameters!$A$17),B101*Parameters!$B$17,B101*Parameters!$B$18))","v":0},{"$f":"IF(B101<Parameters!$A$20,B101*Parameters!$B$20,IF(AND(B101>Parameters!$A$20,B101<Parameters!$A$21),B101*Parameters!$B$21,B101*Parameters!$B$22))","v":0},{"$f":"B101*SUM($B$3,$C$3,$D$3)/$E$3*10","v":3.6348837209302327},{"$f":"IF(B101=0,\"\",SUM(J101/(B101*10)))","v":1.2116279069767442},0.39069767441860465,0.10748560460652591,3.2441860465116279,1.8052258064516129,1098.9639424699692,0.92402968063341118,{"$f":"VLOOKUP($F101,'Gegevens vergelijking'!$I$16:$Q$68,9,FALSE)","v":16.951002269891429},{"$f":"SUM(L101-R101-Q101)","v":-17.484334276106235},-0.53333200621480659,3761.7140209638237,{"$f":"IF(SUM(U100+S101)>SUM($AK$3+$AN$3),SUM(U100+S101-($AK$3+$AN$3)),0)","v":0},{"$f":"IF(U100<$AN$3,R101,IF(SUM(U100-R101)>$AN$3,0,IF(SUM(U100+S101)<$AN$3,SUM(R101-(U100-$AN$3)),0)))","v":0},16.951002269891429,1,5.6503340899638097,1.2116279069767442,0.36348837209302326,3.9069767441860463E-2,1.6951002269891429,{"$f":"N101/10","v":0.32441860465116279},{"$f":"V101/10","v":0},{"$f":"Q101/10","v":9.2402968063341112E-2},1.6951002269891429,-1.7484334276106235,0.8925143953934741,0,2.3650759682878975,43.386493905079256,-44.751569873367153,-37.591318693628402,-37.591318693628402,0,null,null,null,null,null,null,null,null,null,null,null,null,null,null,null,null,null,null,null,null,null,"1967-03-09",0.3,1.9019999999999999,null,"1975-03-08",0.1,1.1619999999999999,null,"2006-03-08",1.37,1.14472,1.37,1.14472,1.37,1.0764499999999999,null,"2016-03-07",1.39,1.14778,1.39,1.14778,1.39,1.0600099999999999,null,"2066-03-08",1.49,1.16309,1.49,1.16309,1.49,0.97779000000000005,null,null,null,1970,0]
["1967-03-10",7.5,0.95,3,1967,10,7.5,{"$f":"IF(B102<Parameters!$A$16,B102*Parameters!$B$16,IF(AND(B102>Parameters!$A$16,B102<Parameters!$A$17),B102*Parameters!$B$17,B102*Parameters!$B$18))","v":7.125},{"$f":"IF(B102<Parameters!$A$20,B102*Parameters!$B$20,IF(AND(B102>Parameters!$A$20,B102<Parameters!$A$21),B102*Parameters!$B$21,B102*Parameters!$B$22))","v":5.625},90.872093023255815,1.2116279069767442,85.944767441860463,0.94577735124760076,4.9273255813953512,0.85322580645161283,1105.0147933653368,{"$f":"SUM(O102*P101)/$E$3*10","v":0.4361229749186899},{"$f":"VLOOKUP($F102,'Gegevens vergelijking'!$I$16:$Q$68,9,FALSE)","v":16.951002269891429},68.557642197050342,85.508644466941774,3830.2716631608741,0,0,16.951002269891429,1,0.2260133635985524,1.2116279069767442,9.0872093023255811,8.5944767441860463,1.6951002269891429,0.49273255813953509,{"$f":"V102/10","v":0},4.3612297491868991E-2,1.6951002269891429,6.8557642197050344,5.4222648752399259E-2,0,5.0744563968215571E-3,0.19723134722958402,0.7976941963735944,147.39893072365822,147.39893072365822,0,null,null,null,null,null,null,null,null,null,null,null,null,null,null,null,null,null,null,null,null,null,"1967-03-10",7.5,0.95,null,"1975-03-09",1.5,0.67200000000000004,null,"2006-03-09",0.31,1.91997,0.31,1.91997,0.31,1.8054699999999999,null,"2016-03-08",0.32,1.9251100000000001,0.32,1.9251100000000001,0.32,1.77789,null,"2066-03-09",0.33,1.95079,0.33,1.95079,0.33,1.64,null,null,null,1971,0]
["1967-03-11",2.6,1.5169999999999999,3,1967,10,2.6,{"$f":"IF(B103<Parameters!$A$16,B103*Parameters!$B$16,IF(AND(B103>Parameters!$A$16,B103<Parameters!$A$17),B103*Parameters!$B$17,B103*Parameters!$B$18))","v":2.4699999999999998},{"$f":"IF(B103<Parameters!$A$20,B103*Parameters!$B$20,IF(AND(B103>Parameters!$A$20,B103<Parameters!$A$21),B103*Parameters!$B$21,B103*Parameters!$B$22))","v":1.9500000000000002},31.50232558139535,1.2116279069767442,29.794186046511623,0.94577735124760054,1.7081395348837276,1.4202258064516129,1106.0839000460298,0.7299397795573247,{"$f":"VLOOKUP($F103,'Gegevens vergelijking'!$I$16:$Q$68,9,FALSE)","v":16.951002269891429},12.113243997062868,29.064246266954299,3842.3849071579371,0,0,16.951002269891429,1,0.65196162576505501,1.2116279069767442,3.150232558139535,2.9794186046511624,1.6951002269891429,0.17081395348837275,{"$f":"V103/10","v":0},7.2993977955732467E-2,1.6951002269891429,1.2113243997062872,5.422264875239944E-2,0,2.4499403286863338E-2,0.56893657854687707,0.4065640181662597,26.043474593685175,26.043474593685175,0,null,null,null,null,null,null,null,null,null,null,null,null,null,null,null,null,null,null,null,null,null,"1967-03-11",2.6,1.5169999999999999,null,"1975-03-10",3.3,1.101,null,"2006-03-10",7.84,0.95898000000000005,7.84,0.95898000000000005,7.84,0.90178999999999998,null,"2016-03-09",7.94,0.96153999999999995,7.94,0.96153999999999995,7.94,0.88800999999999997,null,"2066-03-10",8.43,0.97436999999999996,8.43,0.97436999999999996,8.43,0.81913999999999998,null,null,null,1972,0]
["1967-03-12",9.4,1.6759999999999999,3,1967,10,9.4,{"$f":"IF(B104<Parameters!$A$16,B104*Parameters!$B$16,IF(AND(B104>Parameters!$A$16,B104<Parameters!$A$17),B104*Parameters!$B$17,B104*Parameters!$B$18))","v":8.93},{"$f":"IF(B104<Parameters!$A$20,B104*Parameters!$B$20,IF(AND(B104>Parameters!$A$20,B104<Parameters!$A$21),B104*Parameters!$B$21,B104*Parameters!$B$22))","v":7.0500000000000007},113.89302325581396,1.2116279069767442,107.71744186046512,0.94577735124760076,6.1755813953488428,1.5792258064516129,1114.0231784795531,0.8124447623503892,{"$f":"VLOOKUP($F104,'Gegevens vergelijking'!$I$16:$Q$68,9,FALSE)","v":16.951002269891429},89.953994828223287,106.90499709811472,3932.3389019861602,0,0,16.951002269891429,1,0.18032981138182372,1.2116279069767442,11.389302325581395,10.771744186046512,1.6951002269891429,0.61755813953488425,{"$f":"V104/10","v":0},8.1244476235038915E-2,1.6951002269891429,8.9953994828223305,5.422264875239928E-2,0,7.5423696322347951E-3,0.15736543661934896,0.83509219374841637,193.40108888068011,193.40108888068011,0,null,null,null,null,null,null,null,null,null,null,null,null,null,null,null,null,null,null,null,null,null,"1967-03-12",9.4,1.6759999999999999,null,"1975-03-11",4,0.47399999999999998,null,"2006-03-11",2.72,1.5313399999999999,2.72,1.5313399999999999,2.72,1.44001,null,"2016-03-10",2.76,1.5354300000000001,2.76,1.5354300000000001,2.76,1.4180200000000001,null,"2066-03-11",2.94,1.5559099999999999,2.94,1.5559099999999999,2.94,1.30803,null,null,null,1973,0]
["1967-03-13",16.7,0.77600000000000002,3,1967,11,16.7,{"$f":"IF(B105<Parameters!$A$16,B105*Parameters!$B$16,IF(AND(B105>Parameters!$A$16,B105<Parameters!$A$17),B105*Parameters!$B$17,B105*Parameters!$B$18))","v":15.864999999999998},{"$f":"IF(B105<Parameters!$A$20,B105*Parameters!$B$20,IF(AND(B105>Parameters!$A$20,B105<Parameters!$A$21),B105*Parameters!$B$21,B105*Parameters!$B$22))","v":12.524999999999999},202.34186046511627,1.2116279069767442,191.37034883720929,0.94577735124760076,10.971511627906978,0.6792258064516129,1129.1604760700986,0.35194106595747143,{"$f":"VLOOKUP($F105,'Gegevens vergelijking'!$I$16:$Q$68,9,FALSE)","v":19.509069665199995},171.50933810605181,191.01840777125182,{"$f":"IF(U104<$AN$3,U104+T105,IF(AND((U104>$AN$3),(SUM(U104+S105)<$AN$3)),SUM($AN$3+T105),IF((SUM(U104+S105)>($AN$3+$AK$3)),$AN$3+$AK$3,U104+S105)))","v":4103.8482400922121},0,0,19.509069665199995,1,0.11682077643832332,1.2116279069767442,20.234186046511628,19.137034883720929,1.9509069665199994,1.0971511627906978,{"$f":"V105/10","v":0},3.5194106595747142E-2,1.9509069665199994,17.150933810605185,5.4222648752399238E-2,0,1.8390574511459603E-3,0.10194405655703506,0.89621688599181915,368.74507692801149,368.74507692801149,0,null,null,null,null,null,null,null,null,null,null,null,null,null,null,null,null,null,null,null,null,null,"1967-03-13",16.7,0.77600000000000002,null,"1975-03-12",0.2,0.1,null,"2006-03-12",9.7799999999999994,1.69184,9.7799999999999994,1.69184,9.7799999999999994,1.59094,null,"2016-03-11",9.89,1.6963600000000001,9.89,1.6963600000000001,9.89,1.56664,null,"2066-03-12",10.44,1.71899,10.44,1.71899,10.44,1.44513,null,null,null,1974,0]
["1967-03-14",0,0.501,3,1967,11,0,{"$f":"IF(B106<Parameters!$A$16,B106*Parameters!$B$16,IF(AND(B106>Parameters!$A$16,B106<Parameters!$A$17),B106*Parameters!$B$17,B106*Parameters!$B$18))","v":0},{"$f":"IF(B106<Parameters!$A$20,B106*Parameters!$B$20,IF(AND(B106>Parameters!$A$20,B106<Parameters!$A$21),B106*Parameters!$B$21,B106*Parameters!$B$22))","v":0},0,"",0,"",0,0.40422580645161288,1127.419881767381,0.21229572281521988,{"$f":"VLOOKUP($F106,'Gegevens vergelijking'!$I$16:$Q$68,9,FALSE)","v":19.509069665199995},-19.721365388015215,-0.21229572281521988,4084.1268747041968,0,0,19.509069665199995,1,"","",0,0,1.9509069665199994,0,0,2.1229572281521988E-2,1.9509069665199994,-1.9721365388015213,"","","","","",-42.400935584232705,-42.400935584232705,0,null,null,null,null,null,null,null,null,null,null,null,null,null,null,null,null,null,null,null,null,null,"1967-03-14",0,0.501,null,"1975-03-13",0,0.114,null,"2006-03-13",17.489999999999998,0.78332999999999997,17.489999999999998,0.78332999999999997,17.489999999999998,0.73662000000000005,null,"2016-03-12",17.71,0.78542999999999996,17.71,0.78542999999999996,17.71,0.72536999999999996,null,"2066-03-13",18.829999999999998,0.79590000000000005,18.829999999999998,0.79590000000000005,18.829999999999998,0.66910999999999998,null,null,null,1975,0]
["1967-03-15",0.2,1.381,3,1967,11,0.2,{"$f":"IF(B107<Parameters!$A$16,B107*Parameters!$B$16,IF(AND(B107>Parameters!$A$16,B107<Parameters!$A$17),B107*Parameters!$B$17,B107*Parameters!$B$18))","v":0},{"$f":"IF(B107<Parameters!$A$20,B107*Parameters!$B$20,IF(AND(B107>Parameters!$A$20,B107<Parameters!$A$21),B107*Parameters!$B$21,B107*Parameters!$B$22))","v":0},2.4232558139534883,1.2116279069767442,0.26046511627906976,0.10748560460652591,2.1627906976744184,1.284225806451613,1125.6615770661037,0.67342404970804515,{"$f":"VLOOKUP($F107,'Gegevens vergelijking'!$I$16:$Q$68,9,FALSE)","v":19.509069665199995},-19.922028598628973,-0.41295893342897538,4064.2048461055679,0,0,19.509069665199995,1,9.7545348325999974,1.2116279069767442,0.24232558139534882,2.6046511627906978E-2,1.9509069665199994,0.21627906976744185,0,6.7342404970804515E-2,1.9509069665199994,-1.9922028598628969,0.8925143953934741,0,2.5854673337005303,74.900892464607111,-76.486359798307646,-42.832361487052289,-42.832361487052289,0,null,null,null,null,null,null,null,null,null,null,null,null,null,null,null,null,null,null,null,null,null,"1967-03-15",0.2,1.381,null,"1975-03-14",0.1,5.8000000000000003E-2,null,"2006-03-14",0,0.50573000000000001,0,0.50573000000000001,0,0.47556999999999999,null,"2016-03-13",0,0.50709000000000004,0,0.50709000000000004,0,0.46831,null,"2066-03-14",0,0.51385000000000003,0,0.51385000000000003,0,0.43198999999999999,null,null,null,1976,0,null,null,"Waarden"]
["1967-03-16",0.2,0.99399999999999999,3,1967,11,0.2,{"$f":"IF(B108<Parameters!$A$16,B108*Parameters!$B$16,IF(AND(B108>Parameters!$A$16,B108<Parameters!$A$17),B108*Parameters!$B$17,B108*Parameters!$B$18))","v":0},{"$f":"IF(B108<Parameters!$A$20,B108*Parameters!$B$20,IF(AND(B108>Parameters!$A$20,B108<Parameters!$A$21),B108*Parameters!$B$21,B108*Parameters!$B$22))","v":0},2.4232558139534883,1.2116279069767442,0.26046511627906976,0.10748560460652591,2.1627906976744184,0.89722580645161287,1123.9212480827161,0.4697547052440601,{"$f":"VLOOKUP($F108,'Gegevens vergelijking'!$I$16:$Q$68,9,FALSE)","v":19.509069665199995},-19.718359254164987,-0.20928958896499034,4044.4864868514028,0,0,19.509069665199995,1,9.7545348325999974,1.2116279069767442,0.24232558139534882,2.6046511627906978E-2,1.9509069665199994,0.21627906976744185,0,4.697547052440601E-2,1.9509069665199994,-1.9718359254164983,0.8925143953934741,0,1.8035225290620165,74.900892464607111,-75.704414993669133,-42.394472396454717,-42.394472396454717,0,null,null,null,null,null,null,null,null,null,null,null,null,null,null,null,null,null,null,null,null,null,"1967-03-16",0.2,0.99399999999999999,null,"1975-03-15",7.5,5.8000000000000003E-2,null,"2006-03-15",0.21,1.39405,0.21,1.39405,0.21,1.31091,null,"2016-03-14",0.21,1.39778,0.21,1.39778,0.21,1.2908900000000001,null,"2066-03-15",0.22,1.41642,0.22,1.41642,0.22,1.1907700000000001,null,null,null,1977,0,null,"Rijlabels","Som van Evaporatieverliezen per week","Som van Overloopverliezen per week","Som van Opvangverliezen per week"]
["1967-03-17",0.9,0.64800000000000002,3,1967,11,0.9,{"$f":"IF(B109<Parameters!$A$16,B109*Parameters!$B$16,IF(AND(B109>Parameters!$A$16,B109<Parameters!$A$17),B109*Parameters!$B$17,B109*Parameters!$B$18))","v":0},{"$f":"IF(B109<Parameters!$A$20,B109*Parameters!$B$20,IF(AND(B109>Parameters!$A$20,B109<Parameters!$A$21),B109*Parameters!$B$21,B109*Parameters!$B$22))","v":0},10.904651162790698,1.2116279069767442,1.172093023255814,0.10748560460652591,9.7325581395348841,0.5512258064516129,1122.2774065781566,0.28815553319185971,{"$f":"VLOOKUP($F109,'Gegevens vergelijking'!$I$16:$Q$68,9,FALSE)","v":19.509069665199995},-18.625132175136038,0.88393749006395428,4025.8613546762667,0,0,19.509069665199995,1,2.1676744072444438,1.2116279069767442,1.0904651162790697,0.1172093023255814,1.9509069665199994,0.97325581395348837,0,2.881555331918597E-2,1.9509069665199994,-1.8625132175136039,0.8925143953934741,0,0.24584698268353108,16.644642769912693,-15.890489752596224,-40.044034176542482,-40.044034176542482,0,null,null,null,null,null,null,null,null,null,null,null,null,null,null,null,null,null,null,null,null,null,"1967-03-17",0.9,0.64800000000000002,null,"1975-03-16",1.6,0.88,null,"2006-03-16",0.21,1.00339,0.21,1.00339,0.21,0.94355,null,"2016-03-15",0.21,1.0060800000000001,0.21,1.0060800000000001,0.21,0.92913999999999997,null,"2066-03-16",0.22,1.0195000000000001,0.22,1.0195000000000001,0.22,0.85707999999999995,null,null,null,1978,0,null,1,{"$error":"#DIV/0!"},{"$error":"#DIV/0!"},{"$error":"#DIV/0!"}]
["1967-03-18",3,1.0980000000000001,3,1967,11,3,{"$f":"IF(B110<Parameters!$A$16,B110*Parameters!$B$16,IF(AND(B110>Parameters!$A$16,B110<Parameters!$A$17),B110*Parameters!$B$17,B110*Parameters!$B$18))","v":2.8499999999999996},{"$f":"IF(B110<Parameters!$A$20,B110*Parameters!$B$20,IF(AND(B110>Parameters!$A$20,B110<Parameters!$A$21),B110*Parameters!$B$21,B110*Parameters!$B$22))","v":2.25},36.348837209302324,1.2116279069767442,34.377906976744185,0.94577735124760076,1.970930232558139,1.0012258064516131,1123.5435931404461,0.52262934951797202,{"$f":"VLOOKUP($F110,'Gegevens vergelijking'!$I$16:$Q$68,9,FALSE)","v":19.509069665199995},14.346207962026218,33.855277627226215,4040.207562638293,0,0,19.509069665199995,1,0.65030232217333317,1.2116279069767442,3.6348837209302323,3.4377906976744184,1.9509069665199994,0.1970930232558139,0,5.2262934951797201E-2,1.9509069665199994,1.4346207962026218,5.4222648752399225E-2,0,1.5202477273311549E-2,0.56748858150082859,0.41730894122585993,30.844347118356371,30.844347118356371,0,null,null,null,null,null,null,null,null,null,null,null,null,null,null,null,null,null,null,null,null,null,"1967-03-18",3,1.0980000000000001,null,"1975-03-17",4.2,0.78800000000000003,null,"2006-03-17",0.95,0.65412000000000003,0.95,0.65412000000000003,0.95,0.61511000000000005,null,"2016-03-16",0.97,0.65586999999999995,0.97,0.65586999999999995,0.97,0.60572000000000004,null,"2066-03-17",1.05,0.66461999999999999,1.05,0.66461999999999999,1.05,0.55874000000000001,null,null,null,1979,0,null,2,{"$error":"#DIV/0!"},{"$error":"#DIV/0!"},{"$error":"#DIV/0!"}]
["1967-03-19",2.9,0.436,3,1967,11,2.9,{"$f":"IF(B111<Parameters!$A$16,B111*Parameters!$B$16,IF(AND(B111>Parameters!$A$16,B111<Parameters!$A$17),B111*Parameters!$B$17,B111*Parameters!$B$18))","v":2.7549999999999999},{"$f":"IF(B111<Parameters!$A$20,B111*Parameters!$B$20,IF(AND(B111>Parameters!$A$20,B111<Parameters!$A$21),B111*Parameters!$B$21,B111*Parameters!$B$22))","v":2.1749999999999998},35.13720930232558,1.2116279069767442,33.231976744186042,0.94577735124760065,1.905232558139538,0.33922580645161293,1124.7391216768522,0.17727208440307476,{"$f":"VLOOKUP($F111,'Gegevens vergelijking'!$I$16:$Q$68,9,FALSE)","v":19.509069665199995},13.545634994582972,33.054704659782971,4053.753197632876,0,0,19.509069665199995,1,0.67272654017931022,1.2116279069767442,3.5137209302325578,3.323197674418604,1.9509069665199994,0.1905232558139538,0,1.7727208440307476E-2,1.9509069665199994,1.3545634994582971,5.4222648752399322E-2,0,5.3343827773979363E-3,0.58705715327671926,0.40760846394588279,29.123115238353389,29.123115238353389,0,null,null,null,null,null,null,null,null,null,null,null,null,null,null,null,null,null,null,null,null,null,"1967-03-19",2.9,0.436,null,"1975-03-18",0,1.05,null,"2006-03-18",3.13,1.1083799999999999,3.13,1.1083799999999999,3.13,1.0422800000000001,null,"2016-03-17",3.17,1.11134,3.17,1.11134,3.17,1.0263599999999999,null,"2066-03-18",3.36,1.12616,3.36,1.12616,3.36,0.94674999999999998,null,null,null,1980,0,null,3,{"$error":"#DIV/0!"},{"$error":"#DIV/0!"},{"$error":"#DIV/0!"}]
["1967-03-20",0,1.605,3,1967,12,0,{"$f":"IF(B112<Parameters!$A$16,B112*Parameters!$B$16,IF(AND(B112>Parameters!$A$16,B112<Parameters!$A$17),B112*Parameters!$B$17,B112*Parameters!$B$18))","v":0},{"$f":"IF(B112<Parameters!$A$20,B112*Parameters!$B$20,IF(AND(B112>Parameters!$A$20,B112<Parameters!$A$21),B112*Parameters!$B$21,B112*Parameters!$B$22))","v":0},0,"",0,"",0,1.508225806451613,1122.6787894286081,0.78900491573895315,{"$f":"VLOOKUP($F112,'Gegevens vergelijking'!$I$16:$Q$68,9,FALSE)","v":22.555070739851423},-23.344075655590377,-0.78900491573895315,4030.4091219772854,0,0,22.555070739851423,1,"","",0,0,2.2555070739851422,0,0,7.8900491573895309E-2,2.2555070739851422,-2.3344075655590375,"","","","","",-50.18976265951931,-50.18976265951931,0,null,null,null,null,null,null,null,null,null,null,null,null,null,null,null,null,null,null,null,null,null,"1967-03-20",0,1.605,null,"1975-03-19",18.2,0,null,"2006-03-19",3.03,0.44012000000000001,3.03,0.44012000000000001,3.03,0.41387000000000002,null,"2016-03-18",3.07,0.44130000000000003,3.07,0.44130000000000003,3.07,0.40755000000000002,null,"2066-03-19",3.26,0.44718000000000002,3.26,0.44718000000000002,3.26,0.37594,null,null,null,1981,0,null,4,{"$error":"#DIV/0!"},{"$error":"#DIV/0!"},{"$error":"#DIV/0!"}]
["1967-03-21",0.3,0.86099999999999999,3,1967,12,0.3,{"$f":"IF(B113<Parameters!$A$16,B113*Parameters!$B$16,IF(AND(B113>Parameters!$A$16,B113<Parameters!$A$17),B113*Parameters!$B$17,B113*Parameters!$B$18))","v":0},{"$f":"IF(B113<Parameters!$A$20,B113*Parameters!$B$20,IF(AND(B113>Parameters!$A$20,B113<Parameters!$A$21),B113*Parameters!$B$21,B113*Parameters!$B$22))","v":0},3.6348837209302327,1.2116279069767442,0.39069767441860465,0.10748560460652591,3.2441860465116279,0.76422580645161287,1120.6873561194079,0.39906051313358065,{"$f":"VLOOKUP($F113,'Gegevens vergelijking'!$I$16:$Q$68,9,FALSE)","v":22.555070739851423},-22.5634335785664,-8.3628387149760064E-3,4007.8456883987192,0,0,22.555070739851423,1,7.5183569132838075,1.2116279069767442,0.36348837209302326,3.9069767441860463E-2,2.2555070739851422,0.32441860465116279,0,3.9906051313358067E-2,2.2555070739851422,-2.2563433578566396,0.8925143953934741,0,1.0214048848061887,57.730240584143523,-57.751645468949711,-48.511382193917754,-48.511382193917754,0,null,null,null,null,null,null,null,null,null,null,null,null,null,null,null,null,null,null,null,null,null,"1967-03-21",0.3,0.86099999999999999,null,"1975-03-20",3.4,1.28,null,"2006-03-20",0,1.6201700000000001,0,1.6201700000000001,0,1.52355,null,"2016-03-19",0,1.6245000000000001,0,1.6245000000000001,0,1.50027,null,"2066-03-20",0,1.6461699999999999,0,1.6461699999999999,0,1.38391,null,null,null,1982,0,null,5,{"$error":"#DIV/0!"},{"$error":"#DIV/0!"},{"$error":"#DIV/0!"}]
["1967-03-22",0,0.89,3,1967,12,0,{"$f":"IF(B114<Parameters!$A$16,B114*Parameters!$B$16,IF(AND(B114>Parameters!$A$16,B114<Parameters!$A$17),B114*Parameters!$B$17,B114*Parameters!$B$18))","v":0},{"$f":"IF(B114<Parameters!$A$20,B114*Parameters!$B$20,IF(AND(B114>Parameters!$A$20,B114<Parameters!$A$21),B114*Parameters!$B$21,B114*Parameters!$B$22))","v":0},0,"",0,"",0,0.79322580645161289,1118.6601684247564,0.41346889852927593,{"$f":"VLOOKUP($F114,'Gegevens vergelijking'!$I$16:$Q$68,9,FALSE)","v":22.555070739851423},-22.968539638380701,-0.41346889852927593,3984.8771487603385,0,0,22.555070739851423,1,"","",0,0,2.2555070739851422,0,0,4.1346889852927594E-2,2.2555070739851422,-2.2968539638380698,"","","","","",-49.3823602225185,-49.3823602225185,0,null,null,null,null,null,null,null,null,null,null,null,null,null,null,null,null,null,null,null,null,null,"1967-03-22",0,0.89,null,"1975-03-21",0.2,1.4570000000000001,null,"2006-03-21",0.31,0.86914000000000002,0.31,0.86914000000000002,0.31,0.81730000000000003,null,"2016-03-20",0.32,0.87146000000000001,0.32,0.87146000000000001,0.32,0.80481999999999998,null,"2066-03-21",0.33,0.88307999999999998,0.33,0.88307999999999998,0.33,0.74239999999999995,null,null,null,1983,0,null,6,{"$error":"#DIV/0!"},{"$error":"#DIV/0!"},{"$error":"#DIV/0!"}]
["1967-03-23",0.7,1.7070000000000001,3,1967,12,0.7,{"$f":"IF(B115<Parameters!$A$16,B115*Parameters!$B$16,IF(AND(B115>Parameters!$A$16,B115<Parameters!$A$17),B115*Parameters!$B$17,B115*Parameters!$B$18))","v":0},{"$f":"IF(B115<Parameters!$A$20,B115*Parameters!$B$20,IF(AND(B115>Parameters!$A$20,B115<Parameters!$A$21),B115*Parameters!$B$21,B115*Parameters!$B$22))","v":0},8.4813953488372089,1.2116279069767442,0.91162790697674412,0.10748560460652591,7.5697674418604652,1.6102258064516131,1116.6759881692576,0.83781184737072134,{"$f":"VLOOKUP($F115,'Gegevens vergelijking'!$I$16:$Q$68,9,FALSE)","v":22.555070739851423},-22.481254680245399,7.3816059606022777E-2,3962.3958940800931,0,0,22.555070739851423,1,3.2221529628359176,1.2116279069767442,0.84813953488372085,9.1162790697674412E-2,2.2555070739851422,0.75697674418604655,0,8.3781184737072134E-2,2.2555070739851422,-2.2481254680245399,0.89251439539347421,0,0.91902830196278118,24.741531678918655,-24.660559980881434,-48.334697562527609,-48.334697562527609,0,null,null,null,null,null,null,null,null,null,null,null,null,null,null,null,null,null,null,null,null,null,"1967-03-23",0.7,1.7070000000000001,null,"1975-03-22",10.9,0.23799999999999999,null,"2006-03-22",0,0.89841000000000004,0,0.89841000000000004,0,0.84482999999999997,null,"2016-03-21",0,0.90081,0,0.90081,0,0.83192999999999995,null,"2066-03-22",0,0.91283000000000003,0,0.91283000000000003,0,0.76739999999999997,null,null,null,1984,0,null,7,{"$error":"#DIV/0!"},{"$error":"#DIV/0!"},{"$error":"#DIV/0!"}]
["1967-03-24",0,1.952,3,1967,12,0,{"$f":"IF(B116<Parameters!$A$16,B116*Parameters!$B$16,IF(AND(B116>Parameters!$A$16,B116<Parameters!$A$17),B116*Parameters!$B$17,B116*Parameters!$B$18))","v":0},{"$f":"IF(B116<Parameters!$A$20,B116*Parameters!$B$20,IF(AND(B116>Parameters!$A$20,B116<Parameters!$A$21),B116*Parameters!$B$21,B116*Parameters!$B$22))","v":0},0,"",0,"",0,1.8552258064516129,1114.6002484897665,0.96357493520765725,{"$f":"VLOOKUP($F116,'Gegevens vergelijking'!$I$16:$Q$68,9,FALSE)","v":22.555070739851423},-23.51864567505908,-0.96357493520765725,3938.8772484050342,0,0,22.555070739851423,1,"","",0,0,2.2555070739851422,0,0,9.6357493520765725E-2,2.2555070739851422,-2.351864567505908,"","","","","",-50.565088201377023,-50.565088201377023,0,null,null,null,null,null,null,null,null,null,null,null,null,null,null,null,null,null,null,null,null,null,"1967-03-24",0,1.952,null,"1975-03-23",0.5,1.3680000000000001,null,"2006-03-23",0.74,1.7231300000000001,0.74,1.7231300000000001,0.74,1.6203700000000001,null,"2016-03-22",0.75,1.7277400000000001,0.75,1.7277400000000001,0.75,1.59562,null,"2066-03-23",0.81,1.75078,0.81,1.75078,0.81,1.4718599999999999,null,null,null,1985,0,null,8,{"$error":"#DIV/0!"},{"$error":"#DIV/0!"},{"$error":"#DIV/0!"}]
["1967-03-25",0,3.4089999999999998,3,1967,12,0,{"$f":"IF(B117<Parameters!$A$16,B117*Parameters!$B$16,IF(AND(B117>Parameters!$A$16,B117<Parameters!$A$17),B117*Parameters!$B$17,B117*Parameters!$B$18))","v":0},{"$f":"IF(B117<Parameters!$A$20,B117*Parameters!$B$20,IF(AND(B117>Parameters!$A$20,B117<Parameters!$A$21),B117*Parameters!$B$21,B117*Parameters!$B$22))","v":0},0,"",0,"",0,3.3122258064516128,1112.4580014471419,1.7171198636861327,{"$f":"VLOOKUP($F117,'Gegevens vergelijking'!$I$16:$Q$68,9,FALSE)","v":22.555070739851423},-24.272190603537556,-1.7171198636861327,3914.6050578014965,0,0,22.555070739851423,1,"","",0,0,2.2555070739851422,0,0,0.17171198636861326,2.2555070739851422,-2.4272190603537553,"","","","","",-52.185209797605744,-52.185209797605744,0,null,null,null,null,null,null,null,null,null,null,null,null,null,null,null,null,null,null,null,null,null,"1967-03-25",0,3.4089999999999998,null,"1975-03-24",6,0.749,null,"2006-03-24",0,1.97045,0,1.97045,0,1.85294,null,"2016-03-23",0,1.9757199999999999,0,1.9757199999999999,0,1.82463,null,"2066-03-24",0,2.0020699999999998,0,2.0020699999999998,0,1.6831100000000001,null,null,null,1986,0,null,9,{"$error":"#DIV/0!"},{"$error":"#DIV/0!"},{"$error":"#DIV/0!"}]
["1967-03-26",1.8,2.1459999999999999,3,1967,12,1.8,{"$f":"IF(B118<Parameters!$A$16,B118*Parameters!$B$16,IF(AND(B118>Parameters!$A$16,B118<Parameters!$A$17),B118*Parameters!$B$17,B118*Parameters!$B$18))","v":1.4400000000000002},{"$f":"IF(B118<Parameters!$A$20,B118*Parameters!$B$20,IF(AND(B118>Parameters!$A$20,B118<Parameters!$A$21),B118*Parameters!$B$21,B118*Parameters!$B$22))","v":1.08},21.809302325581395,1.2116279069767442,17.706976744186047,0.81190019193857965,4.1023255813953483,2.0492258064516129,1111.9365292694526,1.0603151837949158,{"$f":"VLOOKUP($F118,'Gegevens vergelijking'!$I$16:$Q$68,9,FALSE)","v":22.555070739851423},-5.9084091794602926,16.646661560391131,3908.6966486220363,0,0,22.555070739851423,1,1.2530594855473014,1.2116279069767442,2.1809302325581394,1.7706976744186047,2.2555070739851422,0.41023255813953485,0,0.10603151837949158,2.2555070739851422,-0.590840917946029,0.18809980806142035,0,5.9881209486710503E-2,1.2737956945279894,-0.33367690401469985,-12.703079735839623,-12.703079735839623,0,null,null,null,null,null,null,null,null,null,null,null,null,null,null,null,null,null,null,null,null,null,"1967-03-26",1.8,2.1459999999999999,null,"1975-03-25",1.1000000000000001,1.0940000000000001,null,"2006-03-25",0,3.4412199999999999,0,3.4412199999999999,0,3.2359900000000001,null,"2016-03-24",0,3.4504199999999998,0,3.4504199999999998,0,3.1865600000000001,null,"2066-03-25",0,3.4964400000000002,0,3.4964400000000002,0,2.9394100000000001,null,null,null,1987,0,null,10,{"$error":"#DIV/0!"},{"$error":"#DIV/0!"},{"$error":"#DIV/0!"}]
["1967-03-27",13.5,0.89400000000000002,3,1967,13,13.5,{"$f":"IF(B119<Parameters!$A$16,B119*Parameters!$B$16,IF(AND(B119>Parameters!$A$16,B119<Parameters!$A$17),B119*Parameters!$B$17,B119*Parameters!$B$18))","v":12.824999999999999},{"$f":"IF(B119<Parameters!$A$20,B119*Parameters!$B$20,IF(AND(B119>Parameters!$A$20,B119<Parameters!$A$21),B119*Parameters!$B$21,B119*Parameters!$B$22))","v":10.125},163.56976744186045,1.2116279069767442,154.70058139534882,0.94577735124760076,8.8691860465116292,0.7972258064516129,1123.4833134468295,0.41230906803248696,{"$f":"VLOOKUP($F119,'Gegevens vergelijking'!$I$16:$Q$68,9,FALSE)","v":23.460342198479999},130.82793012883633,154.28827232731632,4039.5245787508725,0,0,23.460342198479999,1,0.17378031258133333,1.2116279069767442,16.356976744186046,15.470058139534881,2.3460342198479998,0.8869186046511629,0,4.1230906803248694E-2,2.3460342198479998,13.082793012883634,5.4222648752399238E-2,0,2.6652069715161607E-3,0.15164999372901744,0.84568479929946649,281.28004977699811,281.28004977699811,0,null,null,null,null,null,null,null,null,null,null,null,null,null,null,null,null,null,null,null,null,null,"1967-03-27",13.5,0.89400000000000002,null,"1975-03-26",8.9,0.109,null,"2006-03-26",1.89,2.16628,1.89,2.16628,1.89,2.0370900000000001,null,"2016-03-25",1.91,2.1720700000000002,1.91,2.1720700000000002,1.91,2.00597,null,"2066-03-26",2.0299999999999998,2.2010399999999999,2.0299999999999998,2.2010399999999999,2.0299999999999998,1.85039,null,null,null,1988,0,null,11,{"$error":"#DIV/0!"},{"$error":"#DIV/0!"},{"$error":"#DIV/0!"}]
["1967-03-28",1,1.375,3,1967,13,1,{"$f":"IF(B120<Parameters!$A$16,B120*Parameters!$B$16,IF(AND(B120>Parameters!$A$16,B120<Parameters!$A$17),B120*Parameters!$B$17,B120*Parameters!$B$18))","v":0.95},{"$f":"IF(B120<Parameters!$A$20,B120*Parameters!$B$20,IF(AND(B120>Parameters!$A$20,B120<Parameters!$A$21),B120*Parameters!$B$21,B120*Parameters!$B$22))","v":0.75},12.116279069767442,1.2116279069767442,11.459302325581396,0.94577735124760076,0.65697674418604635,1.278225806451613,1122.3651581268673,0.66793737877465298,{"$f":"VLOOKUP($F120,'Gegevens vergelijking'!$I$16:$Q$68,9,FALSE)","v":23.460342198479999},-12.668977251673256,10.791364946806743,4026.8556014991991,0,0,23.460342198479999,1,2.3460342198479998,1.2116279069767442,1.2116279069767442,1.1459302325581395,2.3460342198479998,6.5697674418604635E-2,0,6.6793737877465301E-2,2.3460342198479998,-1.2668977251673255,5.4222648752399218E-2,0,5.8287787493272611E-2,2.0472749153417351,-1.1055627028350075,-27.238301091097497,-27.238301091097497,0,null,null,null,null,null,null,null,null,null,null,null,null,null,null,null,null,null,null,null,null,null,"1967-03-28",1,1.375,null,"1975-03-27",18.5,0.247,null,"2006-03-27",14.06,0.90244999999999997,14.06,0.90244999999999997,14.06,0.84863,null,"2016-03-26",14.22,0.90486,14.22,0.90486,14.22,0.83567000000000002,null,"2066-03-27",15.02,0.91693000000000002,15.02,0.91693000000000002,15.02,0.77085000000000004,null,null,null,1989,0,null,12,{"$error":"#DIV/0!"},{"$error":"#DIV/0!"},{"$error":"#DIV/0!"}]
["1967-03-29",0.1,1.736,3,1967,13,0.1,{"$f":"IF(B121<Parameters!$A$16,B121*Parameters!$B$16,IF(AND(B121>Parameters!$A$16,B121<Parameters!$A$17),B121*Parameters!$B$17,B121*Parameters!$B$18))","v":0},{"$f":"IF(B121<Parameters!$A$20,B121*Parameters!$B$20,IF(AND(B121>Parameters!$A$20,B121<Parameters!$A$21),B121*Parameters!$B$21,B121*Parameters!$B$22))","v":0},1.2116279069767442,1.2116279069767442,0.13023255813953488,0.10748560460652591,1.0813953488372092,1.639225806451613,1120.2305327543504,0.85572554951800284,{"$f":"VLOOKUP($F121,'Gegevens vergelijking'!$I$16:$Q$68,9,FALSE)","v":23.460342198479999},-24.185835189858466,-0.72549299137846801,4002.6697663093405,0,0,23.460342198479999,1,23.460342198479999,1.2116279069767442,0.12116279069767441,1.3023255813953489E-2,2.3460342198479998,0.10813953488372093,0,8.5572554951800286E-2,2.3460342198479998,-2.4185835189858467,0.8925143953934741,0,6.5707497552275216,180.14191330975711,-185.71266306498464,-51.999545658195707,-51.999545658195707,0,null,null,null,null,null,null,null,null,null,null,null,null,null,null,null,null,null,null,null,null,null,"1967-03-29",0.1,1.736,null,"1975-03-28",7.3,0.53,null,"2006-03-28",1.06,1.3879900000000001,1.06,1.3879900000000001,1.06,1.30522,null,"2016-03-27",1.08,1.39171,1.08,1.39171,1.08,1.28528,null,"2066-03-28",1.17,1.4102699999999999,1.17,1.4102699999999999,1.17,1.1855899999999999,null,null,null,1990,0,null,13,{"$error":"#DIV/0!"},{"$error":"#DIV/0!"},{"$error":"#DIV/0!"}]
["1967-03-30",0,1.99,3,1967,13,0,{"$f":"IF(B122<Parameters!$A$16,B122*Parameters!$B$16,IF(AND(B122>Parameters!$A$16,B122<Parameters!$A$17),B122*Parameters!$B$17,B122*Parameters!$B$18))","v":0},{"$f":"IF(B122<Parameters!$A$20,B122*Parameters!$B$20,IF(AND(B122>Parameters!$A$20,B122<Parameters!$A$21),B122*Parameters!$B$21,B122*Parameters!$B$22))","v":0},0,"",0,"",0,1.893225806451613,1118.0728762385663,0.9864415599002675,{"$f":"VLOOKUP($F122,'Gegevens vergelijking'!$I$16:$Q$68,9,FALSE)","v":23.460342198479999},-24.446783758380267,-0.9864415599002675,3978.2229825509603,0,0,23.460342198479999,1,"","",0,0,2.3460342198479998,0,0,9.8644155990026752E-2,2.3460342198479998,-2.4446783758380266,"","","","","",-52.560585080517569,-52.560585080517569,0,null,null,null,null,null,null,null,null,null,null,null,null,null,null,null,null,null,null,null,null,null,"1967-03-30",0,1.99,null,"1975-03-29",1.4,1.2929999999999999,null,"2006-03-29",0.1,1.75241,0.1,1.75241,0.1,1.6478999999999999,null,"2016-03-28",0.1,1.75709,0.1,1.75709,0.1,1.62273,null,"2066-03-29",0.11,1.7805299999999999,0.11,1.7805299999999999,0.11,1.4968699999999999,null,null,null,1991,0,null,14,{"$error":"#DIV/0!"},{"$error":"#DIV/0!"},{"$error":"#DIV/0!"}]
["1967-03-31",0.1,1.7150000000000001,3,1967,13,0.1,{"$f":"IF(B123<Parameters!$A$16,B123*Parameters!$B$16,IF(AND(B123>Parameters!$A$16,B123<Parameters!$A$17),B123*Parameters!$B$17,B123*Parameters!$B$18))","v":0},{"$f":"IF(B123<Parameters!$A$20,B123*Parameters!$B$20,IF(AND(B123>Parameters!$A$20,B123<Parameters!$A$21),B123*Parameters!$B$21,B123*Parameters!$B$22))","v":0},1.2116279069767442,1.2116279069767442,0.13023255813953488,0.10748560460652591,1.0813953488372092,1.6182258064516131,1115.9395035551968,0.84153227061526925,{"$f":"VLOOKUP($F123,'Gegevens vergelijking'!$I$16:$Q$68,9,FALSE)","v":23.460342198479999},-24.171641910955731,-0.71129971247573431,3954.0513406400046,0,0,23.460342198479999,1,23.460342198479999,1.2116279069767442,0.12116279069767441,1.3023255813953489E-2,2.3460342198479998,0.10813953488372093,0,8.415322706152692E-2,2.3460342198479998,-2.4171641910955732,0.8925143953934741,0,6.4617656493672451,180.14191330975711,-185.60367895912435,-51.969030108554826,-51.969030108554826,0,null,null,null,null,null,null,null,null,null,null,null,null,null,null,null,null,null,null,null,null,null,"1967-03-31",0.1,1.7150000000000001,null,"1975-03-30",3,0.747,null,"2006-03-30",0,2.00881,0,2.00881,0,1.8890100000000001,null,"2016-03-29",0,2.0141800000000001,0,2.0141800000000001,0,1.86015,null,"2066-03-30",0,2.0410400000000002,0,2.0410400000000002,0,1.7158800000000001,null,null,null,1992,0,null,15,{"$error":"#DIV/0!"},{"$error":"#DIV/0!"},{"$error":"#DIV/0!"}]
["1967-04-01",0.2,1.833,4,1967,13,0.2,{"$f":"IF(B124<Parameters!$A$16,B124*Parameters!$B$16,IF(AND(B124>Parameters!$A$16,B124<Parameters!$A$17),B124*Parameters!$B$17,B124*Parameters!$B$18))","v":0},{"$f":"IF(B124<Parameters!$A$20,B124*Parameters!$B$20,IF(AND(B124>Parameters!$A$20,B124<Parameters!$A$21),B124*Parameters!$B$21,B124*Parameters!$B$22))","v":0},2.4232558139534883,1.2116279069767442,0.26046511627906976,0.10748560460652591,2.1627906976744184,1.6663333333333332,1113.8155630094614,0.86489636872440756,{"$f":"VLOOKUP($F124,'Gegevens vergelijking'!$I$16:$Q$68,9,FALSE)","v":23.460342198479999},-24.06477345092534,-0.6044312524453378,3929.9865671890793,0,0,23.460342198479999,1,11.73017109924,1.2116279069767442,0.24232558139534882,2.6046511627906978E-2,2.3460342198479998,0.21627906976744185,0,8.6489636872440753E-2,2.3460342198479998,-2.4064773450925334,0.8925143953934741,0,3.3205842727812072,90.070956654878557,-92.391540927659761,-51.73926291948947,-51.73926291948947,0,null,null,null,null,null,null,null,null,null,null,null,null,null,null,null,null,null,null,null,null,null,"1967-04-01",0.2,1.833,null,"1975-03-31",0.2,1.9119999999999999,null,"2006-03-31",0.1,1.7312099999999999,0.1,1.7312099999999999,0.1,1.6279600000000001,null,"2016-03-30",0.1,1.73584,0.1,1.73584,0.1,1.6031,null,"2066-03-31",0.11,1.7589900000000001,0.11,1.7589900000000001,0.11,1.4787600000000001,null,null,null,1993,0,null,16,{"$error":"#DIV/0!"},{"$error":"#DIV/0!"},{"$error":"#DIV/0!"}]
["1967-04-02",4.5,0.92300000000000004,4,1967,13,4.5,{"$f":"IF(B125<Parameters!$A$16,B125*Parameters!$B$16,IF(AND(B125>Parameters!$A$16,B125<Parameters!$A$17),B125*Parameters!$B$17,B125*Parameters!$B$18))","v":4.2749999999999995},{"$f":"IF(B125<Parameters!$A$20,B125*Parameters!$B$20,IF(AND(B125>Parameters!$A$20,B125<Parameters!$A$21),B125*Parameters!$B$21,B125*Parameters!$B$22))","v":3.375},54.52325581395349,1.2116279069767442,51.566860465116271,0.94577735124760054,2.9563953488372192,0.75633333333333341,1116.2616433217602,0.39182131976255319,{"$f":"VLOOKUP($F125,'Gegevens vergelijking'!$I$16:$Q$68,9,FALSE)","v":23.460342198479999},27.714696946873719,51.175039145353715,3957.7012641359529,0,0,23.460342198479999,1,0.52134093774400003,1.2116279069767442,5.4523255813953488,5.1566860465116271,2.3460342198479998,0.29563953488372191,0,3.9182131976255322E-2,2.3460342198479998,2.7714696946873723,5.4222648752399412E-2,0,7.5983163649765107E-3,0.45494998118705227,0.53745170244797125,59.586598435778505,59.586598435778505,0,null,null,null,null,null,null,null,null,null,null,null,null,null,null,null,null,null,null,null,null,null,"1967-04-02",4.5,0.92300000000000004,null,"1975-04-01",1,1.2250000000000001,null,"2006-04-01",0.23,1.88561,0.23,1.88561,0.23,1.80413,null,"2016-03-31",0.23,1.9006400000000001,0.23,1.9006400000000001,0.23,1.7958799999999999,null,"2066-04-01",0,1.9757899999999999,0,1.9757899999999999,0,1.75464,null,null,null,1994,0,null,17,{"$error":"#DIV/0!"},{"$error":"#DIV/0!"},{"$error":"#DIV/0!"}]
["1967-04-03",0.9,1.76,4,1967,14,0.9,{"$f":"IF(B126<Parameters!$A$16,B126*Parameters!$B$16,IF(AND(B126>Parameters!$A$16,B126<Parameters!$A$17),B126*Parameters!$B$17,B126*Parameters!$B$18))","v":0},{"$f":"IF(B126<Parameters!$A$20,B126*Parameters!$B$20,IF(AND(B126>Parameters!$A$20,B126<Parameters!$A$21),B126*Parameters!$B$21,B126*Parameters!$B$22))","v":0},10.904651162790698,1.2116279069767442,1.172093023255814,0.10748560460652591,9.7325581395348841,1.5933333333333333,1113.9073180281525,0.82724506280279275,{"$f":"VLOOKUP($F126,'Gegevens vergelijking'!$I$16:$Q$68,9,FALSE)","v":27.019937776034283},-26.675089815581259,0.34484796045302124,3931.0261743203719,0,0,27.019937776034283,1,3.0022153084482537,1.2116279069767442,1.0904651162790697,0.1172093023255814,2.7019937776034282,0.97325581395348837,0,8.2724506280279275E-2,2.7019937776034282,-2.6675089815581261,0.8925143953934741,0,0.7057844781849224,23.052724689870519,-22.75850916805544,-57.351443103499712,0,-57.351443103499712,null,null,null,null,null,null,null,null,null,null,null,null,null,null,null,null,null,null,null,null,null,"1967-04-03",0.9,1.76,null,"1975-04-02",12.9,1.7999999999999999E-2,null,"2006-04-02",5.23,0.94948999999999995,5.23,0.94948999999999995,5.23,0.90846000000000005,null,"2016-04-01",5.23,0.95706000000000002,5.23,0.95706000000000002,5.23,0.90430999999999995,null,"2066-04-02",5.24,0.99490000000000001,5.24,0.99490000000000001,5.24,0.88353999999999999,null,null,null,1995,0,null,18,{"$error":"#DIV/0!"},{"$error":"#DIV/0!"},{"$error":"#DIV/0!"}]
["1967-04-04",0.5,0.79600000000000004,4,1967,14,0.5,{"$f":"IF(B127<Parameters!$A$16,B127*Parameters!$B$16,IF(AND(B127>Parameters!$A$16,B127<Parameters!$A$17),B127*Parameters!$B$17,B127*Parameters!$B$18))","v":0},{"$f":"IF(B127<Parameters!$A$20,B127*Parameters!$B$20,IF(AND(B127>Parameters!$A$20,B127<Parameters!$A$21),B127*Parameters!$B$21,B127*Parameters!$B$22))","v":0},6.058139534883721,1.2116279069767442,0.65116279069767447,0.10748560460652591,5.4069767441860463,0.62933333333333341,1111.5512504495684,0.32605535138560504,{"$f":"VLOOKUP($F127,'Gegevens vergelijking'!$I$16:$Q$68,9,FALSE)","v":27.019937776034283},-26.694830336722212,0.32510743931206942,3904.3313439836497,0,0,27.019937776034283,1,5.4039875552068564,1.2116279069767442,0.60581395348837208,6.5116279069767441E-2,2.7019937776034282,0.54069767441860461,0,3.2605535138560501E-2,2.7019937776034282,-2.6694830336722211,0.89251439539347399,0,0.50072786105646483,41.494904441766934,-40.995632302823395,-57.393885223952758,0,-57.393885223952758,null,null,null,null,null,null,null,null,null,null,null,null,null,null,null,null,null,null,null,null,null,"1967-04-04",0.5,0.79600000000000004,null,"1975-04-03",4.7,0.84499999999999997,null,"2006-04-03",1.02,1.8105100000000001,1.02,1.8105100000000001,1.02,1.73228,null,"2016-04-02",1.02,1.82494,1.02,1.82494,1.02,1.7243599999999999,null,"2066-04-03",0.99,1.8971,0.99,1.8971,0.99,1.68476,null,null,null,1996,0,null,19,{"$error":"#DIV/0!"},{"$error":"#DIV/0!"},{"$error":"#DIV/0!"}]
["1967-04-05",0.1,1.08,4,1967,14,0.1,{"$f":"IF(B128<Parameters!$A$16,B128*Parameters!$B$16,IF(AND(B128>Parameters!$A$16,B128<Parameters!$A$17),B128*Parameters!$B$17,B128*Parameters!$B$18))","v":0},{"$f":"IF(B128<Parameters!$A$20,B128*Parameters!$B$20,IF(AND(B128>Parameters!$A$20,B128<Parameters!$A$21),B128*Parameters!$B$21,B128*Parameters!$B$22))","v":0},1.2116279069767442,1.2116279069767442,0.13023255813953488,0.10748560460652591,1.0813953488372092,0.91333333333333344,1109.1363078369563,0.4721938645320648,{"$f":"VLOOKUP($F128,'Gegevens vergelijking'!$I$16:$Q$68,9,FALSE)","v":27.019937776034283},-27.361899082426813,-0.34196130639252992,3876.9694449012231,0,0,27.019937776034283,1,27.019937776034283,1.2116279069767442,0.12116279069767441,1.3023255813953489E-2,2.7019937776034282,0.10813953488372093,0,4.7219386453206481E-2,2.7019937776034282,-2.736189908242681,0.8925143953934741,0,3.6257743169426404,207.47452220883466,-210.10029652577728,-58.828083027217637,0,-58.828083027217637,null,null,null,null,null,null,null,null,null,null,null,null,null,null,null,null,null,null,null,null,null,"1967-04-05",0.1,1.08,null,"1975-04-04",6.2,0.64700000000000002,null,"2006-04-04",0.56999999999999995,0.81884999999999997,0.56999999999999995,0.81884999999999997,0.56999999999999995,0.78346000000000005,null,"2016-04-03",0.56999999999999995,0.82537000000000005,0.56999999999999995,0.82537000000000005,0.56999999999999995,0.77988000000000002,null,"2066-04-04",0.56000000000000005,0.85801000000000005,0.56000000000000005,0.85801000000000005,0.56000000000000005,0.76197000000000004,null,null,null,1997,0,null,20,{"$error":"#DIV/0!"},{"$error":"#DIV/0!"},{"$error":"#DIV/0!"}]
["1967-04-06",8.8000000000000007,0.64,4,1967,14,8.8000000000000007,{"$f":"IF(B129<Parameters!$A$16,B129*Parameters!$B$16,IF(AND(B129>Parameters!$A$16,B129<Parameters!$A$17),B129*Parameters!$B$17,B129*Parameters!$B$18))","v":8.36},{"$f":"IF(B129<Parameters!$A$20,B129*Parameters!$B$20,IF(AND(B129>Parameters!$A$20,B129<Parameters!$A$21),B129*Parameters!$B$21,B129*Parameters!$B$22))","v":6.6000000000000005},106.62325581395351,1.2116279069767444,100.84186046511627,0.94577735124760054,5.7813953488372363,0.47333333333333338,1115.6302292172991,0.2441819468416245,{"$f":"VLOOKUP($F129,'Gegevens vergelijking'!$I$16:$Q$68,9,FALSE)","v":27.019937776034283},73.577740742240366,100.59767851827465,3950.5471856434633,0,0,27.019937776034283,1,0.30704474745493504,1.2116279069767444,10.662325581395351,10.084186046511627,2.7019937776034282,0.5781395348837236,0,2.441819468416245E-2,2.7019937776034282,7.3577740742240358,5.4222648752399474E-2,0,2.4214343697684273E-3,0.26794366596777691,0.72963489966245454,158.19214259581679,0,158.19214259581679,null,null,null,null,null,null,null,null,null,null,null,null,null,null,null,null,null,null,null,null,null,"1967-04-06",8.8000000000000007,0.64,null,"1975-04-05",0.7,1.5149999999999999,null,"2006-04-05",0.12,1.111,0.12,1.111,0.12,1.0629900000000001,null,"2016-04-04",0.12,1.11985,0.12,1.11985,0.12,1.05813,null,"2066-04-05",0.12,1.1641300000000001,0.12,1.1641300000000001,0.12,1.03383,null,null,null,1998,0,null,21,{"$error":"#DIV/0!"},{"$error":"#DIV/0!"},{"$error":"#DIV/0!"}]
["1967-04-07",0.4,1.1659999999999999,4,1967,14,0.4,{"$f":"IF(B130<Parameters!$A$16,B130*Parameters!$B$16,IF(AND(B130>Parameters!$A$16,B130<Parameters!$A$17),B130*Parameters!$B$17,B130*Parameters!$B$18))","v":0},{"$f":"IF(B130<Parameters!$A$20,B130*Parameters!$B$20,IF(AND(B130>Parameters!$A$20,B130<Parameters!$A$21),B130*Parameters!$B$21,B130*Parameters!$B$22))","v":0},4.8465116279069766,1.2116279069767442,0.52093023255813953,0.10748560460652591,4.3255813953488369,0.9993333333333333,1113.2456777916273,0.51855184917728103,{"$f":"VLOOKUP($F130,'Gegevens vergelijking'!$I$16:$Q$68,9,FALSE)","v":27.019937776034283},-27.017559392653425,2.3783833808584953E-3,3923.52962625081,0,0,27.019937776034283,1,6.7549844440085707,1.2116279069767442,0.48465116279069764,5.2093023255813956E-2,2.7019937776034282,0.4325581395348837,0,5.18551849177281E-2,2.7019937776034282,-2.7017559392653423,0.8925143953934741,0,0.99543435333138763,51.868630552208664,-51.864064905540054,-58.087752694204859,0,-58.087752694204859,null,null,null,null,null,null,null,null,null,null,null,null,null,null,null,null,null,null,null,null,null,"1967-04-07",0.4,1.1659999999999999,null,"1975-04-06",0.3,0.27,null,"2006-04-06",10.38,0.65837000000000001,10.38,0.65837000000000001,10.38,0.62992000000000004,null,"2016-04-05",10.42,0.66361999999999999,10.42,0.66361999999999999,10.42,0.62704000000000004,null,"2066-04-06",10.67,0.68986000000000003,10.67,0.68986000000000003,10.67,0.61263999999999996,null,null,null,1999,0,null,22,{"$error":"#DIV/0!"},{"$error":"#DIV/0!"},{"$error":"#DIV/0!"}]
["1967-04-08",0,2.363,4,1967,14,0,{"$f":"IF(B131<Parameters!$A$16,B131*Parameters!$B$16,IF(AND(B131>Parameters!$A$16,B131<Parameters!$A$17),B131*Parameters!$B$17,B131*Parameters!$B$18))","v":0},{"$f":"IF(B131<Parameters!$A$20,B131*Parameters!$B$20,IF(AND(B131>Parameters!$A$20,B131<Parameters!$A$21),B131*Parameters!$B$21,B131*Parameters!$B$22))","v":0},0,"",0,"",0,2.1963333333333335,1110.7605447263152,1.1372365536386095,{"$f":"VLOOKUP($F131,'Gegevens vergelijking'!$I$16:$Q$68,9,FALSE)","v":27.019937776034283},-28.157174329672891,-1.1372365536386095,3895.3724519211373,0,0,27.019937776034283,1,"","",0,0,2.7019937776034282,0,0,0.11372365536386095,2.7019937776034282,-2.8157174329672889,"","","","","",-60.537924808796717,0,-60.537924808796717,null,null,null,null,null,null,null,null,null,null,null,null,null,null,null,null,null,null,null,null,null,"1967-04-08",0,2.363,null,"1975-04-07",4.8,1.357,null,"2006-04-07",0.46,1.19946,0.46,1.19946,0.46,1.14764,null,"2016-04-06",0.46,1.20903,0.46,1.20903,0.46,1.14239,null,"2066-04-07",0.45,1.2568299999999999,0.45,1.2568299999999999,0.45,1.11615,null,null,null,2000,0,null,23,{"$error":"#DIV/0!"},{"$error":"#DIV/0!"},{"$error":"#DIV/0!"}]
["1967-04-09",0.3,1.879,4,1967,14,0.3,{"$f":"IF(B132<Parameters!$A$16,B132*Parameters!$B$16,IF(AND(B132>Parameters!$A$16,B132<Parameters!$A$17),B132*Parameters!$B$17,B132*Parameters!$B$18))","v":0},{"$f":"IF(B132<Parameters!$A$20,B132*Parameters!$B$20,IF(AND(B132>Parameters!$A$20,B132<Parameters!$A$21),B132*Parameters!$B$21,B132*Parameters!$B$22))","v":0},3.6348837209302327,1.2116279069767442,0.39069767441860465,0.10748560460652591,3.2441860465116279,1.7123333333333333,1108.3321877028864,0.88464758422621403,{"$f":"VLOOKUP($F132,'Gegevens vergelijking'!$I$16:$Q$68,9,FALSE)","v":27.019937776034283},-27.513887685841894,-0.49394990980760939,3867.8585642352955,0,0,27.019937776034283,1,9.0066459253447615,1.2116279069767442,0.36348837209302326,3.9069767441860463E-2,2.7019937776034282,0.32441860465116279,0,8.8464758422621401E-2,2.7019937776034282,-2.7513887685841891,0.8925143953934741,0,2.2642765548647144,69.158174069611562,-70.422450624476269,-59.154858524560069,0,-59.154858524560069,null,null,null,null,null,null,null,null,null,null,null,null,null,null,null,null,null,null,null,null,null,"1967-04-09",0.3,1.879,null,"1975-04-08",1,1.403,null,"2006-04-08",0,2.4308200000000002,0,2.4308200000000002,0,2.32578,null,"2016-04-07",0,2.4501900000000001,0,2.4501900000000001,0,2.31515,null,"2066-04-08",0,2.5470799999999998,0,2.5470799999999998,0,2.2619799999999999,null,null,null,2001,0,null,24,{"$error":"#DIV/0!"},{"$error":"#DIV/0!"},{"$error":"#DIV/0!"}]
["1967-04-10",4.7,2.2709999999999999,4,1967,15,4.7,{"$f":"IF(B133<Parameters!$A$16,B133*Parameters!$B$16,IF(AND(B133>Parameters!$A$16,B133<Parameters!$A$17),B133*Parameters!$B$17,B133*Parameters!$B$18))","v":4.4649999999999999},{"$f":"IF(B133<Parameters!$A$20,B133*Parameters!$B$20,IF(AND(B133>Parameters!$A$20,B133<Parameters!$A$21),B133*Parameters!$B$21,B133*Parameters!$B$22))","v":3.5250000000000004},56.946511627906979,1.2116279069767442,53.858720930232558,0.94577735124760076,3.0877906976744214,2.1043333333333334,1110.4370459963288,1.0847908683671816,{"$f":"VLOOKUP($F133,'Gegevens vergelijking'!$I$16:$Q$68,9,FALSE)","v":28.925363264788576},23.848566797076799,52.773930061865379,3891.7071310323722,0,0,28.925363264788576,1,0.61543326095294837,1.2116279069767442,5.6946511627906977,5.3858720930232558,2.8925363264788575,0.30877906976744213,0,0.10847908683671817,2.8925363264788575,2.38485667970768,5.422264875239928E-2,0,2.0141415347987874E-2,0.53705997404316153,0.44279861060885062,51.27441861371512,0,51.27441861371512,null,null,null,null,null,null,null,null,null,null,null,null,null,null,null,null,null,null,null,null,null,"1967-04-10",4.7,2.2709999999999999,null,"1975-04-09",6.6,0.26700000000000002,null,"2006-04-09",0.35,1.93293,0.35,1.93293,0.35,1.84941,null,"2016-04-08",0.35,1.94834,0.35,1.94834,0.35,1.8409500000000001,null,"2066-04-09",0.35,2.0253700000000001,0.35,2.0253700000000001,0.35,1.79867,null,null,null,2002,0,null,25,{"$error":"#DIV/0!"},{"$error":"#DIV/0!"},{"$error":"#DIV/0!"}]
["1967-04-11",0,1.397,4,1967,15,0,{"$f":"IF(B134<Parameters!$A$16,B134*Parameters!$B$16,IF(AND(B134>Parameters!$A$16,B134<Parameters!$A$17),B134*Parameters!$B$17,B134*Parameters!$B$18))","v":0},{"$f":"IF(B134<Parameters!$A$20,B134*Parameters!$B$20,IF(AND(B134>Parameters!$A$20,B134<Parameters!$A$21),B134*Parameters!$B$21,B134*Parameters!$B$22))","v":0},0,"",0,"",0,1.2303333333333333,1107.8280291145813,0.63544544756162002,{"$f":"VLOOKUP($F134,'Gegevens vergelijking'!$I$16:$Q$68,9,FALSE)","v":28.925363264788576},-29.560808712350195,-0.63544544756162002,3862.1463223200221,0,0,28.925363264788576,1,"","",0,0,2.8925363264788575,0,0,6.3544544756162002E-2,2.8925363264788575,-2.9560808712350193,"","","","","",-63.555738731552914,0,-63.555738731552914,null,null,null,null,null,null,null,null,null,null,null,null,null,null,null,null,null,null,null,null,null,"1967-04-11",0,1.397,null,"1975-04-10",0.2,1.8240000000000001,null,"2006-04-10",5.48,2.3361800000000001,5.48,2.3361800000000001,5.48,2.2352300000000001,null,"2016-04-09",5.49,2.3548,5.49,2.3548,5.49,2.2250100000000002,null,"2066-04-10",0,2.4479099999999998,0,2.4479099999999998,0,2.1739099999999998,null,null,null,2003,0,null,26,{"$error":"#DIV/0!"},{"$error":"#DIV/0!"},{"$error":"#DIV/0!"}]
["1967-04-12",0.6,1.8420000000000001,4,1967,15,0.6,{"$f":"IF(B135<Parameters!$A$16,B135*Parameters!$B$16,IF(AND(B135>Parameters!$A$16,B135<Parameters!$A$17),B135*Parameters!$B$17,B135*Parameters!$B$18))","v":0},{"$f":"IF(B135<Parameters!$A$20,B135*Parameters!$B$20,IF(AND(B135>Parameters!$A$20,B135<Parameters!$A$21),B135*Parameters!$B$21,B135*Parameters!$B$22))","v":0},7.2697674418604654,1.2116279069767442,0.78139534883720929,0.10748560460652591,6.4883720930232558,1.6753333333333333,1105.2678720378005,0.86324708129145511,{"$f":"VLOOKUP($F135,'Gegevens vergelijking'!$I$16:$Q$68,9,FALSE)","v":28.925363264788576},-29.007214997242823,-8.1851732454245818E-2,3833.1391073227792,0,0,28.925363264788576,1,4.8208938774647629,1.2116279069767442,0.72697674418604652,7.8139534883720926E-2,2.8925363264788575,0.64883720930232558,0,8.6324708129145514E-2,2.8925363264788575,-2.9007214997242823,0.8925143953934741,0,1.1047507290337075,37.017577987675857,-37.122328716709568,-62.365512244072065,0,-62.365512244072065,null,null,null,null,null,null,null,null,null,null,null,null,null,null,null,null,null,null,null,null,null,"1967-04-12",0.6,1.8420000000000001,null,"1975-04-11",1,0.42899999999999999,null,"2006-04-11",0,1.43709,0,1.43709,0,1.375,null,"2016-04-10",0,1.44855,0,1.44855,0,1.3687100000000001,null,"2066-04-11",0,1.50583,0,1.50583,0,1.33728,null,null,null,2004,0,null,27,{"$error":"#DIV/0!"},{"$error":"#DIV/0!"},{"$error":"#DIV/0!"}]
["1967-04-13",0.1,2.2080000000000002,4,1967,15,0.1,{"$f":"IF(B136<Parameters!$A$16,B136*Parameters!$B$16,IF(AND(B136>Parameters!$A$16,B136<Parameters!$A$17),B136*Parameters!$B$17,B136*Parameters!$B$18))","v":0},{"$f":"IF(B136<Parameters!$A$20,B136*Parameters!$B$20,IF(AND(B136>Parameters!$A$20,B136<Parameters!$A$21),B136*Parameters!$B$21,B136*Parameters!$B$22))","v":0},1.2116279069767442,1.2116279069767442,0.13023255813953488,0.10748560460652591,1.0813953488372092,2.0413333333333337,1102.6338136290644,1.0494047206758901,{"$f":"VLOOKUP($F136,'Gegevens vergelijking'!$I$16:$Q$68,9,FALSE)","v":28.925363264788576},-29.844535427324931,-0.91917216253635514,3803.2945718954543,0,0,28.925363264788576,1,28.925363264788576,1.2116279069767442,0.12116279069767441,1.3023255813953489E-2,2.8925363264788575,0.10813953488372093,0,0.10494047206758901,2.8925363264788575,-2.984453542732493,0.8925143953934741,0,8.0579291051898707,222.10546792605513,-229.16339703124498,-64.165751168748599,0,-64.165751168748599,null,null,null,null,null,null,null,null,null,null,null,null,null,null,null,null,null,null,null,null,null,"1967-04-13",0.1,2.2080000000000002,null,"1975-04-12",0.5,0.51600000000000001,null,"2006-04-12",0.68,1.8948700000000001,0.68,1.8948700000000001,0.68,1.8129900000000001,null,"2016-04-11",0.68,1.9099699999999999,0.68,1.9099699999999999,0.68,1.8047,null,"2066-04-12",0.66,1.98549,0.66,1.98549,0.66,1.76325,null,null,null,2005,0,null,28,{"$error":"#DIV/0!"},{"$error":"#DIV/0!"},{"$error":"#DIV/0!"}]
["1967-04-14",0,3.4660000000000002,4,1967,15,0,{"$f":"IF(B137<Parameters!$A$16,B137*Parameters!$B$16,IF(AND(B137>Parameters!$A$16,B137<Parameters!$A$17),B137*Parameters!$B$17,B137*Parameters!$B$18))","v":0},{"$f":"IF(B137<Parameters!$A$20,B137*Parameters!$B$20,IF(AND(B137>Parameters!$A$20,B137<Parameters!$A$21),B137*Parameters!$B$21,B137*Parameters!$B$22))","v":0},0,"",0,"",0,3.2993333333333337,1099.9315395364724,1.6920727887287568,{"$f":"VLOOKUP($F137,'Gegevens vergelijking'!$I$16:$Q$68,9,FALSE)","v":28.925363264788576},-30.617436053517334,-1.6920727887287568,3772.6771358419369,0,0,28.925363264788576,1,"","",0,0,2.8925363264788575,0,0,0.16920727887287568,2.8925363264788575,-3.0617436053517331,"","","","","",-65.827487515062259,0,-65.827487515062259,null,null,null,null,null,null,null,null,null,null,null,null,null,null,null,null,null,null,null,null,null,"1967-04-14",0,3.4660000000000002,null,"1975-04-13",0.2,1.8660000000000001,null,"2006-04-13",0.12,2.2713700000000001,0.12,2.2713700000000001,0.12,2.1732200000000002,null,"2016-04-12",0.12,2.2894800000000002,0.12,2.2894800000000002,0.12,2.1632899999999999,null,"2066-04-13",0.12,2.38,0.12,2.38,0.12,2.11361,null,null,null,2006,0,null,29,{"$error":"#DIV/0!"},{"$error":"#DIV/0!"},{"$error":"#DIV/0!"}]
["1967-04-15",0.6,2.8029999999999999,4,1967,15,0.6,{"$f":"IF(B138<Parameters!$A$16,B138*Parameters!$B$16,IF(AND(B138>Parameters!$A$16,B138<Parameters!$A$17),B138*Parameters!$B$17,B138*Parameters!$B$18))","v":0},{"$f":"IF(B138<Parameters!$A$20,B138*Parameters!$B$20,IF(AND(B138>Parameters!$A$20,B138<Parameters!$A$21),B138*Parameters!$B$21,B138*Parameters!$B$22))","v":0},7.2697674418604654,1.2116279069767442,0.78139534883720929,0.10748560460652591,6.4883720930232558,2.6363333333333334,1097.3285333825011,1.3487377590998388,{"$f":"VLOOKUP($F138,'Gegevens vergelijking'!$I$16:$Q$68,9,FALSE)","v":28.925363264788576},-29.492705675051205,-0.56734241026262955,3743.1844301668857,0,0,28.925363264788576,1,4.8208938774647629,1.2116279069767442,0.72697674418604652,7.8139534883720926E-2,2.8925363264788575,0.64883720930232558,0,0.1348737759099839,2.8925363264788575,-2.9492705675051205,0.8925143953934741,0,1.7260632036099131,37.017577987675857,-37.743641191285768,-63.409317201360089,0,-63.409317201360089,null,null,null,null,null,null,null,null,null,null,null,null,null,null,null,null,null,null,null,null,null,"1967-04-15",0.6,2.8029999999999999,null,"1975-04-14",4.3,1.1140000000000001,null,"2006-04-14",0,3.5654699999999999,0,3.5654699999999999,0,3.4114100000000001,null,"2016-04-13",0,3.5939000000000001,0,3.5939000000000001,0,3.39581,null,"2066-04-14",0,3.7360000000000002,0,3.7360000000000002,0,3.3178299999999998,null,null,null,2007,0,null,30,{"$error":"#DIV/0!"},{"$error":"#DIV/0!"},{"$error":"#DIV/0!"}]
["1967-04-16",0,3.0670000000000002,4,1967,15,0,{"$f":"IF(B139<Parameters!$A$16,B139*Parameters!$B$16,IF(AND(B139>Parameters!$A$16,B139<Parameters!$A$17),B139*Parameters!$B$17,B139*Parameters!$B$18))","v":0},{"$f":"IF(B139<Parameters!$A$20,B139*Parameters!$B$20,IF(AND(B139>Parameters!$A$20,B139<Parameters!$A$21),B139*Parameters!$B$21,B139*Parameters!$B$22))","v":0},0,"",0,"",0,2.9003333333333337,1094.6449512991846,1.4802876851102549,{"$f":"VLOOKUP($F139,'Gegevens vergelijking'!$I$16:$Q$68,9,FALSE)","v":28.925363264788576},-30.405650949898831,-1.4802876851102549,3712.778779216987,0,0,28.925363264788576,1,"","",0,0,2.8925363264788575,0,0,0.14802876851102548,2.8925363264788575,-3.040565094989883,"","","","","",-65.372149542282486,0,-65.372149542282486,null,null,null,null,null,null,null,null,null,null,null,null,null,null,null,null,null,null,null,null,null,"1967-04-16",0,3.0670000000000002,null,"1975-04-15",2.6,1.4990000000000001,null,"2006-04-15",0.68,2.8834499999999998,0.68,2.8834499999999998,0.68,2.7588499999999998,null,"2016-04-14",0.68,2.9064299999999998,0.68,2.9064299999999998,0.68,2.7462399999999998,null,"2066-04-15",0.66,3.02135,0.66,3.02135,0.66,2.6831700000000001,null,null,null,2008,0,null,31,{"$error":"#DIV/0!"},{"$error":"#DIV/0!"},{"$error":"#DIV/0!"}]
["1967-04-17",0,2.9590000000000001,4,1967,16,0,{"$f":"IF(B140<Parameters!$A$16,B140*Parameters!$B$16,IF(AND(B140>Parameters!$A$16,B140<Parameters!$A$17),B140*Parameters!$B$17,B140*Parameters!$B$18))","v":0},{"$f":"IF(B140<Parameters!$A$20,B140*Parameters!$B$20,IF(AND(B140>Parameters!$A$20,B140<Parameters!$A$21),B140*Parameters!$B$21,B140*Parameters!$B$22))","v":0},0,"",0,"",0,2.7923333333333336,1091.6316520365622,1.4216807375245379,{"$f":"VLOOKUP($F140,'Gegevens vergelijking'!$I$16:$Q$68,9,FALSE)","v":32.719747675074295},-34.141428412598835,-1.4216807375245379,3678.637350804388,0,0,32.719747675074295,1,"","",0,0,3.2719747675074293,0,0,0.1421680737524538,3.2719747675074293,-3.4141428412598831,"","","","","",-73.404071087087488,0,-73.404071087087488,null,null,null,null,null,null,null,null,null,null,null,null,null,null,null,null,null,null,null,null,null,"1967-04-17",0,2.9590000000000001,null,"1975-04-16",0.2,0.51600000000000001,null,"2006-04-16",0,3.1550199999999999,0,3.1550199999999999,0,3.0186899999999999,null,"2016-04-15",0,3.1801699999999999,0,3.1801699999999999,0,3.0048900000000001,null,"2066-04-16",0,3.30592,0,3.30592,0,2.9358900000000001,null,null,null,2009,0,null,32,{"$error":"#DIV/0!"},{"$error":"#DIV/0!"},{"$error":"#DIV/0!"}]
["1967-04-18",0,2.0430000000000001,4,1967,16,0,{"$f":"IF(B141<Parameters!$A$16,B141*Parameters!$B$16,IF(AND(B141>Parameters!$A$16,B141<Parameters!$A$17),B141*Parameters!$B$17,B141*Parameters!$B$18))","v":0},{"$f":"IF(B141<Parameters!$A$20,B141*Parameters!$B$20,IF(AND(B141>Parameters!$A$20,B141<Parameters!$A$21),B141*Parameters!$B$21,B141*Parameters!$B$22))","v":0},0,"",0,"",0,1.8763333333333334,1088.6597463429516,0.95268132857578414,{"$f":"VLOOKUP($F141,'Gegevens vergelijking'!$I$16:$Q$68,9,FALSE)","v":32.719747675074295},-33.67242900365008,-0.95268132857578414,3644.964921800738,0,0,32.719747675074295,1,"","",0,0,3.2719747675074293,0,0,9.5268132857578416E-2,3.2719747675074293,-3.367242900365008,"","","","","",-72.395722357847674,0,-72.395722357847674,null,null,null,null,null,null,null,null,null,null,null,null,null,null,null,null,null,null,null,null,null,"1967-04-18",0,2.0430000000000001,null,"1975-04-17",2.9,1.33,null,"2006-04-17",0,3.04392,0,3.04392,0,2.9123999999999999,null,"2016-04-16",0,3.06819,0,3.06819,0,2.8990800000000001,null,"2066-04-17",0,3.1895099999999998,0,3.1895099999999998,0,2.8325,null,null,null,2010,0,null,33,{"$error":"#DIV/0!"},{"$error":"#DIV/0!"},{"$error":"#DIV/0!"}]
["1967-04-19",0,3.2050000000000001,4,1967,16,0,{"$f":"IF(B142<Parameters!$A$16,B142*Parameters!$B$16,IF(AND(B142>Parameters!$A$16,B142<Parameters!$A$17),B142*Parameters!$B$17,B142*Parameters!$B$18))","v":0},{"$f":"IF(B142<Parameters!$A$20,B142*Parameters!$B$20,IF(AND(B142>Parameters!$A$20,B142<Parameters!$A$21),B142*Parameters!$B$21,B142*Parameters!$B$22))","v":0},0,"",0,"",0,3.0383333333333336,1085.6361393108452,1.5384703237079076,{"$f":"VLOOKUP($F142,'Gegevens vergelijking'!$I$16:$Q$68,9,FALSE)","v":32.719747675074295},-34.2582179987822,-1.5384703237079076,3610.7067038019559,0,0,32.719747675074295,1,"","",0,0,3.2719747675074293,0,0,0.15384703237079075,3.2719747675074293,-3.4258217998782201,"","","","","",-73.655168697381725,0,-73.655168697381725,null,null,null,null,null,null,null,null,null,null,null,null,null,null,null,null,null,null,null,null,null,"1967-04-19",0,3.2050000000000001,null,"1975-04-18",2.8,2.61,null,"2006-04-18",0,2.1016300000000001,0,2.1016300000000001,0,2.0108199999999998,null,"2016-04-17",0,2.1183900000000002,0,2.1183900000000002,0,2.00163,null,"2066-04-18",0,2.2021500000000001,0,2.2021500000000001,0,1.95566,null,null,null,2011,0,null,34,{"$error":"#DIV/0!"},{"$error":"#DIV/0!"},{"$error":"#DIV/0!"}]
["1967-04-20",0.7,1.268,4,1967,16,0.7,{"$f":"IF(B143<Parameters!$A$16,B143*Parameters!$B$16,IF(AND(B143>Parameters!$A$16,B143<Parameters!$A$17),B143*Parameters!$B$17,B143*Parameters!$B$18))","v":0},{"$f":"IF(B143<Parameters!$A$20,B143*Parameters!$B$20,IF(AND(B143>Parameters!$A$20,B143<Parameters!$A$21),B143*Parameters!$B$21,B143*Parameters!$B$22))","v":0},8.4813953488372089,1.2116279069767442,0.91162790697674412,0.10748560460652591,7.5697674418604652,1.1013333333333333,1082.7796939504215,0.55611500841597394,{"$f":"VLOOKUP($F143,'Gegevens vergelijking'!$I$16:$Q$68,9,FALSE)","v":32.719747675074295},-32.364234776513527,0.35551289856077017,3578.3424690254424,0,0,32.719747675074295,1,4.6742496678677563,1.2116279069767442,0.84813953488372085,9.1162790697674412E-2,3.2719747675074293,0.75697674418604655,0,5.5611500841597397E-2,3.2719747675074293,-3.2364234776513525,0.89251439539347421,0,0.61002411637466536,35.891559949698845,-35.501584066073512,-69.583104769504075,0,-69.583104769504075,null,null,null,null,null,null,null,null,null,null,null,null,null,null,null,null,null,null,null,null,null,"1967-04-20",0.7,1.268,null,"1975-04-19",1.4,1.0580000000000001,null,"2006-04-19",0,3.29698,0,3.29698,0,3.1545200000000002,null,"2016-04-18",0,3.3232599999999999,0,3.3232599999999999,0,3.1400999999999999,null,"2066-04-19",0,3.4546700000000001,0,3.4546700000000001,0,3.06799,null,null,null,2012,0,null,35,{"$error":"#DIV/0!"},{"$error":"#DIV/0!"},{"$error":"#DIV/0!"}]
["1967-04-21",1.5,2.073,4,1967,16,1.5,{"$f":"IF(B144<Parameters!$A$16,B144*Parameters!$B$16,IF(AND(B144>Parameters!$A$16,B144<Parameters!$A$17),B144*Parameters!$B$17,B144*Parameters!$B$18))","v":1.2000000000000002},{"$f":"IF(B144<Parameters!$A$20,B144*Parameters!$B$20,IF(AND(B144>Parameters!$A$20,B144<Parameters!$A$21),B144*Parameters!$B$21,B144*Parameters!$B$22))","v":0.89999999999999991},18.174418604651162,1.2116279069767442,14.755813953488374,0.81190019193857976,3.4186046511627879,1.9063333333333332,1081.1094747174736,0.96006466196937357,{"$f":"VLOOKUP($F144,'Gegevens vergelijking'!$I$16:$Q$68,9,FALSE)","v":32.719747675074295},-18.923998383555293,13.795749291519002,3559.4184706418869,0,0,32.719747675074295,1,2.1813165116716196,1.2116279069767442,1.8174418604651161,1.4755813953488375,3.2719747675074293,0.34186046511627877,0,9.6006466196937354E-2,3.2719747675074293,-1.8923998383555292,0.18809980806142018,0,6.5063483789886606E-2,2.2174139480349795,-1.282477431824866,-40.686596524643882,0,-40.686596524643882,null,null,null,null,null,null,null,null,null,null,null,null,null,null,null,null,null,null,null,null,null,"1967-04-21",1.5,2.073,null,"1975-04-20",0,2.6259999999999999,null,"2006-04-20",0.8,1.3043899999999999,0.8,1.3043899999999999,0.8,1.24803,null,"2016-04-19",0.79,1.3147899999999999,0.79,1.3147899999999999,0.79,1.2423200000000001,null,"2066-04-20",0.78,1.3667800000000001,0.78,1.3667800000000001,0.78,1.2137899999999999,null,null,null,"Eindtotaal",0,null,36,{"$error":"#DIV/0!"},{"$error":"#DIV/0!"},{"$error":"#DIV/0!"}]
["1967-04-22",0.8,1.6819999999999999,4,1967,16,0.8,{"$f":"IF(B145<Parameters!$A$16,B145*Parameters!$B$16,IF(AND(B145>Parameters!$A$16,B145<Parameters!$A$17),B145*Parameters!$B$17,B145*Parameters!$B$18))","v":0},{"$f":"IF(B145<Parameters!$A$20,B145*Parameters!$B$20,IF(AND(B145>Parameters!$A$20,B145<Parameters!$A$21),B145*Parameters!$B$21,B145*Parameters!$B$22))","v":0},9.6930232558139533,1.2116279069767442,1.0418604651162791,0.10748560460652591,8.6511627906976738,1.5153333333333332,1078.2463547375057,0.76197266233575722,{"$f":"VLOOKUP($F145,'Gegevens vergelijking'!$I$16:$Q$68,9,FALSE)","v":32.719747675074295},-32.439859872293773,0.27988780278052183,3526.9786107695932,0,0,32.719747675074295,1,4.0899684593842869,1.2116279069767442,0.96930232558139529,0.10418604651162791,3.2719747675074293,0.8651162790697674,0,7.6197266233575728E-2,3.2719747675074293,-3.2439859872293773,0.8925143953934741,0,0.73135768929548128,31.405114955986484,-31.13647264528197,-69.745698725431609,0,-69.745698725431609,null,null,null,null,null,null,null,null,null,null,null,null,null,null,null,null,null,null,null,null,null,"1967-04-22",0.8,1.6819999999999999,null,"1975-04-21",0,3.4359999999999999,null,"2006-04-21",1.71,2.1324999999999998,1.71,2.1324999999999998,1.71,2.0403500000000001,null,"2016-04-20",1.69,2.1494900000000001,1.69,2.1494900000000001,1.69,2.0310199999999998,null,"2066-04-21",1.65,2.2344900000000001,1.65,2.2344900000000001,1.65,1.98438,null,null,null,null,null,null,37,{"$error":"#DIV/0!"},{"$error":"#DIV/0!"},{"$error":"#DIV/0!"}]
["1967-04-23",5.0999999999999996,0.56399999999999995,4,1967,16,5.0999999999999996,{"$f":"IF(B146<Parameters!$A$16,B146*Parameters!$B$16,IF(AND(B146>Parameters!$A$16,B146<Parameters!$A$17),B146*Parameters!$B$17,B146*Parameters!$B$18))","v":4.8449999999999998},{"$f":"IF(B146<Parameters!$A$20,B146*Parameters!$B$20,IF(AND(B146>Parameters!$A$20,B146<Parameters!$A$21),B146*Parameters!$B$21,B146*Parameters!$B$22))","v":3.8249999999999997},61.793023255813956,1.2116279069767442,58.442441860465109,0.94577735124760065,3.350581395348847,0.39733333333333332,1080.4990351044066,0.19926661315459018,{"$f":"VLOOKUP($F146,'Gegevens vergelijking'!$I$16:$Q$68,9,FALSE)","v":32.719747675074295},25.523427572236223,58.243175247310518,3552.5020383418296,0,0,32.719747675074295,1,0.64156367990341756,1.2116279069767442,6.1793023255813955,5.8442441860465113,3.2719747675074293,0.33505813953488472,0,1.9926661315459018E-2,3.2719747675074293,2.5523427572236228,5.4222648752399391E-2,0,3.4096216176310932E-3,0.55986277495376879,0.43672760342860012,54.875369280307886,0,54.875369280307886,null,null,null,null,null,null,null,null,null,null,null,null,null,null,null,null,null,null,null,null,null,"1967-04-23",5.0999999999999996,0.56399999999999995,null,"1975-04-22",0,4.4480000000000004,null,"2006-04-22",0.92,1.73027,0.92,1.73027,0.92,1.65551,null,"2016-04-21",0.9,1.74407,0.9,1.74407,0.9,1.64794,null,"2066-04-22",0.88,1.8130299999999999,0.88,1.8130299999999999,0.88,1.61009,null,null,null,null,null,null,38,{"$error":"#DIV/0!"},{"$error":"#DIV/0!"},{"$error":"#DIV/0!"}]
["1967-04-24",0,3.5129999999999999,4,1967,17,0,{"$f":"IF(B147<Parameters!$A$16,B147*Parameters!$B$16,IF(AND(B147>Parameters!$A$16,B147<Parameters!$A$17),B147*Parameters!$B$17,B147*Parameters!$B$18))","v":0},{"$f":"IF(B147<Parameters!$A$20,B147*Parameters!$B$20,IF(AND(B147>Parameters!$A$20,B147<Parameters!$A$21),B147*Parameters!$B$21,B147*Parameters!$B$22))","v":0},0,"",0,"",0,3.3463333333333334,1077.3489214305318,1.6817255524671531,{"$f":"VLOOKUP($F147,'Gegevens vergelijking'!$I$16:$Q$68,9,FALSE)","v":34.009844090885714},-35.691569643352864,-1.6817255524671531,3516.8104686984766,0,0,34.009844090885714,1,"","",0,0,3.4009844090885712,0,0,0.16817255524671532,3.4009844090885712,-3.5691569643352867,"","","","","",-76.736874733208666,0,-76.736874733208666,null,null,null,null,null,null,null,null,null,null,null,null,null,null,null,null,null,null,null,null,null,"1967-04-24",0,3.5129999999999999,null,"1975-04-23",0,2.7570000000000001,null,"2006-04-23",5.95,0.58018999999999998,5.95,0.58018999999999998,5.95,0.55511999999999995,null,"2016-04-22",5.97,0.58481000000000005,5.97,0.58481000000000005,5.97,0.55257999999999996,null,"2066-04-23",6,0.60794000000000004,6,0.60794000000000004,6,0.53988999999999998,null,null,null,null,null,null,39,{"$error":"#DIV/0!"},{"$error":"#DIV/0!"},{"$error":"#DIV/0!"}]
["1967-04-25",0,3.8330000000000002,4,1967,17,0,{"$f":"IF(B148<Parameters!$A$16,B148*Parameters!$B$16,IF(AND(B148>Parameters!$A$16,B148<Parameters!$A$17),B148*Parameters!$B$17,B148*Parameters!$B$18))","v":0},{"$f":"IF(B148<Parameters!$A$20,B148*Parameters!$B$20,IF(AND(B148>Parameters!$A$20,B148<Parameters!$A$21),B148*Parameters!$B$21,B148*Parameters!$B$22))","v":0},0,"",0,"",0,3.6663333333333337,1074.1850881398923,1.8371722150099878,{"$f":"VLOOKUP($F148,'Gegevens vergelijking'!$I$16:$Q$68,9,FALSE)","v":34.009844090885714},-35.8470163058957,-1.8371722150099878,3480.9634523925811,0,0,34.009844090885714,1,"","",0,0,3.4009844090885712,0,0,0.18371722150099878,3.4009844090885712,-3.5847016305895698,"","","","","",-77.071085057675745,0,-77.071085057675745,null,null,null,null,null,null,null,null,null,null,null,null,null,null,null,null,null,null,null,null,null,"1967-04-25",0,3.8330000000000002,null,"1975-04-24",0,2.7410000000000001,null,"2006-04-24",0,3.61382,0,3.61382,0,3.4576699999999998,null,"2016-04-23",0,3.64263,0,3.64263,0,3.4418600000000001,null,"2066-04-24",0,3.7866599999999999,0,3.7866599999999999,0,3.3628200000000001,null,null,null,null,null,null,40,{"$error":"#DIV/0!"},{"$error":"#DIV/0!"},{"$error":"#DIV/0!"}]
["1967-04-26",0,4.1189999999999998,4,1967,17,0,{"$f":"IF(B149<Parameters!$A$16,B149*Parameters!$B$16,IF(AND(B149>Parameters!$A$16,B149<Parameters!$A$17),B149*Parameters!$B$17,B149*Parameters!$B$18))","v":0},{"$f":"IF(B149<Parameters!$A$20,B149*Parameters!$B$20,IF(AND(B149>Parameters!$A$20,B149<Parameters!$A$21),B149*Parameters!$B$21,B149*Parameters!$B$22))","v":0},0,"",0,"",0,3.9523333333333333,1071.0091195101393,1.974668618616233,{"$f":"VLOOKUP($F149,'Gegevens vergelijking'!$I$16:$Q$68,9,FALSE)","v":34.009844090885714},-35.984512709501949,-1.974668618616233,3444.9789396830793,0,0,34.009844090885714,1,"","",0,0,3.4009844090885712,0,0,0.19746686186162329,3.4009844090885712,-3.5984512709501946,"","","","","",-77.366702325429188,0,-77.366702325429188,null,null,null,null,null,null,null,null,null,null,null,null,null,null,null,null,null,null,null,null,null,"1967-04-26",0,4.1189999999999998,null,"1975-04-25",0,3.637,null,"2006-04-25",0,3.9430100000000001,0,3.9430100000000001,0,3.7726299999999999,null,"2016-04-24",0,3.97444,0,3.97444,0,3.7553800000000002,null,"2066-04-25",0,4.1315900000000001,0,4.1315900000000001,0,3.6691400000000001,null,null,null,null,null,null,41,{"$error":"#DIV/0!"},{"$error":"#DIV/0!"},{"$error":"#DIV/0!"}]
["1967-04-27",0,4.5759999999999996,4,1967,17,0,{"$f":"IF(B150<Parameters!$A$16,B150*Parameters!$B$16,IF(AND(B150>Parameters!$A$16,B150<Parameters!$A$17),B150*Parameters!$B$17,B150*Parameters!$B$18))","v":0},{"$f":"IF(B150<Parameters!$A$20,B150*Parameters!$B$20,IF(AND(B150>Parameters!$A$20,B150<Parameters!$A$21),B150*Parameters!$B$21,B150*Parameters!$B$22))","v":0},0,"",0,"",0,4.4093333333333327,1067.8135737857876,2.1964819585860651,{"$f":"VLOOKUP($F150,'Gegevens vergelijking'!$I$16:$Q$68,9,FALSE)","v":34.009844090885714},-36.206326049471777,-2.1964819585860651,3408.7726136336073,0,0,34.009844090885714,1,"","",0,0,3.4009844090885712,0,0,0.21964819585860651,3.4009844090885712,-3.6206326049471778,"","","","","",-77.843601006364324,0,-77.843601006364324,null,null,null,null,null,null,null,null,null,null,null,null,null,null,null,null,null,null,null,null,null,"1967-04-27",0,4.5759999999999996,null,"1975-04-26",0.5,1.026,null,"2006-04-26",0,4.2372199999999998,0,4.2372199999999998,0,4.0541299999999998,null,"2016-04-25",0,4.2709900000000003,0,4.2709900000000003,0,4.03559,null,"2066-04-26",0,4.43987,0,4.43987,0,3.9429099999999999,null,null,null,null,null,null,42,{"$error":"#DIV/0!"},{"$error":"#DIV/0!"},{"$error":"#DIV/0!"}]
["1967-04-28",0,4.1369999999999996,4,1967,17,0,{"$f":"IF(B151<Parameters!$A$16,B151*Parameters!$B$16,IF(AND(B151>Parameters!$A$16,B151<Parameters!$A$17),B151*Parameters!$B$17,B151*Parameters!$B$18))","v":0},{"$f":"IF(B151<Parameters!$A$20,B151*Parameters!$B$20,IF(AND(B151>Parameters!$A$20,B151<Parameters!$A$21),B151*Parameters!$B$21,B151*Parameters!$B$22))","v":0},0,"",0,"",0,3.970333333333333,1064.637849889041,1.9718957329244211,{"$f":"VLOOKUP($F151,'Gegevens vergelijking'!$I$16:$Q$68,9,FALSE)","v":34.009844090885714},-35.981739823810138,-1.9718957329244211,3372.7908738097972,0,0,34.009844090885714,1,"","",0,0,3.4009844090885712,0,0,0.19718957329244211,3.4009844090885712,-3.5981739823810135,"","","","","",-77.360740621191781,0,-77.360740621191781,null,null,null,null,null,null,null,null,null,null,null,null,null,null,null,null,null,null,null,null,null,"1967-04-28",0,4.1369999999999996,null,"1975-04-27",0,3.9969999999999999,null,"2006-04-27",0,4.7073299999999998,0,4.7073299999999998,0,4.5039300000000004,null,"2016-04-26",0,4.7448499999999996,0,4.7448499999999996,0,4.4833400000000001,null,"2066-04-27",0,4.9324700000000004,0,4.9324700000000004,0,4.3803799999999997,null,null,null,null,null,null,43,{"$error":"#DIV/0!"},{"$error":"#DIV/0!"},{"$error":"#DIV/0!"}]
["1967-04-29",0.3,2.9529999999999998,4,1967,17,0.3,{"$f":"IF(B152<Parameters!$A$16,B152*Parameters!$B$16,IF(AND(B152>Parameters!$A$16,B152<Parameters!$A$17),B152*Parameters!$B$17,B152*Parameters!$B$18))","v":0},{"$f":"IF(B152<Parameters!$A$20,B152*Parameters!$B$20,IF(AND(B152>Parameters!$A$20,B152<Parameters!$A$21),B152*Parameters!$B$21,B152*Parameters!$B$22))","v":0},3.6348837209302327,1.2116279069767442,0.39069767441860465,0.10748560460652591,3.2441860465116279,2.7863333333333333,1061.5488721740562,1.3797376414298439,{"$f":"VLOOKUP($F152,'Gegevens vergelijking'!$I$16:$Q$68,9,FALSE)","v":34.009844090885714},-34.998884057896952,-0.98903996701123931,3337.7919897519,0,0,34.009844090885714,1,11.336614696961904,1.2116279069767442,0.36348837209302326,3.9069767441860463E-2,3.4009844090885712,0.32441860465116279,0,0.1379737641429844,3.4009844090885712,-3.4998884057896951,0.8925143953934741,0,3.5314713441359102,87.049005708814619,-89.580477052950528,-75.247600724478445,0,-75.247600724478445,null,null,null,null,null,null,null,null,null,null,null,null,null,null,null,null,null,null,null,null,null,"1967-04-29",0.3,2.9529999999999998,null,"1975-04-28",0,4.8659999999999997,null,"2006-04-28",0,4.2557299999999998,0,4.2557299999999998,0,4.0718399999999999,null,"2016-04-27",0,4.2896599999999996,0,4.2896599999999996,0,4.0532300000000001,null,"2066-04-28",0,4.4592700000000001,0,4.4592700000000001,0,3.96014,null,null,null,null,null,null,44,{"$error":"#DIV/0!"},{"$error":"#DIV/0!"},{"$error":"#DIV/0!"}]
["1967-04-30",0,4.5380000000000003,4,1967,17,0,{"$f":"IF(B153<Parameters!$A$16,B153*Parameters!$B$16,IF(AND(B153>Parameters!$A$16,B153<Parameters!$A$17),B153*Parameters!$B$17,B153*Parameters!$B$18))","v":0},{"$f":"IF(B153<Parameters!$A$20,B153*Parameters!$B$20,IF(AND(B153>Parameters!$A$20,B153<Parameters!$A$21),B153*Parameters!$B$21,B153*Parameters!$B$22))","v":0},0,"",0,"",0,4.3713333333333333,1058.3566947636662,2.1583181255334223,{"$f":"VLOOKUP($F153,'Gegevens vergelijking'!$I$16:$Q$68,9,FALSE)","v":34.009844090885714},-36.168162216419134,-2.1583181255334223,3301.6238275354808,0,0,34.009844090885714,1,"","",0,0,3.4009844090885712,0,0,0.21583181255334222,3.4009844090885712,-3.6168162216419133,"","","","","",-77.761548765301143,0,-77.761548765301143,null,null,null,null,null,null,null,null,null,null,null,null,null,null,null,null,null,null,null,null,null,"1967-04-30",0,4.5380000000000003,null,"1975-04-29",10.3,3.7480000000000002,null,"2006-04-29",0.35,3.03775,0.35,3.03775,0.35,2.9064899999999998,null,"2016-04-28",0.35,3.0619700000000001,0.35,3.0619700000000001,0.35,2.8932000000000002,null,"2066-04-29",0.35,3.1830400000000001,0.35,3.1830400000000001,0.35,2.8267600000000002,null,null,null,null,null,null,45,{"$error":"#DIV/0!"},{"$error":"#DIV/0!"},{"$error":"#DIV/0!"}]
["1967-05-01",1.8,0.81200000000000006,5,1967,18,1.8,{"$f":"IF(B154<Parameters!$A$16,B154*Parameters!$B$16,IF(AND(B154>Parameters!$A$16,B154<Parameters!$A$17),B154*Parameters!$B$17,B154*Parameters!$B$18))","v":1.4400000000000002},{"$f":"IF(B154<Parameters!$A$20,B154*Parameters!$B$20,IF(AND(B154>Parameters!$A$20,B154<Parameters!$A$21),B154*Parameters!$B$21,B154*Parameters!$B$22))","v":1.08},21.809302325581395,1.2116279069767442,17.706976744186047,0.81190019193857965,4.1023255813953483,0.61845161290322581,1056.9500480253362,0.30443832786210068,{"$f":"VLOOKUP($F154,'Gegevens vergelijking'!$I$16:$Q$68,9,FALSE)","v":33.340195028868571},-15.937656612544625,17.402538416323946,3285.6861709229361,0,0,33.340195028868571,1,1.852233057159365,1.2116279069767442,2.1809302325581394,1.7706976744186047,3.3340195028868571,0.41023255813953485,0,3.0443832786210066E-2,3.3340195028868571,-1.5937656612544624,0.18809980806142035,0,1.719312857639917E-2,1.8828846680343427,-0.90007779661074183,-34.265961716970935,0,-34.265961716970935,null,null,null,null,null,null,null,null,null,null,null,null,null,null,null,null,null,null,null,null,null,"1967-05-01",1.8,0.81200000000000006,null,"1975-04-30",2,3.0059999999999998,null,"2006-04-30",0,4.6682399999999999,0,4.6682399999999999,0,4.4665299999999997,null,"2016-04-29",0,4.7054499999999999,0,4.7054499999999999,0,4.44611,null,"2066-04-30",0,4.8915100000000002,0,4.8915100000000002,0,4.3440000000000003,null,null,null,null,null,null,46,{"$error":"#DIV/0!"},{"$error":"#DIV/0!"},{"$error":"#DIV/0!"}]
["1967-05-02",2.4,2.5089999999999999,5,1967,18,2.4,{"$f":"IF(B155<Parameters!$A$16,B155*Parameters!$B$16,IF(AND(B155>Parameters!$A$16,B155<Parameters!$A$17),B155*Parameters!$B$17,B155*Parameters!$B$18))","v":2.2799999999999998},{"$f":"IF(B155<Parameters!$A$20,B155*Parameters!$B$20,IF(AND(B155>Parameters!$A$20,B155<Parameters!$A$21),B155*Parameters!$B$21,B155*Parameters!$B$22))","v":1.7999999999999998},29.079069767441862,1.2116279069767442,27.502325581395347,0.94577735124760065,1.5767441860465148,2.3154516129032259,1056.3343372142547,1.138286834166701,{"$f":"VLOOKUP($F155,'Gegevens vergelijking'!$I$16:$Q$68,9,FALSE)","v":33.340195028868571},-6.9761562816399252,26.364038747228648,3278.7100146412963,0,0,33.340195028868571,1,1.3891747928695237,1.2116279069767442,2.9079069767441861,2.7502325581395346,3.3340195028868571,0.15767441860465148,0,0.1138286834166701,3.3340195028868571,-0.6976156281639927,5.4222648752399343E-2,0,4.138874840957902E-2,1.2122682109262208,-0.25365695933579985,-14.998736005525844,0,-14.998736005525844,null,null,null,null,null,null,null,null,null,null,null,null,null,null,null,null,null,null,null,null,null,"1967-05-02",2.4,2.5089999999999999,null,"1975-05-01",0,3.7229999999999999,null,"2006-05-01",2.0099999999999998,0.84553999999999996,2.0099999999999998,0.84553999999999996,2.0099999999999998,0.80688000000000004,null,"2016-04-30",1.97,0.85511999999999999,1.97,0.85511999999999999,1.97,0.80542000000000002,null,"2066-05-01",1.84,0.90303,1.84,0.90303,1.84,0.79810999999999999,null,null,null,null,null,null,47,{"$error":"#DIV/0!"},{"$error":"#DIV/0!"},{"$error":"#DIV/0!"}]
["1967-05-03",0,2.9319999999999999,5,1967,18,0,{"$f":"IF(B156<Parameters!$A$16,B156*Parameters!$B$16,IF(AND(B156>Parameters!$A$16,B156<Parameters!$A$17),B156*Parameters!$B$17,B156*Parameters!$B$18))","v":0},{"$f":"IF(B156<Parameters!$A$20,B156*Parameters!$B$20,IF(AND(B156>Parameters!$A$20,B156<Parameters!$A$21),B156*Parameters!$B$21,B156*Parameters!$B$22))","v":0},0,"",0,"",0,2.7384516129032259,1053.2730056411335,1.3454513811671795,{"$f":"VLOOKUP($F156,'Gegevens vergelijking'!$I$16:$Q$68,9,FALSE)","v":33.340195028868571},-34.685646410035751,-1.3454513811671795,3244.0243682312607,0,0,33.340195028868571,1,"","",0,0,3.3340195028868571,0,0,0.13454513811671795,3.3340195028868571,-3.4685646410035749,"","","","","",-74.574139781576861,0,-74.574139781576861,null,null,null,null,null,null,null,null,null,null,null,null,null,null,null,null,null,null,null,null,null,"1967-05-03",0,2.9319999999999999,null,"1975-05-02",1.1000000000000001,3.214,null,"2006-05-02",2.69,2.6126200000000002,2.69,2.6126200000000002,2.69,2.4931899999999998,null,"2016-05-01",2.66,2.6422300000000001,2.66,2.6422300000000001,2.66,2.48868,null,"2066-05-02",2.5099999999999998,2.79026,2.5099999999999998,2.79026,2.5099999999999998,2.4661,null,null,null,null,null,null,48,{"$error":"#DIV/0!"},{"$error":"#DIV/0!"},{"$error":"#DIV/0!"}]
["1967-05-04",0,4.774,5,1967,18,0,{"$f":"IF(B157<Parameters!$A$16,B157*Parameters!$B$16,IF(AND(B157>Parameters!$A$16,B157<Parameters!$A$17),B157*Parameters!$B$17,B157*Parameters!$B$18))","v":0},{"$f":"IF(B157<Parameters!$A$20,B157*Parameters!$B$20,IF(AND(B157>Parameters!$A$20,B157<Parameters!$A$21),B157*Parameters!$B$21,B157*Parameters!$B$22))","v":0},0,"",0,"",0,4.580451612903226,1050.1323742770139,2.2439376918680738,{"$f":"VLOOKUP($F157,'Gegevens vergelijking'!$I$16:$Q$68,9,FALSE)","v":33.340195028868571},-35.584132720736648,-2.2439376918680738,3208.440235510524,0,0,33.340195028868571,1,"","",0,0,3.3340195028868571,0,0,0.22439376918680737,3.3340195028868571,-3.5584132720736643,"","","","","",-76.505885349583778,0,-76.505885349583778,null,null,null,null,null,null,null,null,null,null,null,null,null,null,null,null,null,null,null,null,null,"1967-05-04",0,4.774,null,"1975-05-03",5.0999999999999996,3.0129999999999999,null,"2006-05-03",0,3.0530900000000001,0,3.0530900000000001,0,2.9135300000000002,null,"2016-05-02",0,3.0876899999999998,0,3.0876899999999998,0,2.9082499999999998,null,"2066-05-03",0,3.2606799999999998,0,3.2606799999999998,0,2.8818600000000001,null,null,null,null,null,null,49,{"$error":"#DIV/0!"},{"$error":"#DIV/0!"},{"$error":"#DIV/0!"}]
["1967-05-05",1,4.5030000000000001,5,1967,18,1,{"$f":"IF(B158<Parameters!$A$16,B158*Parameters!$B$16,IF(AND(B158>Parameters!$A$16,B158<Parameters!$A$17),B158*Parameters!$B$17,B158*Parameters!$B$18))","v":0.95},{"$f":"IF(B158<Parameters!$A$20,B158*Parameters!$B$20,IF(AND(B158>Parameters!$A$20,B158<Parameters!$A$21),B158*Parameters!$B$21,B158*Parameters!$B$22))","v":0.75},12.116279069767442,1.2116279069767442,11.459302325581396,0.94577735124760076,0.65697674418604635,4.3094516129032261,1048.0154061746082,2.1048812344604522,{"$f":"VLOOKUP($F158,'Gegevens vergelijking'!$I$16:$Q$68,9,FALSE)","v":33.340195028868571},-23.985773937747627,9.354421091120944,3184.4544615727764,0,0,33.340195028868571,1,3.3340195028868571,1.2116279069767442,1.2116279069767442,1.1459302325581395,3.3340195028868571,6.5697674418604635E-2,0,0.21048812344604523,3.3340195028868571,-2.3985773937747625,5.4222648752399218E-2,0,0.18368319245418457,2.9094437062229295,-2.0931268986771139,-51.569413966157391,0,-51.569413966157391,null,null,null,null,null,null,null,null,null,null,null,null,null,null,null,null,null,null,null,null,null,"1967-05-05",1,4.5030000000000001,null,"1975-05-04",0.7,2.5030000000000001,null,"2006-05-04",0,4.9711699999999999,0,4.9711699999999999,0,4.7439200000000001,null,"2016-05-03",0,5.0274999999999999,0,5.0274999999999999,0,4.7353300000000003,null,"2066-05-04",0,5.3091699999999999,0,5.3091699999999999,0,4.6923599999999999,null,null,null,null,null,null,50,{"$error":"#DIV/0!"},{"$error":"#DIV/0!"},{"$error":"#DIV/0!"}]
["1967-05-06",2.2999999999999998,2.3959999999999999,5,1967,18,2.2999999999999998,{"$f":"IF(B159<Parameters!$A$16,B159*Parameters!$B$16,IF(AND(B159>Parameters!$A$16,B159<Parameters!$A$17),B159*Parameters!$B$17,B159*Parameters!$B$18))","v":2.1849999999999996},{"$f":"IF(B159<Parameters!$A$20,B159*Parameters!$B$20,IF(AND(B159>Parameters!$A$20,B159<Parameters!$A$21),B159*Parameters!$B$21,B159*Parameters!$B$22))","v":1.7249999999999999},27.867441860465114,1.2116279069767442,26.356395348837207,0.94577735124760076,1.5110465116279066,2.2024516129032259,1047.3042670659868,1.073582893803114,{"$f":"VLOOKUP($F159,'Gegevens vergelijking'!$I$16:$Q$68,9,FALSE)","v":33.340195028868571},-8.0573825738344773,25.282812455034094,3176.3970789989421,0,0,33.340195028868571,1,1.4495736969073292,1.2116279069767442,2.7867441860465112,2.6356395348837207,3.3340195028868571,0.15110465116279065,0,0.1073582893803114,3.3340195028868571,-0.80573825738344773,5.4222648752399225E-2,0,4.0733297539129472E-2,1.264975524444752,-0.30570882198388155,-17.323372533744124,0,-17.323372533744124,null,null,null,null,null,null,null,null,null,null,null,null,null,null,null,null,null,null,null,null,null,"1967-05-06",2.2999999999999998,2.3959999999999999,null,"1975-05-05",0.2,3.7829999999999999,null,"2006-05-05",1.1000000000000001,4.6889700000000003,1.1000000000000001,4.6889700000000003,1.1000000000000001,4.4746300000000003,null,"2016-05-04",1.08,4.7421100000000003,1.08,4.7421100000000003,1.08,4.4665299999999997,null,"2066-05-05",1,5.00779,1,5.00779,1,4.4260000000000002,null,null,null,null,null,null,51,{"$error":"#DIV/0!"},{"$error":"#DIV/0!"},{"$error":"#DIV/0!"}]
["1967-05-07",1.3,2.5270000000000001,5,1967,18,1.3,{"$f":"IF(B160<Parameters!$A$16,B160*Parameters!$B$16,IF(AND(B160>Parameters!$A$16,B160<Parameters!$A$17),B160*Parameters!$B$17,B160*Parameters!$B$18))","v":1.04},{"$f":"IF(B160<Parameters!$A$20,B160*Parameters!$B$20,IF(AND(B160>Parameters!$A$20,B160<Parameters!$A$21),B160*Parameters!$B$21,B160*Parameters!$B$22))","v":0.78},15.751162790697675,1.2116279069767442,12.788372093023256,0.81190019193857965,2.9627906976744196,2.3334516129032261,1045.3900556968958,1.1366668982258408,{"$f":"VLOOKUP($F160,'Gegevens vergelijking'!$I$16:$Q$68,9,FALSE)","v":33.340195028868571},-21.688489834071156,11.651705194797415,3154.7085891648708,0,0,33.340195028868571,1,2.5646303868360438,1.2116279069767442,1.5751162790697675,1.2788372093023255,3.3340195028868571,0.29627906976744195,0,0.11366668982258407,3.3340195028868571,-2.1688489834071154,0.1880998080614204,0,8.8882845287708956E-2,2.6070710788167824,-1.6959539241044912,-46.630253143252979,0,-46.630253143252979,null,null,null,null,null,null,null,null,null,null,null,null,null,null,null,null,null,null,null,null,null,"1967-05-07",1.3,2.5270000000000001,null,"1975-05-06",0.2,3.0609999999999999,null,"2006-05-06",0,2.4949499999999998,0,2.4949499999999998,0,2.3809100000000001,null,"2016-05-05",2.54,2.5232299999999999,2.54,2.5232299999999999,2.54,2.3765900000000002,null,"2066-05-06",2.39,2.66459,2.39,2.66459,2.39,2.3550300000000002,null,null,null,null,null,null,52,{"$error":"#DIV/0!"},{"$error":"#DIV/0!"},{"$error":"#DIV/0!"}]
["1967-05-08",0.3,3.319,5,1967,19,0.3,{"$f":"IF(B161<Parameters!$A$16,B161*Parameters!$B$16,IF(AND(B161>Parameters!$A$16,B161<Parameters!$A$17),B161*Parameters!$B$17,B161*Parameters!$B$18))","v":0},{"$f":"IF(B161<Parameters!$A$20,B161*Parameters!$B$20,IF(AND(B161>Parameters!$A$20,B161<Parameters!$A$21),B161*Parameters!$B$21,B161*Parameters!$B$22))","v":0},3.6348837209302327,1.2116279069767442,0.39069767441860465,0.10748560460652591,3.2441860465116279,3.1254516129032259,1042.0998771674281,1.5196818770655143,{"$f":"VLOOKUP($F161,'Gegevens vergelijking'!$I$16:$Q$68,9,FALSE)","v":36.149555012451422},-37.278539215098334,-1.1289842026469097,3117.4300499497726,0,0,36.149555012451422,1,12.049851670817141,1.2116279069767442,0.36348837209302326,3.9069767441860463E-2,3.6149555012451424,0.32441860465116279,0,0.15196818770655143,3.6149555012451424,-3.7278539215098334,0.8925143953934741,0,3.8896619472510192,92.525646758060191,-95.415308705311219,-80.148859312461411,0,-80.148859312461411,null,null,null,null,null,null,null,null,null,null,null,null,null,null,null,null,null,null,null,null,null,"1967-05-08",0.3,3.319,null,"1975-05-07",6.5,1.6739999999999999,null,"2006-05-07",1.44,2.63137,1.44,2.63137,1.44,2.5110800000000002,null,"2016-05-06",0,2.6611799999999999,0,2.6611799999999999,0,2.5065300000000001,null,"2066-05-07",1.31,2.8102800000000001,1.31,2.8102800000000001,1.31,2.4837899999999999,null,null,null,null,null,null,53,{"$error":"#DIV/0!"},{"$error":"#DIV/0!"},{"$error":"#DIV/0!"}]
["1967-05-09",0,5.218,5,1967,19,0,{"$f":"IF(B162<Parameters!$A$16,B162*Parameters!$B$16,IF(AND(B162>Parameters!$A$16,B162<Parameters!$A$17),B162*Parameters!$B$17,B162*Parameters!$B$18))","v":0},{"$f":"IF(B162<Parameters!$A$20,B162*Parameters!$B$20,IF(AND(B162>Parameters!$A$20,B162<Parameters!$A$21),B162*Parameters!$B$21,B162*Parameters!$B$22))","v":0},0,"",0,"",0,5.0244516129032259,1038.6944005876119,2.4353397249489013,{"$f":"VLOOKUP($F162,'Gegevens vergelijking'!$I$16:$Q$68,9,FALSE)","v":36.149555012451422},-38.584894737400326,-2.4353397249489013,3078.8451552123724,0,0,36.149555012451422,1,"","",0,0,3.6149555012451424,0,0,0.24353397249489012,3.6149555012451424,-3.8584894737400326,"","","","","",-82.957523685410706,0,-82.957523685410706,null,null,null,null,null,null,null,null,null,null,null,null,null,null,null,null,null,null,null,null,null,"1967-05-09",0,5.218,null,"1975-05-08",1.3,3.552,null,"2006-05-08",0.34,3.45607,0.34,3.45607,0.34,3.2980900000000002,null,"2016-05-07",0.32,3.4952399999999999,0.32,3.4952399999999999,0.32,3.2921200000000002,null,"2066-05-08",0.3,3.6910599999999998,0.3,3.6910599999999998,0.3,3.2622499999999999,null,null,null,null,null,null,"Eindtotaal",{"$error":"#DIV/0!"},{"$error":"#DIV/0!"},{"$error":"#DIV/0!"}]
["1967-05-10",0,5.9640000000000004,{"$f":"MONTH(A163)","v":5},1967,{"$f":"INT((A163-DATE(YEAR(A163-WEEKDAY(A163-1)+4),1,3)+WEEKDAY(DATE(YEAR(A163-WEEKDAY(A163-1)+4),1,3))+5)/7)","v":19},0,{"$f":"IF(B163<Parameters!$A$16,B163*Parameters!$B$16,IF(AND(B163>Parameters!$A$16,B163<Parameters!$A$17),B163*Parameters!$B$17,B163*Parameters!$B$18))","v":0},{"$f":"IF(B163<Parameters!$A$20,B163*Parameters!$B$20,IF(AND(B163>Parameters!$A$20,B163<Parameters!$A$21),B163*Parameters!$B$21,B163*Parameters!$B$22))","v":0},0,"",0,{"$f":"IF(B163=0,\"\",L163/J163)","v":""},{"$f":"IF(B163=0,0,SUM(J163-L163))","v":0},5.7704516129032264,1035.2578175083131,2.7877840833415513,{"$f":"VLOOKUP($F163,'Gegevens vergelijking'!$I$16:$Q$68,9,FALSE)","v":36.149555012451422},-38.937339095792971,-2.7877840833415513,3039.9078161165794,0,0,36.149555012451422,{"$f":"IF(R163=0,\"\",((R163-W163)/R163))","v":1},{"$f":"IF(B163=0,\"\",X163/(B163*10))","v":""},"",{"$f":"J163/10","v":0},{"$f":"L163/10","v":0},3.6149555012451424,0,0,0.27877840833415513,{"$f":"(R163-W163)/10","v":3.6149555012451424},{"$f":"SUM(AC163-AF163-AG163-AD163)","v":-3.8937339095792973},{"$f":"IF(AB163=0,\"\",AE163/AB163)","v":""},"","",{"$f":"IF(AC163=0,\"\",AD163/AC163)","v":""},{"$f":"IF(AC163=0,\"\",AI163/AC163)","v":""},-83.715279055954895,0,-83.715279055954895,null,null,null,null,null,null,null,null,null,null,null,null,null,null,null,null,null,null,null,null,null,"1967-05-10",0,5.9640000000000004,null,"1975-05-09",0.4,2.226,null,"2006-05-09",0,5.4335000000000004,0,5.4335000000000004,0,5.18513,null,"2016-05-08",0,5.4950799999999997,0,5.4950799999999997,0,5.1757299999999997,null,"2066-05-09",0,5.8029400000000004,0,5.8029400000000004,0,5.1287700000000003]
["1967-05-11",6.9,4.7809999999999997,5,{"$f":"IF(AND((F163>1),(F164=1)),E163+1,E163)","v":1967},19,{"$f":"B164","v":6.9},{"$f":"IF(B164<Parameters!$A$16,B164*Parameters!$B$16,IF(AND(B164>Parameters!$A$16,B164<Parameters!$A$17),B164*Parameters!$B$17,B164*Parameters!$B$18))","v":6.5549999999999997},{"$f":"IF(B164<Parameters!$A$20,B164*Parameters!$B$20,IF(AND(B164>Parameters!$A$20,B164<Parameters!$A$21),B164*Parameters!$B$21,B164*Parameters!$B$22))","v":5.1750000000000007},83.602325581395348,1.2116279069767442,{"$f":"IF(B164=0,0,SUM(B164*$D$3+H164*$B$3+I164*$C$3)/$E$3*10)","v":79.069186046511632},0.94577735124760087,4.5331395348837162,{"$f":"IF(OR($D164=1,$D164=12,$D164=8),C164+(2/31),IF($D164=2,C164-(1/28),IF($D164=3,C164-(3/31),IF($D164=4,C164-(5/30),IF($D164=5,C164-(6/31),IF($D164=6,C164-(4/30),IF($D164=7,C164-(1/31),IF($D164=9,C164+(4/30),IF($D164=10,C164+(5/31),IF($D164=11,C164+(5/30)))))))))))","v":4.5874516129032257},{"$f":"-(($BH$3-$BI$3)*($AN$3+$AK$3-U164)/($AK$3)-$BH$3)","v":1038.8509164855548},2.2089279742786907,{"$f":"VLOOKUP($F164,'Gegevens vergelijking'!$I$16:$Q$68,9,FALSE)","v":36.149555012451422},40.710703059781522,{"$f":"L164-Q164","v":76.860258072232938},{"$f":"IF(U163<$AN$3,U163+T164,IF(AND((U163>$AN$3),(SUM(U163+S164)<$AN$3)),SUM($AN$3+T164),IF((SUM(U163+S164)>($AN$3+$AK$3)),$AN$3+$AK$3,U163+S164)))","v":3080.6185191763611},0,0,{"$f":"R164-W164","v":36.149555012451422},1,0.52390659438335396,{"$f":"K164","v":1.2116279069767442},8.3602325581395345,7.906918604651163,{"$f":"X164/10","v":3.6149555012451424},0.45331395348837161,0,0.22089279742786908,3.6149555012451424,4.0710703059781519,5.4222648752399176E-2,{"$f":"IF(AB164=0,\"\",AF164/AB164)","v":0},2.793664744416759E-2,0.45718891037005011,0.51487444218578238,{"$f":"AI164*$E$5/1000","v":87.528011578530268},{"$f":"IF(OR(F164<=13,F164>=40),VALUE(AO164),0)","v":0},{"$f":"IF(OR(F164<=13,F164>=40),0,VALUE(AO164))","v":87.528011578530268},null,null,null,null,null,null,null,null,null,null,null,null,null,null,null,null,null,null,null,null,null,"1967-05-11",6.9,4.7809999999999997,null,"1975-05-10",0.8,2.0760000000000001,null,"2006-05-10",0,6.2103099999999998,0,6.2103099999999998,0,5.9264299999999999,null,"2016-05-09",0,6.2806899999999999,0,6.2806899999999999,0,5.9156899999999997,null,"2066-05-10",0,6.6325599999999998,0,6.6325599999999998,0,5.8620200000000002]
["1967-05-12",2.5,4.3819999999999997,5,1967,19,2.5,{"$f":"IF(B165<Parameters!$A$16,B165*Parameters!$B$16,IF(AND(B165>Parameters!$A$16,B165<Parameters!$A$17),B165*Parameters!$B$17,B165*Parameters!$B$18))","v":2.375},{"$f":"IF(B165<Parameters!$A$20,B165*Parameters!$B$20,IF(AND(B165>Parameters!$A$20,B165<Parameters!$A$21),B165*Parameters!$B$21,B165*Parameters!$B$22))","v":1.875},{"$f":"B165*SUM($B$3,$C$3,$D$3)/$E$3*10","v":30.290697674418606},{"$f":"IF(B165=0,\"\",SUM(J165/(B165*10)))","v":1.2116279069767442},28.64825581395349,0.94577735124760076,1.6424418604651159,4.1884516129032257,1038.0102374263715,2.0238031612650769,{"$f":"VLOOKUP($F165,'Gegevens vergelijking'!$I$16:$Q$68,9,FALSE)","v":36.149555012451422},{"$f":"SUM(L165-R165-Q165)","v":-9.5251023597630091},26.624452652688412,3071.0934168165982,{"$f":"IF(SUM(U164+S165)>SUM($AK$3+$AN$3),SUM(U164+S165-($AK$3+$AN$3)),0)","v":0},{"$f":"IF(U164<$AN$3,R165,IF(SUM(U164-R165)>$AN$3,0,IF(SUM(U164+S165)<$AN$3,SUM(R165-(U164-$AN$3)),0)))","v":0},36.149555012451422,1,1.4459822004980569,1.2116279069767442,3.0290697674418605,2.8648255813953489,3.6149555012451424,{"$f":"N165/10","v":0.16424418604651159},0,{"$f":"Q165/10","v":0.2023803161265077},3.6149555012451424,-0.95251023597630136,5.4222648752399218E-2,0,7.0643154487588677E-2,1.2618413926213383,-0.33248454710892711,-20.47897007349048,0,-20.47897007349048,null,null,null,null,null,null,null,null,null,null,null,null,null,null,null,null,null,null,null,null,null,"1967-05-12",2.5,4.3819999999999997,null,"1975-05-11",0.1,2.6160000000000001,null,"2006-05-11",7.93,4.9784600000000001,7.93,4.9784600000000001,7.93,4.7508800000000004,null,"2016-05-10",7.89,5.0348699999999997,7.89,5.0348699999999997,7.89,4.7422700000000004,null,"2066-05-11",7.77,5.3169500000000003,7.77,5.3169500000000003,7.77,4.6992399999999996]
["1967-05-13",3.5,4.2770000000000001,5,1967,19,3.5,{"$f":"IF(B166<Parameters!$A$16,B166*Parameters!$B$16,IF(AND(B166>Parameters!$A$16,B166<Parameters!$A$17),B166*Parameters!$B$17,B166*Parameters!$B$18))","v":3.3249999999999997},{"$f":"IF(B166<Parameters!$A$20,B166*Parameters!$B$20,IF(AND(B166>Parameters!$A$20,B166<Parameters!$A$21),B166*Parameters!$B$21,B166*Parameters!$B$22))","v":2.625},42.406976744186046,1.2116279069767442,40.107558139534881,0.94577735124760065,2.2994186046511658,4.0834516129032261,1038.1855673223235,{"$f":"SUM(O166*P165)/$E$3*10","v":1.9714718968505942},{"$f":"VLOOKUP($F166,'Gegevens vergelijking'!$I$16:$Q$68,9,FALSE)","v":36.149555012451422},1.9865312302328639,38.136086242684286,3073.0799480468309,0,0,36.149555012451422,1,1.0328444289271834,1.2116279069767442,4.2406976744186045,4.0107558139534882,3.6149555012451424,0.22994186046511658,0,0.19714718968505943,3.6149555012451424,0.19865312302328642,5.4222648752399308E-2,0,4.9154622926477091E-2,0.90131528044381315,4.9530096629709738E-2,4.2710421450006582,0,4.2710421450006582,null,null,null,null,null,null,null,null,null,null,null,null,null,null,null,null,null,null,null,null,null,"1967-05-13",3.5,4.2770000000000001,null,"1975-05-12",0,3.8980000000000001,null,"2006-05-12",2.8,4.5629799999999996,2.8,4.5629799999999996,2.8,4.3543900000000004,null,"2016-05-11",2.77,4.6146799999999999,2.77,4.6146799999999999,2.77,4.3465100000000003,null,"2066-05-12",2.61,4.8732199999999999,2.61,4.8732199999999999,2.61,4.3070700000000004]
["1967-05-14",0.3,4.7949999999999999,5,1967,19,0.3,{"$f":"IF(B167<Parameters!$A$16,B167*Parameters!$B$16,IF(AND(B167>Parameters!$A$16,B167<Parameters!$A$17),B167*Parameters!$B$17,B167*Parameters!$B$18))","v":0},{"$f":"IF(B167<Parameters!$A$20,B167*Parameters!$B$20,IF(AND(B167>Parameters!$A$20,B167<Parameters!$A$21),B167*Parameters!$B$21,B167*Parameters!$B$22))","v":0},3.6348837209302327,1.2116279069767442,0.39069767441860465,0.10748560460652591,3.2441860465116279,4.6014516129032259,1034.8334083930581,2.2219351875572819,{"$f":"VLOOKUP($F167,'Gegevens vergelijking'!$I$16:$Q$68,9,FALSE)","v":36.149555012451422},-37.980792525590104,-1.8312375131386773,3035.0991555212408,0,0,36.149555012451422,1,12.049851670817141,1.2116279069767442,0.36348837209302326,3.9069767441860463E-2,3.6149555012451424,0.32441860465116279,0,0.22219351875572818,3.6149555012451424,-3.7980792525590101,0.8925143953934741,0,5.6870960157716146,92.525646758060191,-97.212742773831806,-81.658703930018717,0,-81.658703930018717,null,null,null,null,null,null,null,null,null,null,null,null,null,null,null,null,null,null,null,null,null,"1967-05-14",0.3,4.7949999999999999,null,"1975-05-13",0.7,2.3250000000000002,null,"2006-05-13",3.94,4.45364,3.94,4.45364,3.94,4.2500499999999999,null,"2016-05-12",3.91,4.5041099999999998,3.91,4.5041099999999998,3.91,4.2423599999999997,null,"2066-05-13",3.76,4.7564500000000001,3.76,4.7564500000000001,3.76,4.2038599999999997]
["1967-05-15",3.2,3.2240000000000002,5,1967,20,3.2,{"$f":"IF(B168<Parameters!$A$16,B168*Parameters!$B$16,IF(AND(B168>Parameters!$A$16,B168<Parameters!$A$17),B168*Parameters!$B$17,B168*Parameters!$B$18))","v":3.04},{"$f":"IF(B168<Parameters!$A$20,B168*Parameters!$B$20,IF(AND(B168>Parameters!$A$20,B168<Parameters!$A$21),B168*Parameters!$B$21,B168*Parameters!$B$22))","v":2.4000000000000004},38.772093023255813,1.2116279069767442,36.669767441860465,0.94577735124760076,2.1023255813953483,3.0304516129032262,1034.6836243361724,1.4586104983957606,{"$f":"VLOOKUP($F168,'Gegevens vergelijking'!$I$16:$Q$68,9,FALSE)","v":36.908247477731429},-1.6970905342667246,35.211156943464701,3033.402064986974,0,0,36.908247477731429,1,1.1533827336791072,1.2116279069767442,3.8772093023255811,3.6669767441860466,3.6908247477731431,0.21023255813953484,0,0.14586104983957607,3.6908247477731431,-0.16970905342667253,5.4222648752399225E-2,0,3.9776922520939693E-2,1.0065034510035842,-4.6280373524523834E-2,-3.6487446486734592,0,-3.6487446486734592,null,null,null,null,null,null,null,null,null,null,null,null,null,null,null,null,null,null,null,null,null,"1967-05-15",3.2,3.2240000000000002,null,"1975-05-14",0.2,3.5289999999999999,null,"2006-05-14",0.34,4.9930300000000001,0.34,4.9930300000000001,0.34,4.7647899999999996,null,"2016-05-13",0.32,5.0496100000000004,0.32,5.0496100000000004,0.32,4.7561600000000004,null,"2066-05-14",0.3,5.3325199999999997,0.3,5.3325199999999997,0.3,4.7130099999999997,null,null,null,"Rijlabels","Som van Bufferopbouw mm2"]
["1967-05-16",0,2.91,5,1967,20,0,{"$f":"IF(B169<Parameters!$A$16,B169*Parameters!$B$16,IF(AND(B169>Parameters!$A$16,B169<Parameters!$A$17),B169*Parameters!$B$17,B169*Parameters!$B$18))","v":0},{"$f":"IF(B169<Parameters!$A$20,B169*Parameters!$B$20,IF(AND(B169>Parameters!$A$20,B169<Parameters!$A$21),B169*Parameters!$B$21,B169*Parameters!$B$22))","v":0},0,"",0,"",0,2.7164516129032261,1031.3107472027812,1.3072874419407214,{"$f":"VLOOKUP($F169,'Gegevens vergelijking'!$I$16:$Q$68,9,FALSE)","v":36.908247477731429},-38.215534919672152,-1.3072874419407214,2995.1865300673016,0,0,36.908247477731429,1,"","",0,0,3.6908247477731431,0,{"$f":"V169/10","v":0},0.13072874419407216,3.6908247477731431,-3.8215534919672152,"","","","","",-82.163400077295123,0,-82.163400077295123,null,null,null,null,null,null,null,null,null,null,null,null,null,null,null,null,null,null,null,null,null,"1967-05-16",0,2.91,null,"1975-05-15",1.7,2.6349999999999998,null,"2006-05-15",3.6,3.3571499999999999,3.6,3.3571499999999999,3.6,3.2036899999999999,null,"2016-05-14",3.56,3.3951899999999999,3.56,3.3951899999999999,3.56,3.1978900000000001,null,"2066-05-15",3.38,3.58541,3.38,3.58541,3.38,3.1688700000000001,null,null,null,1,{"$error":"#DIV/0!"}]
["1967-05-17",5.6,3.3039999999999998,5,1967,20,5.6,{"$f":"IF(B170<Parameters!$A$16,B170*Parameters!$B$16,IF(AND(B170>Parameters!$A$16,B170<Parameters!$A$17),B170*Parameters!$B$17,B170*Parameters!$B$18))","v":5.3199999999999994},{"$f":"IF(B170<Parameters!$A$20,B170*Parameters!$B$20,IF(AND(B170>Parameters!$A$20,B170<Parameters!$A$21),B170*Parameters!$B$21,B170*Parameters!$B$22))","v":4.1999999999999993},67.851162790697671,1.2116279069767442,64.172093023255798,0.94577735124760054,3.6790697674418738,3.1104516129032258,1033.5853510397287,1.4920196172285216,{"$f":"VLOOKUP($F170,'Gegevens vergelijking'!$I$16:$Q$68,9,FALSE)","v":36.908247477731429},25.771825928295847,62.680073406027276,3020.9583559955977,0,0,36.908247477731429,1,0.65907584781663264,1.2116279069767442,6.7851162790697668,6.4172093023255794,3.6908247477731431,0.36790697674418738,0,0.14920196172285216,3.6908247477731431,2.5771825928295842,5.4222648752399433E-2,0,2.3250287577308997E-2,0.57514482914490539,0.4016048832777856,55.40942574583606,0,55.40942574583606,null,null,null,null,null,null,null,null,null,null,null,null,null,null,null,null,null,null,null,null,null,"1967-05-17",5.6,3.3039999999999998,null,"1975-05-16",0,4.5030000000000001,null,"2006-05-16",0,3.0301800000000001,0,3.0301800000000001,0,2.89167,null,"2016-05-15",0,3.0645199999999999,0,3.0645199999999999,0,2.8864299999999998,null,"2066-05-16",0,3.2362099999999998,0,3.2362099999999998,0,2.8602400000000001,null,null,null,2,{"$error":"#DIV/0!"}]
["1967-05-18",0.5,3.0009999999999999,5,1967,20,0.5,{"$f":"IF(B171<Parameters!$A$16,B171*Parameters!$B$16,IF(AND(B171>Parameters!$A$16,B171<Parameters!$A$17),B171*Parameters!$B$17,B171*Parameters!$B$18))","v":0},{"$f":"IF(B171<Parameters!$A$20,B171*Parameters!$B$20,IF(AND(B171>Parameters!$A$20,B171<Parameters!$A$21),B171*Parameters!$B$21,B171*Parameters!$B$22))","v":0},6.058139534883721,1.2116279069767442,0.65116279069767447,0.10748560460652591,5.4069767441860463,2.8074516129032259,1030.2662064735553,1.3496469120230854,{"$f":"VLOOKUP($F171,'Gegevens vergelijking'!$I$16:$Q$68,9,FALSE)","v":36.908247477731429},-37.606731599056836,-0.69848412132541093,2983.351624396541,0,0,36.908247477731429,1,7.3816494955462861,1.2116279069767442,0.60581395348837208,6.5116279069767441E-2,3.6908247477731431,0.54069767441860461,0,0.13496469120230853,3.6908247477731431,-3.760673159905684,0.89251439539347399,0,2.0726720434640238,56.680522912230415,-57.753194955694433,-80.854472937972218,0,-80.854472937972218,null,null,null,null,null,null,null,null,null,null,null,null,null,null,null,null,null,null,null,null,null,"1967-05-18",0.5,3.0009999999999999,null,"1975-05-17",0.3,4.8680000000000003,null,"2006-05-17",6.39,3.4404599999999999,6.39,3.4404599999999999,6.39,3.2831800000000002,null,"2016-05-16",6.36,3.4794399999999999,6.36,3.4794399999999999,6.36,3.2772399999999999,null,"2066-05-17",6.19,3.6743800000000002,6.19,3.6743800000000002,6.19,3.2475000000000001,null,null,null,3,{"$error":"#DIV/0!"}]
["1967-05-19",0.9,3.3159999999999998,5,1967,20,0.9,{"$f":"IF(B172<Parameters!$A$16,B172*Parameters!$B$16,IF(AND(B172>Parameters!$A$16,B172<Parameters!$A$17),B172*Parameters!$B$17,B172*Parameters!$B$18))","v":0},{"$f":"IF(B172<Parameters!$A$20,B172*Parameters!$B$20,IF(AND(B172>Parameters!$A$20,B172<Parameters!$A$21),B172*Parameters!$B$21,B172*Parameters!$B$22))","v":0},10.904651162790698,1.2116279069767442,1.172093023255814,0.10748560460652591,9.7325581395348841,3.1224516129032258,1026.9800989917351,1.4962587805223442,{"$f":"VLOOKUP($F172,'Gegevens vergelijking'!$I$16:$Q$68,9,FALSE)","v":36.908247477731429},-37.232413234997964,-0.32416575726653019,2946.1192111615428,0,0,36.908247477731429,1,4.1009163864146032,1.2116279069767442,1.0904651162790697,0.1172093023255814,3.6908247477731431,0.97325581395348837,0,0.14962587805223443,3.6908247477731431,-3.7232413234997961,0.8925143953934741,0,1.2765699913186668,31.489179395683561,-31.765749387002227,-80.049688455245615,0,-80.049688455245615,null,null,null,null,null,null,null,null,null,null,null,null,null,null,null,null,null,null,null,null,null,"1967-05-19",0.9,3.3159999999999998,null,"1975-05-18",0,3.6880000000000002,null,"2006-05-18",0.56000000000000005,3.1249400000000001,0.56000000000000005,3.1249400000000001,0.56000000000000005,2.9820899999999999,null,"2016-05-17",0.55000000000000004,3.1603500000000002,0.55000000000000004,3.1603500000000002,0.55000000000000004,2.9766900000000001,null,"2066-05-18",0.51,3.3374100000000002,0.51,3.3374100000000002,0.51,2.9496799999999999,null,null,null,4,{"$error":"#DIV/0!"}]
["1967-05-20",0,4.1040000000000001,5,1967,20,0,{"$f":"IF(B173<Parameters!$A$16,B173*Parameters!$B$16,IF(AND(B173>Parameters!$A$16,B173<Parameters!$A$17),B173*Parameters!$B$17,B173*Parameters!$B$18))","v":0},{"$f":"IF(B173<Parameters!$A$20,B173*Parameters!$B$20,IF(AND(B173>Parameters!$A$20,B173<Parameters!$A$21),B173*Parameters!$B$21,B173*Parameters!$B$22))","v":0},0,"",0,"",0,3.9104516129032261,1023.5577437661796,1.8678865044287185,{"$f":"VLOOKUP($F173,'Gegevens vergelijking'!$I$16:$Q$68,9,FALSE)","v":36.908247477731429},-38.776133982160147,-1.8678865044287185,2907.3430771793828,0,0,36.908247477731429,1,"","",0,0,3.6908247477731431,0,0,0.18678865044287185,3.6908247477731431,-3.877613398216015,"","","","","",-83.36868806164432,0,-83.36868806164432,null,null,null,null,null,null,null,null,null,null,null,null,null,null,null,null,null,null,null,null,null,"1967-05-20",0,4.1040000000000001,null,"1975-05-19",0,1.5229999999999999,null,"2006-05-19",0,3.45295,0,3.45295,0,3.2951100000000002,null,"2016-05-18",0,3.4920800000000001,0,3.4920800000000001,0,3.2891400000000002,null,"2066-05-19",0,3.6877200000000001,0,3.6877200000000001,0,3.2593000000000001,null,null,null,5,{"$error":"#DIV/0!"}]
["1967-05-21",0,5.3890000000000002,5,1967,20,0,{"$f":"IF(B174<Parameters!$A$16,B174*Parameters!$B$16,IF(AND(B174>Parameters!$A$16,B174<Parameters!$A$17),B174*Parameters!$B$17,B174*Parameters!$B$18))","v":0},{"$f":"IF(B174<Parameters!$A$20,B174*Parameters!$B$20,IF(AND(B174>Parameters!$A$20,B174<Parameters!$A$21),B174*Parameters!$B$21,B174*Parameters!$B$22))","v":0},0,"",0,"",0,5.1954516129032262,1020.0819449054014,2.4734161538370163,{"$f":"VLOOKUP($F174,'Gegevens vergelijking'!$I$16:$Q$68,9,FALSE)","v":36.908247477731429},-39.381663631568443,-2.4734161538370163,2867.9614135478146,0,0,36.908247477731429,1,"","",0,0,3.6908247477731431,0,0,0.24734161538370164,3.6908247477731431,-3.9381663631568449,"","","","","",-84.670576807872166,0,-84.670576807872166,null,null,null,null,null,null,null,null,null,null,null,null,null,null,null,null,null,null,null,null,null,"1967-05-21",0,5.3890000000000002,null,"1975-05-20",0,5.7759999999999998,null,"2006-05-20",0,4.2735000000000003,0,4.2735000000000003,0,4.0781400000000003,null,"2016-05-19",0,4.3219200000000004,0,4.3219200000000004,0,4.0707599999999999,null,"2066-05-20",0,4.5640599999999996,0,4.5640599999999996,0,4.0338200000000004,null,null,null,6,{"$error":"#DIV/0!"}]
["1967-05-22",2.1,2.0390000000000001,5,1967,21,2.1,{"$f":"IF(B175<Parameters!$A$16,B175*Parameters!$B$16,IF(AND(B175>Parameters!$A$16,B175<Parameters!$A$17),B175*Parameters!$B$17,B175*Parameters!$B$18))","v":1.9949999999999999},{"$f":"IF(B175<Parameters!$A$20,B175*Parameters!$B$20,IF(AND(B175>Parameters!$A$20,B175<Parameters!$A$21),B175*Parameters!$B$21,B175*Parameters!$B$22))","v":1.5750000000000002},25.444186046511629,1.2116279069767442,24.064534883720931,0.94577735124760076,1.3796511627906973,1.8454516129032259,1018.724491986608,0.87558691652052678,{"$f":"VLOOKUP($F175,'Gegevens vergelijking'!$I$16:$Q$68,9,FALSE)","v":38.569226396674274},-15.38027842947387,23.188947967200406,2852.5811351183406,0,0,38.569226396674274,1,1.8366298284130607,1.2116279069767442,2.5444186046511628,2.4064534883720929,3.8569226396674274,0.13796511627906974,0,8.7558691652052684E-2,3.8569226396674274,-1.538027842947387,5.4222648752399225E-2,0,3.6384950748116887E-2,1.6027414027754767,-0.63912635352359348,-33.067598623368823,0,-33.067598623368823,null,null,null,null,null,null,null,null,null,null,null,null,null,null,null,null,null,null,null,null,null,"1967-05-22",2.1,2.0390000000000001,null,"1975-05-21",0,3.9729999999999999,null,"2006-05-21",0,5.6115700000000004,0,5.6115700000000004,0,5.3550500000000003,null,"2016-05-20",0,5.67516,0,5.67516,0,5.3453499999999998,null,"2066-05-21",0,5.9931099999999997,0,5.9931099999999997,0,5.2968500000000001,null,null,null,7,{"$error":"#DIV/0!"}]
["1967-05-23",0.1,3.52,5,1967,21,0.1,{"$f":"IF(B176<Parameters!$A$16,B176*Parameters!$B$16,IF(AND(B176>Parameters!$A$16,B176<Parameters!$A$17),B176*Parameters!$B$17,B176*Parameters!$B$18))","v":0},{"$f":"IF(B176<Parameters!$A$20,B176*Parameters!$B$20,IF(AND(B176>Parameters!$A$20,B176<Parameters!$A$21),B176*Parameters!$B$21,B176*Parameters!$B$22))","v":0},1.2116279069767442,1.2116279069767442,0.13023255813953488,0.10748560460652591,1.0813953488372092,3.326451612903226,1015.1927819682151,1.5761570834757543,{"$f":"VLOOKUP($F176,'Gegevens vergelijking'!$I$16:$Q$68,9,FALSE)","v":38.569226396674274},-40.015150922010498,-1.4459245253362194,2812.5659841963302,0,0,38.569226396674274,1,38.569226396674274,1.2116279069767442,0.12116279069767441,1.3023255813953489E-2,3.8569226396674274,0.10813953488372093,0,0.15761570834757543,3.8569226396674274,-4.001515092201049,0.8925143953934741,0,12.102634748117399,296.15655983160605,-307.25919457972338,-86.032574482322559,0,-86.032574482322559,null,null,null,null,null,null,null,null,null,null,null,null,null,null,null,null,null,null,null,null,null,"1967-05-23",0.1,3.52,null,"1975-05-22",0,4.3179999999999996,null,"2006-05-22",2.34,2.1232099999999998,2.34,2.1232099999999998,2.34,2.0261499999999999,null,"2016-05-21",2.31,2.1472699999999998,2.31,2.1472699999999998,2.31,2.0224799999999998,null,"2066-05-22",2.17,2.2675700000000001,2.17,2.2675700000000001,2.17,2.00413,null,null,null,8,{"$error":"#DIV/0!"}]
["1967-05-24",5.2,1.7849999999999999,5,1967,21,5.2,{"$f":"IF(B177<Parameters!$A$16,B177*Parameters!$B$16,IF(AND(B177>Parameters!$A$16,B177<Parameters!$A$17),B177*Parameters!$B$17,B177*Parameters!$B$18))","v":4.9399999999999995},{"$f":"IF(B177<Parameters!$A$20,B177*Parameters!$B$20,IF(AND(B177>Parameters!$A$20,B177<Parameters!$A$21),B177*Parameters!$B$21,B177*Parameters!$B$22))","v":3.9000000000000004},63.004651162790701,1.2116279069767442,59.588372093023246,0.94577735124760054,3.4162790697674552,1.5914516129032257,1016.9815944916089,0.75145590245164118,{"$f":"VLOOKUP($F177,'Gegevens vergelijking'!$I$16:$Q$68,9,FALSE)","v":38.569226396674274},20.267689793897329,58.836916190571607,2832.8336739902275,0,0,38.569226396674274,1,0.74171589224373602,1.2116279069767442,6.3004651162790699,5.9588372093023247,3.8569226396674274,0.3416279069767455,0,7.5145590245164123E-2,3.8569226396674274,2.0267689793897334,5.422264875239944E-2,0,1.2610780863060757E-2,0.64726095112086568,0.34012826801607365,43.575533056879273,0,43.575533056879273,null,null,null,null,null,null,null,null,null,null,null,null,null,null,null,null,null,null,null,null,null,"1967-05-24",5.2,1.7849999999999999,null,"1975-05-23",0,2.669,null,"2006-05-23",0.12,3.6653799999999999,0.12,3.6653799999999999,0.12,3.4978199999999999,null,"2016-05-22",0.1,3.7069100000000001,0.1,3.7069100000000001,0.1,3.4914900000000002,null,"2066-05-23",0.1,3.91459,0.1,3.91459,0.1,3.4598100000000001,null,null,null,9,{"$error":"#DIV/0!"}]
["1967-05-25",15.9,2.0310000000000001,5,1967,21,15.9,{"$f":"IF(B178<Parameters!$A$16,B178*Parameters!$B$16,IF(AND(B178>Parameters!$A$16,B178<Parameters!$A$17),B178*Parameters!$B$17,B178*Parameters!$B$18))","v":15.105},{"$f":"IF(B178<Parameters!$A$20,B178*Parameters!$B$20,IF(AND(B178>Parameters!$A$20,B178<Parameters!$A$21),B178*Parameters!$B$21,B178*Parameters!$B$22))","v":11.925000000000001},192.64883720930231,1.2116279069767442,182.20290697674417,0.94577735124760076,10.44593023255814,1.8374516129032259,1029.5818956505066,0.86914161446116323,{"$f":"VLOOKUP($F178,'Gegevens vergelijking'!$I$16:$Q$68,9,FALSE)","v":38.569226396674274},142.76453896560872,181.333765362283,2975.5982129558361,0,0,38.569226396674274,1,0.24257375092247971,1.2116279069767442,19.264883720930232,18.220290697674418,3.8569226396674274,1.044593023255814,0,8.6914161446116328E-2,3.8569226396674274,14.276453896560874,5.4222648752399238E-2,0,4.7701852230716485E-3,0.21168282678166672,0.78354698799526157,306.94375877605881,0,306.94375877605881,null,null,null,null,null,null,null,null,null,null,null,null,null,null,null,null,null,null,null,null,null,"1967-05-25",15.9,2.0310000000000001,null,"1975-05-24",0,2.3069999999999999,null,"2006-05-24",5.92,1.8587199999999999,5.92,1.8587199999999999,5.92,1.7737499999999999,null,"2016-05-23",5.9,1.87978,5.9,1.87978,5.9,1.77054,null,"2066-05-24",5.74,1.9851000000000001,5.74,1.9851000000000001,5.74,1.75448,null,null,null,10,{"$error":"#DIV/0!"}]
["1967-05-26",0.8,3.2120000000000002,5,1967,21,0.8,{"$f":"IF(B179<Parameters!$A$16,B179*Parameters!$B$16,IF(AND(B179>Parameters!$A$16,B179<Parameters!$A$17),B179*Parameters!$B$17,B179*Parameters!$B$18))","v":0},{"$f":"IF(B179<Parameters!$A$20,B179*Parameters!$B$20,IF(AND(B179>Parameters!$A$20,B179<Parameters!$A$21),B179*Parameters!$B$21,B179*Parameters!$B$22))","v":0},9.6930232558139533,1.2116279069767442,1.0418604651162791,0.10748560460652591,8.6511627906976738,3.0184516129032262,1026.1421803575215,1.4454619225777825,{"$f":"VLOOKUP($F179,'Gegevens vergelijking'!$I$16:$Q$68,9,FALSE)","v":38.569226396674274},-38.97282785413578,-0.40360145746150344,2936.6253851017004,0,0,38.569226396674274,1,4.8211532995842843,1.2116279069767442,0.96930232558139529,0.10418604651162791,3.8569226396674274,0.8651162790697674,0,0.14454619225777826,3.8569226396674274,-3.8972827854135779,0.8925143953934741,0,1.3873853274742109,37.019569978950756,-37.406955306424962,-83.791579886391915,0,-83.791579886391915,null,null,null,null,null,null,null,null,null,null,null,null,null,null,null,null,null,null,null,null,null,"1967-05-26",0.8,3.2120000000000002,null,"1975-05-25",0,3.0369999999999999,null,"2006-05-25",18.899999999999999,2.1148799999999999,18.899999999999999,2.1148799999999999,18.899999999999999,2.0182000000000002,null,"2016-05-24",19.04,2.1388500000000001,19.04,2.1388500000000001,19.04,2.0145499999999998,null,"2066-05-25",0,2.25868,0,2.25868,0,1.99627,null,null,null,11,{"$error":"#DIV/0!"}]
["1967-05-27",0,5.2590000000000003,5,1967,21,0,{"$f":"IF(B180<Parameters!$A$16,B180*Parameters!$B$16,IF(AND(B180>Parameters!$A$16,B180<Parameters!$A$17),B180*Parameters!$B$17,B180*Parameters!$B$18))","v":0},{"$f":"IF(B180<Parameters!$A$20,B180*Parameters!$B$20,IF(AND(B180>Parameters!$A$20,B180<Parameters!$A$21),B180*Parameters!$B$21,B180*Parameters!$B$22))","v":0},0,"",0,"",0,5.0654516129032263,1022.5247095445005,2.4176156104930424,{"$f":"VLOOKUP($F180,'Gegevens vergelijking'!$I$16:$Q$68,9,FALSE)","v":38.569226396674274},-40.986842007167319,-2.4176156104930424,2895.6385430945329,0,0,38.569226396674274,1,"","",0,0,3.8569226396674274,0,0,0.24176156104930424,3.8569226396674274,-4.0986842007167317,"","","","","",-88.121710315409729,0,-88.121710315409729,null,null,null,null,null,null,null,null,null,null,null,null,null,null,null,null,null,null,null,null,null,"1967-05-27",0,5.2590000000000003,null,"1975-05-26",0.1,4.5670000000000002,null,"2006-05-26",0.88,3.3446600000000002,0.88,3.3446600000000002,0.88,3.1917599999999999,null,"2016-05-25",0.87,3.3825599999999998,0.87,3.3825599999999998,0.87,3.1859799999999998,null,"2066-05-26",0.8,3.5720700000000001,0.8,3.5720700000000001,0.8,3.15707,null,null,null,12,{"$error":"#DIV/0!"}]
["1967-05-28",9.8000000000000007,5.0270000000000001,5,1967,21,9.8000000000000007,{"$f":"IF(B181<Parameters!$A$16,B181*Parameters!$B$16,IF(AND(B181>Parameters!$A$16,B181<Parameters!$A$17),B181*Parameters!$B$17,B181*Parameters!$B$18))","v":9.31},{"$f":"IF(B181<Parameters!$A$20,B181*Parameters!$B$20,IF(AND(B181>Parameters!$A$20,B181<Parameters!$A$21),B181*Parameters!$B$21,B181*Parameters!$B$22))","v":7.3500000000000005},118.73953488372095,1.2116279069767444,112.30116279069767,0.94577735124760065,6.4383720930232755,4.8334516129032261,1028.829353555881,2.298755212363381,{"$f":"VLOOKUP($F181,'Gegevens vergelijking'!$I$16:$Q$68,9,FALSE)","v":38.569226396674274},71.433181181660018,110.0024075783343,2967.071724276193,0,0,38.569226396674274,1,0.39356353465994159,1.2116279069767444,11.873953488372095,11.230116279069767,3.8569226396674274,0.64383720930232757,0,0.22987552123633809,3.8569226396674274,7.1433181181660022,5.4222648752399391E-2,0,2.0469558419868788E-2,0.34344458630903069,0.63608585527110051,153.58133954056905,0,153.58133954056905,null,null,null,null,null,null,null,null,null,null,null,null,null,null,null,null,null,null,null,null,null,"1967-05-28",9.8000000000000007,5.0270000000000001,null,"1975-05-27",0,3.5950000000000002,null,"2006-05-27",0,5.4762000000000004,0,5.4762000000000004,0,5.2258699999999996,null,"2016-05-26",0,5.5382499999999997,0,5.5382499999999997,0,5.2164000000000001,null,"2066-05-27",0,5.8485300000000002,0,5.8485300000000002,0,5.1690699999999996,null,null,null,13,{"$error":"#DIV/0!"}]
["1967-05-29",0,3.8639999999999999,5,1967,22,0,{"$f":"IF(B182<Parameters!$A$16,B182*Parameters!$B$16,IF(AND(B182>Parameters!$A$16,B182<Parameters!$A$17),B182*Parameters!$B$17,B182*Parameters!$B$18))","v":0},{"$f":"IF(B182<Parameters!$A$20,B182*Parameters!$B$20,IF(AND(B182>Parameters!$A$20,B182<Parameters!$A$21),B182*Parameters!$B$21,B182*Parameters!$B$22))","v":0},0,"",0,"",0,3.6704516129032259,1025.1634156406476,1.7564038884471471,{"$f":"VLOOKUP($F182,'Gegevens vergelijking'!$I$16:$Q$68,9,FALSE)","v":39.779582414171429},-41.535986302618575,-1.7564038884471471,2925.5357379735742,0,0,39.779582414171429,1,"","",0,0,3.9779582414171428,0,0,0.17564038884471472,3.9779582414171428,-4.1535986302618575,"","","","","",-89.302370550629931,0,-89.302370550629931,null,null,null,null,null,null,null,null,null,null,null,null,null,null,null,null,null,null,null,null,null,"1967-05-29",0,3.8639999999999999,null,"1975-05-28",0,4.96,null,"2006-05-28",11.45,5.2346199999999996,11.45,5.2346199999999996,11.45,4.99533,null,"2016-05-27",11.47,5.2939299999999996,11.47,5.2939299999999996,11.47,4.9862799999999998,null,"2066-05-28",11.6,5.5905300000000002,11.6,5.5905300000000002,11.6,4.9410400000000001,null,null,null,14,{"$error":"#DIV/0!"}]
["1967-05-30",1.8,3.0179999999999998,5,1967,22,1.8,{"$f":"IF(B183<Parameters!$A$16,B183*Parameters!$B$16,IF(AND(B183>Parameters!$A$16,B183<Parameters!$A$17),B183*Parameters!$B$17,B183*Parameters!$B$18))","v":1.4400000000000002},{"$f":"IF(B183<Parameters!$A$20,B183*Parameters!$B$20,IF(AND(B183>Parameters!$A$20,B183<Parameters!$A$21),B183*Parameters!$B$21,B183*Parameters!$B$22))","v":1.08},21.809302325581395,1.2116279069767442,17.706976744186047,0.81190019193857965,4.1023255813953483,2.8244516129032258,1023.0964387384249,1.3467555640909801,{"$f":"VLOOKUP($F183,'Gegevens vergelijking'!$I$16:$Q$68,9,FALSE)","v":39.779582414171429},-23.419361234076362,16.360221180095067,2902.1163767394978,0,0,39.779582414171429,1,2.2099768007873015,1.2116279069767442,2.1809302325581394,1.7706976744186047,3.9779582414171428,0.41023255813953485,0,0.13467555640909801,3.9779582414171428,-2.3419361234076361,0.18809980806142035,0,7.6057905510785576E-2,2.2465485208948928,-1.3226064264056783,-50.351626653264177,0,-50.351626653264177,null,null,null,null,null,null,null,null,null,null,null,null,null,null,null,null,null,null,null,null,null,"1967-05-30",1.8,3.0179999999999998,null,"1975-05-29",0,4.6760000000000002,null,"2006-05-29",0,4.0235799999999999,0,4.0235799999999999,0,3.8396599999999999,null,"2016-05-28",0,4.0691800000000002,0,4.0691800000000002,0,3.8327,null,"2066-05-29",0,4.2971500000000002,0,4.2971500000000002,0,3.79793,null,null,null,15,{"$error":"#DIV/0!"}]
["1967-05-31",0,2.3290000000000002,5,1967,22,0,{"$f":"IF(B184<Parameters!$A$16,B184*Parameters!$B$16,IF(AND(B184>Parameters!$A$16,B184<Parameters!$A$17),B184*Parameters!$B$17,B184*Parameters!$B$18))","v":0},{"$f":"IF(B184<Parameters!$A$20,B184*Parameters!$B$20,IF(AND(B184>Parameters!$A$20,B184<Parameters!$A$21),B184*Parameters!$B$21,B184*Parameters!$B$22))","v":0},0,"",0,"",0,2.1354516129032262,1019.4958330575519,1.0161734605858217,{"$f":"VLOOKUP($F184,'Gegevens vergelijking'!$I$16:$Q$68,9,FALSE)","v":39.779582414171429},-40.795755874757248,-1.0161734605858217,2861.3206208647407,0,0,39.779582414171429,1,"","",0,0,3.9779582414171428,0,0,0.10161734605858216,3.9779582414171428,-4.0795755874757251,"","","","","",-87.710875130728084,0,-87.710875130728084,null,null,null,null,null,null,null,null,null,null,null,null,null,null,null,null,null,null,null,null,null,"1967-05-31",0,2.3290000000000002,null,"1975-05-30",0,2.165,null,"2006-05-30",2,3.1426400000000001,2,3.1426400000000001,2,2.99899,null,"2016-05-29",1.97,3.1782599999999999,1.97,3.1782599999999999,1.97,2.9935499999999999,null,"2066-05-30",1.83,3.3563200000000002,1.83,3.3563200000000002,1.83,2.9663900000000001,null,null,null,16,{"$error":"#DIV/0!"}]
["1967-06-01",0.2,1.534,6,1967,22,0.2,{"$f":"IF(B185<Parameters!$A$16,B185*Parameters!$B$16,IF(AND(B185>Parameters!$A$16,B185<Parameters!$A$17),B185*Parameters!$B$17,B185*Parameters!$B$18))","v":0},{"$f":"IF(B185<Parameters!$A$20,B185*Parameters!$B$20,IF(AND(B185>Parameters!$A$20,B185<Parameters!$A$21),B185*Parameters!$B$21,B185*Parameters!$B$22))","v":0},2.4232558139534883,1.2116279069767442,0.26046511627906976,0.10748560460652591,2.1627906976744184,1.4006666666666667,1015.9492830949609,0.66417387449733856,{"$f":"VLOOKUP($F185,'Gegevens vergelijking'!$I$16:$Q$68,9,FALSE)","v":39.779582414171429},-40.183291172389694,-0.40370875821826879,2821.1373296923512,0,0,39.779582414171429,1,19.889791207085715,1.2116279069767442,0.24232558139534882,2.6046511627906978E-2,3.9779582414171428,0.21627906976744185,0,6.6417387449733856E-2,3.9779582414171428,-4.0183291172389701,0.8925143953934741,0,2.5499532681594248,152.72518248297959,-154.27513575113903,-86.394076020637868,0,-86.394076020637868,null,null,null,null,null,null,null,null,null,null,null,null,null,null,null,null,null,null,null,null,null,"1967-06-01",0.2,1.534,null,"1975-05-31",0,3.694,null,"2006-05-31",0,2.4251900000000002,0,2.4251900000000002,0,2.31433,null,"2016-05-30",0,2.4526699999999999,0,2.4526699999999999,0,2.3101400000000001,null,"2066-05-31",0,2.5900799999999999,0,2.5900799999999999,0,2.2891699999999999,null,null,null,17,{"$error":"#DIV/0!"}]
["1967-06-02",0.2,1.893,6,1967,22,0.2,{"$f":"IF(B186<Parameters!$A$16,B186*Parameters!$B$16,IF(AND(B186>Parameters!$A$16,B186<Parameters!$A$17),B186*Parameters!$B$17,B186*Parameters!$B$18))","v":0},{"$f":"IF(B186<Parameters!$A$20,B186*Parameters!$B$20,IF(AND(B186>Parameters!$A$20,B186<Parameters!$A$21),B186*Parameters!$B$21,B186*Parameters!$B$22))","v":0},2.4232558139534883,1.2116279069767442,0.26046511627906976,0.10748560460652591,2.1627906976744184,1.7596666666666667,1012.3879647512917,0.83150329697027892,{"$f":"VLOOKUP($F186,'Gegevens vergelijking'!$I$16:$Q$68,9,FALSE)","v":39.779582414171429},-40.350620594862633,-0.57103818069120915,2780.7867090974887,0,0,39.779582414171429,1,19.889791207085715,1.2116279069767442,0.24232558139534882,2.6046511627906978E-2,3.9779582414171428,0.21627906976744185,0,8.3150329697027889E-2,3.9779582414171428,-4.0350620594862638,0.8925143953934741,0,3.1923787294394637,152.72518248297959,-154.91756121241906,-86.75383427895467,0,-86.75383427895467,null,null,null,null,null,null,null,null,null,null,null,null,null,null,null,null,null,null,null,null,null,"1967-06-02",0.2,1.893,null,"1975-06-01",0.1,2.6070000000000002,null,"2006-06-01",0.18,1.6607099999999999,0.22,1.58769,0.18,1.5195000000000001,null,"2016-05-31",0.17,1.6969099999999999,0.21,1.60303,0.17,1.51536,null,"2066-06-01",0.14000000000000001,1.87792,0,1.6797299999999999,0.14000000000000001,1.49465,null,null,null,18,{"$error":"#DIV/0!"}]
["1967-06-03",0,2.91,6,1967,22,0,{"$f":"IF(B187<Parameters!$A$16,B187*Parameters!$B$16,IF(AND(B187>Parameters!$A$16,B187<Parameters!$A$17),B187*Parameters!$B$17,B187*Parameters!$B$18))","v":0},{"$f":"IF(B187<Parameters!$A$20,B187*Parameters!$B$20,IF(AND(B187>Parameters!$A$20,B187<Parameters!$A$21),B187*Parameters!$B$21,B187*Parameters!$B$22))","v":0},0,"",0,"",0,2.7766666666666668,1008.7616492956636,1.3074715885857768,{"$f":"VLOOKUP($F187,'Gegevens vergelijking'!$I$16:$Q$68,9,FALSE)","v":39.779582414171429},-41.087054002757206,-1.3074715885857768,2739.6996550947315,0,0,39.779582414171429,1,"","",0,0,3.9779582414171428,0,0,0.13074715885857768,3.9779582414171428,-4.1087054002757206,"","","","","",-88.337166105927992,0,-88.337166105927992,null,null,null,null,null,null,null,null,null,null,null,null,null,null,null,null,null,null,null,null,null,"1967-06-03",0,2.91,null,"1975-06-02",4.5,2.5169999999999999,null,"2006-06-02",0.18,2.0493600000000001,0.22,1.95926,0.18,1.8751100000000001,null,"2016-06-01",0,2.0940400000000001,0.22,1.97818,0,1.87,null,"2066-06-02",0.14000000000000001,2.3174100000000002,0.2,2.0728399999999998,0.14000000000000001,1.8444400000000001,null,null,null,19,{"$error":"#DIV/0!"}]
["1967-06-04",0,5.4470000000000001,6,1967,22,0,{"$f":"IF(B188<Parameters!$A$16,B188*Parameters!$B$16,IF(AND(B188>Parameters!$A$16,B188<Parameters!$A$17),B188*Parameters!$B$17,B188*Parameters!$B$18))","v":0},{"$f":"IF(B188<Parameters!$A$20,B188*Parameters!$B$20,IF(AND(B188>Parameters!$A$20,B188<Parameters!$A$21),B188*Parameters!$B$21,B188*Parameters!$B$22))","v":0},0,"",0,"",0,5.3136666666666663,1005.0306886952985,2.4931270467321198,{"$f":"VLOOKUP($F188,'Gegevens vergelijking'!$I$16:$Q$68,9,FALSE)","v":39.779582414171429},-42.272709460903549,-2.4931270467321198,2697.4269456338279,0,0,39.779582414171429,1,"","",0,0,3.9779582414171428,0,0,0.24931270467321198,3.9779582414171428,-4.2272709460903553,"","","","","",-90.886325340942633,0,-90.886325340942633,null,null,null,null,null,null,null,null,null,null,null,null,null,null,null,null,null,null,null,null,null,"1967-06-04",0,5.4470000000000001,null,"1975-06-03",1.4,1.458,null,"2006-06-03",0,3.1503700000000001,0,3.0118499999999999,0,2.8824999999999998,null,"2016-06-02",0,3.2190400000000001,0,3.04095,0,2.8746399999999999,null,"2066-06-03",0,3.5624199999999999,0,3.1864499999999998,0,2.8353600000000001,null,null,null,20,{"$error":"#DIV/0!"}]
["1967-06-05",0,2.2450000000000001,6,1967,23,0,{"$f":"IF(B189<Parameters!$A$16,B189*Parameters!$B$16,IF(AND(B189>Parameters!$A$16,B189<Parameters!$A$17),B189*Parameters!$B$17,B189*Parameters!$B$18))","v":0},{"$f":"IF(B189<Parameters!$A$20,B189*Parameters!$B$20,IF(AND(B189>Parameters!$A$20,B189<Parameters!$A$21),B189*Parameters!$B$21,B189*Parameters!$B$22))","v":0},0,"",0,"",0,2.1116666666666668,1001.3874390809855,0.98711153688135145,{"$f":"VLOOKUP($F189,'Gegevens vergelijking'!$I$16:$Q$68,9,FALSE)","v":40.291810686080005},-41.278922222961356,-0.98711153688135145,2656.1480234108667,0,0,40.291810686080005,1,"","",0,0,4.0291810686080005,0,0,9.8711153688135142E-2,4.0291810686080005,-4.1278922222961354,"","","","","",-88.749682779366907,0,-88.749682779366907,null,null,null,null,null,null,null,null,null,null,null,null,null,null,null,null,null,null,null,null,null,"1967-06-05",0,2.2450000000000001,null,"1975-06-04",0.8,3.2240000000000002,null,"2006-06-04",0,5.8969199999999997,0,5.6376499999999998,0,5.3955299999999999,null,"2016-06-03",0,6.0254700000000003,0,5.6921099999999996,0,5.3808199999999999,null,"2066-06-04",0,6.6682199999999998,0,5.9644700000000004,0,5.3072800000000004,null,null,null,21,{"$error":"#DIV/0!"}]
["1967-06-06",0,5.048,6,1967,23,0,{"$f":"IF(B190<Parameters!$A$16,B190*Parameters!$B$16,IF(AND(B190>Parameters!$A$16,B190<Parameters!$A$17),B190*Parameters!$B$17,B190*Parameters!$B$18))","v":0},{"$f":"IF(B190<Parameters!$A$20,B190*Parameters!$B$20,IF(AND(B190>Parameters!$A$20,B190<Parameters!$A$21),B190*Parameters!$B$21,B190*Parameters!$B$22))","v":0},0,"",0,"",0,4.9146666666666663,997.62928011488498,2.2890630080325658,{"$f":"VLOOKUP($F190,'Gegevens vergelijking'!$I$16:$Q$68,9,FALSE)","v":40.291810686080005},-42.580873694112569,-2.2890630080325658,2613.5671497167541,0,0,40.291810686080005,1,"","",0,0,4.0291810686080005,0,0,0.22890630080325658,4.0291810686080005,-4.2580873694112569,"","","","","",-91.54887844234203,0,-91.54887844234203,null,null,null,null,null,null,null,null,null,null,null,null,null,null,null,null,null,null,null,null,null,"1967-06-06",0,5.048,null,"1975-06-05",0,4.6239999999999997,null,"2006-06-05",0,2.4304399999999999,0,2.3235800000000002,0,2.2237800000000001,null,"2016-06-04",0,2.4834200000000002,0,2.3460200000000002,0,2.2177199999999999,null,"2066-06-05",0,2.7483300000000002,0,2.4582799999999998,0,2.1874199999999999,null,null,null,22,{"$error":"#DIV/0!"}]
["1967-06-07",1.9,2.9849999999999999,6,1967,23,1.9,{"$f":"IF(B191<Parameters!$A$16,B191*Parameters!$B$16,IF(AND(B191>Parameters!$A$16,B191<Parameters!$A$17),B191*Parameters!$B$17,B191*Parameters!$B$18))","v":1.52},{"$f":"IF(B191<Parameters!$A$20,B191*Parameters!$B$20,IF(AND(B191>Parameters!$A$20,B191<Parameters!$A$21),B191*Parameters!$B$21,B191*Parameters!$B$22))","v":1.1399999999999999},23.02093023255814,1.2116279069767442,18.690697674418605,0.81190019193857965,4.3302325581395351,2.8516666666666666,995.60599475819686,1.3232121692066419,{"$f":"VLOOKUP($F191,'Gegevens vergelijking'!$I$16:$Q$68,9,FALSE)","v":40.291810686080005},-22.924325180868042,17.367485505211963,2590.6428245358861,0,0,40.291810686080005,1,2.1206216150568422,1.2116279069767442,2.3020930232558139,1.8690697674418604,4.0291810686080005,0.43302325581395351,0,0.13232121692066418,4.0291810686080005,-2.2924325180868044,0.18809980806142035,0,7.0795226173803155E-2,2.1557146441476176,-1.2265098703214208,-49.287299138866295,0,-49.287299138866295,null,null,null,null,null,null,null,null,null,null,null,null,null,null,null,null,null,null,null,null,null,"1967-06-07",1.9,2.9849999999999999,null,"1975-06-06",0,5.9829999999999997,null,"2006-06-06",0,5.4649599999999996,0,5.2246800000000002,0,5.0003000000000002,null,"2016-06-05",0,5.5841000000000003,0,5.2751599999999996,0,4.9866700000000002,null,"2066-06-06",0,6.1797599999999999,0,5.5275600000000003,0,4.91852,null,null,null,23,{"$error":"#DIV/0!"}]
["1967-06-08",1.4,3.956,6,1967,23,1.4,{"$f":"IF(B192<Parameters!$A$16,B192*Parameters!$B$16,IF(AND(B192>Parameters!$A$16,B192<Parameters!$A$17),B192*Parameters!$B$17,B192*Parameters!$B$18))","v":1.1199999999999999},{"$f":"IF(B192<Parameters!$A$20,B192*Parameters!$B$20,IF(AND(B192>Parameters!$A$20,B192<Parameters!$A$21),B192*Parameters!$B$21,B192*Parameters!$B$22))","v":0.84},16.962790697674418,1.2116279069767442,13.772093023255811,0.81190019193857954,3.1906976744186064,3.8226666666666667,993.10914832577623,1.7701720229282172,{"$f":"VLOOKUP($F192,'Gegevens vergelijking'!$I$16:$Q$68,9,FALSE)","v":40.291810686080005},-28.28988968575241,12.001921000327595,2562.3529348501338,0,0,40.291810686080005,1,2.8779864775771431,1.2116279069767442,1.6962790697674417,1.3772093023255811,4.0291810686080005,0.31906976744186066,0,0.17701720229282172,4.0291810686080005,-2.8289889685752412,0.18809980806142049,0,0.12853326069894183,2.9256127313431959,-2.0541459920421379,-60.823262824367688,0,-60.823262824367688,null,null,null,null,null,null,null,null,null,null,null,null,null,null,null,null,null,null,null,null,null,"1967-06-08",1.4,3.956,null,"1975-06-07",0,6.3230000000000004,null,"2006-06-07",1.62,3.23156,2.04,3.08948,1.62,2.9567899999999998,null,"2016-06-06",1.55,3.3020100000000001,2,3.1193200000000001,1.55,2.9487299999999999,null,"2066-06-07",0,3.6542400000000002,1.77,3.26858,0,2.9084300000000001,null,null,null,24,{"$error":"#DIV/0!"}]
["1967-06-09",0,3.59,6,1967,23,0,{"$f":"IF(B193<Parameters!$A$16,B193*Parameters!$B$16,IF(AND(B193>Parameters!$A$16,B193<Parameters!$A$17),B193*Parameters!$B$17,B193*Parameters!$B$18))","v":0},{"$f":"IF(B193<Parameters!$A$20,B193*Parameters!$B$20,IF(AND(B193>Parameters!$A$20,B193<Parameters!$A$21),B193*Parameters!$B$21,B193*Parameters!$B$22))","v":0},0,"",0,"",0,3.4566666666666666,989.41209921717154,1.596673157850899,{"$f":"VLOOKUP($F193,'Gegevens vergelijking'!$I$16:$Q$68,9,FALSE)","v":40.291810686080005},-41.888483843930906,-1.596673157850899,2520.464451006203,0,0,40.291810686080005,1,"","",0,0,4.0291810686080005,0,0,0.15966731578508991,4.0291810686080005,-4.1888483843930908,"","","","","",-90.060240264451451,0,-90.060240264451451,null,null,null,null,null,null,null,null,null,null,null,null,null,null,null,null,null,null,null,null,null,"1967-06-09",0,3.59,null,"1975-06-08",0,6.452,null,"2006-06-08",1.19,4.2827700000000002,1.5,4.0944599999999998,1.19,3.9186200000000002,null,"2016-06-07",1.1200000000000001,4.3761299999999999,1.46,4.1340199999999996,1.1200000000000001,3.9079299999999999,null,"2066-06-08",0.82,4.8429399999999996,1.29,4.3318199999999996,0.82,3.85453,null,null,null,25,{"$error":"#DIV/0!"}]
["1967-06-10",0,3.2909999999999999,6,1967,23,0,{"$f":"IF(B194<Parameters!$A$16,B194*Parameters!$B$16,IF(AND(B194>Parameters!$A$16,B194<Parameters!$A$17),B194*Parameters!$B$17,B194*Parameters!$B$18))","v":0},{"$f":"IF(B194<Parameters!$A$20,B194*Parameters!$B$20,IF(AND(B194>Parameters!$A$20,B194<Parameters!$A$21),B194*Parameters!$B$21,B194*Parameters!$B$22))","v":0},0,"",0,"",0,3.1576666666666666,985.7277189615736,1.4531319094394211,{"$f":"VLOOKUP($F194,'Gegevens vergelijking'!$I$16:$Q$68,9,FALSE)","v":40.291810686080005},-41.744942595519426,-1.4531319094394211,2478.7195084106838,0,0,40.291810686080005,1,"","",0,0,4.0291810686080005,0,0,0.1453131909439421,4.0291810686080005,-4.1744942595519428,"","","","","",-89.751626580366761,0,-89.751626580366761,null,null,null,null,null,null,null,null,null,null,null,null,null,null,null,null,null,null,null,null,null,"1967-06-10",0,3.2909999999999999,null,"1975-06-09",0,6.3650000000000002,null,"2006-06-09",0,3.88653,0,3.7156500000000001,0,3.5560700000000001,null,"2016-06-08",0,3.97126,0,3.7515499999999999,0,3.5463800000000001,null,"2066-06-09",0,4.3948799999999997,0,3.9310499999999999,0,3.4979200000000001,null,null,null,26,{"$error":"#DIV/0!"}]
["1967-06-11",0,2.169,6,1967,23,0,{"$f":"IF(B195<Parameters!$A$16,B195*Parameters!$B$16,IF(AND(B195>Parameters!$A$16,B195<Parameters!$A$17),B195*Parameters!$B$17,B195*Parameters!$B$18))","v":0},{"$f":"IF(B195<Parameters!$A$20,B195*Parameters!$B$20,IF(AND(B195>Parameters!$A$20,B195<Parameters!$A$21),B195*Parameters!$B$21,B195*Parameters!$B$22))","v":0},0,"",0,"",0,2.0356666666666667,982.08921797555092,0.93330839995322945,{"$f":"VLOOKUP($F195,'Gegevens vergelijking'!$I$16:$Q$68,9,FALSE)","v":40.291810686080005},-41.225119086033231,-0.93330839995322945,2437.4943893246505,0,0,40.291810686080005,1,"","",0,0,4.0291810686080005,0,0,9.3330839995322948E-2,4.0291810686080005,-4.1225119086033235,"","","","","",-88.634006034971463,0,-88.634006034971463,null,null,null,null,null,null,null,null,null,null,null,null,null,null,null,null,null,null,null,null,null,"1967-06-11",0,2.169,null,"1975-06-10",0,4.7350000000000003,null,"2006-06-10",0,3.56284,0,3.40618,0,3.2599,null,"2016-06-09",0,3.6404999999999998,0,3.4390900000000002,0,3.25101,null,"2066-06-10",0,4.0288399999999998,0,3.60365,0,3.2065899999999998,null,null,null,27,{"$error":"#DIV/0!"}]
["1967-06-12",0,4.5659999999999998,6,1967,24,0,{"$f":"IF(B196<Parameters!$A$16,B196*Parameters!$B$16,IF(AND(B196>Parameters!$A$16,B196<Parameters!$A$17),B196*Parameters!$B$17,B196*Parameters!$B$18))","v":0},{"$f":"IF(B196<Parameters!$A$20,B196*Parameters!$B$20,IF(AND(B196>Parameters!$A$20,B196<Parameters!$A$21),B196*Parameters!$B$21,B196*Parameters!$B$22))","v":0},0,"",0,"",0,4.4326666666666661,978.03141267352385,2.024778669866492,{"$f":"VLOOKUP($F196,'Gegevens vergelijking'!$I$16:$Q$68,9,FALSE)","v":43.951162369211438},-45.975941039077931,-2.024778669866492,2391.5184482855725,0,0,43.951162369211438,1,"","",0,0,4.3951162369211438,0,0,0.20247786698664921,4.3951162369211438,-4.5975941039077934,"","","","","",-98.848273234017555,0,-98.848273234017555,null,null,null,null,null,null,null,null,null,null,null,null,null,null,null,null,null,null,null,null,null,"1967-06-12",0,4.5659999999999998,null,"1975-06-11",0,4.7510000000000003,null,"2006-06-11",0,2.34816,0,2.24492,0,2.1484999999999999,null,"2016-06-10",0,2.3993500000000001,0,2.2665999999999999,0,2.1426500000000002,null,"2066-06-11",0,2.6552899999999999,0,2.3750599999999999,0,2.1133700000000002,null,null,null,28,{"$error":"#DIV/0!"}]
["1967-06-13",0,4.7140000000000004,6,1967,24,0,{"$f":"IF(B197<Parameters!$A$16,B197*Parameters!$B$16,IF(AND(B197>Parameters!$A$16,B197<Parameters!$A$17),B197*Parameters!$B$17,B197*Parameters!$B$18))","v":0},{"$f":"IF(B197<Parameters!$A$20,B197*Parameters!$B$20,IF(AND(B197>Parameters!$A$20,B197<Parameters!$A$21),B197*Parameters!$B$21,B197*Parameters!$B$22))","v":0},0,"",0,"",0,4.5806666666666667,973.96840369430981,2.0837376237146614,{"$f":"VLOOKUP($F197,'Gegevens vergelijking'!$I$16:$Q$68,9,FALSE)","v":43.951162369211438},-46.0348999929261,-2.0837376237146614,2345.4835482926464,0,0,43.951162369211438,1,"","",0,0,4.3951162369211438,0,0,0.20837376237146615,4.3951162369211438,-4.6034899992926102,"","","","","",-98.975034984791108,0,-98.975034984791108,null,null,null,null,null,null,null,null,null,null,null,null,null,null,null,null,null,null,null,null,null,"1967-06-13",0,4.7140000000000004,null,"1975-06-12",0,5.9630000000000001,null,"2006-06-12",0,4.9431500000000002,0,4.7258100000000001,0,4.52285,null,"2016-06-11",0,5.05091,0,4.7714699999999999,0,4.5105199999999996,null,"2066-06-12",0,5.5896999999999997,0,4.9997699999999998,0,4.4488799999999999,null,null,null,29,{"$error":"#DIV/0!"}]
["1967-06-14",0,5.3680000000000003,6,1967,24,0,{"$f":"IF(B198<Parameters!$A$16,B198*Parameters!$B$16,IF(AND(B198>Parameters!$A$16,B198<Parameters!$A$17),B198*Parameters!$B$17,B198*Parameters!$B$18))","v":0},{"$f":"IF(B198<Parameters!$A$20,B198*Parameters!$B$20,IF(AND(B198>Parameters!$A$20,B198<Parameters!$A$21),B198*Parameters!$B$21,B198*Parameters!$B$22))","v":0},0,"",0,"",0,5.2346666666666666,969.8800103474864,2.3713488080023937,{"$f":"VLOOKUP($F198,'Gegevens vergelijking'!$I$16:$Q$68,9,FALSE)","v":43.951162369211438},-46.322511177213833,-2.3713488080023937,2299.1610371154325,0,0,43.951162369211438,1,"","",0,0,4.3951162369211438,0,0,0.23713488080023937,4.3951162369211438,-4.632251117721383,"","","","","",-99.593399031009724,0,-99.593399031009724,null,null,null,null,null,null,null,null,null,null,null,null,null,null,null,null,null,null,null,null,null,"1967-06-14",0,5.3680000000000003,null,"1975-06-13",0,5.5359999999999996,null,"2006-06-13",0,5.1033799999999996,0,4.8789899999999999,0,4.6694500000000003,null,"2016-06-12",0,5.2146299999999997,0,4.9261299999999997,0,4.65672,null,"2066-06-13",0,5.77088,0,5.1618300000000001,0,4.5930900000000001,null,null,null,30,{"$error":"#DIV/0!"}]
["1967-06-15",1.4,3.8570000000000002,6,1967,24,1.4,{"$f":"IF(B199<Parameters!$A$16,B199*Parameters!$B$16,IF(AND(B199>Parameters!$A$16,B199<Parameters!$A$17),B199*Parameters!$B$17,B199*Parameters!$B$18))","v":1.1199999999999999},{"$f":"IF(B199<Parameters!$A$20,B199*Parameters!$B$20,IF(AND(B199>Parameters!$A$20,B199<Parameters!$A$21),B199*Parameters!$B$21,B199*Parameters!$B$22))","v":0.84},16.962790697674418,1.2116279069767442,13.772093023255811,0.81190019193857954,3.1906976744186064,3.7236666666666669,967.06817066500491,1.6797720303243056,{"$f":"VLOOKUP($F199,'Gegevens vergelijking'!$I$16:$Q$68,9,FALSE)","v":43.951162369211438},-31.85884137627993,12.092320992931505,2267.3021957391525,0,0,43.951162369211438,1,3.13936874065796,1.2116279069767442,1.6962790697674417,1.3772093023255811,4.3951162369211438,0.31906976744186066,0,0.16797720303243055,4.3951162369211438,-3.1858841376279932,0.18809980806142049,0,0.12196926258687124,3.1913204692267683,-2.3132897318136396,-68.496508959001844,0,-68.496508959001844,null,null,null,null,null,null,null,null,null,null,null,null,null,null,null,null,null,null,null,null,null,"1967-06-15",1.4,3.8570000000000002,null,"1975-06-14",0,4.577,null,"2006-06-14",0,5.8113999999999999,0,5.5558800000000002,0,5.3172699999999997,null,"2016-06-13",0,5.9380800000000002,0,5.6095600000000001,0,5.3027800000000003,null,"2066-06-14",0,6.57151,0,5.8779599999999999,0,5.2303100000000002,null,null,null,31,{"$error":"#DIV/0!"}]
["1967-06-16",0.1,2.4260000000000002,6,1967,24,0.1,{"$f":"IF(B200<Parameters!$A$16,B200*Parameters!$B$16,IF(AND(B200>Parameters!$A$16,B200<Parameters!$A$17),B200*Parameters!$B$17,B200*Parameters!$B$18))","v":0},{"$f":"IF(B200<Parameters!$A$20,B200*Parameters!$B$20,IF(AND(B200>Parameters!$A$20,B200<Parameters!$A$21),B200*Parameters!$B$21,B200*Parameters!$B$22))","v":0},1.2116279069767442,1.2116279069767442,0.13023255813953488,0.10748560460652591,1.0813953488372092,2.2926666666666669,963.10954869035334,1.031239515943241,{"$f":"VLOOKUP($F200,'Gegevens vergelijking'!$I$16:$Q$68,9,FALSE)","v":43.951162369211438},-44.852169327015147,-0.9010069578037061,2222.4500264121375,0,0,43.951162369211438,1,43.951162369211438,1.2116279069767442,0.12116279069767441,1.3023255813953489E-2,4.3951162369211438,0.10813953488372093,0,0.10312395159432411,4.3951162369211438,-4.4852169327015146,0.8925143953934741,0,7.9184462831356006,337.48213962073066,-344.40058590386627,-96.432164053082573,0,-96.432164053082573,null,null,null,null,null,null,null,null,null,null,null,null,null,null,null,null,null,null,null,null,null,"1967-06-16",0.1,2.4260000000000002,null,"1975-06-15",5,2.1930000000000001,null,"2006-06-15",1.18,4.1755899999999997,1.5,3.992,1.18,3.8205499999999999,null,"2016-06-14",1.1200000000000001,4.26661,1.46,4.0305600000000004,1.1200000000000001,3.8101400000000001,null,"2066-06-15",0.82,4.7217399999999996,1.29,4.22342,0.82,3.75807,null,null,null,32,{"$error":"#DIV/0!"}]
["1967-06-17",0,3.45,6,1967,24,0,{"$f":"IF(B201<Parameters!$A$16,B201*Parameters!$B$16,IF(AND(B201>Parameters!$A$16,B201<Parameters!$A$17),B201*Parameters!$B$17,B201*Parameters!$B$18))","v":0},{"$f":"IF(B201<Parameters!$A$20,B201*Parameters!$B$20,IF(AND(B201>Parameters!$A$20,B201<Parameters!$A$21),B201*Parameters!$B$21,B201*Parameters!$B$22))","v":0},0,"",0,"",0,3.3166666666666669,959.09931971050491,1.4857271332510102,{"$f":"VLOOKUP($F201,'Gegevens vergelijking'!$I$16:$Q$68,9,FALSE)","v":43.951162369211438},-45.436889502462449,-1.4857271332510102,2177.0131369096753,0,0,43.951162369211438,1,"","",0,0,4.3951162369211438,0,0,0.14857271332510102,4.3951162369211438,-4.5436889502462448,"","","","","",-97.689312430294265,0,-97.689312430294265,null,null,null,null,null,null,null,null,null,null,null,null,null,null,null,null,null,null,null,null,null,"1967-06-17",0,3.45,null,"1975-06-16",0.5,3.8540000000000001,null,"2006-06-16",0.09,2.6263899999999998,0.12,2.51091,0.09,2.40307,null,"2016-06-15",0,2.68364,0.1,2.5351699999999999,0,2.3965200000000002,null,"2066-06-16",7.0000000000000007E-2,2.96991,0.1,2.6564700000000001,7.0000000000000007E-2,2.3637700000000001,null,null,null,33,{"$error":"#DIV/0!"}]
["1967-06-18",0,4.3280000000000003,6,1967,24,0,{"$f":"IF(B202<Parameters!$A$16,B202*Parameters!$B$16,IF(AND(B202>Parameters!$A$16,B202<Parameters!$A$17),B202*Parameters!$B$17,B202*Parameters!$B$18))","v":0},{"$f":"IF(B202<Parameters!$A$20,B202*Parameters!$B$20,IF(AND(B202>Parameters!$A$20,B202<Parameters!$A$21),B202*Parameters!$B$21,B202*Parameters!$B$22))","v":0},0,"",0,"",0,4.1946666666666665,955.05506825655982,1.8712102076336423,{"$f":"VLOOKUP($F202,'Gegevens vergelijking'!$I$16:$Q$68,9,FALSE)","v":43.951162369211438},-45.822372576845083,-1.8712102076336423,2131.19076433283,0,0,43.951162369211438,1,"","",0,0,4.3951162369211438,0,0,0.18712102076336423,4.3951162369211438,-4.5822372576845076,"","","","","",-98.518101040216919,0,-98.518101040216919,null,null,null,null,null,null,null,null,null,null,null,null,null,null,null,null,null,null,null,null,null,"1967-06-18",0,4.3280000000000003,null,"1975-06-17",4.9000000000000004,1.5169999999999999,null,"2006-06-17",0,3.7349700000000001,0,3.5707499999999999,0,3.4174000000000002,null,"2016-06-16",0,3.8163900000000002,0,3.6052499999999998,0,3.40808,null,"2066-06-17",0,4.22349,0,3.7777500000000002,0,3.36151,null,null,null,34,{"$error":"#DIV/0!"}]
["1967-06-19",0,3.9670000000000001,6,1967,25,0,{"$f":"IF(B203<Parameters!$A$16,B203*Parameters!$B$16,IF(AND(B203>Parameters!$A$16,B203<Parameters!$A$17),B203*Parameters!$B$17,B203*Parameters!$B$18))","v":0},{"$f":"IF(B203<Parameters!$A$20,B203*Parameters!$B$20,IF(AND(B203>Parameters!$A$20,B203<Parameters!$A$21),B203*Parameters!$B$21,B203*Parameters!$B$22))","v":0},0,"",0,"",0,3.8336666666666668,951.21535832853215,1.702959432561038,{"$f":"VLOOKUP($F203,'Gegevens vergelijking'!$I$16:$Q$68,9,FALSE)","v":41.801906897514286},-43.504866330075323,-1.702959432561038,2087.6858980027546,0,0,41.801906897514286,1,"","",0,0,4.1801906897514289,0,0,0.17029594325610381,4.1801906897514289,-4.3504866330075327,"","","","","",-93.535462609661948,0,-93.535462609661948,null,null,null,null,null,null,null,null,null,null,null,null,null,null,null,null,null,null,null,null,null,"1967-06-19",0,3.9670000000000001,null,"1975-06-18",5,1.9119999999999999,null,"2006-06-18",0,4.6854899999999997,0,4.4794799999999997,0,4.2870999999999997,null,"2016-06-17",0,4.7876300000000001,0,4.5227599999999999,0,4.2754099999999999,null,"2066-06-18",0,5.2983399999999996,0,4.73916,0,4.21699,null,null,null,35,{"$error":"#DIV/0!"}]
["1967-06-20",0,3.9670000000000001,6,1967,25,0,{"$f":"IF(B204<Parameters!$A$16,B204*Parameters!$B$16,IF(AND(B204>Parameters!$A$16,B204<Parameters!$A$17),B204*Parameters!$B$17,B204*Parameters!$B$18))","v":0},{"$f":"IF(B204<Parameters!$A$20,B204*Parameters!$B$20,IF(AND(B204>Parameters!$A$20,B204<Parameters!$A$21),B204*Parameters!$B$21,B204*Parameters!$B$22))","v":0},0,"",0,"",0,3.8336666666666668,947.37625267586145,1.6961128428118526,{"$f":"VLOOKUP($F204,'Gegevens vergelijking'!$I$16:$Q$68,9,FALSE)","v":41.801906897514286},-43.498019740326136,-1.6961128428118526,2044.1878782624285,0,0,41.801906897514286,1,"","",0,0,4.1801906897514289,0,0,0.16961128428118527,4.1801906897514289,-4.3498019740326139,"","","","","",-93.520742441701188,0,-93.520742441701188,null,null,null,null,null,null,null,null,null,null,null,null,null,null,null,null,null,null,null,null,null,"1967-06-20",0,3.9670000000000001,null,"1975-06-19",0,4.9210000000000003,null,"2006-06-19",0,4.29467,0,4.1058500000000002,0,3.9295100000000001,null,"2016-06-18",0,4.3883000000000001,0,4.1455099999999998,0,3.9188000000000001,null,"2066-06-19",0,4.8563999999999998,0,4.3438699999999999,0,3.8652500000000001,null,null,null,36,{"$error":"#DIV/0!"}]
["1967-06-21",0,4.1420000000000003,6,1967,25,0,{"$f":"IF(B205<Parameters!$A$16,B205*Parameters!$B$16,IF(AND(B205>Parameters!$A$16,B205<Parameters!$A$17),B205*Parameters!$B$17,B205*Parameters!$B$18))","v":0},{"$f":"IF(B205<Parameters!$A$20,B205*Parameters!$B$20,IF(AND(B205>Parameters!$A$20,B205<Parameters!$A$21),B205*Parameters!$B$21,B205*Parameters!$B$22))","v":0},0,"",0,"",0,4.0086666666666666,943.53094534893489,1.7663793511131642,{"$f":"VLOOKUP($F205,'Gegevens vergelijking'!$I$16:$Q$68,9,FALSE)","v":41.801906897514286},-43.568286248627452,-1.7663793511131642,2000.6195920138011,0,0,41.801906897514286,1,"","",0,0,4.1801906897514289,0,0,0.17663793511131642,4.1801906897514289,-4.3568286248627457,"","","","","",-93.671815434549032,0,-93.671815434549032,null,null,null,null,null,null,null,null,null,null,null,null,null,null,null,null,null,null,null,null,null,"1967-06-21",0,4.1420000000000003,null,"1975-06-20",0,5.0170000000000003,null,"2006-06-20",0,4.29467,0,4.1058500000000002,0,3.9295100000000001,null,"2016-06-19",0,4.3883000000000001,0,4.1455099999999998,0,3.9188000000000001,null,"2066-06-20",0,4.8563999999999998,0,4.3438699999999999,0,3.8652500000000001,null,null,null,37,{"$error":"#DIV/0!"}]
["1967-06-22",0,4.9550000000000001,6,1967,25,0,{"$f":"IF(B206<Parameters!$A$16,B206*Parameters!$B$16,IF(AND(B206>Parameters!$A$16,B206<Parameters!$A$17),B206*Parameters!$B$17,B206*Parameters!$B$18))","v":0},{"$f":"IF(B206<Parameters!$A$20,B206*Parameters!$B$20,IF(AND(B206>Parameters!$A$20,B206<Parameters!$A$21),B206*Parameters!$B$21,B206*Parameters!$B$22))","v":0},0,"",0,"",0,4.8216666666666663,939.65478108159391,2.1159961433290455,{"$f":"VLOOKUP($F206,'Gegevens vergelijking'!$I$16:$Q$68,9,FALSE)","v":41.801906897514286},-43.917903040843328,-2.1159961433290455,1956.7016889729578,0,0,41.801906897514286,1,"","",0,0,4.1801906897514289,0,0,0.21159961433290456,4.1801906897514289,-4.3917903040843331,"","","","","",-94.423491537813149,0,-94.423491537813149,null,null,null,null,null,null,null,null,null,null,null,null,null,null,null,null,null,null,null,null,null,"1967-06-22",0,4.9550000000000001,null,"1975-06-21",9.8000000000000007,2.5859999999999999,null,"2006-06-21",0,4.4841300000000004,0,4.2869700000000002,0,4.1028599999999997,null,"2016-06-20",0,4.58188,0,4.3283899999999997,0,4.0916699999999997,null,"2066-06-21",0,5.07064,0,4.5354900000000002,0,4.0357599999999998,null,null,null,38,{"$error":"#DIV/0!"}]
["1967-06-23",12.8,3.524,6,1967,25,12.8,{"$f":"IF(B207<Parameters!$A$16,B207*Parameters!$B$16,IF(AND(B207>Parameters!$A$16,B207<Parameters!$A$17),B207*Parameters!$B$17,B207*Parameters!$B$18))","v":12.16},{"$f":"IF(B207<Parameters!$A$20,B207*Parameters!$B$20,IF(AND(B207>Parameters!$A$20,B207<Parameters!$A$21),B207*Parameters!$B$21,B207*Parameters!$B$22))","v":9.6000000000000014},155.08837209302325,1.2116279069767442,146.67906976744186,0.94577735124760076,8.4093023255813932,3.3906666666666667,948.78037787975722,1.4818865787848021,{"$f":"VLOOKUP($F207,'Gegevens vergelijking'!$I$16:$Q$68,9,FALSE)","v":41.801906897514286},103.39527629114278,145.19718318865705,2060.0969652641006,0,0,41.801906897514286,1,0.32657739763683036,1.2116279069767442,15.508837209302325,14.667906976744186,4.1801906897514289,0.84093023255813937,0,0.14818865787848021,4.1801906897514289,10.339527629114277,5.4222648752399225E-2,0,1.0102917758711709E-2,0.28498890103264751,0.70490818120864085,222.29984402595696,0,222.29984402595696,null,null,null,null,null,null,null,null,null,null,null,null,null,null,null,null,null,null,null,null,null,"1967-06-23",12.8,3.524,null,"1975-06-22",11.6,0.95799999999999996,null,"2006-06-22",0,5.3642799999999999,0,5.1284299999999998,0,4.9081799999999998,null,"2016-06-21",0,5.4812200000000004,0,5.1779799999999998,0,4.8948,null,"2066-06-22",0,6.0659099999999997,0,5.4257299999999997,0,4.8278999999999996,null,null,null,39,{"$error":"#DIV/0!"}]
["1967-06-24",3.8,3.5350000000000001,6,1967,25,3.8,{"$f":"IF(B208<Parameters!$A$16,B208*Parameters!$B$16,IF(AND(B208>Parameters!$A$16,B208<Parameters!$A$17),B208*Parameters!$B$17,B208*Parameters!$B$18))","v":3.61},{"$f":"IF(B208<Parameters!$A$20,B208*Parameters!$B$20,IF(AND(B208>Parameters!$A$20,B208<Parameters!$A$21),B208*Parameters!$B$21,B208*Parameters!$B$22))","v":2.8499999999999996},46.041860465116279,1.2116279069767442,43.545348837209303,0.94577735124760076,2.4965116279069761,3.4016666666666668,948.80176395807212,1.5011323653120809,{"$f":"VLOOKUP($F208,'Gegevens vergelijking'!$I$16:$Q$68,9,FALSE)","v":41.801906897514286},0.24230957438293665,42.044216471897222,2060.3392748384836,0,0,41.801906897514286,1,1.1000501815135337,1.2116279069767442,4.6041860465116278,4.3545348837209303,4.1801906897514289,0.2496511627906976,0,0.15011323653120809,4.1801906897514289,2.4230957438293288E-2,5.4222648752399218E-2,0,3.4472851989863267E-2,0.95996261400470739,5.564534005429311E-3,0.52096558492330569,0,0.52096558492330569,null,null,null,null,null,null,null,null,null,null,null,null,null,null,null,null,null,null,null,null,null,"1967-06-24",3.8,3.5350000000000001,null,"1975-06-23",2.2000000000000002,1.6180000000000001,null,"2006-06-23",11.88,3.81508,14.78,3.6473399999999998,11.88,3.4906999999999999,null,"2016-06-22",11.62,3.89825,14.76,3.6825800000000002,11.62,3.4811800000000002,null,"2066-06-23",0,4.3140799999999997,14.65,3.8587799999999999,0,3.4336099999999998,null,null,null,40,{"$error":"#DIV/0!"}]
["1967-06-25",0.1,3.649,6,1967,25,0.1,{"$f":"IF(B209<Parameters!$A$16,B209*Parameters!$B$16,IF(AND(B209>Parameters!$A$16,B209<Parameters!$A$17),B209*Parameters!$B$17,B209*Parameters!$B$18))","v":0},{"$f":"IF(B209<Parameters!$A$20,B209*Parameters!$B$20,IF(AND(B209>Parameters!$A$20,B209<Parameters!$A$21),B209*Parameters!$B$21,B209*Parameters!$B$22))","v":0},1.2116279069767442,1.2116279069767442,0.13023255813953488,0.10748560460652591,1.0813953488372092,3.5156666666666667,944.98691820128329,1.5514747603822925,{"$f":"VLOOKUP($F209,'Gegevens vergelijking'!$I$16:$Q$68,9,FALSE)","v":41.801906897514286},-43.223149099757045,-1.4212422022427575,2017.1161257387266,0,0,41.801906897514286,1,41.801906897514286,1.2116279069767442,0.12116279069767441,1.3023255813953489E-2,4.1801906897514289,0.10813953488372093,0,0.15514747603822926,4.1801906897514289,-4.322314909975705,0.8925143953934741,0,11.913109767221174,320.97892796305615,-331.89203773027731,-92.929770564477664,0,-92.929770564477664,null,null,null,null,null,null,null,null,null,null,null,null,null,null,null,null,null,null,null,null,null,"1967-06-25",0.1,3.649,null,"1975-06-24",1.9,0.69599999999999995,null,"2006-06-24",3.29,3.8269899999999999,4.13,3.6587299999999998,3.29,3.5015900000000002,null,"2016-06-23",3.15,3.9104199999999998,4.0599999999999996,3.69408,3.15,3.4920499999999999,null,"2066-06-24",2.42,4.3275499999999996,3.71,3.8708300000000002,2.42,3.4443299999999999,null,null,null,41,{"$error":"#DIV/0!"}]
["1967-06-26",0,4.2469999999999999,6,1967,26,0,{"$f":"IF(B210<Parameters!$A$16,B210*Parameters!$B$16,IF(AND(B210>Parameters!$A$16,B210<Parameters!$A$17),B210*Parameters!$B$17,B210*Parameters!$B$18))","v":0},{"$f":"IF(B210<Parameters!$A$20,B210*Parameters!$B$20,IF(AND(B210>Parameters!$A$20,B210<Parameters!$A$21),B210*Parameters!$B$21,B210*Parameters!$B$22))","v":0},0,"",0,"",0,4.1136666666666661,940.98041286016132,1.8080749701584551,{"$f":"VLOOKUP($F210,'Gegevens vergelijking'!$I$16:$Q$68,9,FALSE)","v":43.586624781491437},-45.394699751649895,-1.8080749701584551,1971.7214259870768,0,0,43.586624781491437,1,"","",0,0,4.3586624781491441,0,0,0.1808074970158455,4.3586624781491441,-4.5394699751649892,"","","","","",-97.598604466047263,0,-97.598604466047263,null,null,null,null,null,null,null,null,null,null,null,null,null,null,null,null,null,null,null,null,null,"1967-06-26",0,4.2469999999999999,null,"1975-06-25",0,4.984,null,"2006-06-25",0.09,3.9504100000000002,0.12,3.7767200000000001,0.09,3.6145200000000002,null,"2016-06-24",0,4.0365200000000003,0.1,3.8132000000000001,0,3.60466,null,"2066-06-25",0,4.4671099999999999,0.1,3.99566,0,3.5554000000000001,null,null,null,42,{"$error":"#DIV/0!"}]
["1967-06-27",7.4,2.681,6,1967,26,7.4,{"$f":"IF(B211<Parameters!$A$16,B211*Parameters!$B$16,IF(AND(B211>Parameters!$A$16,B211<Parameters!$A$17),B211*Parameters!$B$17,B211*Parameters!$B$18))","v":7.03},{"$f":"IF(B211<Parameters!$A$20,B211*Parameters!$B$20,IF(AND(B211>Parameters!$A$20,B211<Parameters!$A$21),B211*Parameters!$B$21,B211*Parameters!$B$22))","v":5.5500000000000007},89.66046511627907,1.2116279069767442,84.79883720930232,0.94577735124760065,4.8616279069767501,2.5476666666666667,944.51936333679873,1.1150253171302658,{"$f":"VLOOKUP($F211,'Gegevens vergelijking'!$I$16:$Q$68,9,FALSE)","v":43.586624781491437},40.097187110680615,83.683811892172059,2011.8186130977574,0,0,43.586624781491437,1,0.58900844299312749,1.2116279069767442,8.9660465116279067,8.479883720930232,4.3586624781491441,0.48616279069767498,0,0.11150253171302657,4.3586624781491441,4.0097187110680608,5.4222648752399294E-2,0,1.3149063758718013E-2,0.51400026481389116,0.47285067142739073,86.208952287963299,0,86.208952287963299,null,null,null,null,null,null,null,null,null,null,null,null,null,null,null,null,null,null,null,null,null,"1967-06-27",7.4,2.681,null,"1975-06-26",0,5.6139999999999999,null,"2006-06-26",0,4.5978000000000003,0,4.3956499999999998,0,4.2068700000000003,null,"2016-06-25",0,4.6980300000000002,0,4.4381199999999996,0,4.1954000000000002,null,"2066-06-26",0,5.1991800000000001,0,4.6504700000000003,0,4.1380600000000003,null,null,null,43,{"$error":"#DIV/0!"}]
["1967-06-28",0.4,3.516,6,1967,26,0.4,{"$f":"IF(B212<Parameters!$A$16,B212*Parameters!$B$16,IF(AND(B212>Parameters!$A$16,B212<Parameters!$A$17),B212*Parameters!$B$17,B212*Parameters!$B$18))","v":0},{"$f":"IF(B212<Parameters!$A$20,B212*Parameters!$B$20,IF(AND(B212>Parameters!$A$20,B212<Parameters!$A$21),B212*Parameters!$B$21,B212*Parameters!$B$22))","v":0},4.8465116279069766,1.2116279069767442,0.52093023255813953,0.10748560460652591,4.3255813953488369,3.3826666666666667,940.58725719619054,1.4860437983165633,{"$f":"VLOOKUP($F212,'Gegevens vergelijking'!$I$16:$Q$68,9,FALSE)","v":43.586624781491437},-44.551738347249866,-0.96511356575842377,1967.2668747505074,0,0,43.586624781491437,1,10.896656195372859,1.2116279069767442,0.48465116279069764,5.2093023255813956E-2,4.3586624781491441,0.4325581395348837,0,0.14860437983165634,4.3586624781491441,-4.4551738347249863,0.8925143953934741,0,2.8526733628398313,83.670752928755888,-85.523426291595712,-95.786237446587194,0,-95.786237446587194,null,null,null,null,null,null,null,null,null,null,null,null,null,null,null,null,null,null,null,null,null,"1967-06-28",0.4,3.516,null,"1975-06-27",0,4.3019999999999996,null,"2006-06-27",6.51,2.90245,8.25,2.7748400000000002,6.51,2.6556600000000001,null,"2016-06-26",6.24,2.9657200000000001,8.15,2.8016399999999999,6.24,2.6484299999999998,null,"2066-06-27",5.09,3.2820800000000001,7.73,2.9357000000000002,5.09,2.6122299999999998,null,null,null,44,{"$error":"#DIV/0!"}]
["1967-06-29",0,3.5190000000000001,6,1967,26,0,{"$f":"IF(B213<Parameters!$A$16,B213*Parameters!$B$16,IF(AND(B213>Parameters!$A$16,B213<Parameters!$A$17),B213*Parameters!$B$17,B213*Parameters!$B$18))","v":0},{"$f":"IF(B213<Parameters!$A$20,B213*Parameters!$B$20,IF(AND(B213>Parameters!$A$20,B213<Parameters!$A$21),B213*Parameters!$B$21,B213*Parameters!$B$22))","v":0},0,"",0,"",0,3.3856666666666668,936.60960428916155,1.4811697319909625,{"$f":"VLOOKUP($F213,'Gegevens vergelijking'!$I$16:$Q$68,9,FALSE)","v":43.586624781491437},-45.067794513482397,-1.4811697319909625,1922.1990802370251,0,0,43.586624781491437,1,"","",0,0,4.3586624781491441,0,0,0.14811697319909625,4.3586624781491441,-4.5067794513482404,"","","","","",-96.895758203987157,0,-96.895758203987157,null,null,null,null,null,null,null,null,null,null,null,null,null,null,null,null,null,null,null,null,null,"1967-06-29",0,3.5190000000000001,null,"1975-06-28",0,1.478,null,"2006-06-28",0.35,3.8064200000000001,0.44,3.6390600000000002,0.35,3.4827699999999999,null,"2016-06-27",0.34,3.8894000000000002,0.43,3.67422,0.34,3.4732799999999999,null,"2066-06-28",0,4.3042899999999999,0.38,3.8500200000000002,0,3.4258099999999998,null,null,null,45,{"$error":"#DIV/0!"}]
["1967-06-30",0,3.5369999999999999,6,1967,26,0,{"$f":"IF(B214<Parameters!$A$16,B214*Parameters!$B$16,IF(AND(B214>Parameters!$A$16,B214<Parameters!$A$17),B214*Parameters!$B$17,B214*Parameters!$B$18))","v":0},{"$f":"IF(B214<Parameters!$A$20,B214*Parameters!$B$20,IF(AND(B214>Parameters!$A$20,B214<Parameters!$A$21),B214*Parameters!$B$21,B214*Parameters!$B$22))","v":0},0,"",0,"",0,3.4036666666666666,932.63181213905591,1.4827473906041286,{"$f":"VLOOKUP($F214,'Gegevens vergelijking'!$I$16:$Q$68,9,FALSE)","v":43.586624781491437},-45.069372172095569,-1.4827473906041286,1877.1297080649294,0,0,43.586624781491437,1,"","",0,0,4.3586624781491441,0,0,0.14827473906041286,4.3586624781491441,-4.5069372172095568,"","","","","",-96.89915017000547,0,-96.89915017000547,null,null,null,null,null,null,null,null,null,null,null,null,null,null,null,null,null,null,null,null,null,"1967-06-30",0,3.5369999999999999,null,"1975-06-29",7.1,3.0449999999999999,null,"2006-06-29",0,3.8096700000000001,0,3.6421700000000001,0,3.4857499999999999,null,"2016-06-28",0,3.8927200000000002,0,3.6773600000000002,0,3.4762400000000002,null,"2066-06-29",0,4.3079599999999996,0,3.85331,0,3.4287399999999999,null,null,null,46,{"$error":"#DIV/0!"}]
["1967-07-01",0,5.3449999999999998,7,1967,26,0,{"$f":"IF(B215<Parameters!$A$16,B215*Parameters!$B$16,IF(AND(B215>Parameters!$A$16,B215<Parameters!$A$17),B215*Parameters!$B$17,B215*Parameters!$B$18))","v":0},{"$f":"IF(B215<Parameters!$A$20,B215*Parameters!$B$20,IF(AND(B215>Parameters!$A$20,B215<Parameters!$A$21),B215*Parameters!$B$21,B215*Parameters!$B$22))","v":0},0,"",0,"",0,5.3127419354838707,928.58148621158853,2.3045730877755712,{"$f":"VLOOKUP($F215,'Gegevens vergelijking'!$I$16:$Q$68,9,FALSE)","v":43.586624781491437},-45.89119786926701,-2.3045730877755712,1831.2385101956625,0,0,43.586624781491437,1,"","",0,0,4.3586624781491441,0,0,0.23045730877755713,4.3586624781491441,-4.5891197869267009,"","","","","",-98.666075418924066,0,-98.666075418924066,null,null,null,null,null,null,null,null,null,null,null,null,null,null,null,null,null,null,null,null,null,"1967-07-01",0,5.3449999999999998,null,"1975-06-30",0.3,3.133,null,"2006-06-30",0,3.8291599999999999,0,3.6608000000000001,0,3.5035799999999999,null,"2016-06-29",0,3.9126300000000001,0,3.6961599999999999,0,3.49403,null,"2066-06-30",0,4.33,0,3.8730199999999999,0,3.4462799999999998,null,null,null,47,{"$error":"#DIV/0!"}]
["1967-07-02",0.3,4.95,7,1967,26,0.3,{"$f":"IF(B216<Parameters!$A$16,B216*Parameters!$B$16,IF(AND(B216>Parameters!$A$16,B216<Parameters!$A$17),B216*Parameters!$B$17,B216*Parameters!$B$18))","v":0},{"$f":"IF(B216<Parameters!$A$20,B216*Parameters!$B$20,IF(AND(B216>Parameters!$A$20,B216<Parameters!$A$21),B216*Parameters!$B$21,B216*Parameters!$B$22))","v":0},3.6348837209302327,1.2116279069767442,0.39069767441860465,0.10748560460652591,3.2441860465116279,4.9177419354838712,924.58158336838005,2.1239647047705428,{"$f":"VLOOKUP($F216,'Gegevens vergelijking'!$I$16:$Q$68,9,FALSE)","v":43.586624781491437},-45.319891811843377,-1.7332670303519382,1785.9186183838192,0,0,43.586624781491437,1,14.528874927163812,1.2116279069767442,0.36348837209302326,3.9069767441860463E-2,4.3586624781491441,0.32441860465116279,0,0.21239647047705429,4.3586624781491441,-4.531989181184338,0.8925143953934741,0,5.4363382324484135,111.56100390500787,-115.99734213745627,-97.437767395463268,0,-97.437767395463268,null,null,null,null,null,null,null,null,null,null,null,null,null,null,null,null,null,null,null,null,null,"1967-07-02",0.3,4.95,null,"1975-07-01",0,5.2069999999999999,null,"2006-07-01",0,5.8033299999999999,0,5.5994200000000003,0,5.3955099999999998,null,"2016-06-30",0,5.9342899999999998,0,5.67211,0,5.4099399999999997,null,"2066-07-01",0,6.5890500000000003,0,6.0355699999999999,0,5.4821,null,null,null,48,{"$error":"#DIV/0!"}]
["1967-07-03",0.7,4.3920000000000003,7,1967,27,0.7,{"$f":"IF(B217<Parameters!$A$16,B217*Parameters!$B$16,IF(AND(B217>Parameters!$A$16,B217<Parameters!$A$17),B217*Parameters!$B$17,B217*Parameters!$B$18))","v":0},{"$f":"IF(B217<Parameters!$A$20,B217*Parameters!$B$20,IF(AND(B217>Parameters!$A$20,B217<Parameters!$A$21),B217*Parameters!$B$21,B217*Parameters!$B$22))","v":0},8.4813953488372089,1.2116279069767442,0.91162790697674412,0.10748560460652591,7.5697674418604652,4.3597419354838713,920.59532829453735,1.8748544659475366,{"$f":"VLOOKUP($F217,'Gegevens vergelijking'!$I$16:$Q$68,9,FALSE)","v":44.20203263918858},-45.165259198159369,-0.96322655897079246,1740.7533591856597,0,0,44.20203263918858,1,6.3145760913126541,1.2116279069767442,0.84813953488372085,9.1162790697674412E-2,4.4202032639188582,0.75697674418604655,0,0.18748544659475366,4.4202032639188582,-4.5165259198159378,0.89251439539347421,0,2.0566005621363286,48.486923558293604,-49.543524120429936,-97.105307276042652,0,-97.105307276042652,null,null,null,null,null,null,null,null,null,null,null,null,null,null,null,null,null,null,null,null,null,"1967-07-03",0.7,4.3920000000000003,null,"1975-07-02",0,4.633,null,"2006-07-02",0.25,5.37446,0.32,5.1856200000000001,0.25,4.9967800000000002,null,"2016-07-01",0.24,5.4957399999999996,0.31,5.2529399999999997,0.24,5.0101399999999998,null,"2066-07-02",0.17,6.1021099999999997,0.27,5.5895400000000004,0.17,5.0769700000000002,null,null,null,49,{"$error":"#DIV/0!"}]
["1967-07-04",0,3.762,7,1967,27,0,{"$f":"IF(B218<Parameters!$A$16,B218*Parameters!$B$16,IF(AND(B218>Parameters!$A$16,B218<Parameters!$A$17),B218*Parameters!$B$17,B218*Parameters!$B$18))","v":0},{"$f":"IF(B218<Parameters!$A$20,B218*Parameters!$B$20,IF(AND(B218>Parameters!$A$20,B218<Parameters!$A$21),B218*Parameters!$B$21,B218*Parameters!$B$22))","v":0},0,"",0,"",0,3.729741935483871,916.55313545288186,1.5970153495584545,{"$f":"VLOOKUP($F218,'Gegevens vergelijking'!$I$16:$Q$68,9,FALSE)","v":44.20203263918858},-45.799047988747034,-1.5970153495584545,1694.9543111969126,0,0,44.20203263918858,1,"","",0,0,4.4202032639188582,0,0,0.15970153495584544,4.4202032639188582,-4.5799047988747033,"","","","","",-98.467953175806116,0,-98.467953175806116,null,null,null,null,null,null,null,null,null,null,null,null,null,null,null,null,null,null,null,null,null,"1967-07-04",0,3.762,null,"1975-07-03",0,4.5220000000000002,null,"2006-07-03",0.59,4.7686099999999998,0.74,4.6010600000000004,0.59,4.4335000000000004,null,"2016-07-02",0.56000000000000005,4.87622,0.72,4.6607900000000004,0.56000000000000005,4.44536,null,"2066-07-03",0,5.4142400000000004,0.6,4.9594500000000004,0,4.5046499999999998,null,null,null,50,{"$error":"#DIV/0!"}]
["1967-07-05",0,3.6459999999999999,7,1967,27,0,{"$f":"IF(B219<Parameters!$A$16,B219*Parameters!$B$16,IF(AND(B219>Parameters!$A$16,B219<Parameters!$A$17),B219*Parameters!$B$17,B219*Parameters!$B$18))","v":0},{"$f":"IF(B219<Parameters!$A$20,B219*Parameters!$B$20,IF(AND(B219>Parameters!$A$20,B219<Parameters!$A$21),B219*Parameters!$B$21,B219*Parameters!$B$22))","v":0},0,"",0,"",0,3.6137419354838709,912.51592604032135,1.5405518612489801,{"$f":"VLOOKUP($F219,'Gegevens vergelijking'!$I$16:$Q$68,9,FALSE)","v":44.20203263918858},-45.742584500437559,-1.5405518612489801,1649.2117266964751,0,0,44.20203263918858,1,"","",0,0,4.4202032639188582,0,0,0.15405518612489802,4.4202032639188582,-4.5742584500437564,"","","","","",-98.346556675940761,0,-98.346556675940761,null,null,null,null,null,null,null,null,null,null,null,null,null,null,null,null,null,null,null,null,null,"1967-07-05",0,3.6459999999999999,null,"1975-07-04",2.6,3.827,null,"2006-07-04",0,4.0845900000000004,0,3.9410699999999999,0,3.7975500000000002,null,"2016-07-03",0,4.1767599999999998,0,3.9922300000000002,0,3.8077100000000002,null,"2066-07-04",0,4.6376099999999996,0,4.2480500000000001,0,3.8584999999999998,null,null,null,51,{"$error":"#DIV/0!"}]
["1967-07-06",0,5.4980000000000002,7,1967,27,0,{"$f":"IF(B220<Parameters!$A$16,B220*Parameters!$B$16,IF(AND(B220>Parameters!$A$16,B220<Parameters!$A$17),B220*Parameters!$B$17,B220*Parameters!$B$18))","v":0},{"$f":"IF(B220<Parameters!$A$20,B220*Parameters!$B$20,IF(AND(B220>Parameters!$A$20,B220<Parameters!$A$21),B220*Parameters!$B$21,B220*Parameters!$B$22))","v":0},0,"",0,"",0,5.4657419354838712,908.40994044731337,2.3198030529095268,{"$f":"VLOOKUP($F220,'Gegevens vergelijking'!$I$16:$Q$68,9,FALSE)","v":44.20203263918858},-46.521835692098108,-2.3198030529095268,1602.6898910043769,0,0,44.20203263918858,1,"","",0,0,4.4202032639188582,0,0,0.23198030529095268,4.4202032639188582,-4.6521835692098108,"","","","","",-100.02194673801093,0,-100.02194673801093,null,null,null,null,null,null,null,null,null,null,null,null,null,null,null,null,null,null,null,null,null,"1967-07-06",0,5.4980000000000002,null,"1975-07-05",5.7,2.0819999999999999,null,"2006-07-05",0,3.9586399999999999,0,3.81955,0,3.68045,null,"2016-07-04",0,4.0479700000000003,0,3.8691399999999998,0,3.6903000000000001,null,"2066-07-05",0,4.4946099999999998,0,4.1170600000000004,0,3.7395200000000002,null,null,null,52,{"$error":"#DIV/0!"}]
["1967-07-07",0,2.1629999999999998,7,1967,27,0,{"$f":"IF(B221<Parameters!$A$16,B221*Parameters!$B$16,IF(AND(B221>Parameters!$A$16,B221<Parameters!$A$17),B221*Parameters!$B$17,B221*Parameters!$B$18))","v":0},{"$f":"IF(B221<Parameters!$A$20,B221*Parameters!$B$20,IF(AND(B221>Parameters!$A$20,B221<Parameters!$A$21),B221*Parameters!$B$21,B221*Parameters!$B$22))","v":0},0,"",0,"",0,2.1307419354838708,904.42924160338612,0.90027309521930055,{"$f":"VLOOKUP($F221,'Gegevens vergelijking'!$I$16:$Q$68,9,FALSE)","v":44.20203263918858},-45.102305734407878,-0.90027309521930055,1557.5875852699692,0,0,44.20203263918858,1,"","",0,0,4.4202032639188582,0,0,9.0027309521930055E-2,4.4202032639188582,-4.5102305734407881,"","","","","",-96.969957328976946,0,-96.969957328976946,null,null,null,null,null,null,null,null,null,null,null,null,null,null,null,null,null,null,null,null,null,"1967-07-07",0,2.1629999999999998,null,"1975-07-06",0,4.4790000000000001,null,"2006-07-06",0,5.9694500000000001,0,5.7596999999999996,0,5.5499599999999996,null,"2016-07-05",0,6.1041499999999997,0,5.8344800000000001,0,5.5648,null,"2066-07-06",0,6.77766,0,6.2083399999999997,0,5.6390200000000004,null,null,null,53,{"$error":"#DIV/0!"}]
["1967-07-08",2.2999999999999998,1.4350000000000001,7,1967,27,2.2999999999999998,{"$f":"IF(B222<Parameters!$A$16,B222*Parameters!$B$16,IF(AND(B222>Parameters!$A$16,B222<Parameters!$A$17),B222*Parameters!$B$17,B222*Parameters!$B$18))","v":2.1849999999999996},{"$f":"IF(B222<Parameters!$A$20,B222*Parameters!$B$20,IF(AND(B222>Parameters!$A$20,B222<Parameters!$A$21),B222*Parameters!$B$21,B222*Parameters!$B$22))","v":1.7249999999999999},27.867441860465114,1.2116279069767442,26.356395348837207,0.94577735124760076,1.5110465116279066,1.402741935483871,902.80211736552621,0.59008410459299698,{"$f":"VLOOKUP($F222,'Gegevens vergelijking'!$I$16:$Q$68,9,FALSE)","v":44.20203263918858},-18.43572139494437,25.766311244244211,1539.1518638750249,0,0,44.20203263918858,1,1.9218275060516774,1.2116279069767442,2.7867441860465112,2.6356395348837207,4.4202032639188582,0.15110465116279065,0,5.90084104592997E-2,4.4202032639188582,-1.8435721394944373,5.4222648752399225E-2,0,2.2388649767276707E-2,1.6770894522622453,-0.6994781020295221,-39.636800999130401,0,-39.636800999130401,null,null,null,null,null,null,null,null,null,null,null,null,null,null,null,null,null,null,null,null,null,"1967-07-08",2.2999999999999998,1.4350000000000001,null,"1975-07-07",0,5.8339999999999996,null,"2006-07-07",0,2.3484799999999999,0,2.2659600000000002,0,2.18344,null,"2016-07-06",0,2.4014700000000002,0,2.2953800000000002,0,2.1892800000000001,null,"2066-07-07",0,2.6664400000000001,0,2.4424600000000001,0,2.21848,null,null,null,"Eindtotaal",{"$error":"#DIV/0!"}]
["1967-07-09",0,3.617,7,1967,27,0,{"$f":"IF(B223<Parameters!$A$16,B223*Parameters!$B$16,IF(AND(B223>Parameters!$A$16,B223<Parameters!$A$17),B223*Parameters!$B$17,B223*Parameters!$B$18))","v":0},{"$f":"IF(B223<Parameters!$A$20,B223*Parameters!$B$20,IF(AND(B223>Parameters!$A$20,B223<Parameters!$A$21),B223*Parameters!$B$21,B223*Parameters!$B$22))","v":0},0,"",0,"",0,3.584741935483871,898.76802264047251,1.5052616788668991,{"$f":"VLOOKUP($F223,'Gegevens vergelijking'!$I$16:$Q$68,9,FALSE)","v":44.20203263918858},-45.707294318055482,-1.5052616788668991,1493.4445695569693,0,0,44.20203263918858,1,"","",0,0,4.4202032639188582,0,0,0.1505261678866899,4.4202032639188582,-4.5707294318055478,"","","","","",-98.270682783819282,0,-98.270682783819282,null,null,null,null,null,null,null,null,null,null,null,null,null,null,null,null,null,null,null,null,null,"1967-07-09",0,3.617,null,"1975-07-08",2.4,5.0599999999999996,null,"2006-07-08",1.89,1.5580499999999999,2.41,1.5033099999999999,1.89,1.4485600000000001,null,"2016-07-07",1.77,1.59321,2.34,1.5228200000000001,1.77,1.45244,null,"2066-07-08",1.19,1.7689999999999999,1.98,1.6204000000000001,1.19,1.4718100000000001]
["1967-07-10",0,5.7270000000000003,7,1967,28,0,{"$f":"IF(B224<Parameters!$A$16,B224*Parameters!$B$16,IF(AND(B224>Parameters!$A$16,B224<Parameters!$A$17),B224*Parameters!$B$17,B224*Parameters!$B$18))","v":0},{"$f":"IF(B224<Parameters!$A$20,B224*Parameters!$B$20,IF(AND(B224>Parameters!$A$20,B224<Parameters!$A$21),B224*Parameters!$B$21,B224*Parameters!$B$22))","v":0},0,"",0,"",0,5.6947419354838713,895.21004758657205,2.3805823017686589,{"$f":"VLOOKUP($F224,'Gegevens vergelijking'!$I$16:$Q$68,9,FALSE)","v":37.932157990359997},-40.312740292128659,-2.3805823017686589,1453.1318292648407,0,0,37.932157990359997,1,"","",0,0,3.7932157990359996,0,0,0.23805823017686589,3.7932157990359996,-4.0312740292128657,"","","","","",-86.67239162807661,0,-86.67239162807661,null,null,null,null,null,null,null,null,null,null,null,null,null,null,null,null,null,null,null,null,null,"1967-07-10",0,5.7270000000000003,null,"1975-07-09",3.4,3.9119999999999999,null,"2006-07-09",0,3.9271600000000002,0,3.7891699999999999,0,3.6511800000000001,null,"2016-07-08",0,4.0157699999999998,0,3.8383600000000002,0,3.6609500000000001,null,"2066-07-09",0,4.4588599999999996,0,4.08432,0,3.7097799999999999]
["1967-07-11",0,6.3650000000000002,7,1967,28,0,{"$f":"IF(B225<Parameters!$A$16,B225*Parameters!$B$16,IF(AND(B225>Parameters!$A$16,B225<Parameters!$A$17),B225*Parameters!$B$17,B225*Parameters!$B$18))","v":0},{"$f":"IF(B225<Parameters!$A$20,B225*Parameters!$B$20,IF(AND(B225>Parameters!$A$20,B225<Parameters!$A$21),B225*Parameters!$B$21,B225*Parameters!$B$22))","v":0},0,"",0,"",0,6.3327419354838712,891.62945834949164,2.636806609031626,{"$f":"VLOOKUP($F225,'Gegevens vergelijking'!$I$16:$Q$68,9,FALSE)","v":37.932157990359997},-40.56896459939162,-2.636806609031626,1412.5628646654491,0,0,37.932157990359997,1,"","",0,0,3.7932157990359996,0,0,0.26368066090316261,3.7932157990359996,-4.0568964599391624,"","","","","",-87.223273888691992,0,-87.223273888691992,null,null,null,null,null,null,null,null,null,null,null,null,null,null,null,null,null,null,null,null,null,"1967-07-11",0,6.3650000000000002,null,"1975-07-10",0,4.9429999999999996,null,"2006-07-10",0,6.2180900000000001,0,5.9996099999999997,0,5.7811199999999996,null,"2016-07-09",0,6.3583999999999996,0,6.0774900000000001,0,5.7965799999999996,null,"2066-07-10",0,7.0599600000000002,0,6.4669299999999996,0,5.8738999999999999]
["1967-07-12",0,6.3280000000000003,7,1967,28,0,{"$f":"IF(B226<Parameters!$A$16,B226*Parameters!$B$16,IF(AND(B226>Parameters!$A$16,B226<Parameters!$A$17),B226*Parameters!$B$17,B226*Parameters!$B$18))","v":0},{"$f":"IF(B226<Parameters!$A$20,B226*Parameters!$B$20,IF(AND(B226>Parameters!$A$20,B226<Parameters!$A$21),B226*Parameters!$B$21,B226*Parameters!$B$22))","v":0},0,"",0,"",0,6.2957419354838713,888.05115421754044,2.610915800857518,{"$f":"VLOOKUP($F226,'Gegevens vergelijking'!$I$16:$Q$68,9,FALSE)","v":37.932157990359997},-40.543073791217516,-2.610915800857518,1372.0197908742316,0,0,37.932157990359997,1,"","",0,0,3.7932157990359996,0,0,0.26109158008575178,3.7932157990359996,-4.0543073791217514,"","","","","",-87.167608651117661,0,-87.167608651117661,null,null,null,null,null,null,null,null,null,null,null,null,null,null,null,null,null,null,null,null,null,"1967-07-12",0,6.3280000000000003,null,"1975-07-11",0.8,3.5960000000000001,null,"2006-07-11",0,6.9108000000000001,0,6.6679700000000004,0,6.4251500000000004,null,"2016-07-10",0,7.0667400000000002,0,6.7545400000000004,0,6.4423300000000001,null,"2066-07-11",0,7.8464499999999999,0,7.18736,0,6.5282600000000004]
["1967-07-13",0,6.4080000000000004,{"$f":"MONTH(A227)","v":7},1967,{"$f":"INT((A227-DATE(YEAR(A227-WEEKDAY(A227-1)+4),1,3)+WEEKDAY(DATE(YEAR(A227-WEEKDAY(A227-1)+4),1,3))+5)/7)","v":28},0,{"$f":"IF(B227<Parameters!$A$16,B227*Parameters!$B$16,IF(AND(B227>Parameters!$A$16,B227<Parameters!$A$17),B227*Parameters!$B$17,B227*Parameters!$B$18))","v":0},{"$f":"IF(B227<Parameters!$A$20,B227*Parameters!$B$20,IF(AND(B227>Parameters!$A$20,B227<Parameters!$A$21),B227*Parameters!$B$21,B227*Parameters!$B$22))","v":0},0,"",0,{"$f":"IF(B227=0,\"\",L227/J227)","v":""},{"$f":"IF(B227=0,0,SUM(J227-L227))","v":0},6.3757419354838714,884.47085846218329,2.6334813882788968,{"$f":"VLOOKUP($F227,'Gegevens vergelijking'!$I$16:$Q$68,9,FALSE)","v":37.932157990359997},-40.565639378638892,-2.6334813882788968,1331.4541514955927,0,0,37.932157990359997,{"$f":"IF(R227=0,\"\",((R227-W227)/R227))","v":1},{"$f":"IF(B227=0,\"\",X227/(B227*10))","v":""},"",{"$f":"J227/10","v":0},{"$f":"L227/10","v":0},3.7932157990359996,0,0,0.26334813882788966,{"$f":"(R227-W227)/10","v":3.7932157990359996},{"$f":"SUM(AC227-AF227-AG227-AD227)","v":-4.0565639378638894},{"$f":"IF(AB227=0,\"\",AE227/AB227)","v":""},"","",{"$f":"IF(AC227=0,\"\",AD227/AC227)","v":""},{"$f":"IF(AC227=0,\"\",AI227/AC227)","v":""},-87.216124664073618,0,-87.216124664073618,null,null,null,null,null,null,null,null,null,null,null,null,null,null,null,null,null,null,null,null,null,"1967-07-13",0,6.4080000000000004,null,"1975-07-12",0.2,3.7250000000000001,null,"2006-07-12",0,6.8706300000000002,0,6.6292099999999996,0,6.3878000000000004,null,"2016-07-11",0,7.0256600000000002,0,6.7152700000000003,0,6.40489,null,"2066-07-12",0,7.80084,0,7.1455799999999998,0,6.49031]
["1967-07-14",0.4,3.3109999999999999,7,{"$f":"IF(AND((F227>1),(F228=1)),E227+1,E227)","v":1967},28,{"$f":"B228","v":0.4},{"$f":"IF(B228<Parameters!$A$16,B228*Parameters!$B$16,IF(AND(B228>Parameters!$A$16,B228<Parameters!$A$17),B228*Parameters!$B$17,B228*Parameters!$B$18))","v":0},{"$f":"IF(B228<Parameters!$A$20,B228*Parameters!$B$20,IF(AND(B228>Parameters!$A$20,B228<Parameters!$A$21),B228*Parameters!$B$21,B228*Parameters!$B$22))","v":0},4.8465116279069766,1.2116279069767442,{"$f":"IF(B228=0,0,SUM(B228*$D$3+H228*$B$3+I228*$C$3)/$E$3*10)","v":0.52093023255813953},0.10748560460652591,4.3255813953488369,{"$f":"IF(OR($D228=1,$D228=12,$D228=8),C228+(2/31),IF($D228=2,C228-(1/28),IF($D228=3,C228-(3/31),IF($D228=4,C228-(5/30),IF($D228=5,C228-(6/31),IF($D228=6,C228-(4/30),IF($D228=7,C228-(1/31),IF($D228=9,C228+(4/30),IF($D228=10,C228+(5/31),IF($D228=11,C228+(5/30)))))))))))","v":3.2787419354838709},{"$f":"-(($BH$3-$BI$3)*($AN$3+$AK$3-U228)/($AK$3)-$BH$3)","v":881.04992345996061},1.3488147415597114,{"$f":"VLOOKUP($F228,'Gegevens vergelijking'!$I$16:$Q$68,9,FALSE)","v":37.932157990359997},-38.760042499361575,{"$f":"L228-Q228","v":-0.82788450900157184},{"$f":"IF(U227<$AN$3,U227+T228,IF(AND((U227>$AN$3),(SUM(U227+S228)<$AN$3)),SUM($AN$3+T228),IF((SUM(U227+S228)>($AN$3+$AK$3)),$AN$3+$AK$3,U227+S228)))","v":1292.6941089962311},0,0,{"$f":"R228-W228","v":37.932157990359997},1,9.4830394975899992,{"$f":"K228","v":1.2116279069767442},0.48465116279069764,5.2093023255813956E-2,{"$f":"X228/10","v":3.7932157990359996},0.4325581395348837,0,0.13488147415597113,3.7932157990359996,-3.8760042499361567,0.8925143953934741,{"$f":"IF(AB228=0,\"\",AF228/AB228)","v":0},2.5892425842440883,72.816196142208923,-74.405438726452999,{"$f":"AI228*$E$5/1000","v":-83.334091373627359},{"$f":"IF(OR(F228<=13,F228>=40),VALUE(AO228),0)","v":0},{"$f":"IF(OR(F228<=13,F228>=40),0,VALUE(AO228))","v":-83.334091373627359},null,null,null,null,null,null,null,null,null,null,null,null,null,null,null,null,null,null,null,null,null,"1967-07-14",0.4,3.3109999999999999,null,"1975-07-13",0,4.1449999999999996,null,"2006-07-13",0,6.95749,0,6.7130200000000002,0,6.4685600000000001,null,"2016-07-12",0,7.1144800000000004,0,6.8001699999999996,0,6.4858599999999997,null,"2066-07-13",0,7.8994600000000004,0,7.2359099999999996,0,6.5723700000000003]
["1967-07-15",0,2.7309999999999999,7,1967,28,0,{"$f":"IF(B229<Parameters!$A$16,B229*Parameters!$B$16,IF(AND(B229>Parameters!$A$16,B229<Parameters!$A$17),B229*Parameters!$B$17,B229*Parameters!$B$18))","v":0},{"$f":"IF(B229<Parameters!$A$20,B229*Parameters!$B$20,IF(AND(B229>Parameters!$A$20,B229<Parameters!$A$21),B229*Parameters!$B$21,B229*Parameters!$B$22))","v":0},{"$f":"B229*SUM($B$3,$C$3,$D$3)/$E$3*10","v":0},{"$f":"IF(B229=0,\"\",SUM(J229/(B229*10)))","v":""},0,"",0,2.6987419354838709,877.60444930098788,1.1059192445098838,{"$f":"VLOOKUP($F229,'Gegevens vergelijking'!$I$16:$Q$68,9,FALSE)","v":37.932157990359997},{"$f":"SUM(L229-R229-Q229)","v":-39.038077234869881},-1.1059192445098838,1253.6560317613612,{"$f":"IF(SUM(U228+S229)>SUM($AK$3+$AN$3),SUM(U228+S229-($AK$3+$AN$3)),0)","v":0},{"$f":"IF(U228<$AN$3,R229,IF(SUM(U228-R229)>$AN$3,0,IF(SUM(U228+S229)<$AN$3,SUM(R229-(U228-$AN$3)),0)))","v":0},37.932157990359997,1,"","",0,0,3.7932157990359996,{"$f":"N229/10","v":0},0,{"$f":"Q229/10","v":0.11059192445098838},3.7932157990359996,-3.9038077234869881,"","","","","",-83.931866054970243,0,-83.931866054970243,null,null,null,null,null,null,null,null,null,null,null,null,null,null,null,null,null,null,null,null,null,"1967-07-15",0,2.7309999999999999,null,"1975-07-14",4.5,5.242,null,"2006-07-14",0.34,3.5949200000000001,0.43,3.4685999999999999,0.34,3.3422900000000002,null,"2016-07-13",0,3.67604,0.42,3.51363,0,3.3512300000000002,null,"2066-07-14",0.22,4.0816400000000002,0.36,3.7387800000000002,0.22,3.3959299999999999]
["1967-07-16",0,4.0149999999999997,7,1967,28,0,{"$f":"IF(B230<Parameters!$A$16,B230*Parameters!$B$16,IF(AND(B230>Parameters!$A$16,B230<Parameters!$A$17),B230*Parameters!$B$17,B230*Parameters!$B$18))","v":0},{"$f":"IF(B230<Parameters!$A$20,B230*Parameters!$B$20,IF(AND(B230>Parameters!$A$20,B230<Parameters!$A$21),B230*Parameters!$B$21,B230*Parameters!$B$22))","v":0},0,"",0,"",0,3.9827419354838707,874.11309894624878,{"$f":"SUM(O230*P229)/$E$3*10","v":1.6257079269759409},{"$f":"VLOOKUP($F230,'Gegevens vergelijking'!$I$16:$Q$68,9,FALSE)","v":37.932157990359997},-39.557865917335938,-1.6257079269759409,1214.0981658440253,0,0,37.932157990359997,1,"","",0,0,3.7932157990359996,0,0,0.16257079269759409,3.7932157990359996,-3.9557865917335935,"","","","","",-85.049411722272254,0,-85.049411722272254,null,null,null,null,null,null,null,null,null,null,null,null,null,null,null,null,null,null,null,null,null,"1967-07-16",0,4.0149999999999997,null,"1975-07-15",0.1,3.2549999999999999,null,"2006-07-15",0,2.9651800000000001,0,2.8610000000000002,0,2.7568100000000002,null,"2016-07-14",0,3.0320900000000002,0,2.8981400000000002,0,2.7641800000000001,null,"2066-07-15",0,3.3666399999999999,0,3.08385,0,2.80105]
["1967-07-17",0,5.4669999999999996,7,1967,29,0,{"$f":"IF(B231<Parameters!$A$16,B231*Parameters!$B$16,IF(AND(B231>Parameters!$A$16,B231<Parameters!$A$17),B231*Parameters!$B$17,B231*Parameters!$B$18))","v":0},{"$f":"IF(B231<Parameters!$A$20,B231*Parameters!$B$20,IF(AND(B231>Parameters!$A$20,B231<Parameters!$A$21),B231*Parameters!$B$21,B231*Parameters!$B$22))","v":0},0,"",0,"",0,5.4347419354838706,870.26393267902586,2.2095716814878794,{"$f":"VLOOKUP($F231,'Gegevens vergelijking'!$I$16:$Q$68,9,FALSE)","v":41.402437318314284},-43.612008999802164,-2.2095716814878794,1170.4861568442232,0,0,41.402437318314284,1,"","",0,0,4.1402437318314282,0,0,0.22095716814878794,4.1402437318314282,-4.3612008999802159,"","","","","",-93.765819349574642,0,-93.765819349574642,null,null,null,null,null,null,null,null,null,null,null,null,null,null,null,null,null,null,null,null,null,"1967-07-17",0,5.4669999999999996,null,"1975-07-16",0,3.3940000000000001,null,"2006-07-16",0,4.3592899999999997,0,4.2061099999999998,0,4.0529400000000004,null,"2016-07-15",0,4.4576500000000001,0,4.2607200000000001,0,4.0637800000000004,null,"2066-07-16",0,4.9494899999999999,0,4.5337399999999999,0,4.1179800000000002]
["1967-07-18",1.8,5.8949999999999996,7,1967,29,1.8,{"$f":"IF(B232<Parameters!$A$16,B232*Parameters!$B$16,IF(AND(B232>Parameters!$A$16,B232<Parameters!$A$17),B232*Parameters!$B$17,B232*Parameters!$B$18))","v":1.4400000000000002},{"$f":"IF(B232<Parameters!$A$20,B232*Parameters!$B$20,IF(AND(B232>Parameters!$A$20,B232<Parameters!$A$21),B232*Parameters!$B$21,B232*Parameters!$B$22))","v":1.08},21.809302325581395,1.2116279069767442,17.706976744186047,0.81190019193857965,4.1023255813953483,5.8627419354838706,867.96314056361439,2.3730850479332268,{"$f":"VLOOKUP($F232,'Gegevens vergelijking'!$I$16:$Q$68,9,FALSE)","v":41.402437318314284},-26.068545622061464,15.33389169625282,1144.4176112221617,0,0,41.402437318314284,1,2.3001354065730157,1.2116279069767442,2.1809302325581394,1.7706976744186047,4.1402437318314282,0.41023255813953485,0,0.23730850479332269,4.1402437318314282,-2.6068545622061463,0.18809980806142035,0,0.13401977549399627,2.3381991130647677,-1.4722188885587639,-56.047373087432149,0,-56.047373087432149,null,null,null,null,null,null,null,null,null,null,null,null,null,null,null,null,null,null,null,null,null,"1967-07-18",1.8,5.8949999999999996,null,"1975-07-17",0.8,3.319,null,"2006-07-17",0,5.9358000000000004,0,5.7272299999999996,0,5.5186599999999997,null,"2016-07-16",0,6.0697400000000004,0,5.8015800000000004,0,5.5334199999999996,null,"2066-07-17",0,6.7394400000000001,0,6.1733399999999996,0,5.6072300000000004]
["1967-07-19",13.4,4.0369999999999999,7,1967,29,13.4,{"$f":"IF(B233<Parameters!$A$16,B233*Parameters!$B$16,IF(AND(B233>Parameters!$A$16,B233<Parameters!$A$17),B233*Parameters!$B$17,B233*Parameters!$B$18))","v":12.73},{"$f":"IF(B233<Parameters!$A$20,B233*Parameters!$B$20,IF(AND(B233>Parameters!$A$20,B233<Parameters!$A$21),B233*Parameters!$B$21,B233*Parameters!$B$22))","v":10.050000000000001},162.35813953488372,1.2116279069767442,153.55465116279072,0.94577735124760087,8.8034883720929997,4.0047419354838709,877.71892727224849,1.6167294825439016,{"$f":"VLOOKUP($F233,'Gegevens vergelijking'!$I$16:$Q$68,9,FALSE)","v":41.402437318314284},110.53548436193253,151.93792168024683,1254.9530955840942,0,0,41.402437318314284,1,0.30897341282324092,1.2116279069767442,16.235813953488371,15.355465116279072,4.1402437318314282,0.88034883720930002,{"$f":"V233/10","v":0},0.16167294825439016,4.1402437318314282,11.053548436193253,5.4222648752399093E-2,0,1.0528691057556624E-2,0.26962672250429948,0.71984458643814386,237.65129137815495,0,237.65129137815495,null,null,null,null,null,null,null,null,null,null,null,null,null,null,null,null,null,null,null,null,null,"1967-07-19",13.4,4.0369999999999999,null,"1975-07-18",13.4,3.419,null,"2006-07-18",0,6.4005000000000001,1.88,6.1756000000000002,0,5.9507099999999999,null,"2016-07-17",1.39,6.5449200000000003,1.83,6.2557700000000001,1.39,5.9666199999999998,null,"2066-07-18",0.94,7.2670599999999999,1.53,6.6566299999999998,0.94,6.0462100000000003]
["1967-07-20",0.2,3.593,7,1967,29,0.2,{"$f":"IF(B234<Parameters!$A$16,B234*Parameters!$B$16,IF(AND(B234>Parameters!$A$16,B234<Parameters!$A$17),B234*Parameters!$B$17,B234*Parameters!$B$18))","v":0},{"$f":"IF(B234<Parameters!$A$20,B234*Parameters!$B$20,IF(AND(B234>Parameters!$A$20,B234<Parameters!$A$21),B234*Parameters!$B$21,B234*Parameters!$B$22))","v":0},2.4232558139534883,1.2116279069767442,0.26046511627906976,0.10748560460652591,2.1627906976744184,3.560741935483871,873.9594673069563,1.4536421357703317,{"$f":"VLOOKUP($F234,'Gegevens vergelijking'!$I$16:$Q$68,9,FALSE)","v":41.402437318314284},-42.595614337805543,-1.1931770194912619,1212.3574812462887,0,0,41.402437318314284,1,20.701218659157142,1.2116279069767442,0.24232558139534882,2.6046511627906978E-2,4.1402437318314282,0.21627906976744185,0,0.14536421357703316,4.1402437318314282,-4.2595614337805543,0.8925143953934741,0,5.5809474855468091,158.95578613281376,-163.53673361836056,-91.580570826281928,0,-91.580570826281928,null,null,null,null,null,null,null,null,null,null,null,null,null,null,null,null,null,null,null,null,null,"1967-07-20",0.2,3.593,null,"1975-07-19",0.9,3.6749999999999998,null,"2006-07-19",0,4.3831699999999998,15.09,4.2291600000000003,0,4.0751499999999998,null,"2016-07-18",11.21,4.4820799999999998,14.95,4.2840600000000002,11.21,4.0860500000000002,null,"2066-07-19",8.77,4.97661,14.22,4.5585800000000001,8.77,4.1405500000000002]
["1967-07-21",0.5,4.6740000000000004,7,1967,29,0.5,{"$f":"IF(B235<Parameters!$A$16,B235*Parameters!$B$16,IF(AND(B235>Parameters!$A$16,B235<Parameters!$A$17),B235*Parameters!$B$17,B235*Parameters!$B$18))","v":0},{"$f":"IF(B235<Parameters!$A$20,B235*Parameters!$B$20,IF(AND(B235>Parameters!$A$20,B235<Parameters!$A$21),B235*Parameters!$B$21,B235*Parameters!$B$22))","v":0},6.058139534883721,1.2116279069767442,0.65116279069767447,0.10748560460652591,5.4069767441860463,4.6417419354838714,870.19625678371528,1.8868345624706253,{"$f":"VLOOKUP($F235,'Gegevens vergelijking'!$I$16:$Q$68,9,FALSE)","v":41.402437318314284},-42.638109090087234,-1.2356717717729508,1169.7193721562014,0,0,41.402437318314284,1,8.2804874636628565,1.2116279069767442,0.60581395348837208,6.5116279069767441E-2,4.1402437318314282,0.54069767441860461,0,0.18868345624706254,4.1402437318314282,-4.2638109090087237,0.89251439539347399,0,2.8976387923656031,63.582314453125505,-65.479953245491117,-91.671934543687556,0,-91.671934543687556,null,null,null,null,null,null,null,null,null,null,null,null,null,null,null,null,null,null,null,null,null,"1967-07-21",0.5,4.6740000000000004,null,"1975-07-20",1.7,1.8580000000000001,null,"2006-07-20",0.17,3.9011,0.21,3.76403,0.17,3.6269499999999999,null,"2016-07-19",0,3.9891299999999998,0.21,3.8128899999999999,0,3.6366499999999999,null,"2066-07-20",0.12,4.4292699999999998,0.17,4.05722,0.12,3.6851600000000002]
["1967-07-22",1.7,2.4140000000000001,7,1967,29,1.7,{"$f":"IF(B236<Parameters!$A$16,B236*Parameters!$B$16,IF(AND(B236>Parameters!$A$16,B236<Parameters!$A$17),B236*Parameters!$B$17,B236*Parameters!$B$18))","v":1.36},{"$f":"IF(B236<Parameters!$A$20,B236*Parameters!$B$20,IF(AND(B236>Parameters!$A$20,B236<Parameters!$A$21),B236*Parameters!$B$21,B236*Parameters!$B$22))","v":1.02},20.597674418604651,1.2116279069767442,16.723255813953489,0.81190019193857976,3.8744186046511615,2.3817419354838711,867.9330077174493,0.96399205436412361,{"$f":"VLOOKUP($F236,'Gegevens vergelijking'!$I$16:$Q$68,9,FALSE)","v":41.402437318314284},-25.643173558724918,15.759263759589366,1144.0761985974766,0,0,41.402437318314284,1,2.435437489312605,1.2116279069767442,2.059767441860465,1.672325581395349,4.1402437318314282,0.38744186046511614,0,9.6399205436412366E-2,4.1402437318314282,-2.5643173558724914,0.18809980806142029,0,5.7643802444246023E-2,2.4757402373626949,-1.5333840398069409,-55.132823151258563,0,-55.132823151258563,null,null,null,null,null,null,null,null,null,null,null,null,null,null,null,null,null,null,null,null,null,"1967-07-22",1.7,2.4140000000000001,null,"1975-07-21",0,2.782,null,"2006-07-21",0.42,5.0747999999999998,0,4.8964800000000004,0.42,4.7181699999999998,null,"2016-07-20",0.4,5.1893099999999999,0.51,4.9600499999999998,0.4,4.7307899999999998,null,"2066-07-21",0,5.76187,0.44,5.2778799999999997,0,4.7938900000000002]
["1967-07-23",0.2,3.085,7,1967,29,0.2,{"$f":"IF(B237<Parameters!$A$16,B237*Parameters!$B$16,IF(AND(B237>Parameters!$A$16,B237<Parameters!$A$17),B237*Parameters!$B$17,B237*Parameters!$B$18))","v":0},{"$f":"IF(B237<Parameters!$A$20,B237*Parameters!$B$20,IF(AND(B237>Parameters!$A$20,B237<Parameters!$A$21),B237*Parameters!$B$21,B237*Parameters!$B$22))","v":0},2.4232558139534883,1.2116279069767442,0.26046511627906976,0.10748560460652591,2.1627906976744184,3.052741935483871,864.19307790187463,1.2323606929533506,{"$f":"VLOOKUP($F237,'Gegevens vergelijking'!$I$16:$Q$68,9,FALSE)","v":41.402437318314284},-42.374332894988562,-0.97189557667428084,1101.701865702488,0,0,41.402437318314284,1,20.701218659157142,1.2116279069767442,0.24232558139534882,2.6046511627906978E-2,4.1402437318314282,0.21627906976744185,0,0.12323606929533507,4.1402437318314282,-4.2374332894988562,0.8925143953934741,0,4.7313848033030421,158.95578613281376,-162.68717093611679,-91.104815724225404,0,-91.104815724225404,null,null,null,null,null,null,null,null,null,null,null,null,null,null,null,null,null,null,null,null,null,"1967-07-23",0.2,3.085,null,"1975-07-22",0.2,3.5150000000000001,null,"2006-07-22",0,2.621,1.77,2.5289100000000002,0,2.4368099999999999,null,"2016-07-21",1.32,2.6801400000000002,0,2.5617399999999999,1.32,2.44333,null,"2066-07-22",0.89,2.9758599999999999,0,2.7258900000000001,0.89,2.4759199999999999]
["1967-07-24",0,5.5460000000000003,7,1967,30,0,{"$f":"IF(B238<Parameters!$A$16,B238*Parameters!$B$16,IF(AND(B238>Parameters!$A$16,B238<Parameters!$A$17),B238*Parameters!$B$17,B238*Parameters!$B$18))","v":0},{"$f":"IF(B238<Parameters!$A$20,B238*Parameters!$B$20,IF(AND(B238>Parameters!$A$20,B238<Parameters!$A$21),B238*Parameters!$B$21,B238*Parameters!$B$22))","v":0},0,"",0,"",0,5.5137419354838713,860.60293442290958,2.2162500530150915,{"$f":"VLOOKUP($F238,'Gegevens vergelijking'!$I$16:$Q$68,9,FALSE)","v":38.460966477868567},-40.677216530883655,-2.2162500530150915,1061.0246491716043,0,0,38.460966477868567,1,"","",0,0,3.8460966477868568,0,0,0.22162500530150914,3.8460966477868568,-4.0677216530883662,"","","","","",-87.456015541399879,0,-87.456015541399879,null,null,null,null,null,null,null,null,null,null,null,null,null,null,null,null,null,null,null,null,null,"1967-07-24",0,5.5460000000000003,null,"1975-07-23",0.3,4.0209999999999999,null,"2006-07-23",0.17,3.3495400000000002,0.21,3.2318500000000001,0.17,3.11415,null,"2016-07-22",0.16,3.4251200000000002,0.21,3.2738,0.16,3.1224799999999999,null,"2066-07-23",0.12,3.8030300000000001,0.19,3.4835799999999999,0.12,3.1641300000000001]
["1967-07-25",0,4.7729999999999997,7,1967,30,0,{"$f":"IF(B239<Parameters!$A$16,B239*Parameters!$B$16,IF(AND(B239>Parameters!$A$16,B239<Parameters!$A$17),B239*Parameters!$B$17,B239*Parameters!$B$18))","v":0},{"$f":"IF(B239<Parameters!$A$20,B239*Parameters!$B$20,IF(AND(B239>Parameters!$A$20,B239<Parameters!$A$21),B239*Parameters!$B$21,B239*Parameters!$B$22))","v":0},0,"",0,"",0,4.7407419354838707,857.04091246487724,1.8976262423344945,{"$f":"VLOOKUP($F239,'Gegevens vergelijking'!$I$16:$Q$68,9,FALSE)","v":38.460966477868567},-40.358592720203063,-1.8976262423344945,1020.6660564514012,0,0,38.460966477868567,1,"","",0,0,3.8460966477868568,0,0,0.18976262423344945,3.8460966477868568,-4.0358592720203061,"","","","","",-86.770974348436582,0,-86.770974348436582,null,null,null,null,null,null,null,null,null,null,null,null,null,null,null,null,null,null,null,null,null,"1967-07-25",0,4.7729999999999997,null,"1975-07-24",0.7,3.8849999999999998,null,"2006-07-24",0,6.0215699999999996,0,5.80999,0,5.5984100000000003,null,"2016-07-23",0,6.1574499999999999,0,5.8854199999999999,0,5.6133800000000003,null,"2066-07-24",0,6.83683,0,6.2625400000000004,0,5.68825]
["1967-07-26",0,3.1869999999999998,7,1967,30,0,{"$f":"IF(B240<Parameters!$A$16,B240*Parameters!$B$16,IF(AND(B240>Parameters!$A$16,B240<Parameters!$A$17),B240*Parameters!$B$17,B240*Parameters!$B$18))","v":0},{"$f":"IF(B240<Parameters!$A$20,B240*Parameters!$B$20,IF(AND(B240>Parameters!$A$20,B240<Parameters!$A$21),B240*Parameters!$B$21,B240*Parameters!$B$22))","v":0},0,"",0,"",0,3.1547419354838708,853.53538277365942,1.2575548404550276,{"$f":"VLOOKUP($F240,'Gegevens vergelijking'!$I$16:$Q$68,9,FALSE)","v":38.460966477868567},-39.718521318323596,-1.2575548404550276,980.94753513307762,0,0,38.460966477868567,1,"","",0,0,3.8460966477868568,0,0,0.12575548404550277,3.8460966477868568,-3.9718521318323594,"","","","","",-85.394820834395716,0,-85.394820834395716,null,null,null,null,null,null,null,null,null,null,null,null,null,null,null,null,null,null,null,null,null,"1967-07-26",0,3.1869999999999998,null,"1975-07-25",3.6,3.2959999999999998,null,"2006-07-25",0,5.1822800000000004,0,5.0001899999999999,0,4.8181000000000003,null,"2016-07-24",0,5.29922,0,5.0651099999999998,0,4.8309899999999999,null,"2066-07-25",0,5.8839199999999998,0,5.3896699999999997,0,4.8954300000000002]
["1967-07-27",0,5.7770000000000001,7,1967,30,0,{"$f":"IF(B241<Parameters!$A$16,B241*Parameters!$B$16,IF(AND(B241>Parameters!$A$16,B241<Parameters!$A$17),B241*Parameters!$B$17,B241*Parameters!$B$18))","v":0},{"$f":"IF(B241<Parameters!$A$20,B241*Parameters!$B$20,IF(AND(B241>Parameters!$A$20,B241<Parameters!$A$21),B241*Parameters!$B$21,B241*Parameters!$B$22))","v":0},0,"",0,"",0,5.7447419354838711,849.93955773876962,2.2806234915530785,{"$f":"VLOOKUP($F241,'Gegevens vergelijking'!$I$16:$Q$68,9,FALSE)","v":38.460966477868567},-40.741589969421646,-2.2806234915530785,940.205945163656,0,0,38.460966477868567,1,"","",0,0,3.8460966477868568,0,0,0.22806234915530785,3.8460966477868568,-4.074158996942165,"","","","","",-87.594418434256539,0,-87.594418434256539,null,null,null,null,null,null,null,null,null,null,null,null,null,null,null,null,null,null,null,null,null,"1967-07-27",0,5.7770000000000001,null,"1975-07-26",0,3.8889999999999998,null,"2006-07-26",0,3.4602900000000001,0,3.3386999999999998,0,3.21712,null,"2016-07-25",0,3.53837,0,3.3820399999999999,0,3.2257199999999999,null,"2066-07-26",0,3.9287700000000001,0,3.59876,0,3.2687499999999998]
["1967-07-28",2.6,3.6549999999999998,7,1967,30,2.6,{"$f":"IF(B242<Parameters!$A$16,B242*Parameters!$B$16,IF(AND(B242>Parameters!$A$16,B242<Parameters!$A$17),B242*Parameters!$B$17,B242*Parameters!$B$18))","v":2.4699999999999998},{"$f":"IF(B242<Parameters!$A$20,B242*Parameters!$B$20,IF(AND(B242>Parameters!$A$20,B242<Parameters!$A$21),B242*Parameters!$B$21,B242*Parameters!$B$22))","v":1.9500000000000002},31.50232558139535,1.2116279069767442,29.794186046511623,0.94577735124760054,1.7081395348837276,3.6227419354838708,849.04823344830515,1.4321449667194677,{"$f":"VLOOKUP($F242,'Gegevens vergelijking'!$I$16:$Q$68,9,FALSE)","v":38.460966477868567},-10.098925398076412,28.362041079792156,930.10701976557959,0,0,38.460966477868567,1,1.4792679414564833,1.2116279069767442,3.150232558139535,2.9794186046511624,3.8460966477868568,0.17081395348837275,0,0.14321449667194677,3.8460966477868568,-1.009892539807641,5.422264875239944E-2,0,4.8067933941331707E-2,1.2908883101497473,-0.33895624409107888,-21.712689605864281,0,-21.712689605864281,null,null,null,null,null,null,null,null,null,null,null,null,null,null,null,null,null,null,null,null,null,"1967-07-28",2.6,3.6549999999999998,null,"1975-07-27",0.1,2.9969999999999999,null,"2006-07-27",0,6.2723800000000001,0,6.05199,0,5.8315900000000003,null,"2016-07-26",0,6.4139099999999996,0,6.1305500000000004,0,5.8471900000000003,null,"2066-07-27",0,7.1215999999999999,0,6.52339,0,5.9251800000000001]
["1967-07-29",3.4,3.79,7,1967,30,3.4,{"$f":"IF(B243<Parameters!$A$16,B243*Parameters!$B$16,IF(AND(B243>Parameters!$A$16,B243<Parameters!$A$17),B243*Parameters!$B$17,B243*Parameters!$B$18))","v":3.23},{"$f":"IF(B243<Parameters!$A$20,B243*Parameters!$B$20,IF(AND(B243>Parameters!$A$20,B243<Parameters!$A$21),B243*Parameters!$B$21,B243*Parameters!$B$22))","v":2.5499999999999998},41.195348837209302,1.2116279069767442,38.961627906976744,0.94577735124760076,2.2337209302325576,3.757741935483871,848.96144858914249,1.4839554195707885,{"$f":"VLOOKUP($F243,'Gegevens vergelijking'!$I$16:$Q$68,9,FALSE)","v":38.460966477868567},-0.98329399046261101,37.477672487405954,929.12372577511701,0,0,38.460966477868567,1,1.1312048964078991,1.2116279069767442,4.11953488372093,3.8961627906976743,3.8460966477868568,0.22337209302325575,0,0.14839554195707885,3.8460966477868568,-9.8329399046261479E-2,5.4222648752399218E-2,0,3.8087613359324264E-2,0.98714988423215955,-2.5237497591483832E-2,-2.1140820794946218,0,-2.1140820794946218,null,null,null,null,null,null,null,null,null,null,null,null,null,null,null,null,null,null,null,null,null,"1967-07-29",3.4,3.79,null,"1975-07-28",0,4.6639999999999997,null,"2006-07-28",2.14,3.9684200000000001,2.74,3.8289800000000001,2.14,3.68954,null,"2016-07-27",2,4.0579599999999996,2.66,3.8786900000000002,2,3.6994099999999999,null,"2066-07-28",0,4.5057,0,4.12723,0,3.7487499999999998]
["1967-07-30",0,3.6059999999999999,7,1967,30,0,{"$f":"IF(B244<Parameters!$A$16,B244*Parameters!$B$16,IF(AND(B244>Parameters!$A$16,B244<Parameters!$A$17),B244*Parameters!$B$17,B244*Parameters!$B$18))","v":0},{"$f":"IF(B244<Parameters!$A$20,B244*Parameters!$B$20,IF(AND(B244>Parameters!$A$20,B244<Parameters!$A$21),B244*Parameters!$B$21,B244*Parameters!$B$22))","v":0},0,"",0,"",0,3.5737419354838709,845.44236283187956,1.4111484327591408,{"$f":"VLOOKUP($F244,'Gegevens vergelijking'!$I$16:$Q$68,9,FALSE)","v":38.460966477868567},-39.872114910627708,-1.4111484327591408,889.25161086448929,0,0,38.460966477868567,1,"","",0,0,3.8460966477868568,0,0,0.14111484327591409,3.8460966477868568,-3.9872114910627707,"","","","","",-85.725047057849579,0,-85.725047057849579,null,null,null,null,null,null,null,null,null,null,null,null,null,null,null,null,null,null,null,null,null,"1967-07-30",0,3.6059999999999999,null,"1975-07-29",0,5.1609999999999996,null,"2006-07-29",2.77,4.1149899999999997,3.57,3.9704000000000002,2.77,3.8258200000000002,null,"2016-07-28",2.59,4.2078499999999996,0,4.0219500000000004,2.59,3.8360500000000002,null,"2066-07-29",0,4.6721199999999996,2.92,4.2796700000000003,0,3.8872100000000001]
["1967-07-31",0,4.8239999999999998,7,1967,31,0,{"$f":"IF(B245<Parameters!$A$16,B245*Parameters!$B$16,IF(AND(B245>Parameters!$A$16,B245<Parameters!$A$17),B245*Parameters!$B$17,B245*Parameters!$B$18))","v":0},{"$f":"IF(B245<Parameters!$A$20,B245*Parameters!$B$20,IF(AND(B245>Parameters!$A$20,B245<Parameters!$A$21),B245*Parameters!$B$21,B245*Parameters!$B$22))","v":0},0,"",0,"",0,4.7917419354838708,842.05078864281313,1.8842519181470174,{"$f":"VLOOKUP($F245,'Gegevens vergelijking'!$I$16:$Q$68,9,FALSE)","v":36.543125282102856},-38.427377200249872,-1.8842519181470174,850.82423366423939,0,0,36.543125282102856,1,"","",0,0,3.6543125282102857,0,0,0.18842519181470174,3.6543125282102857,-3.8427377200249877,"","","","","",-82.618860980537235,0,-82.618860980537235,null,null,null,null,null,null,null,null,null,null,null,null,null,null,null,null,null,null,null,null,null,"1967-07-31",0,4.8239999999999998,null,"1975-07-30",0,5.4770000000000003,null,"2006-07-30",0,3.9152100000000001,0,3.77765,0,3.6400800000000002,null,"2016-07-29",0,4.0035600000000002,0,3.8266900000000001,0,3.64981,null,"2066-07-30",0,4.4452999999999996,0,4.0719000000000003,0,3.6984900000000001]
["1967-08-01",14.9,3.6070000000000002,8,1967,31,14.9,{"$f":"IF(B246<Parameters!$A$16,B246*Parameters!$B$16,IF(AND(B246>Parameters!$A$16,B246<Parameters!$A$17),B246*Parameters!$B$17,B246*Parameters!$B$18))","v":14.154999999999999},{"$f":"IF(B246<Parameters!$A$20,B246*Parameters!$B$20,IF(AND(B246>Parameters!$A$20,B246<Parameters!$A$21),B246*Parameters!$B$21,B246*Parameters!$B$22))","v":11.175000000000001},180.53255813953487,1.2116279069767442,170.7436046511628,0.94577735124760087,9.7889534883720728,3.6715161290322582,853.76831880083955,1.4379549078913587,{"$f":"VLOOKUP($F246,'Gegevens vergelijking'!$I$16:$Q$68,9,FALSE)","v":36.543125282102856},132.76252446116857,169.30564974327143,983.58675812540798,0,0,36.543125282102856,1,0.24525587437652924,1.2116279069767442,18.053255813953488,17.074360465116278,3.6543125282102857,0.9788953488372073,0,0.14379549078913587,3.6543125282102857,13.276252446116859,5.422264875239912E-2,0,8.421720455235605E-3,0.21402339113527666,0.77755488840948783,285.43942759151247,0,285.43942759151247,null,null,null,null,null,null,null,null,null,null,null,null,null,null,null,null,null,null,null,null,null,"1967-08-01",14.9,3.6070000000000002,null,"1975-07-31",0.1,4.867,null,"2006-07-31",0,5.23766,0,5.0536199999999996,0,4.8695899999999996,null,"2016-07-30",0,5.3558500000000002,0,5.1192299999999999,0,4.8826099999999997,null,"2066-07-31",0,5.94679,0,5.44726,0,4.9477399999999996]
["1967-08-02",1.2,3.2810000000000001,8,1967,31,1.2,{"$f":"IF(B247<Parameters!$A$16,B247*Parameters!$B$16,IF(AND(B247>Parameters!$A$16,B247<Parameters!$A$17),B247*Parameters!$B$17,B247*Parameters!$B$18))","v":0.96},{"$f":"IF(B247<Parameters!$A$20,B247*Parameters!$B$20,IF(AND(B247>Parameters!$A$20,B247<Parameters!$A$21),B247*Parameters!$B$21,B247*Parameters!$B$22))","v":0.72},14.539534883720931,1.2116279069767442,11.804651162790698,0.81190019193857965,2.7348837209302328,3.3455161290322581,851.46766453621967,1.328509619072076,{"$f":"VLOOKUP($F247,'Gegevens vergelijking'!$I$16:$Q$68,9,FALSE)","v":36.543125282102856},-26.066983738384234,10.476141543718622,957.51977438702374,0,0,36.543125282102856,1,3.0452604401752379,1.2116279069767442,1.453953488372093,1.1804651162790698,3.6543125282102857,0.27348837209302329,0,0.1328509619072076,3.6543125282102857,-2.6066983738384235,0.18809980806142038,0,0.11254120098522315,3.0956548209819204,-2.2081960219671437,-56.044015037526108,0,-56.044015037526108,null,null,null,null,null,null,null,null,null,null,null,null,null,null,null,null,null,null,null,null,null,"1967-08-02",1.2,3.2810000000000001,null,"1975-08-01",4.5,5.0419999999999998,null,"2006-08-01",12.96,4.0084600000000004,16.66,3.8481299999999998,12.96,3.6878000000000002,null,"2016-07-31",12.36,4.1231600000000004,16.38,3.9170199999999999,12.36,3.71088,null,"2066-08-01",9.56,4.6966700000000001,15.46,4.2614900000000002,9.56,3.8263099999999999]
["1967-08-03",0,3.9449999999999998,8,1967,31,0,{"$f":"IF(B248<Parameters!$A$16,B248*Parameters!$B$16,IF(AND(B248>Parameters!$A$16,B248<Parameters!$A$17),B248*Parameters!$B$17,B248*Parameters!$B$18))","v":0},{"$f":"IF(B248<Parameters!$A$20,B248*Parameters!$B$20,IF(AND(B248>Parameters!$A$20,B248<Parameters!$A$21),B248*Parameters!$B$21,B248*Parameters!$B$22))","v":0},0,"",0,"",0,4.0095161290322583,848.10224664487782,1.5878945740964656,{"$f":"VLOOKUP($F248,'Gegevens vergelijking'!$I$16:$Q$68,9,FALSE)","v":36.543125282102856},-38.131019856199323,-1.5878945740964656,919.38875453082437,0,0,36.543125282102856,1,"","",0,0,3.6543125282102857,0,0,0.15878945740964656,3.6543125282102857,-3.8131019856199324,"","","","","",-81.981692690828552,0,-81.981692690828552,null,null,null,null,null,null,null,null,null,null,null,null,null,null,null,null,null,null,null,null,null,"1967-08-03",0,3.9449999999999998,null,"1975-08-02",0,5.532,null,"2006-08-02",0.94,3.6461800000000002,1.28,3.5003299999999999,0.94,3.3544900000000002,null,"2016-08-01",0.87,3.7505099999999998,1.24,3.5630000000000002,0.87,3.3754900000000001,null,"2066-08-02",0,4.2721900000000002,1.0900000000000001,3.8763399999999999,0,3.48048]
["1967-08-04",0,3.8450000000000002,8,1967,31,0,{"$f":"IF(B249<Parameters!$A$16,B249*Parameters!$B$16,IF(AND(B249>Parameters!$A$16,B249<Parameters!$A$17),B249*Parameters!$B$17,B249*Parameters!$B$18))","v":0},{"$f":"IF(B249<Parameters!$A$20,B249*Parameters!$B$20,IF(AND(B249>Parameters!$A$20,B249<Parameters!$A$21),B249*Parameters!$B$21,B249*Parameters!$B$22))","v":0},0,"",0,"",0,3.9095161290322582,844.7408642127582,1.5421718196868115,{"$f":"VLOOKUP($F249,'Gegevens vergelijking'!$I$16:$Q$68,9,FALSE)","v":36.543125282102856},-38.085297101789671,-1.5421718196868115,881.30345742903467,0,0,36.543125282102856,1,"","",0,0,3.6543125282102857,0,0,0.15421718196868114,3.6543125282102857,-3.8085297101789668,"","","","","",-81.88338876884778,0,-81.88338876884778,null,null,null,null,null,null,null,null,null,null,null,null,null,null,null,null,null,null,null,null,null,"1967-08-04",0,3.8450000000000002,null,"1975-08-03",0,5.9039999999999999,null,"2006-08-03",0,4.38408,0,4.2087199999999996,0,4.0333699999999997,null,"2016-08-02",0,4.5095299999999998,0,4.2840699999999998,0,4.0586200000000003,null,"2066-08-03",0,5.1367799999999999,0,4.6608200000000002,0,4.1848599999999996]
["1967-08-05",0.5,4.3330000000000002,8,1967,31,0.5,{"$f":"IF(B250<Parameters!$A$16,B250*Parameters!$B$16,IF(AND(B250>Parameters!$A$16,B250<Parameters!$A$17),B250*Parameters!$B$17,B250*Parameters!$B$18))","v":0},{"$f":"IF(B250<Parameters!$A$20,B250*Parameters!$B$20,IF(AND(B250>Parameters!$A$20,B250<Parameters!$A$21),B250*Parameters!$B$21,B250*Parameters!$B$22))","v":0},6.058139534883721,1.2116279069767442,0.65116279069767447,0.10748560460652591,5.4069767441860463,4.3975161290322582,841.42056989472849,1.7277960815015128,{"$f":"VLOOKUP($F250,'Gegevens vergelijking'!$I$16:$Q$68,9,FALSE)","v":36.543125282102856},-37.61975857290669,-1.0766332908038383,843.68369885612799,0,0,36.543125282102856,1,7.3086250564205715,1.2116279069767442,0.60581395348837208,6.5116279069767441E-2,3.6543125282102857,0.54069767441860461,0,0.17277960815015128,3.6543125282102857,-3.7619758572906696,0.89251439539347399,0,2.6534011251630374,56.119799540372249,-57.773200665535285,-80.882480931749399,0,-80.882480931749399,null,null,null,null,null,null,null,null,null,null,null,null,null,null,null,null,null,null,null,null,null,"1967-08-05",0.5,4.3330000000000002,null,"1975-08-04",0,6.3339999999999996,null,"2006-08-04",0,4.2729499999999998,0,4.1020399999999997,0,3.93113,null,"2016-08-03",0,4.3952200000000001,0,4.1754800000000003,0,3.95574,null,"2066-08-04",0,5.00657,0,4.5426799999999998,0,4.0787800000000001]
["1967-08-09",0.4,2.371,8,1967,32,0.4,{"$f":"IF(B254<Parameters!$A$16,B254*Parameters!$B$16,IF(AND(B254>Parameters!$A$16,B254<Parameters!$A$17),B254*Parameters!$B$17,B254*Parameters!$B$18))","v":0},{"$f":"IF(B254<Parameters!$A$20,B254*Parameters!$B$20,IF(AND(B254>Parameters!$A$20,B254<Parameters!$A$21),B254*Parameters!$B$21,B254*Parameters!$B$22))","v":0},4.8465116279069766,1.2116279069767442,0.52093023255813953,0.10748560460652591,4.3255813953488369,2.435516129032258,837.48984373793382,0.95227296444224407,{"$f":"VLOOKUP($F254,'Gegevens vergelijking'!$I$16:$Q$68,9,FALSE)","v":35.235564143205707},-35.666906875089815,-0.43134273188410455,799.14759606793496,0,0,35.235564143205707,1,8.8088910358014267,1.2116279069767442,0.48465116279069764,5.2093023255813956E-2,3.5235564143205709,0.4325581395348837,0,9.522729644422441E-2,3.5235564143205709,-3.5666906875089812,0.8925143953934741,0,1.8280239942418077,67.63969902490382,-68.467723019145623,-76.683849781443101,0,-76.683849781443101,null,null,null,null,null,null,null,null,null,null,null,null,null,null,null,null,null,null,null,null,null,"1967-08-09",0.4,2.371,null,"1975-08-08",0,5.6680000000000001,null,"2006-08-08",2.9,4.1795999999999998,3.94,4.0124199999999997,2.9,3.8452500000000001,null,"2016-08-07",2.67,4.2991999999999999,3.84,4.0842599999999996,2.67,3.8693200000000001,null,"2066-08-08",0,4.8971999999999998,0,4.4434300000000002,0,3.9896699999999998]
["1967-11-26",3,0,11,1967,47,3,{"$f":"IF(B363<Parameters!$A$16,B363*Parameters!$B$16,IF(AND(B363>Parameters!$A$16,B363<Parameters!$A$17),B363*Parameters!$B$17,B363*Parameters!$B$18))","v":2.8499999999999996},{"$f":"IF(B363<Parameters!$A$20,B363*Parameters!$B$20,IF(AND(B363>Parameters!$A$20,B363<Parameters!$A$21),B363*Parameters!$B$21,B363*Parameters!$B$22))","v":2.25},36.348837209302324,1.2116279069767442,34.377906976744185,0.94577735124760076,1.970930232558139,0.16666666666666666,915.5202830693579,7.0784994819030014E-2,{"$f":"VLOOKUP($F363,'Gegevens vergelijking'!$I$16:$Q$68,9,FALSE)","v":7.1842085238095228},27.122913458115633,34.307121981925157,1683.251837383483,0,0,7.1842085238095228,1,0.23947361746031742,1.2116279069767442,3.6348837209302323,3.4377906976744184,0.71842085238095232,0.1970930232558139,0,7.0784994819030013E-3,0.71842085238095232,2.7122913458115629,5.4222648752399225E-2,0,2.0590257244838769E-3,0.20897748454172807,0.78896348973378805,58.314263934948606,58.314263934948606,0,null,null,null,null,null,null,null,null,null,null,null,null,null,null,null,null,null,null,null,null,null,"1967-11-26",3,0,null,"1975-11-25",8.3000000000000007,0.35599999999999998,null,"2006-11-25",0.3,0,0.3,0,0.3,0,null,"2016-11-24",0.3,0,0.3,0,0.3,0,null,"2066-11-25",0.3,0,0.3,0,0.3,0,null,null,null,null,19,481.81499999999977,611.73499999999979]
["1968-01-04",0.9,0.27100000000000002,1,1968,1,0.9,{"$f":"IF(B402<Parameters!$A$16,B402*Parameters!$B$16,IF(AND(B402>Parameters!$A$16,B402<Parameters!$A$17),B402*Parameters!$B$17,B402*Parameters!$B$18))","v":0},{"$f":"IF(B402<Parameters!$A$20,B402*Parameters!$B$20,IF(AND(B402>Parameters!$A$20,B402<Parameters!$A$21),B402*Parameters!$B$21,B402*Parameters!$B$22))","v":0},10.904651162790698,1.2116279069767442,1.172093023255814,0.10748560460652591,9.7325581395348841,0.33551612903225808,1013.0497345383112,0.15811906329275319,{"$f":"VLOOKUP($F402,'Gegevens vergelijking'!$I$16:$Q$68,9,FALSE)","v":3.0894753415257137},-2.0755013815626531,1.0139739599630608,2788.2847250062969,0,0,3.0894753415257137,1,0.34327503794730152,1.2116279069767442,1.0904651162790697,0.1172093023255814,0.30894753415257137,0.97325581395348837,0,1.5811906329275319E-2,0.30894753415257137,-0.20755013815626527,0.8925143953934741,0,0.13490316907913466,2.6358618985239222,-1.7707650676030569,-4.4623279703597039,-4.4623279703597039,0,null,null,null,null,null,null,null,null,null,null,null,null,null,null,null,null,null,null,null,null,null,"1968-01-04",0.9,0.27100000000000002,null,"1976-01-03",0.9,0.57699999999999996,null,"2007-01-03",4.3099999999999996,0.13219,3.67,0.12414,0,0.11609,null,"2017-01-02",4.45,0.1371,3.72,0.12675,3.23,0.1164,null,"2067-01-03",5.14,0.16164999999999999,3.97,0.13980000000000001,3.08,0.11795]
["1968-04-22",5.3,3.8849999999999998,4,1968,17,5.3,{"$f":"IF(B511<Parameters!$A$16,B511*Parameters!$B$16,IF(AND(B511>Parameters!$A$16,B511<Parameters!$A$17),B511*Parameters!$B$17,B511*Parameters!$B$18))","v":5.0349999999999993},{"$f":"IF(B511<Parameters!$A$20,B511*Parameters!$B$20,IF(AND(B511>Parameters!$A$20,B511<Parameters!$A$21),B511*Parameters!$B$21,B511*Parameters!$B$22))","v":3.9749999999999996},64.216279069767438,1.2116279069767442,60.734302325581389,0.94577735124760076,3.4819767441860492,3.7183333333333333,1070.3668167076776,1.847356514702122,{"$f":"VLOOKUP($F511,'Gegevens vergelijking'!$I$16:$Q$68,9,FALSE)","v":34.009844090885714},24.877101719993554,58.886945810879268,3437.7014895401494,0,0,34.009844090885714,1,0.64169517152614552,1.2116279069767442,6.4216279069767435,6.0734302325581391,3.4009844090885712,0.34819767441860494,0,0.1847356514702122,3.4009844090885712,2.487710171999356,5.422264875239928E-2,0,3.0417020431039221E-2,0.55997752157532743,0.4096054579936334,53.485768697986153,0,53.485768697986153,null,null,null,null,null,null,null,null,null,null,null,null,null,null,null,null,null,null,null,null,null,"1968-04-22",5.3,3.8849999999999998,null,"1976-04-21",0,1.7769999999999999,null,"2007-04-22",0,4.6188599999999997,0,4.6188599999999997,0,4.4192799999999997,null,"2017-04-21",0,4.6556800000000003,0,4.6556800000000003,0,4.3990799999999997,null,"2067-04-22",0,4.8397699999999997,0,4.8397699999999997,0,4.2980499999999999,null,null,null,1992,568.97716262975769,41.75069204152252,527.22647058823532,0,8.067702788436323,622.86949003953453,-103.7107222397357]
["1968-05-31",0,6.0330000000000004,5,1968,22,0,{"$f":"IF(B550<Parameters!$A$16,B550*Parameters!$B$16,IF(AND(B550>Parameters!$A$16,B550<Parameters!$A$17),B550*Parameters!$B$17,B550*Parameters!$B$18))","v":0},{"$f":"IF(B550<Parameters!$A$20,B550*Parameters!$B$20,IF(AND(B550>Parameters!$A$20,B550<Parameters!$A$21),B550*Parameters!$B$21,B550*Parameters!$B$22))","v":0},0,"",0,"",0,5.8394516129032263,1002.0513302888107,{"$f":"SUM(O550*P549)/$E$3*10","v":2.7317860568753485},{"$f":"VLOOKUP($F550,'Gegevens vergelijking'!$I$16:$Q$68,9,FALSE)","v":39.779582414171429},-42.511368471046779,-2.7317860568753485,2663.6700755438483,0,0,39.779582414171429,1,"","",0,0,3.9779582414171428,0,0,0.27317860568753483,3.9779582414171428,-4.2511368471046778,"","","","","",-91.399442212750571,0,-91.399442212750571,null,null,null,null,null,null,null,null,null,null,null,null,null,null,null,null,null,null,null,null,null,"1968-05-31",0,6.0330000000000004,null,"1976-05-30",0,3.698,null,"2007-05-31",0,4.8420500000000004,0,4.8420500000000004,0,4.6207000000000003,null,"2017-05-30",0,4.8969199999999997,0,4.8969199999999997,0,4.6123399999999997,null,"2067-05-31",0,5.1712699999999998,0,5.1712699999999998,0,4.5704900000000004,null,null,null,1977,964.91487889273242,92.509342560553648,872.40553633217985,127.92532832471964,9.3338315275775798,715.48178924975412,19.66458723012925,null,null,1986,176.92295434806715,-126.59335115424605,50.3296031938211]
["1968-07-09",0,5.05,7,1968,28,0,{"$f":"IF(B589<Parameters!$A$16,B589*Parameters!$B$16,IF(AND(B589>Parameters!$A$16,B589<Parameters!$A$17),B589*Parameters!$B$17,B589*Parameters!$B$18))","v":0},{"$f":"IF(B589<Parameters!$A$20,B589*Parameters!$B$20,IF(AND(B589>Parameters!$A$20,B589<Parameters!$A$21),B589*Parameters!$B$21,B589*Parameters!$B$22))","v":0},0,"",0,"",0,5.0177419354838708,925.93292252498338,2.169233421832752,{"$f":"VLOOKUP($F589,'Gegevens vergelijking'!$I$16:$Q$68,9,FALSE)","v":37.932157990359997},-40.101391412192747,-2.169233421832752,1801.2296263705139,0,0,37.932157990359997,1,"","",0,0,3.7932157990359996,0,0,0.21692334218327519,3.7932157990359996,-4.0101391412192751,"","","","","",-86.217991536214413,0,-86.217991536214413,null,null,null,null,null,null,null,null,null,null,null,null,null,null,null,null,null,null,null,null,null,"1968-07-09",0,5.05,null,"1976-07-08",0,6.3339999999999996,null,"2007-07-09",0,4.2637400000000003,0,4.1139299999999999,0,3.9641099999999998,null,"2017-07-08",0,4.3599500000000004,0,4.1673299999999998,0,3.97471,null,"2067-07-09",0,4.8410099999999998,0,4.4343700000000004,0,4.02773,null,null,null,null,{"$f":"SUM(CV588/COUNT(CU540:CU585))","v":932.38354144726884},{"$f":"SUM(CW588/COUNT(CV540:CV585))","v":80.74141718068303},851.64212426658707,158.04562201361904,9.6669255871074569,682.6780459425205,1.2515307233397244]
["1968-10-26",0.1,0.23499999999999999,10,1968,43,0.1,{"$f":"IF(B698<Parameters!$A$16,B698*Parameters!$B$16,IF(AND(B698>Parameters!$A$16,B698<Parameters!$A$17),B698*Parameters!$B$17,B698*Parameters!$B$18))","v":0},{"$f":"IF(B698<Parameters!$A$20,B698*Parameters!$B$20,IF(AND(B698>Parameters!$A$20,B698<Parameters!$A$21),B698*Parameters!$B$21,B698*Parameters!$B$22))","v":0},1.2116279069767442,1.2116279069767442,0.13023255813953488,0.10748560460652591,1.0813953488372092,0.39629032258064512,931.48416212437462,0.17193777891902806,{"$f":"VLOOKUP($F698,'Gegevens vergelijking'!$I$16:$Q$68,9,FALSE)","v":15.056100159581629},-15.097805380361123,-4.170522077949318E-2,1864.1265486028115,0,0,15.056100159581629,1,15.056100159581629,1.2116279069767442,0.12116279069767441,1.3023255813953489E-2,1.5056100159581629,0.10813953488372093,0,1.7193777891902805E-2,1.5056100159581629,-1.5097805380361122,0.8925143953934741,0,1.3202365166996797,115.60934051107321,-115.92957702777289,-32.460281567776413,-32.460281567776413,0,null,null,null,null,null,null,null,null,null,null,null,null,null,null,null,null,null,null,null,null,null,"1968-10-26",0.1,0.23499999999999999,null,"1976-10-25",0.2,0.73,null,"2007-10-26",0,0.40114,0,0.40114,0,0.37718000000000002,null,"2017-10-25",0,0.40832000000000002,0,0.40832000000000002,0,0.37752000000000002,null,"2067-10-26",0,0.44423000000000001,0,0.44423000000000001,0,0.37920999999999999]
["1968-12-04",0,0,12,1968,49,0,{"$f":"IF(B737<Parameters!$A$16,B737*Parameters!$B$16,IF(AND(B737>Parameters!$A$16,B737<Parameters!$A$17),B737*Parameters!$B$17,B737*Parameters!$B$18))","v":0},{"$f":"IF(B737<Parameters!$A$20,B737*Parameters!$B$20,IF(AND(B737>Parameters!$A$20,B737<Parameters!$A$21),B737*Parameters!$B$21,B737*Parameters!$B$22))","v":0},0,"",0,"",0,6.4516129032258063E-2,935.91144391325952,2.8093108944844659E-2,{"$f":"VLOOKUP($F737,'Gegevens vergelijking'!$I$16:$Q$68,9,FALSE)","v":3.2736734693877554},-3.3017665783326002,-2.8093108944844659E-2,1914.2887499256469,0,0,3.2736734693877554,1,"","",0,0,0.32736734693877556,0,0,2.8093108944844659E-3,0.32736734693877556,-0.33017665783326,"","","","","",-7.09879814341509,-7.09879814341509,0,null,null,null,null,null,null,null,null,null,null,null,null,null,null,null,null,null,null,null,null,null,"1968-12-04",0,0,null,"1976-12-03",0,0.16200000000000001,null,"2007-12-04",0,0,0,0,0,0,null,"2017-12-03",0,0,0,0,0,0,null,"2067-12-04",0,0,0,0,0,0]
["1969-01-16",1,0.25900000000000001,1,1969,3,1,{"$f":"IF(B780<Parameters!$A$16,B780*Parameters!$B$16,IF(AND(B780>Parameters!$A$16,B780<Parameters!$A$17),B780*Parameters!$B$17,B780*Parameters!$B$18))","v":0.95},{"$f":"IF(B780<Parameters!$A$20,B780*Parameters!$B$20,IF(AND(B780>Parameters!$A$20,B780<Parameters!$A$21),B780*Parameters!$B$21,B780*Parameters!$B$22))","v":0.75},12.116279069767442,1.2116279069767442,11.459302325581396,0.94577735124760076,0.65697674418604635,0.32351612903225807,1001.8679126548266,0.15067506711230705,{"$f":"VLOOKUP($F780,'Gegevens vergelijking'!$I$16:$Q$68,9,FALSE)","v":5.3886624347828569},5.9199648236862314,11.308627258469089,2661.5919082346945,0,0,5.3886624347828569,1,0.53886624347828571,1.2116279069767442,1.2116279069767442,1.1459302325581395,0.53886624347828571,6.5697674418604635E-2,0,1.5067506711230704E-2,0.53886624347828571,0.59199648236862312,5.4222648752399218E-2,0,1.314871209706586E-2,0.4702435001434051,0.51660778775952909,12.727924370925397,12.727924370925397,0,null,null,null,null,null,null,null,null,null,null,null,null,null,null,null,null,null,null,null,null,null,"1969-01-16",1,0.25900000000000001,null,"1977-01-15",6.4,0.11,null,"2008-01-16",11.13,0.35288000000000003,9.5399999999999991,0.33139000000000002,8.51,0.30990000000000001,null,"2018-01-15",11.43,0.36598999999999998,9.6300000000000008,0.33835999999999999,8.42,0.31073000000000001,null,"2068-01-16",13,0.43153000000000002,10.11,0.37319999999999998,7.97,0.31486999999999998]
["1969-05-01",1.7,0.44400000000000001,5,1969,18,1.7,{"$f":"IF(B885<Parameters!$A$16,B885*Parameters!$B$16,IF(AND(B885>Parameters!$A$16,B885<Parameters!$A$17),B885*Parameters!$B$17,B885*Parameters!$B$18))","v":1.36},{"$f":"IF(B885<Parameters!$A$20,B885*Parameters!$B$20,IF(AND(B885>Parameters!$A$20,B885<Parameters!$A$21),B885*Parameters!$B$21,B885*Parameters!$B$22))","v":1.02},20.597674418604651,1.2116279069767442,16.723255813953489,0.81190019193857976,3.8744186046511615,0.25045161290322582,1010.9820175821131,0.11794046336372499,{"$f":"VLOOKUP($F885,'Gegevens vergelijking'!$I$16:$Q$68,9,FALSE)","v":33.340195028868571},-16.734879678278805,16.605315350589766,2764.8569787770311,0,0,33.340195028868571,1,1.9611879428746217,1.2116279069767442,2.059767441860465,1.672325581395349,3.3340195028868571,0.38744186046511614,0,1.1794046336372498E-2,3.3340195028868571,-1.6734879678278807,0.18809980806142029,0,7.0524821647061243E-3,1.9936425896834216,-1.0006950718481276,-35.979991308299432,0,-35.979991308299432,null,null,null,null,null,null,null,null,null,null,null,null,null,null,null,null,null,null,null,null,null,"1969-05-01",1.7,0.44400000000000001,null,"1977-04-30",0.3,2.5659999999999998,null,"2008-04-30",0,4.4892500000000002,0,4.4892500000000002,0,4.2952700000000004,null,"2018-04-30",0,4.5250300000000001,0,4.5250300000000001,0,4.2756299999999996,null,"2068-04-30",0,4.7039600000000004,0,4.7039600000000004,0,4.1774399999999998]
["1969-06-09",0,6.0090000000000003,6,1969,24,0,{"$f":"IF(B924<Parameters!$A$16,B924*Parameters!$B$16,IF(AND(B924>Parameters!$A$16,B924<Parameters!$A$17),B924*Parameters!$B$17,B924*Parameters!$B$18))","v":0},{"$f":"IF(B924<Parameters!$A$20,B924*Parameters!$B$20,IF(AND(B924>Parameters!$A$20,B924<Parameters!$A$21),B924*Parameters!$B$21,B924*Parameters!$B$22))","v":0},0,"",0,"",0,5.8756666666666666,980.81785697821806,2.6916962564454772,{"$f":"VLOOKUP($F924,'Gegevens vergelijking'!$I$16:$Q$68,9,FALSE)","v":43.951162369211438},-46.642858625656913,-2.6916962564454772,2423.0895537295169,0,0,43.951162369211438,1,"","",0,0,4.3951162369211438,0,0,0.26916962564454772,4.3951162369211438,-4.6642858625656913,"","","","","",-100.28214604516236,0,-100.28214604516236,null,null,null,null,null,null,null,null,null,null,null,null,null,null,null,null,null,null,null,null,null,"1969-06-09",0,6.0090000000000003,null,"1977-06-08",0.2,3.52,null,"2008-06-08",0,6.5475599999999998,0,6.2596800000000004,0,5.99085,null,"2018-06-08",0,6.6902999999999997,0,6.3201599999999996,0,5.9745200000000001,null,"2068-06-08",0,7.4039599999999997,0,6.62256,0,5.8928700000000003]
["1969-08-30",0,2.1030000000000002,8,1969,35,0,{"$f":"IF(B1006<Parameters!$A$16,B1006*Parameters!$B$16,IF(AND(B1006>Parameters!$A$16,B1006<Parameters!$A$17),B1006*Parameters!$B$17,B1006*Parameters!$B$18))","v":0},{"$f":"IF(B1006<Parameters!$A$20,B1006*Parameters!$B$20,IF(AND(B1006>Parameters!$A$20,B1006<Parameters!$A$21),B1006*Parameters!$B$21,B1006*Parameters!$B$22))","v":0},0,"",0,"",0,2.1675161290322582,993.05542516288438,1.0040667864505362,{"$f":"VLOOKUP($F1006,'Gegevens vergelijking'!$I$16:$Q$68,9,FALSE)","v":31.823036754388561},-32.827103540839097,-1.0040667864505362,2561.7442380828666,0,0,31.823036754388561,1,"","",0,0,3.1823036754388561,0,0,0.10040667864505362,3.1823036754388561,-3.2827103540839095,"","","","","",-70.578272612804057,0,-70.578272612804057,null,null,null,null,null,null,null,null,null,null,null,null,null,null,null,null,null,null,null,null,null,"1969-08-30",0,2.1030000000000002,null,"1977-08-29",0,4.0460000000000003,null,"2008-08-29",13.28,1.32134,17.11,1.2684800000000001,13.28,1.21563,null,"2018-08-29",12.69,1.3591500000000001,0,1.2911900000000001,12.69,1.2232400000000001,null,"2068-08-29",10.1,1.5482,0,1.4047400000000001,10.1,1.26129]
["1969-11-05",1.1000000000000001,0.4,11,1969,45,1.1000000000000001,{"$f":"IF(B1073<Parameters!$A$16,B1073*Parameters!$B$16,IF(AND(B1073>Parameters!$A$16,B1073<Parameters!$A$17),B1073*Parameters!$B$17,B1073*Parameters!$B$18))","v":0.88000000000000012},{"$f":"IF(B1073<Parameters!$A$20,B1073*Parameters!$B$20,IF(AND(B1073>Parameters!$A$20,B1073<Parameters!$A$21),B1073*Parameters!$B$21,B1073*Parameters!$B$22))","v":0.66},13.327906976744188,1.2116279069767444,10.82093023255814,0.81190019193857954,2.5069767441860478,0.56666666666666665,892.7804893392472,0.23531729653627315,{"$f":"VLOOKUP($F1073,'Gegevens vergelijking'!$I$16:$Q$68,9,FALSE)","v":11.050358269480521},-0.46474533345865338,10.585612936021867,1425.6043314141652,0,0,11.050358269480521,1,1.0045780244982292,1.2116279069767444,1.3327906976744188,1.0820930232558141,1.105035826948052,0.2506976744186048,0,2.3531729653627313E-2,1.105035826948052,-4.6474533345865154E-2,0.18809980806142043,0,2.1746494199569616E-2,1.0212022471258593,-4.2948741325428787E-2,-0.99920246693610082,-0.99920246693610082,0,null,null,null,null,null,null,null,null,null,null,null,null,null,null,null,null,null,null,null,null,null,"1969-11-05",1.1000000000000001,0.4,null,"1977-11-04",5.0999999999999996,0.49099999999999999,null,"2008-11-04",8.01,0.38192999999999999,8.01,0.38192999999999999,8.01,0.35461999999999999,null,"2018-11-04",8.0500000000000007,0.38877,8.0500000000000007,0.38877,8.0500000000000007,0.35365000000000002,null,"2068-11-04",8.2100000000000009,0.42296,8.2100000000000009,0.42296,8.2100000000000009,0.34882000000000002]
["1969-12-14",10.3,0.185,12,1969,50,10.3,{"$f":"IF(B1112<Parameters!$A$16,B1112*Parameters!$B$16,IF(AND(B1112>Parameters!$A$16,B1112<Parameters!$A$17),B1112*Parameters!$B$17,B1112*Parameters!$B$18))","v":9.7850000000000001},{"$f":"IF(B1112<Parameters!$A$20,B1112*Parameters!$B$20,IF(AND(B1112>Parameters!$A$20,B1112<Parameters!$A$21),B1112*Parameters!$B$21,B1112*Parameters!$B$22))","v":7.7250000000000005},124.79767441860466,1.2116279069767442,118.03081395348838,0.94577735124760076,6.7668604651162809,0.24951612903225806,964.80764879144317,0.11082532790059096,{"$f":"VLOOKUP($F1112,'Gegevens vergelijking'!$I$16:$Q$68,9,FALSE)","v":6.1862244897959178},111.73376413579187,117.91998862558779,2241.6899219505349,0,0,6.1862244897959178,1,6.0060431939766193E-2,1.2116279069767442,12.479767441860465,11.803081395348837,0.61862244897959173,0.67668604651162811,0,1.1082532790059097E-2,0.61862244897959173,11.173376413579186,5.4222648752399245E-2,0,9.3895250052467808E-4,5.2411944665853805E-2,0.94664910283362158,240.22759289195253,240.22759289195253,0,null,null,null,null,null,null,null,null,null,null,null,null,null,null,null,null,null,null,null,null,null,"1969-12-14",10.3,0.185,null,"1977-12-13",0.7,0.45600000000000002,null,"2008-12-13",0,0,0,0,0,0,null,"2018-12-13",0,0,0,0,0,0,null,"2068-12-13",0,0,0,0,0,0]
["1970-04-02",3.7,1.139,4,1970,14,3.7,{"$f":"IF(B1221<Parameters!$A$16,B1221*Parameters!$B$16,IF(AND(B1221>Parameters!$A$16,B1221<Parameters!$A$17),B1221*Parameters!$B$17,B1221*Parameters!$B$18))","v":3.5150000000000001},{"$f":"IF(B1221<Parameters!$A$20,B1221*Parameters!$B$20,IF(AND(B1221>Parameters!$A$20,B1221<Parameters!$A$21),B1221*Parameters!$B$21,B1221*Parameters!$B$22))","v":2.7750000000000004},44.830232558139535,1.2116279069767442,42.39941860465116,0.94577735124760065,2.430813953488375,0.97233333333333338,1068.9919826894793,0.48285495207279477,{"$f":"VLOOKUP($F1221,'Gegevens vergelijking'!$I$16:$Q$68,9,FALSE)","v":27.019937776034283},14.896625876544082,41.916563652578368,3422.1242789412031,0,0,27.019937776034283,1,0.73026858854146715,1.2116279069767442,4.4830232558139533,4.239941860465116,2.7019937776034282,0.24308139534883749,0,4.8285495207279476E-2,2.7019937776034282,1.4896625876544083,5.4222648752399294E-2,0,1.1388244649652489E-2,0.63727142176119911,0.3513403335891484,32.027745634569776,0,32.027745634569776,null,null,null,null,null,null,null,null,null,null,null,null,null,null,null,null,null,null,null,null,null,"1970-04-02",3.7,1.139,null,"1978-04-01",0,1.994,null,"2009-04-01",0.8,0.89393999999999996,0.8,0.89393999999999996,0.8,0.85531000000000001,null,"2019-04-01",0.8,0.90107000000000004,0.8,0.90107000000000004,0.8,0.85140000000000005,null,"2069-04-01",0.78,0.93669999999999998,0.78,0.93669999999999998,0.78,0.83184999999999998]
["1970-05-11",1.3,0.91900000000000004,5,1970,20,1.3,{"$f":"IF(B1260<Parameters!$A$16,B1260*Parameters!$B$16,IF(AND(B1260>Parameters!$A$16,B1260<Parameters!$A$17),B1260*Parameters!$B$17,B1260*Parameters!$B$18))","v":1.04},{"$f":"IF(B1260<Parameters!$A$20,B1260*Parameters!$B$20,IF(AND(B1260>Parameters!$A$20,B1260<Parameters!$A$21),B1260*Parameters!$B$21,B1260*Parameters!$B$22))","v":0.78},15.751162790697675,1.2116279069767442,12.788372093023256,0.81190019193857965,2.9627906976744196,0.7254516129032258,1054.6281506088226,0.35658086890155233,{"$f":"VLOOKUP($F1260,'Gegevens vergelijking'!$I$16:$Q$68,9,FALSE)","v":36.908247477731429},-24.476456253609726,12.431791224121703,3259.3784970019892,0,0,36.908247477731429,1,2.8390959598254946,1.2116279069767442,1.5751162790697675,1.2788372093023255,3.6908247477731431,0.29627906976744195,0,3.5658086890155233E-2,3.6908247477731431,-2.4476456253609729,0.1880998080614204,0,2.7883210334182125E-2,2.8860786352835999,-1.9139618456177823,-52.62438094526091,0,-52.62438094526091,null,null,null,null,null,null,null,null,null,null,null,null,null,null,null,null,null,null,null,null,null,"1970-05-11",1.3,0.91900000000000004,null,"1978-05-10",0,4.2210000000000001,null,"2009-05-10",0.12,2.36375,0.12,2.36375,0.12,2.2557,null,"2019-05-10",0.1,2.3905400000000001,0.1,2.3905400000000001,0.1,2.2516099999999999,null,"2069-05-10",0,2.52447,0,2.52447,0,2.2311800000000002]
["1970-08-28",0,3.6869999999999998,8,1970,35,0,{"$f":"IF(B1369<Parameters!$A$16,B1369*Parameters!$B$16,IF(AND(B1369>Parameters!$A$16,B1369<Parameters!$A$17),B1369*Parameters!$B$17,B1369*Parameters!$B$18))","v":0},{"$f":"IF(B1369<Parameters!$A$20,B1369*Parameters!$B$20,IF(AND(B1369>Parameters!$A$20,B1369<Parameters!$A$21),B1369*Parameters!$B$21,B1369*Parameters!$B$22))","v":0},0,"",0,"",0,3.7515161290322578,843.79024546383789,1.4774505652558432,{"$f":"VLOOKUP($F1369,'Gegevens vergelijking'!$I$16:$Q$68,9,FALSE)","v":31.823036754388561},-33.300487319644404,-1.4774505652558432,870.53271110240019,0,0,31.823036754388561,1,"","",0,0,3.1823036754388561,0,0,0.14774505652558431,3.1823036754388561,-3.3300487319644403,"","","","","",-71.596047737235466,0,-71.596047737235466,null,null,null,null,null,null,null,null,null,null,null,null,null,null,null,null,null,null,null,null,null,"1970-08-28",0,3.6869999999999998,null,"1978-08-27",0,1.41,null,"2009-08-27",0,4.3496300000000003,0,4.1756500000000001,0,4.0016699999999998,null,"2019-08-27",0,4.4740900000000003,0,4.2504099999999996,0,4.0267200000000001,null,"2069-08-27",0,5.0964200000000002,0,4.6242000000000001,0,4.1519700000000004]
["1970-10-06",7,1.113,10,1970,41,7,{"$f":"IF(B1408<Parameters!$A$16,B1408*Parameters!$B$16,IF(AND(B1408>Parameters!$A$16,B1408<Parameters!$A$17),B1408*Parameters!$B$17,B1408*Parameters!$B$18))","v":6.6499999999999995},{"$f":"IF(B1408<Parameters!$A$20,B1408*Parameters!$B$20,IF(AND(B1408>Parameters!$A$20,B1408<Parameters!$A$21),B1408*Parameters!$B$21,B1408*Parameters!$B$22))","v":5.25},84.813953488372093,1.2116279069767442,80.215116279069761,0.94577735124760065,4.5988372093023315,1.2742903225806452,870.59687705324905,0.51272924275646725,{"$f":"VLOOKUP($F1408,'Gegevens vergelijking'!$I$16:$Q$68,9,FALSE)","v":17.237476837457141},62.46491019885616,79.702387036313297,1174.2584992261823,0,0,17.237476837457141,1,0.24624966910653059,1.2116279069767442,8.4813953488372089,8.0215116279069765,1.7237476837457142,0.45988372093023316,0,5.1272924275646725E-2,1.7237476837457142,6.2464910198856156,5.4222648752399308E-2,0,6.3919279375307947E-3,0.2148906295602398,0.77871744250222941,134.29955692754075,134.29955692754075,0,null,null,null,null,null,null,null,null,null,null,null,null,null,null,null,null,null,null,null,null,null,"1970-10-06",7,1.113,null,"1978-10-05",0,1.024,null,"2009-10-05",0,1.19594,0,1.19594,0,1.12453,null,"2019-10-05",0,1.2173499999999999,0,1.2173499999999999,0,1.12554,null,"2069-10-05",0,1.3244100000000001,0,1.3244100000000001,0,1.1305799999999999]
["1970-11-14",0.6,0.55700000000000005,11,1970,46,0.6,{"$f":"IF(B1447<Parameters!$A$16,B1447*Parameters!$B$16,IF(AND(B1447>Parameters!$A$16,B1447<Parameters!$A$17),B1447*Parameters!$B$17,B1447*Parameters!$B$18))","v":0},{"$f":"IF(B1447<Parameters!$A$20,B1447*Parameters!$B$20,IF(AND(B1447>Parameters!$A$20,B1447<Parameters!$A$21),B1447*Parameters!$B$21,B1447*Parameters!$B$22))","v":0},7.2697674418604654,1.2116279069767442,0.78139534883720929,0.10748560460652591,6.4883720930232558,0.72366666666666668,901.10802818391244,0.30358251060401187,{"$f":"VLOOKUP($F1447,'Gegevens vergelijking'!$I$16:$Q$68,9,FALSE)","v":9.880531666666668},-9.4027188284334695,0.47781283823319742,1519.9574130496237,0,0,9.880531666666668,1,1.6467552777777781,1.2116279069767442,0.72697674418604652,7.8139534883720926E-2,0.98805316666666676,0.64883720930232558,0,3.0358251060401187E-2,0.98805316666666676,-0.94027188284334706,0.8925143953934741,0,0.38851333202299138,12.644728025793652,-12.033241357816644,-20.215845481131961,-20.215845481131961,0,null,null,null,null,null,null,null,null,null,null,null,null,null,null,null,null,null,null,null,null,null,"1970-11-14",0.6,0.55700000000000005,null,"1978-11-13",2.9,0.378,null,"2009-11-13",0.59,0.73933000000000004,0.59,0.73933000000000004,0.59,0.68645,null,"2019-11-13",0.59,0.75256000000000001,0.59,0.75256000000000001,0.59,0.68457999999999997,null,"2069-11-13",0.56999999999999995,0.81874000000000002,0.56999999999999995,0.81874000000000002,0.56999999999999995,0.67522000000000004]
["1971-03-03",0,0,3,1971,9,0,{"$f":"IF(B1556<Parameters!$A$16,B1556*Parameters!$B$16,IF(AND(B1556>Parameters!$A$16,B1556<Parameters!$A$17),B1556*Parameters!$B$17,B1556*Parameters!$B$18))","v":0},{"$f":"IF(B1556<Parameters!$A$20,B1556*Parameters!$B$20,IF(AND(B1556>Parameters!$A$20,B1556<Parameters!$A$21),B1556*Parameters!$B$21,B1556*Parameters!$B$22))","v":0},0,"",0,"",0,-9.6774193548387094E-2,977.45743362222584,-4.4055466168727311E-2,{"$f":"VLOOKUP($F1556,'Gegevens vergelijking'!$I$16:$Q$68,9,FALSE)","v":14.865981240331427},-14.8219257741627,4.4055466168727311E-2,2385.0151231982509,0,0,14.865981240331427,1,"","",0,0,1.4865981240331427,0,0,-4.4055466168727315E-3,1.4865981240331427,-1.4821925774162701,"","","","","",-31.867140414449807,-31.867140414449807,0,null,null,null,null,null,null,null,null,null,null,null,null,null,null,null,null,null,null,null,null,null,"1971-03-03",0,0,null,"1979-03-02",6.4,0.123,null,"2010-03-02",2.82,0,2.82,0,2.82,0,null,"2020-03-01",2.86,0,2.86,0,2.86,0,null,"2070-03-02",3.04,0,3.04,0,3.04,0]
["1971-04-11",0,2.6480000000000001,4,1971,14,0,{"$f":"IF(B1595<Parameters!$A$16,B1595*Parameters!$B$16,IF(AND(B1595>Parameters!$A$16,B1595<Parameters!$A$17),B1595*Parameters!$B$17,B1595*Parameters!$B$18))","v":0},{"$f":"IF(B1595<Parameters!$A$20,B1595*Parameters!$B$20,IF(AND(B1595>Parameters!$A$20,B1595<Parameters!$A$21),B1595*Parameters!$B$21,B1595*Parameters!$B$22))","v":0},0,"",0,"",0,2.4813333333333336,935.57661167944752,1.0826194952469241,{"$f":"VLOOKUP($F1595,'Gegevens vergelijking'!$I$16:$Q$68,9,FALSE)","v":27.019937776034283},-28.102557271281206,-1.0826194952469241,1910.4950176260636,0,0,27.019937776034283,1,"","",0,0,2.7019937776034282,0,0,0.10826194952469241,2.7019937776034282,-2.8102557271281206,"","","","","",-60.420498133254597,0,-60.420498133254597,null,null,null,null,null,null,null,null,null,null,null,null,null,null,null,null,null,null,null,null,null,"1971-04-11",0,2.6480000000000001,null,"1979-04-10",0,4.8109999999999999,null,"2010-04-10",0,2.5491199999999998,0,2.5491199999999998,0,2.4389699999999999,null,"2020-04-09",0,2.5694400000000002,0,2.5694400000000002,0,2.4278200000000001,null,"2070-04-10",0,2.6710400000000001,0,2.6710400000000001,0,2.3720699999999999]
["1971-05-24",10.6,2.3849999999999998,5,1971,21,10.6,{"$f":"IF(B1638<Parameters!$A$16,B1638*Parameters!$B$16,IF(AND(B1638>Parameters!$A$16,B1638<Parameters!$A$17),B1638*Parameters!$B$17,B1638*Parameters!$B$18))","v":10.069999999999999},{"$f":"IF(B1638<Parameters!$A$20,B1638*Parameters!$B$20,IF(AND(B1638>Parameters!$A$20,B1638<Parameters!$A$21),B1638*Parameters!$B$21,B1638*Parameters!$B$22))","v":7.9499999999999993},128.43255813953488,1.2116279069767442,121.46860465116278,0.94577735124760076,6.9639534883720984,2.1914516129032258,940.07995344786059,{"$f":"SUM(O1638*P1637)/$E$3*10","v":0.95083235714438785},{"$f":"VLOOKUP($F1638,'Gegevens vergelijking'!$I$16:$Q$68,9,FALSE)","v":38.569226396674274},81.948545897344118,120.51777229401839,1961.518997391662,0,0,38.569226396674274,1,0.36386062638371958,1.2116279069767442,12.843255813953487,12.146860465116278,3.8569226396674274,0.69639534883720988,0,9.5083235714438788E-2,3.8569226396674274,8.1948545897344118,5.422264875239928E-2,0,7.8278034054562254E-3,0.31752424017250008,0.67464795642204367,176.18937367928984,0,176.18937367928984,null,null,null,null,null,null,null,null,null,null,null,null,null,null,null,null,null,null,null,null,null,"1971-05-24",10.6,2.3849999999999998,null,"1979-05-23",7.4,2.036,null,"2010-05-23",14.33,3.71848,14.33,3.71848,14.33,3.5485000000000002,null,"2020-05-22",14.38,3.7606199999999999,14.38,3.7606199999999999,14.38,3.5420699999999998,null,"2070-05-23",14.81,3.9713099999999999,14.81,3.9713099999999999,14.81,3.5099399999999998]
["1971-08-06",1.2,3.5569999999999999,8,1971,31,1.2,{"$f":"IF(B1712<Parameters!$A$16,B1712*Parameters!$B$16,IF(AND(B1712>Parameters!$A$16,B1712<Parameters!$A$17),B1712*Parameters!$B$17,B1712*Parameters!$B$18))","v":0.96},{"$f":"IF(B1712<Parameters!$A$20,B1712*Parameters!$B$20,IF(AND(B1712>Parameters!$A$20,B1712<Parameters!$A$21),B1712*Parameters!$B$21,B1712*Parameters!$B$22))","v":0.72},14.539534883720931,1.2116279069767442,11.804651162790698,0.81190019193857965,2.7348837209302328,3.6215161290322579,873.63524822913564,1.4754711500319537,{"$f":"VLOOKUP($F1712,'Gegevens vergelijking'!$I$16:$Q$68,9,FALSE)","v":36.543125282102856},-26.213945269344112,10.329180012758744,1208.6839986377997,0,0,36.543125282102856,1,3.0452604401752379,1.2116279069767442,1.453953488372093,1.1804651162790698,3.6543125282102857,0.27348837209302329,0,0.14754711500319537,3.6543125282102857,-2.6213945269344112,0.18809980806142038,0,0.12499066085771081,3.0956548209819204,-2.2206454818396311,-56.359982329089846,0,-56.359982329089846,null,null,null,null,null,null,null,null,null,null,null,null,null,null,null,null,null,null,null,null,null,"1971-08-06",1.2,3.5569999999999999,null,"1979-08-05",0,3.8250000000000002,null,"2010-08-05",0,3.1305299999999998,10.95,3.0053200000000002,0,2.8801000000000001,null,"2020-08-04",0,3.22011,10.75,3.0591200000000001,0,2.8981300000000001,null,"2070-08-05",0,3.6680199999999998,9.85,3.3281399999999999,0,2.98827]
["1971-10-16",0,1.81,10,1971,41,0,{"$f":"IF(B1783<Parameters!$A$16,B1783*Parameters!$B$16,IF(AND(B1783>Parameters!$A$16,B1783<Parameters!$A$17),B1783*Parameters!$B$17,B1783*Parameters!$B$18))","v":0},{"$f":"IF(B1783<Parameters!$A$20,B1783*Parameters!$B$20,IF(AND(B1783>Parameters!$A$20,B1783<Parameters!$A$21),B1783*Parameters!$B$21,B1783*Parameters!$B$22))","v":0},0,"",0,"",0,1.9712903225806453,842.22962994242289,0.77368036533381668,{"$f":"VLOOKUP($F1783,'Gegevens vergelijking'!$I$16:$Q$68,9,FALSE)","v":17.237476837457141},-18.011157202790958,-0.77368036533381668,852.85054996928739,0,0,17.237476837457141,1,"","",0,0,1.7237476837457142,0,0,7.7368036533381673E-2,1.7237476837457142,-1.8011157202790959,"","","","","",-38.723987986000559,-38.723987986000559,0,null,null,null,null,null,null,null,null,null,null,null,null,null,null,null,null,null,null,null,null,null,"1971-10-16",0,1.81,null,"1979-10-15",6.4,0.67200000000000004,null,"2010-10-15",0,1.5021199999999999,0,1.5021199999999999,0,1.4124399999999999,null,"2020-10-14",0,1.52902,0,1.52902,0,1.4137,null,"2070-10-15",0,1.6634800000000001,0,1.6634800000000001,0,1.42004]
["1972-02-02",1.3,0.81899999999999995,2,{"$f":"IF(AND((F1891>1),(F1892=1)),E1891+1,E1891)","v":1972},5,{"$f":"B1892","v":1.3},{"$f":"IF(B1892<Parameters!$A$16,B1892*Parameters!$B$16,IF(AND(B1892>Parameters!$A$16,B1892<Parameters!$A$17),B1892*Parameters!$B$17,B1892*Parameters!$B$18))","v":1.04},{"$f":"IF(B1892<Parameters!$A$20,B1892*Parameters!$B$20,IF(AND(B1892>Parameters!$A$20,B1892<Parameters!$A$21),B1892*Parameters!$B$21,B1892*Parameters!$B$22))","v":0.78},15.751162790697675,1.2116279069767442,{"$f":"IF(B1892=0,0,SUM(B1892*$D$3+H1892*$B$3+I1892*$C$3)/$E$3*10)","v":12.788372093023256},0.81190019193857965,2.9627906976744196,{"$f":"IF(OR($D1892=1,$D1892=12,$D1892=8),C1892+(2/31),IF($D1892=2,C1892-(1/28),IF($D1892=3,C1892-(3/31),IF($D1892=4,C1892-(5/30),IF($D1892=5,C1892-(6/31),IF($D1892=6,C1892-(4/30),IF($D1892=7,C1892-(1/31),IF($D1892=9,C1892+(4/30),IF($D1892=10,C1892+(5/31),IF($D1892=11,C1892+(5/30)))))))))))","v":0.78328571428571425},{"$f":"-(($BH$3-$BI$3)*($AN$3+$AK$3-U1892)/($AK$3)-$BH$3)","v":974.27895552963128},0.35481384672686356,{"$f":"VLOOKUP($F1892,'Gegevens vergelijking'!$I$16:$Q$68,9,FALSE)","v":8.2529179304628588},4.180640315833533,{"$f":"L1892-Q1892","v":12.433558246296393},{"$f":"IF(U1891<$AN$3,U1891+T1892,IF(AND((U1891>$AN$3),(SUM(U1891+S1892)<$AN$3)),SUM($AN$3+T1892),IF((SUM(U1891+S1892)>($AN$3+$AK$3)),$AN$3+$AK$3,U1891+S1892)))","v":2349.0021776520148},0,0,{"$f":"R1892-W1892","v":8.2529179304628588},1,0.63483984080483524,{"$f":"K1892","v":1.2116279069767442},1.5751162790697675,1.2788372093023255,{"$f":"X1892/10","v":0.82529179304628586},0.29627906976744195,0,3.5481384672686356E-2,0.82529179304628586,0.41806403158335315,0.1880998080614204,{"$f":"IF(AB1892=0,\"\",AF1892/AB1892)","v":0},2.7745036205228467E-2,0.6453454646479414,0.3269094991468301,{"$f":"AI1892*$E$5/1000","v":8.9883766790420925},{"$f":"IF(OR(F1892<=13,F1892>=40),VALUE(AO1892),0)","v":8.9883766790420925},{"$f":"IF(OR(F1892<=13,F1892>=40),0,VALUE(AO1892))","v":0},null,null,null,null,null,null,null,null,null,null,null,null,null,null,null,null,null,null,null,null,null,"1972-02-02",1.3,0.81899999999999995,null,"1980-02-01",1,0.73499999999999999,null,"2011-02-01",0.27,0,0.22,0,0.18,0,null,"2021-01-31",0.28999999999999998,0,0.23,0,0.18,0,null,"2071-02-01",0.37,0,0.25,0,0.16,0]
["1972-03-12",0,0,3,1972,10,0,{"$f":"IF(B1931<Parameters!$A$16,B1931*Parameters!$B$16,IF(AND(B1931>Parameters!$A$16,B1931<Parameters!$A$17),B1931*Parameters!$B$17,B1931*Parameters!$B$18))","v":0},{"$f":"IF(B1931<Parameters!$A$20,B1931*Parameters!$B$20,IF(AND(B1931>Parameters!$A$20,B1931<Parameters!$A$21),B1931*Parameters!$B$21,B1931*Parameters!$B$22))","v":0},0,"",0,"",0,-9.6774193548387094E-2,988.70970320569563,-4.457022595971645E-2,{"$f":"VLOOKUP($F1931,'Gegevens vergelijking'!$I$16:$Q$68,9,FALSE)","v":16.951002269891429},-16.906432043931712,4.457022595971645E-2,2512.5061298926762,0,0,16.951002269891429,1,"","",0,0,1.6951002269891429,0,0,-4.457022595971645E-3,1.6951002269891429,-1.6906432043931712,"","","","","",-36.348828894453185,-36.348828894453185,0,null,null,null,null,null,null,null,null,null,null,null,null,null,null,null,null,null,null,null,null,null,"1972-03-12",0,0,null,"1980-03-11",1,0.66400000000000003,null,"2011-03-12",2.5299999999999998,0.33716000000000002,2.5299999999999998,0.33716000000000002,2.5299999999999998,0.31705,null,"2021-03-11",2.56,0.33806000000000003,2.56,0.33806000000000003,2.56,0.31220999999999999,null,"2071-03-12",2.74,0.34256999999999999,2.74,0.34256999999999999,2.74,0.28799000000000002]
["1972-04-20",0,1.45,4,1972,16,0,{"$f":"IF(B1970<Parameters!$A$16,B1970*Parameters!$B$16,IF(AND(B1970>Parameters!$A$16,B1970<Parameters!$A$17),B1970*Parameters!$B$17,B1970*Parameters!$B$18))","v":0},{"$f":"IF(B1970<Parameters!$A$20,B1970*Parameters!$B$20,IF(AND(B1970>Parameters!$A$20,B1970<Parameters!$A$21),B1970*Parameters!$B$21,B1970*Parameters!$B$22))","v":0},0,"",0,"",0,1.2833333333333332,993.56318398374276,0.59481216928623715,{"$f":"VLOOKUP($F1970,'Gegevens vergelijking'!$I$16:$Q$68,9,FALSE)","v":32.719747675074295},-33.314559844360531,-0.59481216928623715,2567.4972715263866,0,0,32.719747675074295,1,"","",0,0,3.2719747675074293,0,0,5.9481216928623716E-2,3.2719747675074293,-3.3314559844360532,"","","","","",-71.626303665375147,0,-71.626303665375147,null,null,null,null,null,null,null,null,null,null,null,null,null,null,null,null,null,null,null,null,null,"1972-04-20",0,1.45,null,"1980-04-19",0.8,1.232,null,"2011-04-20",4.16,1.41035,4.16,1.41035,4.16,1.34941,null,"2021-04-19",4.16,1.4215899999999999,4.16,1.4215899999999999,4.16,1.34324,null,"2071-04-20",4.1500000000000004,1.4778,4.1500000000000004,1.4778,4.1500000000000004,1.3123899999999999]
["1972-08-07",1.8,4.1550000000000002,8,1972,32,1.8,{"$f":"IF(B2079<Parameters!$A$16,B2079*Parameters!$B$16,IF(AND(B2079>Parameters!$A$16,B2079<Parameters!$A$17),B2079*Parameters!$B$17,B2079*Parameters!$B$18))","v":1.4400000000000002},{"$f":"IF(B2079<Parameters!$A$20,B2079*Parameters!$B$20,IF(AND(B2079>Parameters!$A$20,B2079<Parameters!$A$21),B2079*Parameters!$B$21,B2079*Parameters!$B$22))","v":1.08},21.809302325581395,1.2116279069767442,17.706976744186047,0.81190019193857965,4.1023255813953483,4.2195161290322583,887.70169082023403,1.7455113956468358,{"$f":"VLOOKUP($F2079,'Gegevens vergelijking'!$I$16:$Q$68,9,FALSE)","v":35.235564143205707},-19.274098794666497,15.96146534853921,1368.0602838614502,0,0,35.235564143205707,1,1.9575313412892059,1.2116279069767442,2.1809302325581394,1.7706976744186047,3.5235564143205709,0.41023255813953485,0,0.17455113956468357,3.5235564143205709,-1.9274098794666497,0.18809980806142035,0,9.8577607056493211E-2,1.9899254769606585,-1.0885030840171517,-41.43931240853297,0,-41.43931240853297,null,null,null,null,null,null,null,null,null,null,null,null,null,null,null,null,null,null,null,null,null,"1972-08-07",1.8,4.1550000000000002,null,"1980-08-06",0,2.8889999999999998,null,"2011-08-07",0.08,4.90639,0.1,4.71014,0.08,4.5138999999999996,null,"2021-08-06",0,5.0467899999999997,0.1,4.7944699999999996,0,4.5421500000000004,null,"2071-08-07",0,5.7487700000000004,0.1,5.2161,0,4.6834300000000004]
["1972-09-15",0.1,2.0880000000000001,9,1972,37,0.1,{"$f":"IF(B2118<Parameters!$A$16,B2118*Parameters!$B$16,IF(AND(B2118>Parameters!$A$16,B2118<Parameters!$A$17),B2118*Parameters!$B$17,B2118*Parameters!$B$18))","v":0},{"$f":"IF(B2118<Parameters!$A$20,B2118*Parameters!$B$20,IF(AND(B2118>Parameters!$A$20,B2118<Parameters!$A$21),B2118*Parameters!$B$21,B2118*Parameters!$B$22))","v":0},1.2116279069767442,1.2116279069767442,0.13023255813953488,0.10748560460652591,1.0813953488372092,2.2213333333333334,855.97651747740383,0.88711866513060955,{"$f":"VLOOKUP($F2118,'Gegevens vergelijking'!$I$16:$Q$68,9,FALSE)","v":29.316349609488093},-30.073235716479168,-0.75688610699107461,1008.6061971077498,0,0,29.316349609488093,1,29.316349609488093,1.2116279069767442,0.12116279069767441,1.3023255813953489E-2,2.9316349609488093,0.10813953488372093,0,8.8711866513060955E-2,2.9316349609488093,-3.0073235716479165,0.8925143953934741,0,6.8118040358243235,225.10768450142641,-230.91948853725071,-64.657456790430203,0,-64.657456790430203,null,null,null,null,null,null,null,null,null,null,null,null,null,null,null,null,null,null,null,null,null,"1972-09-15",0.1,2.0880000000000001,null,"1980-09-14",0.2,1.798,null,"2011-09-15",0,1.12446,0,1.12446,0,1.07761,null,"2021-09-14",0,1.14459,0,1.14459,0,1.08436,null,"2071-09-15",0,1.24525,0,1.24525,0,1.11808]
["1973-01-02",0,0.25800000000000001,1,1973,1,0,{"$f":"IF(B2227<Parameters!$A$16,B2227*Parameters!$B$16,IF(AND(B2227>Parameters!$A$16,B2227<Parameters!$A$17),B2227*Parameters!$B$17,B2227*Parameters!$B$18))","v":0},{"$f":"IF(B2227<Parameters!$A$20,B2227*Parameters!$B$20,IF(AND(B2227>Parameters!$A$20,B2227<Parameters!$A$21),B2227*Parameters!$B$21,B2227*Parameters!$B$22))","v":0},0,"",0,"",0,0.32251612903225807,903.38633364267594,0.13555742515344976,{"$f":"VLOOKUP($F2227,'Gegevens vergelijking'!$I$16:$Q$68,9,FALSE)","v":3.0894753415257137},-3.2250327666791634,-0.13555742515344976,1545.7711792716718,0,0,3.0894753415257137,1,"","",0,0,0.30894753415257137,0,0,1.3555742515344976E-2,0.30894753415257137,-0.32250327666791634,"","","","","",-6.9338204483602013,-6.9338204483602013,0,null,null,null,null,null,null,null,null,null,null,null,null,null,null,null,null,null,null,null,null,null,"1973-01-02",0,0.25800000000000001,null,"1981-01-01",0.7,0.43,null,"2012-01-02",14.61,0.26667000000000002,0,0.25042999999999999,0,0.23419000000000001,null,"2022-01-01",0,0.27657999999999999,0,0.25569999999999998,0,0.23482,null,"2072-01-02",0,0.32611000000000001,0,0.28203,0,0.23794999999999999]
["1973-02-10",2.6,0.26,2,1973,6,2.6,{"$f":"IF(B2266<Parameters!$A$16,B2266*Parameters!$B$16,IF(AND(B2266>Parameters!$A$16,B2266<Parameters!$A$17),B2266*Parameters!$B$17,B2266*Parameters!$B$18))","v":2.4699999999999998},{"$f":"IF(B2266<Parameters!$A$20,B2266*Parameters!$B$20,IF(AND(B2266>Parameters!$A$20,B2266<Parameters!$A$21),B2266*Parameters!$B$21,B2266*Parameters!$B$22))","v":1.9500000000000002},31.50232558139535,1.2116279069767442,29.794186046511623,0.94577735124760054,1.7081395348837276,0.22428571428571431,918.38159619061082,9.5615334583348366E-2,{"$f":"VLOOKUP($F2266,'Gegevens vergelijking'!$I$16:$Q$68,9,FALSE)","v":9.1430429772914277},20.555527734636847,29.698570711928273,1715.6712250981536,0,0,9.1430429772914277,1,0.35165549912659338,1.2116279069767442,3.150232558139535,2.9794186046511624,0.91430429772914279,0.17081395348837275,0,9.5615334583348359E-3,0.91430429772914279,2.0555527734636847,5.422264875239944E-2,0,3.2091943855785663E-3,0.30687339345395265,0.68991741216046876,44.194384629469219,44.194384629469219,0,null,null,null,null,null,null,null,null,null,null,null,null,null,null,null,null,null,null,null,null,null,"1973-02-10",2.6,0.26,null,"1981-02-09",0,0.65500000000000003,null,"2012-02-10",6.64,0.62007999999999996,5.79,0.58938000000000001,5.25,0.55886999999999998,null,"2022-02-09",6.83,0.63553000000000004,5.87,0.59604999999999997,5.24,0.55683000000000005,null,"2072-02-10",7.83,0.71279000000000003,6.29,0.62944999999999995,5.19,0.54664000000000001]
["1973-03-21",0,1.794,3,1973,12,0,{"$f":"IF(B2305<Parameters!$A$16,B2305*Parameters!$B$16,IF(AND(B2305>Parameters!$A$16,B2305<Parameters!$A$17),B2305*Parameters!$B$17,B2305*Parameters!$B$18))","v":0},{"$f":"IF(B2305<Parameters!$A$20,B2305*Parameters!$B$20,IF(AND(B2305>Parameters!$A$20,B2305<Parameters!$A$21),B2305*Parameters!$B$21,B2305*Parameters!$B$22))","v":0},0,"",0,"",0,1.697225806451613,914.98682924391392,0.72391923657840029,{"$f":"VLOOKUP($F2305,'Gegevens vergelijking'!$I$16:$Q$68,9,FALSE)","v":22.555070739851423},-23.278989976429823,-0.72391923657840029,1677.2076731616478,0,0,22.555070739851423,1,"","",0,0,2.2555070739851422,0,0,7.2391923657840029E-2,2.2555070739851422,-2.3278989976429822,"","","","","",-50.049828449324117,-50.049828449324117,0,null,null,null,null,null,null,null,null,null,null,null,null,null,null,null,null,null,null,null,null,null,"1973-03-21",0,1.794,null,"1981-03-20",0,2.5019999999999998,null,"2012-03-20",0,1.4435100000000001,0,1.4435100000000001,0,1.3574299999999999,null,"2022-03-20",0,1.44737,0,1.44737,0,1.3366899999999999,null,"2072-03-20",0,1.46668,0,1.46668,0,1.23302]
["1973-07-08",0,4.6219999999999999,7,1973,27,0,{"$f":"IF(B2414<Parameters!$A$16,B2414*Parameters!$B$16,IF(AND(B2414>Parameters!$A$16,B2414<Parameters!$A$17),B2414*Parameters!$B$17,B2414*Parameters!$B$18))","v":0},{"$f":"IF(B2414<Parameters!$A$20,B2414*Parameters!$B$20,IF(AND(B2414>Parameters!$A$20,B2414<Parameters!$A$21),B2414*Parameters!$B$21,B2414*Parameters!$B$22))","v":0},0,"",0,"",0,4.5897419354838709,837.05139380488299,1.789142725398484,{"$f":"VLOOKUP($F2414,'Gegevens vergelijking'!$I$16:$Q$68,9,FALSE)","v":44.20203263918858},-45.991175364587065,-1.789142725398484,794.17984952266352,0,34.124664381649715,10.077368257538865,0.22798427257402831,"","",0,0,1.0077368257538866,0,0,0.1789142725398484,1.0077368257538866,-1.1866510982937351,"","","","","",-25.512998613315304,0,-25.512998613315304,null,null,null,null,null,null,null,null,null,null,null,null,null,null,null,null,null,null,null,null,null,"1973-07-08",0,4.6219999999999999,null,"1981-07-07",0,5.3339999999999996,null,"2012-07-07",1.31,1.88378,1.67,1.81759,1.31,1.7514000000000001,null,"2022-07-07",1.24,1.92628,1.61,1.84118,1.24,1.7560800000000001,null,"2072-07-07",0.81,2.1388199999999999,1.35,1.95916,0.81,1.7795000000000001]
["1973-08-16",0,4.3120000000000003,8,1973,33,0,{"$f":"IF(B2453<Parameters!$A$16,B2453*Parameters!$B$16,IF(AND(B2453>Parameters!$A$16,B2453<Parameters!$A$17),B2453*Parameters!$B$17,B2453*Parameters!$B$18))","v":0},{"$f":"IF(B2453<Parameters!$A$20,B2453*Parameters!$B$20,IF(AND(B2453>Parameters!$A$20,B2453<Parameters!$A$21),B2453*Parameters!$B$21,B2453*Parameters!$B$22))","v":0},0,"",0,"",0,4.3765161290322583,835.79638336814321,1.701643555081918,{"$f":"VLOOKUP($F2453,'Gegevens vergelijking'!$I$16:$Q$68,9,FALSE)","v":36.379063958805723},-38.080707513887639,-1.701643555081918,779.96026983653314,0,36.379063958805723,0,0,"","",0,0,0,0,0,0.17016435550819181,0,-0.17016435550819181,"","","","","",-3.6585336434261237,0,-3.6585336434261237,null,null,null,null,null,null,null,null,null,null,null,null,null,null,null,null,null,null,null,null,null,"1973-08-16",0,4.3120000000000003,null,"1981-08-15",0,4.343,null,"2012-08-15",0,5.5287199999999999,0,5.3075799999999997,0,5.0864399999999996,null,"2022-08-15",0,5.6869199999999998,0,5.4025999999999996,0,5.1182800000000004,null,"2072-08-15",0,6.4779499999999999,0,5.8777100000000004,0,5.2774799999999997]
["1973-11-02",0,0.7,{"$f":"MONTH(A2531)","v":11},1973,{"$f":"INT((A2531-DATE(YEAR(A2531-WEEKDAY(A2531-1)+4),1,3)+WEEKDAY(DATE(YEAR(A2531-WEEKDAY(A2531-1)+4),1,3))+5)/7)","v":44},0,{"$f":"IF(B2531<Parameters!$A$16,B2531*Parameters!$B$16,IF(AND(B2531>Parameters!$A$16,B2531<Parameters!$A$17),B2531*Parameters!$B$17,B2531*Parameters!$B$18))","v":0},{"$f":"IF(B2531<Parameters!$A$20,B2531*Parameters!$B$20,IF(AND(B2531>Parameters!$A$20,B2531<Parameters!$A$21),B2531*Parameters!$B$21,B2531*Parameters!$B$22))","v":0},0,"",0,{"$f":"IF(B2531=0,\"\",L2531/J2531)","v":""},{"$f":"IF(B2531=0,0,SUM(J2531-L2531))","v":0},0.86666666666666659,907.37936127900116,0.36617093401676631,{"$f":"VLOOKUP($F2531,'Gegevens vergelijking'!$I$16:$Q$68,9,FALSE)","v":11.034608376916667},-11.400779310933434,-0.36617093401676631,1591.0131732834066,0,0,11.034608376916667,{"$f":"IF(R2531=0,\"\",((R2531-W2531)/R2531))","v":1},{"$f":"IF(B2531=0,\"\",X2531/(B2531*10))","v":""},"",{"$f":"J2531/10","v":0},{"$f":"L2531/10","v":0},1.1034608376916668,0,0,3.6617093401676633E-2,{"$f":"(R2531-W2531)/10","v":1.1034608376916668},{"$f":"SUM(AC2531-AF2531-AG2531-AD2531)","v":-1.1400779310933435},{"$f":"IF(AB2531=0,\"\",AE2531/AB2531)","v":""},"","",{"$f":"IF(AC2531=0,\"\",AD2531/AC2531)","v":""},{"$f":"IF(AC2531=0,\"\",AI2531/AC2531)","v":""},-24.511675518506888,-24.511675518506888,0,null,null,null,null,null,null,null,null,null,null,null,null,null,null,null,null,null,null,null,null,null,"1973-11-02",0,0.7,null,"1981-11-01",1.4,0.40400000000000003,null,"2012-11-01",0,0.91108999999999996,0,0.91108999999999996,0,0.84592999999999996,null,"2022-11-01",0,0.9274,0,0.9274,0,0.84362000000000004,null,"2072-11-01",0,1.0089600000000001,0,1.0089600000000001,0,0.83209]
["1974-01-12",0.5,0.83499999999999996,1,1974,2,0.5,{"$f":"IF(B2602<Parameters!$A$16,B2602*Parameters!$B$16,IF(AND(B2602>Parameters!$A$16,B2602<Parameters!$A$17),B2602*Parameters!$B$17,B2602*Parameters!$B$18))","v":0},{"$f":"IF(B2602<Parameters!$A$20,B2602*Parameters!$B$20,IF(AND(B2602>Parameters!$A$20,B2602<Parameters!$A$21),B2602*Parameters!$B$21,B2602*Parameters!$B$22))","v":0},6.058139534883721,1.2116279069767442,0.65116279069767447,0.10748560460652591,5.4069767441860463,0.89951612903225797,1035.7978245280863,0.43350746290099917,{"$f":"VLOOKUP($F2602,'Gegevens vergelijking'!$I$16:$Q$68,9,FALSE)","v":4.3012032855657143},-4.0835479577690386,0.21765532779667529,3046.0262296563747,0,0,4.3012032855657143,1,0.8602406571131429,1.2116279069767442,0.60581395348837208,6.5116279069767441E-2,0.43012032855657145,0.54069767441860461,0,4.3350746290099919E-2,0.43012032855657145,-0.40835479577690392,0.89251439539347399,0,0.6657436037408202,6.60541933140449,-6.27116293514531,-8.7796281092034345,-8.7796281092034345,0,null,null,null,null,null,null,null,null,null,null,null,null,null,null,null,null,null,null,null,null,null,"1974-01-12",0.5,0.83499999999999996,null,"1982-01-11",18.3,0,null,"2013-01-11",1.25,0.67013,1.05,0.62931999999999999,0.92,0.58850999999999998,null,"2023-01-11",1.3,0.69501999999999997,1.06,0.64254999999999995,0.9,0.59008000000000005,null,"2073-01-11",1.53,0.81949000000000005,1.1399999999999999,0.70872000000000002,0.84,0.59794999999999998]
["1974-02-20",0,1.097,2,1974,8,0,{"$f":"IF(B2641<Parameters!$A$16,B2641*Parameters!$B$16,IF(AND(B2641>Parameters!$A$16,B2641<Parameters!$A$17),B2641*Parameters!$B$17,B2641*Parameters!$B$18))","v":0},{"$f":"IF(B2641<Parameters!$A$20,B2641*Parameters!$B$20,IF(AND(B2641>Parameters!$A$20,B2641<Parameters!$A$21),B2641*Parameters!$B$21,B2641*Parameters!$B$22))","v":0},0,"",0,"",0,1.0612857142857142,1104.3282743886348,0.54572012389118663,{"$f":"VLOOKUP($F2641,'Gegevens vergelijking'!$I$16:$Q$68,9,FALSE)","v":13.231023004605715},-13.776743128496902,-0.54572012389118663,3822.4932327913111,0,0,13.231023004605715,1,"","",0,0,1.3231023004605715,0,0,5.4572012389118664E-2,1.3231023004605715,-1.3776743128496902,"","","","","",-29.619997726268338,-29.619997726268338,0,null,null,null,null,null,null,null,null,null,null,null,null,null,null,null,null,null,null,null,null,null,"1974-02-20",0,1.097,null,"1982-02-19",0,0.315,null,"2013-02-19",1.4,0.15557000000000001,1.1100000000000001,0.14785999999999999,0.89,0.14021,null,"2023-02-19",1.48,0.15944,1.1399999999999999,0.14954000000000001,0.88,0.13969999999999999,null,"2073-02-19",1.92,0.17882999999999999,1.29,0.15792,0.79,0.13714000000000001]
["1974-06-09",3.2,3.66,6,1974,23,3.2,{"$f":"IF(B2750<Parameters!$A$16,B2750*Parameters!$B$16,IF(AND(B2750>Parameters!$A$16,B2750<Parameters!$A$17),B2750*Parameters!$B$17,B2750*Parameters!$B$18))","v":3.04},{"$f":"IF(B2750<Parameters!$A$20,B2750*Parameters!$B$20,IF(AND(B2750>Parameters!$A$20,B2750<Parameters!$A$21),B2750*Parameters!$B$21,B2750*Parameters!$B$22))","v":2.4000000000000004},38.772093023255813,1.2116279069767442,36.669767441860465,0.94577735124760076,2.1023255813953483,3.5266666666666668,991.13854082138391,1.6265343872320548,{"$f":"VLOOKUP($F2750,'Gegevens vergelijking'!$I$16:$Q$68,9,FALSE)","v":40.291810686080005},-5.2485776314515951,35.043233054628409,2540.0254628080811,0,0,40.291810686080005,1,1.2591190839400002,1.2116279069767442,3.8772093023255811,3.6669767441860466,4.0291810686080005,0.21023255813953484,0,0.16265343872320548,4.0291810686080005,-0.52485776314515942,5.4222648752399225E-2,0,4.4356277683268872E-2,1.0987746445341453,-0.14313092221741411,-11.284441907620927,0,-11.284441907620927,null,null,null,null,null,null,null,null,null,null,null,null,null,null,null,null,null,null,null,null,null,"1974-06-09",3.2,3.66,null,"1982-06-08",0,4.3289999999999997,null,"2013-06-08",0,1.3889800000000001,6.38,1.3279000000000001,0,1.27088,null,"2023-06-08",0,1.4192499999999999,6.28,1.34073,0,1.2674099999999999,null,"2073-06-08",0,1.5706500000000001,5.78,1.40489,0,1.2500899999999999]
["1974-07-18",0.1,3.9460000000000002,7,1974,29,0.1,{"$f":"IF(B2789<Parameters!$A$16,B2789*Parameters!$B$16,IF(AND(B2789>Parameters!$A$16,B2789<Parameters!$A$17),B2789*Parameters!$B$17,B2789*Parameters!$B$18))","v":0},{"$f":"IF(B2789<Parameters!$A$20,B2789*Parameters!$B$20,IF(AND(B2789>Parameters!$A$20,B2789<Parameters!$A$21),B2789*Parameters!$B$21,B2789*Parameters!$B$22))","v":0},{"$f":"B2789*SUM($B$3,$C$3,$D$3)/$E$3*10","v":1.2116279069767442},{"$f":"IF(B2789=0,\"\",SUM(J2789/(B2789*10)))","v":1.2116279069767442},0.13023255813953488,0.10748560460652591,1.0813953488372092,3.9137419354838712,951.85776717458702,1.739619993153068,{"$f":"VLOOKUP($F2789,'Gegevens vergelijking'!$I$16:$Q$68,9,FALSE)","v":41.402437318314284},{"$f":"SUM(L2789-R2789-Q2789)","v":-43.011824753327822},-1.6093874350135331,2094.9645496459093,{"$f":"IF(SUM(U2788+S2789)>SUM($AK$3+$AN$3),SUM(U2788+S2789-($AK$3+$AN$3)),0)","v":0},{"$f":"IF(U2788<$AN$3,R2789,IF(SUM(U2788-R2789)>$AN$3,0,IF(SUM(U2788+S2789)<$AN$3,SUM(R2789-(U2788-$AN$3)),0)))","v":0},41.402437318314284,1,41.402437318314284,1.2116279069767442,0.12116279069767441,1.3023255813953489E-2,4.1402437318314282,{"$f":"N2789/10","v":0.10813953488372093},0,{"$f":"Q2789/10","v":0.17396199931530681},4.1402437318314282,-4.3011824753327819,0.8925143953934741,0,13.357796375996772,317.91157226562751,-330.26936864162428,-92.475423219654814,0,-92.475423219654814,null,null,null,null,null,null,null,null,null,null,null,null,null,null,null,null,null,null,null,null,null,"1974-07-18",0.1,3.9460000000000002,null,"1982-07-17",0.1,4.2160000000000002,null,"2013-07-17",10.029999999999999,1.6850799999999999,12.9,1.62588,10.029999999999999,1.56667,null,"2023-07-17",9.6,1.7231099999999999,0,1.6469800000000001,9.6,1.5708599999999999,null,"2073-07-17",0,1.91323,0,1.7525200000000001,0,1.5918099999999999]
["1974-08-26",1.7,2.6760000000000002,8,1974,35,1.7,{"$f":"IF(B2828<Parameters!$A$16,B2828*Parameters!$B$16,IF(AND(B2828>Parameters!$A$16,B2828<Parameters!$A$17),B2828*Parameters!$B$17,B2828*Parameters!$B$18))","v":1.36},{"$f":"IF(B2828<Parameters!$A$20,B2828*Parameters!$B$20,IF(AND(B2828>Parameters!$A$20,B2828<Parameters!$A$21),B2828*Parameters!$B$21,B2828*Parameters!$B$22))","v":1.02},20.597674418604651,1.2116279069767442,16.723255813953489,0.81190019193857976,3.8744186046511615,2.7405161290322582,922.22878145359527,1.1773580934820862,{"$f":"VLOOKUP($F2828,'Gegevens vergelijking'!$I$16:$Q$68,9,FALSE)","v":31.823036754388561},-16.277139033917159,15.545897720471404,1759.2607888283355,0,0,31.823036754388561,1,1.8719433384934447,1.2116279069767442,2.059767441860465,1.672325581395349,3.1823036754388561,0.38744186046511614,0,0.11773580934820863,3.1823036754388561,-1.6277139033917156,0.18809980806142029,0,7.0402444750006538E-2,1.9029211242368349,-0.97332356898684136,-34.99584892292188,0,-34.99584892292188,null,null,null,null,null,null,null,null,null,null,null,null,null,null,null,null,null,null,null,null,null,"1974-08-26",1.7,2.6760000000000002,null,"1982-08-25",3.9,2.9710000000000001,null,"2013-08-25",0,4.0506900000000003,0,3.8886699999999998,0,3.7266499999999998,null,"2023-08-25",0,4.1665999999999999,0,3.9582899999999999,0,3.7499799999999999,null,"2073-08-25",0,4.7461500000000001,0,4.3063900000000004,0,3.8666200000000002]
["1974-12-13",5.8,0.14799999999999999,12,1974,50,5.8,{"$f":"IF(B2937<Parameters!$A$16,B2937*Parameters!$B$16,IF(AND(B2937>Parameters!$A$16,B2937<Parameters!$A$17),B2937*Parameters!$B$17,B2937*Parameters!$B$18))","v":5.51},{"$f":"IF(B2937<Parameters!$A$20,B2937*Parameters!$B$20,IF(AND(B2937>Parameters!$A$20,B2937<Parameters!$A$21),B2937*Parameters!$B$21,B2937*Parameters!$B$22))","v":4.3499999999999996},70.27441860465116,1.2116279069767442,66.463953488372084,0.94577735124760065,3.8104651162790759,0.21251612903225806,1206.483164375421,0.11872965479764763,{"$f":"VLOOKUP($F2937,'Gegevens vergelijking'!$I$16:$Q$68,9,FALSE)","v":6.1862244897959178},60.158999343778518,66.345223833574437,4979.9334866496447,0,0,6.1862244897959178,1,0.10665904292751582,1.2116279069767442,7.0274418604651157,6.6463953488372081,0.61862244897959173,0.38104651162790759,0,1.1872965479764764E-2,0.61862244897959173,6.0158999343778516,5.4222648752399322E-2,0,1.78637665330004E-3,9.3076384492809361E-2,0.90513723885389064,129.3418485891238,129.3418485891238,0,null,null,null,null,null,null,null,null,null,null,null,null,null,null,null,null,null,null,null,null,null,"1974-12-13",5.8,0.14799999999999999,null,"1982-12-12",8.6999999999999993,0.17399999999999999,null,"2013-12-12",8.69,0.19137000000000001,7.4,0.17748,6.56,0.16353000000000001,null,"2023-12-12",8.99,0.19975999999999999,7.52,0.18190000000000001,6.5,0.16397,null,"2073-12-12",10.5,0.24171999999999999,8.1,0.20401,6.29,0.16616]
["1975-01-21",0.9,0.28199999999999997,1,1975,4,0.9,{"$f":"IF(B2976<Parameters!$A$16,B2976*Parameters!$B$16,IF(AND(B2976>Parameters!$A$16,B2976<Parameters!$A$17),B2976*Parameters!$B$17,B2976*Parameters!$B$18))","v":0},{"$f":"IF(B2976<Parameters!$A$20,B2976*Parameters!$B$20,IF(AND(B2976>Parameters!$A$20,B2976<Parameters!$A$21),B2976*Parameters!$B$21,B2976*Parameters!$B$22))","v":0},10.904651162790698,1.2116279069767442,1.172093023255814,0.10748560460652591,9.7325581395348841,0.34651612903225804,1271.3295814937126,0.20497562846525583,{"$f":"VLOOKUP($F2976,'Gegevens vergelijking'!$I$16:$Q$68,9,FALSE)","v":6.2443769793828574},-5.2772595845922989,0.96711739479055814,5714.659484601455,0,0,6.2443769793828574,1,0.69381966437587306,1.2116279069767442,1.0904651162790697,0.1172093023255814,0.62443769793828574,0.97325581395348837,0,2.0497562846525583E-2,0.62443769793828574,-0.52772595845922998,0.8925143953934741,0,0.17488000047630953,5.3275438514575963,-4.5024238519339068,-11.346108106873444,-11.346108106873444,0,null,null,null,null,null,null,null,null,null,null,null,null,null,null,null,null,null,null,null,null,null,"1975-01-21",0.9,0.28199999999999997,null,"1983-01-20",0.4,0.44,null,"2014-01-20",2.98,0.74024999999999996,2.52,0.69516999999999995,2.2200000000000002,0.65008999999999995,null,"2024-01-20",3.08,0.76773999999999998,2.5499999999999998,0.70977999999999997,2.19,0.65181999999999995,null,"2074-01-20",3.6,0.90524000000000004,2.72,0.78288000000000002,2.06,0.66052]
["1975-05-10",0.8,2.0760000000000001,5,1975,19,0.8,{"$f":"IF(B3085<Parameters!$A$16,B3085*Parameters!$B$16,IF(AND(B3085>Parameters!$A$16,B3085<Parameters!$A$17),B3085*Parameters!$B$17,B3085*Parameters!$B$18))","v":0},{"$f":"IF(B3085<Parameters!$A$20,B3085*Parameters!$B$20,IF(AND(B3085>Parameters!$A$20,B3085<Parameters!$A$21),B3085*Parameters!$B$21,B3085*Parameters!$B$22))","v":0},9.6930232558139533,1.2116279069767442,1.0418604651162791,0.10748560460652591,8.6511627906976738,1.8824516129032258,1218.5981942010249,1.0697501385559143,{"$f":"VLOOKUP($F3085,'Gegevens vergelijking'!$I$16:$Q$68,9,FALSE)","v":36.149555012451422},-36.177444685891061,-2.7889673439635221E-2,5117.199780986236,0,0,36.149555012451422,1,4.5186943765564278,1.2116279069767442,0.96930232558139529,0.10418604651162791,3.6149555012451424,0.8651162790697674,0,0.10697501385559142,3.6149555012451424,-3.6177444685891058,0.8925143953934741,0,1.0267691062032211,34.697117534272572,-34.72388664047579,-77.781506074665771,0,-77.781506074665771,null,null,null,null,null,null,null,null,null,null,null,null,null,null,null,null,null,null,null,null,null,"1975-05-10",0.8,2.0760000000000001,null,"1983-05-09",3,2.7589999999999999,null,"2014-05-09",0.44,2.31793,0.44,2.31793,0.44,2.2119800000000001,null,"2024-05-08",0.44,2.3441999999999998,0.44,2.3441999999999998,0.44,2.20797,null,"2074-05-09",0.41,2.47553,0.41,2.47553,0.41,2.1879400000000002]
["1975-06-18",5,1.9119999999999999,6,1975,25,5,{"$f":"IF(B3124<Parameters!$A$16,B3124*Parameters!$B$16,IF(AND(B3124>Parameters!$A$16,B3124<Parameters!$A$17),B3124*Parameters!$B$17,B3124*Parameters!$B$18))","v":4.75},{"$f":"IF(B3124<Parameters!$A$20,B3124*Parameters!$B$20,IF(AND(B3124>Parameters!$A$20,B3124<Parameters!$A$21),B3124*Parameters!$B$21,B3124*Parameters!$B$22))","v":3.75},60.581395348837212,1.2116279069767442,57.29651162790698,0.94577735124760076,3.2848837209302317,1.7786666666666666,1096.9362838995205,0.90641576403383095,{"$f":"VLOOKUP($F3124,'Gegevens vergelijking'!$I$16:$Q$68,9,FALSE)","v":41.801906897514286},14.588188966358864,56.39009586387315,3738.7401461858094,0,0,41.801906897514286,1,0.8360381379502857,1.2116279069767442,6.058139534883721,5.7296511627906979,4.1801906897514289,0.32848837209302317,0,9.0641576403383092E-2,4.1801906897514289,1.4588188966358855,5.4222648752399218E-2,0,1.581973733270613E-2,0.72957158664357757,0.25460867602371617,31.364606277671538,0,31.364606277671538,null,null,null,null,null,null,null,null,null,null,null,null,null,null,null,null,null,null,null,null,null,"1975-06-18",5,1.9119999999999999,null,"1983-06-17",0,5.0380000000000003,null,"2014-06-17",4.2699999999999996,1.6423000000000001,5.37,1.5701000000000001,4.2699999999999996,1.5026600000000001,null,"2024-06-16",4.0999999999999996,1.67811,5.28,1.5852599999999999,4.0999999999999996,1.49857,null,"2074-06-17",0,1.85711,4.83,1.6611199999999999,0,1.4780899999999999]
["1975-07-27",0.1,2.9969999999999999,7,1975,30,0.1,{"$f":"IF(B3163<Parameters!$A$16,B3163*Parameters!$B$16,IF(AND(B3163>Parameters!$A$16,B3163<Parameters!$A$17),B3163*Parameters!$B$17,B3163*Parameters!$B$18))","v":0},{"$f":"IF(B3163<Parameters!$A$20,B3163*Parameters!$B$20,IF(AND(B3163>Parameters!$A$20,B3163<Parameters!$A$21),B3163*Parameters!$B$21,B3163*Parameters!$B$22))","v":0},1.2116279069767442,1.2116279069767442,0.13023255813953488,0.10748560460652591,1.0813953488372092,2.9647419354838709,1019.7219263032397,1.4109820546886642,{"$f":"VLOOKUP($F3163,'Gegevens vergelijking'!$I$16:$Q$68,9,FALSE)","v":38.460966477868567},-39.741715974417701,-1.2807494965491293,2863.8823134446889,0,0,38.460966477868567,1,38.460966477868567,1.2116279069767442,0.12116279069767441,1.3023255813953489E-2,3.8460966477868568,0.10813953488372093,0,0.14109820546886642,3.8460966477868568,-3.9741715974417695,0.8925143953934741,0,10.834326491359386,295.32527831220506,-305.15960480356443,-85.444689344998039,0,-85.444689344998039,null,null,null,null,null,null,null,null,null,null,null,null,null,null,null,null,null,null,null,null,null,"1975-07-27",0.1,2.9969999999999999,null,"1983-07-26",0.7,4.5780000000000003,null,"2014-07-26",0,4.22248,0,4.0741199999999997,0,3.9257499999999999,null,"2024-07-25",0,4.3177599999999998,0,4.1270100000000003,0,3.9362499999999998,null,"2074-07-26",0,4.7941599999999998,0,4.3914600000000004,0,3.98875]
["1975-11-11",0,0.28699999999999998,11,1975,46,0,{"$f":"IF(B3270<Parameters!$A$16,B3270*Parameters!$B$16,IF(AND(B3270>Parameters!$A$16,B3270<Parameters!$A$17),B3270*Parameters!$B$17,B3270*Parameters!$B$18))","v":0},{"$f":"IF(B3270<Parameters!$A$20,B3270*Parameters!$B$20,IF(AND(B3270>Parameters!$A$20,B3270<Parameters!$A$21),B3270*Parameters!$B$21,B3270*Parameters!$B$22))","v":0},0,"",0,"",0,0.45366666666666666,946.26971672711875,0.19985797678957498,{"$f":"VLOOKUP($F3270,'Gegevens vergelijking'!$I$16:$Q$68,9,FALSE)","v":9.880531666666668},-10.080389643456243,-0.19985797678957498,2031.6505513700808,0,0,9.880531666666668,1,"","",0,0,0.98805316666666676,0,0,1.9985797678957497E-2,0.98805316666666676,-1.0080389643456242,"","","","","",-21.672837733430921,-21.672837733430921,0,null,null,null,null,null,null,null,null,null,null,null,null,null,null,null,null,null,null,null,null,null,"1975-11-11",0,0.28699999999999998,null,"1983-11-10",0,0.64800000000000002,null,"2014-11-10",0,0.29017999999999999,0,0.29017999999999999,0,0.26943,null,"2024-11-09",0,0.29537999999999998,0,0.29537999999999998,0,0.26869999999999999,null,"2074-11-10",0,0.32135000000000002,0,0.32135000000000002,0,0.26501999999999998]
["1975-12-23",0,0.30499999999999999,12,1975,52,0,{"$f":"IF(B3312<Parameters!$A$16,B3312*Parameters!$B$16,IF(AND(B3312>Parameters!$A$16,B3312<Parameters!$A$17),B3312*Parameters!$B$17,B3312*Parameters!$B$18))","v":0},{"$f":"IF(B3312<Parameters!$A$20,B3312*Parameters!$B$20,IF(AND(B3312>Parameters!$A$20,B3312<Parameters!$A$21),B3312*Parameters!$B$21,B3312*Parameters!$B$22))","v":0},0,"",0,"",0,0.36951612903225806,1069.2353413288788,0.18377009194924587,{"$f":"VLOOKUP($F3312,'Gegevens vergelijking'!$I$16:$Q$68,9,FALSE)","v":0},-0.18377009194924587,-0.18377009194924587,3424.8815927164069,0,0,0,"","","",0,0,0,0,0,1.8377009194924587E-2,0,-1.8377009194924587E-2,"","","","","",-0.39510569769087861,-0.39510569769087861,0,null,null,null,null,null,null,null,null,null,null,null,null,null,null,null,null,null,null,null,null,null,"1975-12-23",0,0.30499999999999999,null,"1983-12-22",9,0.41399999999999998,null,"2014-12-22",0,0.23153000000000001,0,0.21473,0,0.19785,null,"2024-12-21",0,0.24168999999999999,0,0.22008,0,0.19838,null,"2074-12-22",0,0.29244999999999999,0,0.24682999999999999,0,0.20102999999999999]
["1976-04-06",0,0.83599999999999997,4,1976,15,0,{"$f":"IF(B3417<Parameters!$A$16,B3417*Parameters!$B$16,IF(AND(B3417>Parameters!$A$16,B3417<Parameters!$A$17),B3417*Parameters!$B$17,B3417*Parameters!$B$18))","v":0},{"$f":"IF(B3417<Parameters!$A$20,B3417*Parameters!$B$20,IF(AND(B3417>Parameters!$A$20,B3417<Parameters!$A$21),B3417*Parameters!$B$21,B3417*Parameters!$B$22))","v":0},0,"",0,"",0,0.66933333333333334,1083.3350917326277,0.3380655917887575,{"$f":"VLOOKUP($F3417,'Gegevens vergelijking'!$I$16:$Q$68,9,FALSE)","v":28.925363264788576},-29.263428856577335,-0.3380655917887575,3584.635263722907,0,0,28.925363264788576,1,"","",0,0,2.8925363264788575,0,0,3.3806559178875747E-2,2.8925363264788575,-2.9263428856577334,"","","","","",-62.916372041641267,0,-62.916372041641267,null,null,null,null,null,null,null,null,null,null,null,null,null,null,null,null,null,null,null,null,null,"1976-04-06",0,0.83599999999999997,null,"1984-04-05",10,9.8000000000000004E-2,null,"2015-04-06",0,2.6437599999999999,0,2.6437599999999999,0,2.5295200000000002,null,"2025-04-05",0,2.6648299999999998,0,2.6648299999999998,0,2.51796,null,"2075-04-06",0,2.7702,0,2.7702,0,2.4601299999999999]
["1976-05-19",0.2,2.9710000000000001,5,1976,21,0.2,{"$f":"IF(B3460<Parameters!$A$16,B3460*Parameters!$B$16,IF(AND(B3460>Parameters!$A$16,B3460<Parameters!$A$17),B3460*Parameters!$B$17,B3460*Parameters!$B$18))","v":0},{"$f":"IF(B3460<Parameters!$A$20,B3460*Parameters!$B$20,IF(AND(B3460>Parameters!$A$20,B3460<Parameters!$A$21),B3460*Parameters!$B$21,B3460*Parameters!$B$22))","v":0},2.4232558139534883,1.2116279069767442,0.26046511627906976,0.10748560460652591,2.1627906976744184,2.7774516129032261,962.95945722377019,1.2484977700165725,{"$f":"VLOOKUP($F3460,'Gegevens vergelijking'!$I$16:$Q$68,9,FALSE)","v":38.569226396674274},-39.557259050411773,-0.98803265373750271,2220.7494528497118,0,0,38.569226396674274,1,19.284613198337137,1.2116279069767442,0.24232558139534882,2.6046511627906978E-2,3.8569226396674274,0.21627906976744185,0,0.12484977700165725,3.8569226396674274,-3.9557259050411777,0.8925143953934741,0,4.7933396527421976,148.07827991580302,-151.87161956854521,-85.048106958385318,0,-85.048106958385318,null,null,null,null,null,null,null,null,null,null,null,null,null,null,null,null,null,null,null,null,null,"1976-05-19",0.2,2.9710000000000001,null,"1984-05-18",0,4.2140000000000004,null,"2015-05-19",2.68,5.0398899999999998,2.68,5.0398899999999998,2.68,4.8095100000000004,null,"2025-05-18",2.66,5.0970000000000004,2.66,5.0970000000000004,2.66,4.8007999999999997,null,"2075-05-19",0,5.3825599999999998,0,5.3825599999999998,0,4.7572400000000004]
["1976-06-27",0,6.59,6,1976,26,0,{"$f":"IF(B3499<Parameters!$A$16,B3499*Parameters!$B$16,IF(AND(B3499>Parameters!$A$16,B3499<Parameters!$A$17),B3499*Parameters!$B$17,B3499*Parameters!$B$18))","v":0},{"$f":"IF(B3499<Parameters!$A$20,B3499*Parameters!$B$20,IF(AND(B3499>Parameters!$A$20,B3499<Parameters!$A$21),B3499*Parameters!$B$21,B3499*Parameters!$B$22))","v":0},0,"",0,"",0,6.4566666666666661,844.28349786209162,2.5476964040775343,{"$f":"VLOOKUP($F3499,'Gegevens vergelijking'!$I$16:$Q$68,9,FALSE)","v":43.586624781491437},-46.134321185568972,-2.5476964040775343,876.1213831779603,0,0,43.586624781491437,1,"","",0,0,4.3586624781491441,0,0,0.25476964040775341,4.3586624781491441,-4.6134321185568972,"","","","","",-99.188790548973301,0,-99.188790548973301,null,null,null,null,null,null,null,null,null,null,null,null,null,null,null,null,null,null,null,null,null,"1976-06-27",0,6.59,null,"1984-06-26",0,3.7690000000000001,null,"2015-06-27",0,6.8441999999999998,0,6.5432699999999997,0,6.2622600000000004,null,"2025-06-26",0,6.9934000000000003,0,6.60649,0,6.24519,null,"2075-06-27",0,7.7393900000000002,0,6.9225899999999996,0,6.15984]
["1976-10-14",2.5,0.82199999999999995,10,1976,42,2.5,{"$f":"IF(B3608<Parameters!$A$16,B3608*Parameters!$B$16,IF(AND(B3608>Parameters!$A$16,B3608<Parameters!$A$17),B3608*Parameters!$B$17,B3608*Parameters!$B$18))","v":2.375},{"$f":"IF(B3608<Parameters!$A$20,B3608*Parameters!$B$20,IF(AND(B3608>Parameters!$A$20,B3608<Parameters!$A$21),B3608*Parameters!$B$21,B3608*Parameters!$B$22))","v":1.875},30.290697674418606,1.2116279069767442,28.64825581395349,0.94577735124760076,1.6424418604651159,0.98329032258064508,839.50443052456285,0.38280166418188233,{"$f":"VLOOKUP($F3608,'Gegevens vergelijking'!$I$16:$Q$68,9,FALSE)","v":14.997021876739497},13.268432273032111,28.265454149771607,821.97336429143513,0,14.997021876739497,0,0,0,1.2116279069767442,3.0290697674418605,2.8648255813953489,0,0.16424418604651159,0,3.8280166418188231E-2,0,2.8265454149771605,5.4222648752399218E-2,0,1.3362128105384832E-2,0,0.98663787189461505,60.770726422008948,60.770726422008948,0,null,null,null,null,null,null,null,null,null,null,null,null,null,null,null,null,null,null,null,null,null,"1976-10-14",2.5,0.82199999999999995,null,"1984-10-13",0.1,1.2110000000000001,null,"2015-10-14",0,1.2962199999999999,0,1.2962199999999999,0,1.2188300000000001,null,"2025-10-13",0,1.3194300000000001,0,1.3194300000000001,0,1.2199199999999999,null,"2075-10-14",0,1.43546,0,1.43546,0,1.22539]
["1976-11-22",3.5,0.19900000000000001,11,1976,48,3.5,{"$f":"IF(B3647<Parameters!$A$16,B3647*Parameters!$B$16,IF(AND(B3647>Parameters!$A$16,B3647<Parameters!$A$17),B3647*Parameters!$B$17,B3647*Parameters!$B$18))","v":3.3249999999999997},{"$f":"IF(B3647<Parameters!$A$20,B3647*Parameters!$B$20,IF(AND(B3647>Parameters!$A$20,B3647<Parameters!$A$21),B3647*Parameters!$B$21,B3647*Parameters!$B$22))","v":2.625},42.406976744186046,1.2116279069767442,40.107558139534881,0.94577735124760065,2.2994186046511658,0.3656666666666667,873.94624050770972,0.14816904496020297,{"$f":"VLOOKUP($F3647,'Gegevens vergelijking'!$I$16:$Q$68,9,FALSE)","v":8.6779285714285717},31.281460523146105,39.959389094574675,1212.2076183285205,0,0,8.6779285714285717,1,0.24794081632653062,1.2116279069767442,4.2406976744186045,4.0107558139534882,0.86779285714285714,0.22994186046511658,0,1.4816904496020297E-2,0.86779285714285714,3.1281460523146105,5.4222648752399308E-2,0,3.6942923437203613E-3,0.21636641505917437,0.77993929259710526,67.255140124764125,67.255140124764125,0,null,null,null,null,null,null,null,null,null,null,null,null,null,null,null,null,null,null,null,null,null,"1976-11-22",3.5,0.19900000000000001,null,"1984-11-21",9.1,0.438,null,"2015-11-22",0,0.17283000000000001,0,0.17283000000000001,0,0.16047,null,"2025-11-21",0,0.17591999999999999,0,0.17591999999999999,0,0.16003000000000001,null,"2075-11-22",0,0.19139,0,0.19139,0,0.15784000000000001]
["1977-03-07",1.2,2.1259999999999999,3,1977,10,1.2,{"$f":"IF(B3752<Parameters!$A$16,B3752*Parameters!$B$16,IF(AND(B3752>Parameters!$A$16,B3752<Parameters!$A$17),B3752*Parameters!$B$17,B3752*Parameters!$B$18))","v":0.96},{"$f":"IF(B3752<Parameters!$A$20,B3752*Parameters!$B$20,IF(AND(B3752>Parameters!$A$20,B3752<Parameters!$A$21),B3752*Parameters!$B$21,B3752*Parameters!$B$22))","v":0.72},14.539534883720931,1.2116279069767442,11.804651162790698,0.81190019193857965,2.7348837209302328,2.0292258064516129,1049.8788982978767,0.99141424005905587,{"$f":"VLOOKUP($F3752,'Gegevens vergelijking'!$I$16:$Q$68,9,FALSE)","v":16.951002269891429},-6.1377653471597871,10.813236922731642,3205.568289765416,0,0,16.951002269891429,1,1.4125835224909524,1.2116279069767442,1.453953488372093,1.1804651162790698,1.6951002269891429,0.27348837209302329,0,9.9141424005905587E-2,1.6951002269891429,-0.61377653471597871,0.18809980806142038,0,8.3985051856854606E-2,1.4359596091515592,-0.51994466100841374,-13.196195496393543,-13.196195496393543,0,null,null,null,null,null,null,null,null,null,null,null,null,null,null,null,null,null,null,null,null,null,"1977-03-07",1.2,2.1259999999999999,null,"1985-03-06",0.1,0.52500000000000002,null,"2016-03-06",0,1.1729799999999999,0,1.1729799999999999,0,1.10303,null,"2026-03-06",0,1.1761200000000001,0,1.1761200000000001,0,1.0861799999999999,null,"2076-03-06",0,1.19181,0,1.19181,0,1.00193]
["1977-04-19",0,3.2149999999999999,4,1977,16,0,{"$f":"IF(B3795<Parameters!$A$16,B3795*Parameters!$B$16,IF(AND(B3795>Parameters!$A$16,B3795<Parameters!$A$17),B3795*Parameters!$B$17,B3795*Parameters!$B$18))","v":0},{"$f":"IF(B3795<Parameters!$A$20,B3795*Parameters!$B$20,IF(AND(B3795>Parameters!$A$20,B3795<Parameters!$A$21),B3795*Parameters!$B$21,B3795*Parameters!$B$22))","v":0},0,"",0,"",0,3.0483333333333333,1084.3704336168294,1.5417397117148077,{"$f":"VLOOKUP($F3795,'Gegevens vergelijking'!$I$16:$Q$68,9,FALSE)","v":32.719747675074295},-34.261487386789099,-1.5417397117148077,3596.3659441968011,0,0,32.719747675074295,1,"","",0,0,3.2719747675074293,0,0,0.15417397117148077,3.2719747675074293,-3.42614873867891,"","","","","",-73.662197881596569,0,-73.662197881596569,null,null,null,null,null,null,null,null,null,null,null,null,null,null,null,null,null,null,null,null,null,"1977-04-19",0,3.2149999999999999,null,"1985-04-18",0,3.8719999999999999,null,"2016-04-18",0,2.9225400000000001,0,2.9225400000000001,0,2.7962500000000001,null,"2026-04-18",0,2.9458299999999999,0,2.9458299999999999,0,2.7834699999999999,null,"2076-04-18",0,3.0623100000000001,0,3.0623100000000001,0,2.7195499999999999]
["1977-05-28",0,6.0250000000000004,5,1977,21,0,{"$f":"IF(B3834<Parameters!$A$16,B3834*Parameters!$B$16,IF(AND(B3834>Parameters!$A$16,B3834<Parameters!$A$17),B3834*Parameters!$B$17,B3834*Parameters!$B$18))","v":0},{"$f":"IF(B3834<Parameters!$A$20,B3834*Parameters!$B$20,IF(AND(B3834>Parameters!$A$20,B3834<Parameters!$A$21),B3834*Parameters!$B$21,B3834*Parameters!$B$22))","v":0},0,"",0,"",0,5.8314516129032263,1059.1461363010178,2.8826483227234885,{"$f":"VLOOKUP($F3834,'Gegevens vergelijking'!$I$16:$Q$68,9,FALSE)","v":38.569226396674274},-41.451874719397765,-2.8826483227234885,3310.5683960580122,0,0,38.569226396674274,1,"","",0,0,3.8569226396674274,0,0,0.28826483227234884,3.8569226396674274,-4.1451874719397761,"","","","","",-89.121530646705182,0,-89.121530646705182,null,null,null,null,null,null,null,null,null,null,null,null,null,null,null,null,null,null,null,null,null,"1977-05-28",0,6.0250000000000004,null,"1985-05-27",0,5.327,null,"2016-05-27",0,6.6518199999999998,0,6.6518199999999998,0,6.3477600000000001,null,"2026-05-27",0,6.7271999999999998,0,6.7271999999999998,0,6.3362600000000002,null,"2076-05-27",0,7.1040900000000002,0,7.1040900000000002,0,6.2787699999999997]
["1977-09-14",0,2.8319999999999999,9,1977,37,0,{"$f":"IF(B3943<Parameters!$A$16,B3943*Parameters!$B$16,IF(AND(B3943>Parameters!$A$16,B3943<Parameters!$A$17),B3943*Parameters!$B$17,B3943*Parameters!$B$18))","v":0},{"$f":"IF(B3943<Parameters!$A$20,B3943*Parameters!$B$20,IF(AND(B3943>Parameters!$A$20,B3943<Parameters!$A$21),B3943*Parameters!$B$21,B3943*Parameters!$B$22))","v":0},0,"",0,"",0,2.9653333333333332,910.94487791517349,1.2601198293212856,{"$f":"VLOOKUP($F3943,'Gegevens vergelijking'!$I$16:$Q$68,9,FALSE)","v":29.316349609488093},-30.576469438809379,-1.2601198293212856,1631.411361574161,0,0,29.316349609488093,1,"","",0,0,2.9316349609488093,0,0,0.12601198293212856,2.9316349609488093,-3.0576469438809379,"","","","","",-65.739409293440175,0,-65.739409293440175,null,null,null,null,null,null,null,null,null,null,null,null,null,null,null,null,null,null,null,null,null,"1977-09-14",0,2.8319999999999999,null,"1985-09-13",0.3,1.371,null,"2016-09-13",0,2.8378199999999998,0,2.8378199999999998,0,2.7195800000000001,null,"2026-09-13",0,2.88863,0,2.88863,0,2.7366100000000002,null,"2076-09-13",0,3.1426599999999998,0,3.1426599999999998,0,2.8217300000000001]
["1977-10-17",0,1.909,10,1977,42,0,{"$f":"IF(B3976<Parameters!$A$16,B3976*Parameters!$B$16,IF(AND(B3976>Parameters!$A$16,B3976<Parameters!$A$17),B3976*Parameters!$B$17,B3976*Parameters!$B$18))","v":0},{"$f":"IF(B3976<Parameters!$A$20,B3976*Parameters!$B$20,IF(AND(B3976>Parameters!$A$20,B3976<Parameters!$A$21),B3976*Parameters!$B$21,B3976*Parameters!$B$22))","v":0},0,"",0,"",0,2.0702903225806453,887.24207911666383,0.85569550558595953,{"$f":"VLOOKUP($F3976,'Gegevens vergelijking'!$I$16:$Q$68,9,FALSE)","v":14.997021876739497},-15.852717382325457,-0.85569550558595953,1362.8527692047819,0,0,14.997021876739497,1,"","",0,0,1.4997021876739498,0,0,8.5569550558595955E-2,1.4997021876739498,-1.5852717382325459,"","","","","",-34.083342371999734,-34.083342371999734,0,null,null,null,null,null,null,null,null,null,null,null,null,null,null,null,null,null,null,null,null,null,"1977-10-17",0,1.909,null,"1985-10-16",0,0.42899999999999999,null,"2016-10-16",0,1.70269,0,1.70269,0,1.60103,null,"2026-10-16",0,1.7331799999999999,0,1.7331799999999999,0,1.60246,null,"2076-10-16",0,1.8855900000000001,0,1.8855900000000001,0,1.60965]
["1977-12-02",0,0,12,1977,48,0,{"$f":"IF(B4022<Parameters!$A$16,B4022*Parameters!$B$16,IF(AND(B4022>Parameters!$A$16,B4022<Parameters!$A$17),B4022*Parameters!$B$17,B4022*Parameters!$B$18))","v":0},{"$f":"IF(B4022<Parameters!$A$20,B4022*Parameters!$B$20,IF(AND(B4022>Parameters!$A$20,B4022<Parameters!$A$21),B4022*Parameters!$B$21,B4022*Parameters!$B$22))","v":0},0,"",0,"",0,6.4516129032258063E-2,977.58372223355798,2.9357906119097426E-2,{"$f":"VLOOKUP($F4022,'Gegevens vergelijking'!$I$16:$Q$68,9,FALSE)","v":8.6779285714285717},-8.7072864775476688,-2.9357906119097426E-2,2386.4460045038704,0,0,8.6779285714285717,1,"","",0,0,0.86779285714285714,0,0,2.9357906119097427E-3,0.86779285714285714,-0.87072864775476688,"","","","","",-18.720665926727488,-18.720665926727488,0,null,null,null,null,null,null,null,null,null,null,null,null,null,null,null,null,null,null,null,null,null,"1977-12-02",0,0,null,"1985-12-01",0,0.89300000000000002,null,"2016-12-01",0.52,0.12876000000000001,0.42,0.11941,0.35,0.11003,null,"2026-12-01",0.56000000000000005,0.13441,0.43,0.12239,0.34,0.11032,null,"2076-12-01",0.68,0.16264000000000001,0.46,0.13727,0.28999999999999998,0.1118]
["1978-03-21",7.7,0.47299999999999998,{"$f":"MONTH(A4131)","v":3},1978,{"$f":"INT((A4131-DATE(YEAR(A4131-WEEKDAY(A4131-1)+4),1,3)+WEEKDAY(DATE(YEAR(A4131-WEEKDAY(A4131-1)+4),1,3))+5)/7)","v":12},7.7,{"$f":"IF(B4131<Parameters!$A$16,B4131*Parameters!$B$16,IF(AND(B4131>Parameters!$A$16,B4131<Parameters!$A$17),B4131*Parameters!$B$17,B4131*Parameters!$B$18))","v":7.3149999999999995},{"$f":"IF(B4131<Parameters!$A$20,B4131*Parameters!$B$20,IF(AND(B4131>Parameters!$A$20,B4131<Parameters!$A$21),B4131*Parameters!$B$21,B4131*Parameters!$B$22))","v":5.7750000000000004},93.295348837209303,1.2116279069767442,88.23662790697675,{"$f":"IF(B4131=0,\"\",L4131/J4131)","v":0.94577735124760087},{"$f":"IF(B4131=0,0,SUM(J4131-L4131))","v":5.0587209302325533},0.37622580645161285,1072.6046666867796,0.18668221859798068,{"$f":"VLOOKUP($F4131,'Gegevens vergelijking'!$I$16:$Q$68,9,FALSE)","v":22.555070739851423},65.494874948527354,88.04994568837877,3463.0568851383814,0,0,22.555070739851423,{"$f":"IF(R4131=0,\"\",((R4131-W4131)/R4131))","v":1},{"$f":"IF(B4131=0,\"\",X4131/(B4131*10))","v":0.29292299662144705},1.2116279069767442,{"$f":"J4131/10","v":9.32953488372093},{"$f":"L4131/10","v":8.823662790697675},2.2555070739851422,0.50587209302325531,0,1.8668221859798068E-2,{"$f":"(R4131-W4131)/10","v":2.2555070739851422},{"$f":"SUM(AC4131-AF4131-AG4131-AD4131)","v":6.5494874948527348},{"$f":"IF(AB4131=0,\"\",AE4131/AB4131)","v":5.4222648752399183E-2},0,2.1156998292680674E-3,{"$f":"IF(AC4131=0,\"\",AD4131/AC4131)","v":0.25562027102429674},{"$f":"IF(AC4131=0,\"\",AI4131/AC4131)","v":0.74226402914643519},140.81398113933381,140.81398113933381,0,null,null,null,null,null,null,null,null,null,null,null,null,null,null,null,null,null,null,null,null,null,"1978-03-21",7.7,0.47299999999999998,null,"1986-03-20",1.9,0.67200000000000004,null,"2017-03-20",5.74,0.71065,5.74,0.71065,5.74,0.66827000000000003,null,"2027-03-20",5.8,0.71255000000000002,5.8,0.71255000000000002,5.8,0.65805999999999998,null,"2077-03-20",6.15,0.72206000000000004,6.15,0.72206000000000004,6.15,0.60702]
["1978-04-29",8,3.347,4,1978,17,8,{"$f":"IF(B4170<Parameters!$A$16,B4170*Parameters!$B$16,IF(AND(B4170>Parameters!$A$16,B4170<Parameters!$A$17),B4170*Parameters!$B$17,B4170*Parameters!$B$18))","v":7.6},{"$f":"IF(B4170<Parameters!$A$20,B4170*Parameters!$B$20,IF(AND(B4170>Parameters!$A$20,B4170<Parameters!$A$21),B4170*Parameters!$B$21,B4170*Parameters!$B$22))","v":6},96.930232558139537,1.2116279069767442,91.674418604651166,0.94577735124760076,5.2558139534883708,3.1803333333333335,1069.888774370884,1.5752832564258452,{"$f":"VLOOKUP($F4170,'Gegevens vergelijking'!$I$16:$Q$68,9,FALSE)","v":34.009844090885714},56.089291257339603,90.099135348225317,3432.2851512353955,0,0,34.009844090885714,1,0.42512305113607141,1.2116279069767442,9.6930232558139533,9.1674418604651162,3.4009844090885712,0.52558139534883708,0,0.15752832564258451,3.4009844090885712,5.6089291257339609,5.4222648752399218E-2,0,1.7183455105609168E-2,0.37098510804365442,0.61183143685073649,120.59197620328015,0,120.59197620328015,null,null,null,null,null,null,null,null,null,null,null,null,null,null,null,null,null,null,null,null,null,"1978-04-29",8,3.347,null,"1986-04-28",0,2.5070000000000001,null,"2017-04-28",11.6,2.01111,11.6,2.01111,11.6,1.92421,null,"2027-04-28",11.66,2.0271400000000002,11.66,2.0271400000000002,11.66,1.9154100000000001,null,"2077-04-28",11.99,2.1072899999999999,11.99,2.1072899999999999,11.99,1.8714200000000001]
["1978-08-12",0.2,2.9660000000000002,8,1978,32,0.2,{"$f":"IF(B4275<Parameters!$A$16,B4275*Parameters!$B$16,IF(AND(B4275>Parameters!$A$16,B4275<Parameters!$A$17),B4275*Parameters!$B$17,B4275*Parameters!$B$18))","v":0},{"$f":"IF(B4275<Parameters!$A$20,B4275*Parameters!$B$20,IF(AND(B4275>Parameters!$A$20,B4275<Parameters!$A$21),B4275*Parameters!$B$21,B4275*Parameters!$B$22))","v":0},2.4232558139534883,1.2116279069767442,0.26046511627906976,0.10748560460652591,2.1627906976744184,3.0305161290322582,995.62641063956733,1.4079038626862148,{"$f":"VLOOKUP($F4275,'Gegevens vergelijking'!$I$16:$Q$68,9,FALSE)","v":35.235564143205707},-36.383002889612847,-1.1474387464071452,2590.8741415381278,0,0,35.235564143205707,1,17.617782071602853,1.2116279069767442,0.24232558139534882,2.6046511627906978E-2,3.5235564143205709,0.21627906976744185,0,0.14079038626862148,3.5235564143205709,-3.6383002889612852,0.8925143953934741,0,5.4053451870988596,135.27939804980764,-139.68474323690648,-78.223456212667628,0,-78.223456212667628,null,null,null,null,null,null,null,null,null,null,null,null,null,null,null,null,null,null,null,null,null,"1978-08-12",0.2,2.9660000000000002,null,"1986-08-11",0,3.5310000000000001,null,"2017-08-11",0,2.3092800000000002,0,2.2169099999999999,0,2.1245500000000002,null,"2027-08-11",0,2.3753600000000001,0,2.2566000000000002,0,2.1378499999999998,null,"2077-08-11",0,2.7057600000000002,0,2.45505,0,2.2043400000000002]
["1978-09-24",0,1.7829999999999999,9,1978,38,0,{"$f":"IF(B4318<Parameters!$A$16,B4318*Parameters!$B$16,IF(AND(B4318>Parameters!$A$16,B4318<Parameters!$A$17),B4318*Parameters!$B$17,B4318*Parameters!$B$18))","v":0},{"$f":"IF(B4318<Parameters!$A$20,B4318*Parameters!$B$20,IF(AND(B4318>Parameters!$A$20,B4318<Parameters!$A$21),B4318*Parameters!$B$21,B4318*Parameters!$B$22))","v":0},0,"",0,"",0,1.9163333333333332,901.87758989854683,0.8059743966522398,{"$f":"VLOOKUP($F4318,'Gegevens vergelijking'!$I$16:$Q$68,9,FALSE)","v":26.07719066135714},-26.883165058009379,-0.8059743966522398,1528.6767382474791,0,0,26.07719066135714,1,"","",0,0,2.6077190661357141,0,0,8.059743966522398E-2,2.6077190661357141,-2.6883165058009379,"","","","","",-57.798804874720169,0,-57.798804874720169,null,null,null,null,null,null,null,null,null,null,null,null,null,null,null,null,null,null,null,null,null,"1978-09-24",0,1.7829999999999999,null,"1986-09-23",0,2.226,null,"2017-09-23",0,2.76634,0,2.76634,0,2.6510799999999999,null,"2027-09-23",0,2.8158699999999999,0,2.8158699999999999,0,2.6676799999999998,null,"2077-09-23",0,3.0634999999999999,0,3.0634999999999999,0,2.7506499999999998]
["1978-11-02",0,0.36099999999999999,11,1978,44,0,{"$f":"IF(B4357<Parameters!$A$16,B4357*Parameters!$B$16,IF(AND(B4357>Parameters!$A$16,B4357<Parameters!$A$17),B4357*Parameters!$B$17,B4357*Parameters!$B$18))","v":0},{"$f":"IF(B4357<Parameters!$A$20,B4357*Parameters!$B$20,IF(AND(B4357>Parameters!$A$20,B4357<Parameters!$A$21),B4357*Parameters!$B$21,B4357*Parameters!$B$22))","v":0},0,"",0,"",0,0.52766666666666662,896.54819989384623,0.22028035219024381,{"$f":"VLOOKUP($F4357,'Gegevens vergelijking'!$I$16:$Q$68,9,FALSE)","v":11.034608376916667},-11.254888729106911,-0.22028035219024381,1468.2934269762463,0,0,11.034608376916667,1,"","",0,0,1.1034608376916668,0,0,2.202803521902438E-2,1.1034608376916668,-1.1254888729106911,"","","","","",-24.198010767579856,-24.198010767579856,0,null,null,null,null,null,null,null,null,null,null,null,null,null,null,null,null,null,null,null,null,null,"1978-11-02",0,0.36099999999999999,null,"1986-11-01",14.8,0.495,null,"2017-11-01",0,0.64331000000000005,0,0.64331000000000005,0,0.59730000000000005,null,"2027-11-01",0,0.65483000000000002,0,0.65483000000000002,0,0.59567000000000003,null,"2077-11-01",0,0.71240999999999999,0,0.71240999999999999,0,0.58753]
["1979-02-19",0,0,2,1979,8,0,{"$f":"IF(B4466<Parameters!$A$16,B4466*Parameters!$B$16,IF(AND(B4466>Parameters!$A$16,B4466<Parameters!$A$17),B4466*Parameters!$B$17,B4466*Parameters!$B$18))","v":0},{"$f":"IF(B4466<Parameters!$A$20,B4466*Parameters!$B$20,IF(AND(B4466>Parameters!$A$20,B4466<Parameters!$A$21),B4466*Parameters!$B$21,B4466*Parameters!$B$22))","v":0},0,"",0,"",0,-3.5714285714285712E-2,1072.1119547151745,-1.7828540569374503E-2,{"$f":"VLOOKUP($F4466,'Gegevens vergelijking'!$I$16:$Q$68,9,FALSE)","v":13.231023004605715},-13.213194464036341,1.7828540569374503E-2,3457.4743362308614,0,0,13.231023004605715,1,"","",0,0,1.3231023004605715,0,0,-1.7828540569374504E-3,1.3231023004605715,-1.3213194464036342,"","","","","",-28.408368097678135,-28.408368097678135,0,null,null,null,null,null,null,null,null,null,null,null,null,null,null,null,null,null,null,null,null,null,"1979-02-19",0,0,null,"1987-02-18",2.7,0,null,"2018-02-18",0.69,0,0.55000000000000004,0,0.46,0,null,"2028-02-18",0.73,0,0.56999999999999995,0,0.45,0,null,"2078-02-18",0.93,0,0.65,0,0.42,0]
["1979-03-30",4.0999999999999996,0.20799999999999999,3,1979,13,4.0999999999999996,{"$f":"IF(B4505<Parameters!$A$16,B4505*Parameters!$B$16,IF(AND(B4505>Parameters!$A$16,B4505<Parameters!$A$17),B4505*Parameters!$B$17,B4505*Parameters!$B$18))","v":3.8949999999999996},{"$f":"IF(B4505<Parameters!$A$20,B4505*Parameters!$B$20,IF(AND(B4505>Parameters!$A$20,B4505<Parameters!$A$21),B4505*Parameters!$B$21,B4505*Parameters!$B$22))","v":3.0749999999999997},49.676744186046506,1.2116279069767439,46.983139534883719,0.94577735124760087,2.6936046511627865,0.1112258064516129,1142.4588181756262,5.8995612072971278E-2,{"$f":"VLOOKUP($F4505,'Gegevens vergelijking'!$I$16:$Q$68,9,FALSE)","v":23.460342198479999},23.46380172433075,46.92414392281075,4254.5217562059088,0,0,23.460342198479999,1,0.57220346825560975,1.2116279069767439,4.9676744186046502,4.6983139534883716,2.3460342198479998,0.26936046511627865,0,5.8995612072971276E-3,2.3460342198479998,2.3463801724330748,5.4222648752399155E-2,0,1.2556762416689635E-3,0.49933534520530126,0.49940897855302979,50.447173707311109,50.447173707311109,0,null,null,null,null,null,null,null,null,null,null,null,null,null,null,null,null,null,null,null,null,null,"1979-03-30",4.0999999999999996,0.20799999999999999,null,"1987-03-29",2.2000000000000002,1.024,null,"2018-03-29",0.1,0.92869000000000002,0.1,0.92869000000000002,0.1,0.87331000000000003,null,"2028-03-28",0.1,0.93118000000000001,0.1,0.93118000000000001,0.1,0.85997000000000001,null,"2078-03-29",0.11,0.94359999999999999,0.11,0.94359999999999999,0.11,0.79327000000000003]
["1979-07-13",0.2,0.81599999999999995,7,1979,28,0.2,{"$f":"IF(B4610<Parameters!$A$16,B4610*Parameters!$B$16,IF(AND(B4610>Parameters!$A$16,B4610<Parameters!$A$17),B4610*Parameters!$B$17,B4610*Parameters!$B$18))","v":0},{"$f":"IF(B4610<Parameters!$A$20,B4610*Parameters!$B$20,IF(AND(B4610>Parameters!$A$20,B4610<Parameters!$A$21),B4610*Parameters!$B$21,B4610*Parameters!$B$22))","v":0},2.4232558139534883,1.2116279069767442,0.26046511627906976,0.10748560460652591,2.1627906976744184,0.78374193548387094,988.22631159387424,0.36146290780041024,{"$f":"VLOOKUP($F4610,'Gegevens vergelijking'!$I$16:$Q$68,9,FALSE)","v":37.932157990359997},-38.033155781881334,-0.10099779152134047,2507.0291829744037,0,0,37.932157990359997,1,18.966078995179998,1.2116279069767442,0.24232558139534882,2.6046511627906978E-2,3.7932157990359996,0.21627906976744185,0,3.6146290780041022E-2,3.7932157990359996,-3.8033155781881338,0.8925143953934741,0,1.3877593781622892,145.63239228441785,-146.02015166258013,-81.771284931044875,0,-81.771284931044875,null,null,null,null,null,null,null,null,null,null,null,null,null,null,null,null,null,null,null,null,null,"1979-07-13",0.2,0.81599999999999995,null,"1987-07-12",0,3.7519999999999998,null,"2018-07-12",1.1499999999999999,3.32457,1.46,3.2077499999999999,1.1499999999999999,3.0909399999999998,null,"2028-07-11",1.07,3.3995899999999999,1.42,3.24939,1.07,3.0992000000000002,null,"2078-07-12",0.72,3.77468,1.17,3.4576099999999999,0.72,3.1405400000000001]
["1979-08-25",1.9,2.7890000000000001,8,1979,34,1.9,{"$f":"IF(B4653<Parameters!$A$16,B4653*Parameters!$B$16,IF(AND(B4653>Parameters!$A$16,B4653<Parameters!$A$17),B4653*Parameters!$B$17,B4653*Parameters!$B$18))","v":1.52},{"$f":"IF(B4653<Parameters!$A$20,B4653*Parameters!$B$20,IF(AND(B4653>Parameters!$A$20,B4653<Parameters!$A$21),B4653*Parameters!$B$21,B4653*Parameters!$B$22))","v":1.1399999999999999},23.02093023255814,1.2116279069767442,18.690697674418605,0.81190019193857965,4.3302325581395351,2.8535161290322582,946.83673542325755,1.2583983904100302,{"$f":"VLOOKUP($F4653,'Gegevens vergelijking'!$I$16:$Q$68,9,FALSE)","v":32.292939745809527},-14.860640461800951,17.432299284008575,2038.0750139061981,0,0,32.292939745809527,1,1.6996284076741857,1.2116279069767442,2.3020930232558139,1.8690697674418604,3.2292939745809526,0.43302325581395351,0,0.12583983904100302,3.2292939745809526,-1.4860640461800951,0.18809980806142035,0,6.7327523687484514E-2,1.727754646099054,-0.79508216978653845,-31.950376992872048,0,-31.950376992872048,null,null,null,null,null,null,null,null,null,null,null,null,null,null,null,null,null,null,null,null,null,"1979-08-25",1.9,2.7890000000000001,null,"1987-08-24",24.5,1.5580000000000001,null,"2018-08-24",0.24,2.8649300000000002,0.32,2.75034,0.24,2.6357499999999998,null,"2028-08-23",0.22,2.9469099999999999,0.31,2.7995800000000002,0.22,2.65225,null,"2078-08-24",0,3.3568099999999998,0.28000000000000003,3.0457800000000002,0,2.7347399999999999]
["1979-10-03",0.2,2.202,10,1979,40,0.2,{"$f":"IF(B4692<Parameters!$A$16,B4692*Parameters!$B$16,IF(AND(B4692>Parameters!$A$16,B4692<Parameters!$A$17),B4692*Parameters!$B$17,B4692*Parameters!$B$18))","v":0},{"$f":"IF(B4692<Parameters!$A$20,B4692*Parameters!$B$20,IF(AND(B4692>Parameters!$A$20,B4692<Parameters!$A$21),B4692*Parameters!$B$21,B4692*Parameters!$B$22))","v":0},2.4232558139534883,1.2116279069767442,0.26046511627906976,0.10748560460652591,2.1627906976744184,2.363290322580645,858.06889557695399,0.94511882202271813,{"$f":"VLOOKUP($F4692,'Gegevens vergelijking'!$I$16:$Q$68,9,FALSE)","v":19.161461678190477},-19.846115383934126,-0.68465370574364837,1032.3133602109972,0,0,19.161461678190477,1,9.5807308390952386,1.2116279069767442,0.24232558139534882,2.6046511627906978E-2,1.9161461678190477,0.21627906976744185,0,9.4511882202271816E-2,1.9161461678190477,-1.9846115383934124,0.8925143953934741,0,3.628581191694364,73.566326085909864,-76.19490727760423,-42.669148075458367,-42.669148075458367,0,null,null,null,null,null,null,null,null,null,null,null,null,null,null,null,null,null,null,null,null,null,"1979-10-03",0.2,2.202,null,"1987-10-02",0,1.857,null,"2018-10-02",0.1,1.931,0.1,1.931,0.1,1.8157000000000001,null,"2028-10-01",0.1,1.96557,0.1,1.96557,0.1,1.8173299999999999,null,"2078-10-02",0.1,2.13842,0.1,2.13842,0.1,1.82548]
["1980-01-14",0,0,1,1980,3,0,{"$f":"IF(B4795<Parameters!$A$16,B4795*Parameters!$B$16,IF(AND(B4795>Parameters!$A$16,B4795<Parameters!$A$17),B4795*Parameters!$B$17,B4795*Parameters!$B$18))","v":0},{"$f":"IF(B4795<Parameters!$A$20,B4795*Parameters!$B$20,IF(AND(B4795>Parameters!$A$20,B4795<Parameters!$A$21),B4795*Parameters!$B$21,B4795*Parameters!$B$22))","v":0},0,"",0,"",0,6.4516129032258063E-2,1061.3585387540847,3.1863074288092562E-2,{"$f":"VLOOKUP($F4795,'Gegevens vergelijking'!$I$16:$Q$68,9,FALSE)","v":5.3886624347828569},-5.4205255090709494,-3.1863074288092562E-2,3335.6354648713191,0,0,5.3886624347828569,1,"","",0,0,0.53886624347828571,0,0,3.1863074288092561E-3,0.53886624347828571,-0.54205255090709492,"","","","","",-11.65412984450254,-11.65412984450254,0,null,null,null,null,null,null,null,null,null,null,null,null,null,null,null,null,null,null,null,null,null,"1980-01-14",0,0,null,"1988-01-13",0.2,0.72499999999999998,null,"2019-01-13",0,0,0,0,0,0,null,"2029-01-12",0,0,0,0,0,0,null,"2079-01-13",0,0,0,0,0,0]
["1980-02-29",0,0.503,2,1980,9,0,{"$f":"IF(B4841<Parameters!$A$16,B4841*Parameters!$B$16,IF(AND(B4841>Parameters!$A$16,B4841<Parameters!$A$17),B4841*Parameters!$B$17,B4841*Parameters!$B$18))","v":0},{"$f":"IF(B4841<Parameters!$A$20,B4841*Parameters!$B$20,IF(AND(B4841>Parameters!$A$20,B4841<Parameters!$A$21),B4841*Parameters!$B$21,B4841*Parameters!$B$22))","v":0},0,"",0,"",0,0.4672857142857143,1098.181000321403,0.238970816934302,{"$f":"VLOOKUP($F4841,'Gegevens vergelijking'!$I$16:$Q$68,9,FALSE)","v":14.865981240331427},-15.104952057265729,-0.238970816934302,3752.8430921290906,0,0,14.865981240331427,1,"","",0,0,1.4865981240331427,0,{"$f":"V4841/10","v":0},2.3897081693430199E-2,1.4865981240331427,-1.510495205726573,"","","","","",-32.475646923121317,-32.475646923121317,0,null,null,null,null,null,null,null,null,null,null,null,null,null,null,null,null,null,null,null,null,null,"1980-02-29",0,0.503,null,"1988-02-28",3.9,0.622,null,"2019-02-28",0.26,0.48094999999999999,0.22,0.45712999999999998,0.18,0.43347000000000002,null,"2029-02-27",0.27,0.49292999999999998,0.22,0.46231,0.18,0.43189,null,"2079-02-28",0.34,0.55284999999999995,0.25,0.48820999999999998,0.16,0.42398999999999998]
["1980-04-08",1.1000000000000001,1.5589999999999999,4,1980,15,1.1000000000000001,{"$f":"IF(B4880<Parameters!$A$16,B4880*Parameters!$B$16,IF(AND(B4880>Parameters!$A$16,B4880<Parameters!$A$17),B4880*Parameters!$B$17,B4880*Parameters!$B$18))","v":0.88000000000000012},{"$f":"IF(B4880<Parameters!$A$20,B4880*Parameters!$B$20,IF(AND(B4880>Parameters!$A$20,B4880<Parameters!$A$21),B4880*Parameters!$B$21,B4880*Parameters!$B$22))","v":0.66},13.327906976744188,1.2116279069767444,10.82093023255814,0.81190019193857954,2.5069767441860478,1.3923333333333332,1142.9771026806648,0.74126558103938178,{"$f":"VLOOKUP($F4880,'Gegevens vergelijking'!$I$16:$Q$68,9,FALSE)","v":28.925363264788576},-18.845698613269818,10.079664651518758,4260.394048263197,0,0,28.925363264788576,1,2.6295784786171432,1.2116279069767444,1.3327906976744188,1.0820930232558141,2.8925363264788575,0.2506976744186048,0,7.4126558103938173E-2,2.8925363264788575,-1.8845698613269815,0.18809980806142043,0,6.8502944304090707E-2,2.6730939617148262,-1.7415969060189167,-40.518252018530106,0,-40.518252018530106,null,null,null,null,null,null,null,null,null,null,null,null,null,null,null,null,null,null,null,null,null,"1980-04-08",1.1000000000000001,1.5589999999999999,null,"1988-04-07",0,2.76,null,"2019-04-08",0,1.33525,0,1.33525,0,1.27756,null,"2029-04-07",0,1.3459000000000001,0,1.3459000000000001,0,1.27172,null,"2079-04-08",0,1.3991100000000001,0,1.3991100000000001,0,1.24251]
["1980-07-26",0,4.6239999999999997,7,1980,30,0,{"$f":"IF(B4989<Parameters!$A$16,B4989*Parameters!$B$16,IF(AND(B4989>Parameters!$A$16,B4989<Parameters!$A$17),B4989*Parameters!$B$17,B4989*Parameters!$B$18))","v":0},{"$f":"IF(B4989<Parameters!$A$20,B4989*Parameters!$B$20,IF(AND(B4989>Parameters!$A$20,B4989<Parameters!$A$21),B4989*Parameters!$B$21,B4989*Parameters!$B$22))","v":0},0,"",0,"",0,4.5917419354838707,1116.863506139613,2.3929793636050016,{"$f":"VLOOKUP($F4989,'Gegevens vergelijking'!$I$16:$Q$68,9,FALSE)","v":38.460966477868567},-40.853945841473568,-2.3929793636050016,3964.5205192178541,0,0,38.460966477868567,1,"","",0,0,3.8460966477868568,0,0,0.23929793636050017,3.8460966477868568,-4.0853945841473571,"","","","","",-87.83598355916817,0,-87.83598355916817,null,null,null,null,null,null,null,null,null,null,null,null,null,null,null,null,null,null,null,null,null,"1980-07-26",0,4.6239999999999997,null,"1988-07-25",0,5.577,null,"2019-07-26",0,5.5872700000000002,0,5.3909500000000001,0,5.1946300000000001,null,"2029-07-25",0,5.7133500000000002,0,5.4609399999999999,0,5.20852,null,"2079-07-26",0,6.3437299999999999,0,5.8108599999999999,0,5.27799]
["1980-09-03",0.1,4.1929999999999996,9,{"$f":"IF(AND((F5027>1),(F5028=1)),E5027+1,E5027)","v":1980},36,{"$f":"B5028","v":0.1},{"$f":"IF(B5028<Parameters!$A$16,B5028*Parameters!$B$16,IF(AND(B5028>Parameters!$A$16,B5028<Parameters!$A$17),B5028*Parameters!$B$17,B5028*Parameters!$B$18))","v":0},{"$f":"IF(B5028<Parameters!$A$20,B5028*Parameters!$B$20,IF(AND(B5028>Parameters!$A$20,B5028<Parameters!$A$21),B5028*Parameters!$B$21,B5028*Parameters!$B$22))","v":0},1.2116279069767442,1.2116279069767442,{"$f":"IF(B5028=0,0,SUM(B5028*$D$3+H5028*$B$3+I5028*$C$3)/$E$3*10)","v":0.13023255813953488},0.10748560460652591,1.0813953488372092,{"$f":"IF(OR($D5028=1,$D5028=12,$D5028=8),C5028+(2/31),IF($D5028=2,C5028-(1/28),IF($D5028=3,C5028-(3/31),IF($D5028=4,C5028-(5/30),IF($D5028=5,C5028-(6/31),IF($D5028=6,C5028-(4/30),IF($D5028=7,C5028-(1/31),IF($D5028=9,C5028+(4/30),IF($D5028=10,C5028+(5/31),IF($D5028=11,C5028+(5/30)))))))))))","v":4.3263333333333334},{"$f":"-(($BH$3-$BI$3)*($AN$3+$AK$3-U5028)/($AK$3)-$BH$3)","v":1073.0397782869859},2.1649162944074738,{"$f":"VLOOKUP($F5028,'Gegevens vergelijking'!$I$16:$Q$68,9,FALSE)","v":30.026641895863097},-32.061325632131037,{"$f":"L5028-Q5028","v":-2.0346837362679389},{"$f":"IF(U5027<$AN$3,U5027+T5028,IF(AND((U5027>$AN$3),(SUM(U5027+S5028)<$AN$3)),SUM($AN$3+T5028),IF((SUM(U5027+S5028)>($AN$3+$AK$3)),$AN$3+$AK$3,U5027+S5028)))","v":3467.9868075440991},0,0,{"$f":"R5028-W5028","v":30.026641895863097},1,30.026641895863097,{"$f":"K5028","v":1.2116279069767442},0.12116279069767441,1.3023255813953489E-2,{"$f":"X5028/10","v":3.0026641895863095},0.10813953488372093,0,0.21649162944074737,3.0026641895863095,-3.2061325632131035,0.8925143953934741,{"$f":"IF(AB5028=0,\"\",AF5028/AB5028)","v":0},16.623464403485958,230.56171455752019,-246.18517896100616,{"$f":"AI5028*$E$5/1000","v":-68.931850109081736},{"$f":"IF(OR(F5028<=13,F5028>=40),VALUE(AO5028),0)","v":0},{"$f":"IF(OR(F5028<=13,F5028>=40),0,VALUE(AO5028))","v":-68.931850109081736},null,null,null,null,null,null,null,null,null,null,null,null,null,null,null,null,null,null,null,null,null,"1980-09-03",0.1,4.1929999999999996,null,"1988-09-02",3.5,2.3279999999999998,null,"2019-09-03",0,4.1756500000000001,0,4.1756500000000001,0,4.0016699999999998,null,"2029-09-02",0,4.2504099999999996,0,4.2504099999999996,0,4.0267200000000001,null,"2079-09-03",0,4.6242000000000001,0,4.6242000000000001,0,4.1519700000000004]
["1980-12-17",12.3,0.28499999999999998,12,1980,51,12.3,{"$f":"IF(B5133<Parameters!$A$16,B5133*Parameters!$B$16,IF(AND(B5133>Parameters!$A$16,B5133<Parameters!$A$17),B5133*Parameters!$B$17,B5133*Parameters!$B$18))","v":11.685},{"$f":"IF(B5133<Parameters!$A$20,B5133*Parameters!$B$20,IF(AND(B5133>Parameters!$A$20,B5133<Parameters!$A$21),B5133*Parameters!$B$21,B5133*Parameters!$B$22))","v":9.2250000000000014},149.03023255813955,1.2116279069767442,140.94941860465116,0.94577735124760065,8.0808139534883878,0.34951612903225804,1136.6645922088135,0.1828574236414035,{"$f":"VLOOKUP($F5133,'Gegevens vergelijking'!$I$16:$Q$68,9,FALSE)","v":6.5880102040816331},134.17855097692814,140.76656118100976,4188.8717381322958,0,0,6.5880102040816331,1,5.3561058569769372E-2,1.2116279069767442,14.903023255813954,14.094941860465116,0.65880102040816335,0.80808139534883883,0,1.828574236414035E-2,0.65880102040816335,13.417855097692813,5.4222648752399336E-2,0,1.2973265548139653E-3,4.6740243906648063E-2,0.95196242953853805,288.48388460039553,288.48388460039553,0,null,null,null,null,null,null,null,null,null,null,null,null,null,null,null,null,null,null,null,null,null,"1980-12-17",12.3,0.28499999999999998,null,"1988-12-16",1,0.22600000000000001,null,"2019-12-17",1.67,0.24807000000000001,1.39,0.23007,1.2,0.21198,null,"2029-12-16",1.73,0.25895000000000001,1.41,0.23580000000000001,1.18,0.21254999999999999,null,"2079-12-17",2.0699999999999998,0.31334000000000001,1.53,0.26445999999999997,1.1000000000000001,0.21539]
["1981-01-29",0.3,0.4,1,1981,5,0.3,{"$f":"IF(B5176<Parameters!$A$16,B5176*Parameters!$B$16,IF(AND(B5176>Parameters!$A$16,B5176<Parameters!$A$17),B5176*Parameters!$B$17,B5176*Parameters!$B$18))","v":0},{"$f":"IF(B5176<Parameters!$A$20,B5176*Parameters!$B$20,IF(AND(B5176>Parameters!$A$20,B5176<Parameters!$A$21),B5176*Parameters!$B$21,B5176*Parameters!$B$22))","v":0},3.6348837209302327,1.2116279069767442,0.39069767441860465,0.10748560460652591,3.2441860465116279,0.46451612903225808,1257.7051140813269,0.27188734521226487,{"$f":"VLOOKUP($F5176,'Gegevens vergelijking'!$I$16:$Q$68,9,FALSE)","v":8.2529179304628588},-8.1341076012565185,0.11881032920633977,5560.2908878312364,0,0,8.2529179304628588,1,2.7509726434876196,1.2116279069767442,0.36348837209302326,3.9069767441860463E-2,0.82529179304628586,0.32441860465116279,0,2.7188734521226488E-2,0.82529179304628586,-0.81341076012565183,0.8925143953934741,0,0.69590213357901132,21.123539941065651,-20.819442074644662,-17.488331342701514,-17.488331342701514,0,null,null,null,null,null,null,null,null,null,null,null,null,null,null,null,null,null,null,null,null,null,"1981-01-29",0.3,0.4,null,"1989-01-28",0,0.69499999999999995,null,"2020-01-29",0.75,0.39195999999999998,0.63,0.36808999999999997,0.55000000000000004,0.34422000000000003,null,"2030-01-28",0.78,0.40651999999999999,0.64,0.37583,0.54,0.34514,null,"2080-01-29",0.94,0.47932999999999998,0.68,0.41454000000000002,0.5,0.34975000000000001]
["1981-03-09",23.2,0.69199999999999995,3,1981,11,23.2,{"$f":"IF(B5215<Parameters!$A$16,B5215*Parameters!$B$16,IF(AND(B5215>Parameters!$A$16,B5215<Parameters!$A$17),B5215*Parameters!$B$17,B5215*Parameters!$B$18))","v":22.04},{"$f":"IF(B5215<Parameters!$A$20,B5215*Parameters!$B$20,IF(AND(B5215>Parameters!$A$20,B5215<Parameters!$A$21),B5215*Parameters!$B$21,B5215*Parameters!$B$22))","v":17.399999999999999},281.09767441860464,1.2116279069767442,265.85581395348834,0.94577735124760065,15.241860465116304,0.59522580645161283,1271.7953488372093,0.35138774391925398,{"$f":"VLOOKUP($F5215,'Gegevens vergelijking'!$I$16:$Q$68,9,FALSE)","v":19.509069665199995},245.99535654436909,265.50442620956909,5719.9367441860477,217.02828364545621,0,19.509069665199995,1,8.4090817522413777E-2,1.2116279069767442,28.109767441860463,26.585581395348832,1.9509069665199994,1.5241860465116304,21.702828364545621,3.5138774391925399E-2,1.9509069665199994,2.8967072898912867,5.4222648752399322E-2,0.77207427665254302,1.3217229997487645E-3,7.3382144159589907E-2,0.10895783119484714,62.279206732662665,62.279206732662665,0,null,null,null,null,null,null,null,null,null,null,null,null,null,null,null,null,null,null,null,null,null,"1981-03-09",23.2,0.69199999999999995,null,"1989-03-08",7.2,1.228,null,"2020-03-08",4.38,1.0740499999999999,4.38,1.0740499999999999,4.38,1.01,null,"2030-03-08",4.43,1.0769299999999999,4.43,1.0769299999999999,4.43,0.99456999999999995,null,"2080-03-08",4.6900000000000004,1.0912900000000001,4.6900000000000004,1.0912900000000001,4.6900000000000004,0.91742999999999997]
["1981-06-26",12,1.375,6,1981,26,12,{"$f":"IF(B5324<Parameters!$A$16,B5324*Parameters!$B$16,IF(AND(B5324>Parameters!$A$16,B5324<Parameters!$A$17),B5324*Parameters!$B$17,B5324*Parameters!$B$18))","v":11.399999999999999},{"$f":"IF(B5324<Parameters!$A$20,B5324*Parameters!$B$20,IF(AND(B5324>Parameters!$A$20,B5324<Parameters!$A$21),B5324*Parameters!$B$21,B5324*Parameters!$B$22))","v":9},145.3953488372093,1.2116279069767442,137.51162790697674,0.94577735124760076,7.8837209302325562,1.2416666666666667,1170.7009892211133,0.6713492336555662,{"$f":"VLOOKUP($F5324,'Gegevens vergelijking'!$I$16:$Q$68,9,FALSE)","v":43.586624781491437},93.253653891829742,136.84027867332117,4574.5125626041863,0,0,43.586624781491437,1,0.36322187317909532,1.2116279069767442,14.539534883720929,13.751162790697673,4.3586624781491441,0.78837209302325562,0,6.7134923365556626E-2,4.3586624781491441,9.3253653891829735,5.4222648752399225E-2,0,4.8821270162674362E-3,0.31696682996856623,0.67815104301516638,200.49535586743394,0,200.49535586743394,null,null,null,null,null,null,null,null,null,null,null,null,null,null,null,null,null,null,null,null,null,"1981-06-26",12,1.375,null,"1989-06-25",0,6.4180000000000001,null,"2020-06-25",0,2.8872900000000001,2.8,2.7603399999999998,0,2.6417999999999999,null,"2030-06-25",0,2.95024,2.73,2.7870200000000001,0,2.6345999999999998,null,"2080-06-25",1.58,3.2649400000000002,0,2.9203700000000001,1.58,2.5985900000000002]
["1981-08-04",0,4.3620000000000001,8,1981,32,0,{"$f":"IF(B5363<Parameters!$A$16,B5363*Parameters!$B$16,IF(AND(B5363>Parameters!$A$16,B5363<Parameters!$A$17),B5363*Parameters!$B$17,B5363*Parameters!$B$18))","v":0},{"$f":"IF(B5363<Parameters!$A$20,B5363*Parameters!$B$20,IF(AND(B5363>Parameters!$A$20,B5363<Parameters!$A$21),B5363*Parameters!$B$21,B5363*Parameters!$B$22))","v":0},0,"",0,"",0,4.4265161290322581,1138.6709093942266,2.3511765502218793,{"$f":"VLOOKUP($F5363,'Gegevens vergelijking'!$I$16:$Q$68,9,FALSE)","v":35.235564143205707},-37.586740693427586,-2.3511765502218793,4211.6038097218725,0,0,35.235564143205707,1,"","",0,0,3.5235564143205709,0,0,0.23511765502218793,3.5235564143205709,-3.7586740693427587,"","","","","",-80.811492490869313,0,-80.811492490869313,null,null,null,null,null,null,null,null,null,null,null,null,null,null,null,null,null,null,null,null,null,"1981-08-04",0,4.3620000000000001,null,"1989-08-03",0,3.0430000000000001,null,"2020-08-03",0.09,3.0349599999999999,0.12,2.91357,0.09,2.79217,null,"2030-08-03",0.09,3.12181,0.1,2.9657300000000002,0.09,2.80965,null,"2080-08-03",0,3.5560399999999999,0,3.22654,0,2.8970400000000001]
["1981-11-17",1.6,0.22,11,1981,47,1.6,{"$f":"IF(B5468<Parameters!$A$16,B5468*Parameters!$B$16,IF(AND(B5468>Parameters!$A$16,B5468<Parameters!$A$17),B5468*Parameters!$B$17,B5468*Parameters!$B$18))","v":1.2800000000000002},{"$f":"IF(B5468<Parameters!$A$20,B5468*Parameters!$B$20,IF(AND(B5468>Parameters!$A$20,B5468<Parameters!$A$21),B5468*Parameters!$B$21,B5468*Parameters!$B$22))","v":0.96},19.386046511627907,1.2116279069767442,15.739534883720934,0.81190019193857987,3.6465116279069729,0.38666666666666666,1166.3209408240707,0.20962447312010946,{"$f":"VLOOKUP($F5468,'Gegevens vergelijking'!$I$16:$Q$68,9,FALSE)","v":7.1842085238095228},8.3457018867913018,15.529910410600824,4524.8855273321524,0,0,7.1842085238095228,1,0.44901303273809517,1.2116279069767442,1.9386046511627906,1.5739534883720934,0.71842085238095232,0.36465116279069731,0,2.0962447312010947E-2,0.71842085238095232,0.83457018867913013,0.18809980806142018,0,1.3318339752016408E-2,0.45644350845716525,0.53023815179081835,17.943259056601299,17.943259056601299,0,null,null,null,null,null,null,null,null,null,null,null,null,null,null,null,null,null,null,null,null,null,"1981-11-17",1.6,0.22,null,"1989-11-16",0,0.499,null,"2020-11-16",0,0.87907999999999997,0,0.87907999999999997,0,0.81620999999999999,null,"2030-11-16",0,0.89481999999999995,0,0.89481999999999995,0,0.81398999999999999,null,"2080-11-16",0,0.97350999999999999,0,0.97350999999999999,0,0.80286000000000002]
["1982-01-22",3,0.112,1,1982,3,3,{"$f":"IF(B5534<Parameters!$A$16,B5534*Parameters!$B$16,IF(AND(B5534>Parameters!$A$16,B5534<Parameters!$A$17),B5534*Parameters!$B$17,B5534*Parameters!$B$18))","v":2.8499999999999996},{"$f":"IF(B5534<Parameters!$A$20,B5534*Parameters!$B$20,IF(AND(B5534>Parameters!$A$20,B5534<Parameters!$A$21),B5534*Parameters!$B$21,B5534*Parameters!$B$22))","v":2.25},36.348837209302324,1.2116279069767442,34.377906976744185,0.94577735124760076,1.970930232558139,0.17651612903225805,1270.0017284664459,0.10405850282280164,{"$f":"VLOOKUP($F5534,'Gegevens vergelijking'!$I$16:$Q$68,9,FALSE)","v":5.3886624347828569},28.885186039138524,34.273848473921383,5699.6145802883575,0,0,5.3886624347828569,1,0.17962208115942857,1.2116279069767442,3.6348837209302323,3.4377906976744184,0.53886624347828571,0.1970930232558139,0,1.0405850282280164E-2,0.53886624347828571,2.8885186039138526,5.4222648752399225E-2,0,3.0269004710843706E-3,0.15674783338113504,0.84022526614778059,62.103149984147827,62.103149984147827,0,null,null,null,null,null,null,null,null,null,null,null,null,null,null,null,null,null,null,null,null,null,"1982-01-22",3,0.112,null,"1990-01-21",0,0.83299999999999996,null,"2021-01-21",0.75,0.21954000000000001,0.63,0.20616999999999999,0.55000000000000004,0.1928,null,"2031-01-21",0.78,0.22770000000000001,0.64,0.21051,0.54,0.19331999999999999,null,"2081-01-21",0.95,0.26848,0.68,0.23219000000000001,0.5,0.19589999999999999]
["1982-02-08",4.5,0.76700000000000002,2,1982,6,4.5,{"$f":"IF(B5551<Parameters!$A$16,B5551*Parameters!$B$16,IF(AND(B5551>Parameters!$A$16,B5551<Parameters!$A$17),B5551*Parameters!$B$17,B5551*Parameters!$B$18))","v":4.2749999999999995},{"$f":"IF(B5551<Parameters!$A$20,B5551*Parameters!$B$20,IF(AND(B5551>Parameters!$A$20,B5551<Parameters!$A$21),B5551*Parameters!$B$21,B5551*Parameters!$B$22))","v":3.375},54.52325581395349,1.2116279069767442,51.566860465116271,0.94577735124760054,2.9563953488372192,0.73128571428571432,1271.7953488372093,0.43178042819199169,{"$f":"VLOOKUP($F5551,'Gegevens vergelijking'!$I$16:$Q$68,9,FALSE)","v":9.1430429772914277},41.99203705963285,51.135080036924279,5719.9367441860477,15.376364689501315,0,9.1430429772914277,1,0.20317873282869839,1.2116279069767442,5.4523255813953488,5.1566860465116271,0.91430429772914279,0.29563953488372191,1.5376364689501316,4.3178042819199167E-2,0.91430429772914279,2.6615672370131538,5.4222648752399412E-2,0.28201479276969782,8.3732153615223605E-3,0.17730462732895044,0.51613908874937997,57.2236955957828,57.2236955957828,0,null,null,null,null,null,null,null,null,null,null,null,null,null,null,null,null,null,null,null,null,null,"1982-02-08",4.5,0.76700000000000002,null,"1990-02-07",0.6,1.359,null,"2021-02-07",0,0.55215999999999998,0,0.52481999999999995,0,0.49764999999999998,null,"2031-02-07",0,0.56591999999999998,0,0.53076000000000001,0,0.49584,null,"2081-02-07",0,0.63471,0,0.5605,0,0.48676000000000003]
["1982-05-24",0,2.4369999999999998,5,1982,21,0,{"$f":"IF(B5656<Parameters!$A$16,B5656*Parameters!$B$16,IF(AND(B5656>Parameters!$A$16,B5656<Parameters!$A$17),B5656*Parameters!$B$17,B5656*Parameters!$B$18))","v":0},{"$f":"IF(B5656<Parameters!$A$20,B5656*Parameters!$B$20,IF(AND(B5656>Parameters!$A$20,B5656<Parameters!$A$21),B5656*Parameters!$B$21,B5656*Parameters!$B$22))","v":0},0,"",0,"",0,2.2434516129032258,1175.1130855398417,1.2298557138692936,{"$f":"VLOOKUP($F5656,'Gegevens vergelijking'!$I$16:$Q$68,9,FALSE)","v":38.569226396674274},-39.799082110543566,-1.2298557138692936,4624.5027087817889,0,0,38.569226396674274,1,"","",0,0,3.8569226396674274,0,0,0.12298557138692937,3.8569226396674274,-3.9799082110543567,"","","","","",-85.568026537668672,0,-85.568026537668672,null,null,null,null,null,null,null,null,null,null,null,null,null,null,null,null,null,null,null,null,null,"1982-05-24",0,2.4369999999999998,null,"1990-05-23",0,5.2720000000000002,null,"2021-05-23",6.74,2.6324100000000001,6.74,2.6324100000000001,6.74,2.51207,null,"2031-05-23",6.69,2.6622400000000002,6.69,2.6622400000000002,6.69,2.50752,null,"2081-05-23",6.53,2.8113899999999998,6.53,2.8113899999999998,6.53,2.4847700000000001]
["1982-07-06",0,3.5950000000000002,7,1982,27,0,{"$f":"IF(B5699<Parameters!$A$16,B5699*Parameters!$B$16,IF(AND(B5699>Parameters!$A$16,B5699<Parameters!$A$17),B5699*Parameters!$B$17,B5699*Parameters!$B$18))","v":0},{"$f":"IF(B5699<Parameters!$A$20,B5699*Parameters!$B$20,IF(AND(B5699>Parameters!$A$20,B5699<Parameters!$A$21),B5699*Parameters!$B$21,B5699*Parameters!$B$22))","v":0},0,"",0,"",0,3.5627419354838712,1130.9487574133941,1.8808228357045529,{"$f":"VLOOKUP($F5699,'Gegevens vergelijking'!$I$16:$Q$68,9,FALSE)","v":44.20203263918858},-46.082855474893137,-1.8808228357045529,4124.1099114837789,0,0,44.20203263918858,1,"","",0,0,4.4202032639188582,0,0,0.18808228357045528,4.4202032639188582,-4.6082855474893138,"","","","","",-99.078139271020248,0,-99.078139271020248,null,null,null,null,null,null,null,null,null,null,null,null,null,null,null,null,null,null,null,null,null,"1982-07-06",0,3.5950000000000002,null,"1990-07-05",4.3,1.893,null,"2021-07-05",0,4.0509300000000001,0,3.9085999999999999,0,3.7662599999999999,null,"2031-07-05",0,4.1423399999999999,0,3.9593400000000001,0,3.7763300000000002,null,"2081-07-05",0,4.5993899999999996,0,4.21305,0,3.8267000000000002]
["1982-08-14",1.5,3.7029999999999998,8,1982,32,1.5,{"$f":"IF(B5738<Parameters!$A$16,B5738*Parameters!$B$16,IF(AND(B5738>Parameters!$A$16,B5738<Parameters!$A$17),B5738*Parameters!$B$17,B5738*Parameters!$B$18))","v":1.2000000000000002},{"$f":"IF(B5738<Parameters!$A$20,B5738*Parameters!$B$20,IF(AND(B5738>Parameters!$A$20,B5738<Parameters!$A$21),B5738*Parameters!$B$21,B5738*Parameters!$B$22))","v":0.89999999999999991},18.174418604651162,1.2116279069767442,14.755813953488374,0.81190019193857976,3.4186046511627879,3.7675161290322579,1036.9519809101453,1.8205342178040187,{"$f":"VLOOKUP($F5738,'Gegevens vergelijking'!$I$16:$Q$68,9,FALSE)","v":35.235564143205707},-22.300284407521353,12.935279735684356,3059.1031078754736,0,0,35.235564143205707,1,2.3490376095470471,1.2116279069767442,1.8174418604651161,1.4755813953488375,3.5235564143205709,0.34186046511627877,0,0.18205342178040188,3.5235564143205709,-2.2300284407521351,0.18809980806142018,0,0.12337741743983104,2.3879105723527898,-1.5112879897926208,-47.945611476170903,0,-47.945611476170903,null,null,null,null,null,null,null,null,null,null,null,null,null,null,null,null,null,null,null,null,null,"1982-08-14",1.5,3.7029999999999998,null,"1990-08-13",0,5.0890000000000004,null,"2021-08-13",3.23,2.4604200000000001,4.3600000000000003,2.3620100000000002,3.23,2.2635900000000002,null,"2031-08-13",2.98,2.5308199999999998,4.2699999999999996,2.40429,2.98,2.2777599999999998,null,"2081-08-13",0,2.8828499999999999,0,2.6157300000000001,0,2.3486099999999999]
["1982-12-01",0,0.14199999999999999,12,1982,48,0,{"$f":"IF(B5847<Parameters!$A$16,B5847*Parameters!$B$16,IF(AND(B5847>Parameters!$A$16,B5847<Parameters!$A$17),B5847*Parameters!$B$17,B5847*Parameters!$B$18))","v":0},{"$f":"IF(B5847<Parameters!$A$20,B5847*Parameters!$B$20,IF(AND(B5847>Parameters!$A$20,B5847<Parameters!$A$21),B5847*Parameters!$B$21,B5847*Parameters!$B$22))","v":0},0,"",0,"",0,0.20651612903225805,1122.3429198476865,0.10788002509357532,{"$f":"VLOOKUP($F5847,'Gegevens vergelijking'!$I$16:$Q$68,9,FALSE)","v":8.6779285714285717},-8.7858085965221466,-0.10788002509357532,4026.6036362775262,0,0,8.6779285714285717,1,"","",0,0,0.86779285714285714,0,0,1.0788002509357532E-2,0.86779285714285714,-0.87858085965221466,"","","","","",-18.889488482522616,-18.889488482522616,0,null,null,null,null,null,null,null,null,null,null,null,null,null,null,null,null,null,null,null,null,null,"1982-12-01",0,0.14199999999999999,null,"1990-11-30",0,0.28499999999999998,null,"2021-11-30",0,0.26671,0,0.26671,0,0.24764,null,"2031-11-30",0,0.27149000000000001,0,0.27149000000000001,0,0.24696000000000001,null,"2081-11-30",0,0.29536000000000001,0,0.29536000000000001,0,0.24359]
["1983-01-09",0.6,0.29099999999999998,1,1983,1,0.6,{"$f":"IF(B5886<Parameters!$A$16,B5886*Parameters!$B$16,IF(AND(B5886>Parameters!$A$16,B5886<Parameters!$A$17),B5886*Parameters!$B$17,B5886*Parameters!$B$18))","v":0},{"$f":"IF(B5886<Parameters!$A$20,B5886*Parameters!$B$20,IF(AND(B5886>Parameters!$A$20,B5886<Parameters!$A$21),B5886*Parameters!$B$21,B5886*Parameters!$B$22))","v":0},7.2697674418604654,1.2116279069767442,0.78139534883720929,0.10748560460652591,6.4883720930232558,0.35551612903225804,1209.45322600334,0.2000273616620375,{"$f":"VLOOKUP($F5886,'Gegevens vergelijking'!$I$16:$Q$68,9,FALSE)","v":3.0894753415257137},-2.5081073543505421,0.5813679871751718,5013.5850219313943,0,0,3.0894753415257137,1,0.51491255692095228,1.2116279069767442,0.72697674418604652,7.8139534883720926E-2,0.30894753415257137,0.64883720930232558,0,2.0002736166203749E-2,0.30894753415257137,-0.25081073543505417,0.8925143953934741,0,0.25598739736510751,3.9537928477858837,-3.2097802451509909,-5.3924308118536644,-5.3924308118536644,0,null,null,null,null,null,null,null,null,null,null,null,null,null,null,null,null,null,null,null,null,null,"1983-01-09",0.6,0.29099999999999998,null,"1991-01-08",10.7,0.63200000000000001,null,"2022-01-08",3.08,0.34598000000000001,2.62,0.32490999999999998,2.31,0.30384,null,"2032-01-08",3.19,0.35883999999999999,2.66,0.33174999999999999,2.29,0.30465999999999999,null,"2082-01-08",3.75,0.42309999999999998,2.83,0.36591000000000001,2.1800000000000002,0.30871999999999999]
["1983-04-24",0.1,3.722,4,1983,16,0.1,{"$f":"IF(B5991<Parameters!$A$16,B5991*Parameters!$B$16,IF(AND(B5991>Parameters!$A$16,B5991<Parameters!$A$17),B5991*Parameters!$B$17,B5991*Parameters!$B$18))","v":0},{"$f":"IF(B5991<Parameters!$A$20,B5991*Parameters!$B$20,IF(AND(B5991>Parameters!$A$20,B5991<Parameters!$A$21),B5991*Parameters!$B$21,B5991*Parameters!$B$22))","v":0},1.2116279069767442,1.2116279069767442,0.13023255813953488,0.10748560460652591,1.0813953488372092,3.5553333333333335,1255.6181757309882,2.0814049243234547,{"$f":"VLOOKUP($F5991,'Gegevens vergelijking'!$I$16:$Q$68,9,FALSE)","v":32.719747675074295},-34.670920041258221,-1.9511723661839198,5536.6453584364608,0,0,32.719747675074295,1,32.719747675074295,1.2116279069767442,0.12116279069767441,1.3023255813953489E-2,3.2719747675074293,0.10813953488372093,0,0.20814049243234548,3.2719747675074293,-3.4670920041258215,0.8925143953934741,0,15.982216383197956,251.24091964789187,-266.22313603108984,-74.542478088705167,0,-74.542478088705167,null,null,null,null,null,null,null,null,null,null,null,null,null,null,null,null,null,null,null,null,null,"1983-04-24",0.1,3.722,null,"1991-04-23",1.2,1.7010000000000001,null,"2022-04-23",5.94,1.6592899999999999,5.94,1.6592899999999999,5.94,1.5875999999999999,null,"2032-04-22",5.96,1.67252,5.96,1.67252,5.96,1.5803400000000001,null,"2082-04-23",5.99,1.73865,5.99,1.73865,5.99,1.5440400000000001]
["1983-06-06",0,5.492,6,1983,23,0,{"$f":"IF(B6034<Parameters!$A$16,B6034*Parameters!$B$16,IF(AND(B6034>Parameters!$A$16,B6034<Parameters!$A$17),B6034*Parameters!$B$17,B6034*Parameters!$B$18))","v":0},{"$f":"IF(B6034<Parameters!$A$20,B6034*Parameters!$B$20,IF(AND(B6034>Parameters!$A$20,B6034<Parameters!$A$21),B6034*Parameters!$B$21,B6034*Parameters!$B$22))","v":0},0,"",0,"",0,5.3586666666666662,1256.2802447029781,3.1407109680481158,{"$f":"VLOOKUP($F6034,'Gegevens vergelijking'!$I$16:$Q$68,9,FALSE)","v":40.291810686080005},-43.432521654128124,-3.1407109680481158,5544.1467641852278,0,0,40.291810686080005,1,"","",0,0,4.0291810686080005,0,0,0.3140710968048116,4.0291810686080005,-4.343252165412812,"","","","","",-93.37992155637545,0,-93.37992155637545,null,null,null,null,null,null,null,null,null,null,null,null,null,null,null,null,null,null,null,null,null,"1983-06-06",0,5.492,null,"1991-06-05",0,4.1689999999999996,null,"2022-06-05",9.1999999999999993,3.92984,11.48,3.75705,9.1999999999999993,3.5956999999999999,null,"2032-06-04",8.93,4.0155099999999999,11.41,3.7933500000000002,8.93,3.5859000000000001,null,"2082-06-05",7.66,4.4438500000000003,0,3.97485,7.66,3.5368900000000001]
["1983-07-15",0,5.125,7,1983,28,0,{"$f":"IF(B6073<Parameters!$A$16,B6073*Parameters!$B$16,IF(AND(B6073>Parameters!$A$16,B6073<Parameters!$A$17),B6073*Parameters!$B$17,B6073*Parameters!$B$18))","v":0},{"$f":"IF(B6073<Parameters!$A$20,B6073*Parameters!$B$20,IF(AND(B6073>Parameters!$A$20,B6073<Parameters!$A$21),B6073*Parameters!$B$21,B6073*Parameters!$B$22))","v":0},0,"",0,"",0,5.092741935483871,1149.5490706224641,2.7314578231760125,{"$f":"VLOOKUP($F6073,'Gegevens vergelijking'!$I$16:$Q$68,9,FALSE)","v":37.932157990359997},-40.663615813536012,-2.7314578231760125,4334.8560759144329,0,0,37.932157990359997,1,"","",0,0,3.7932157990359996,0,0,0.27314578231760123,3.7932157990359996,-4.0663615813536005,"","","","","",-87.426773999102409,0,-87.426773999102409,null,null,null,null,null,null,null,null,null,null,null,null,null,null,null,null,null,null,null,null,null,"1983-07-15",0,5.125,null,"1991-07-14",2.2000000000000002,2.7589999999999999,null,"2022-07-14",0,5.4819500000000003,0,5.2893299999999996,0,5.0967099999999999,null,"2032-07-13",0,5.6056499999999998,0,5.3579999999999997,0,5.1103500000000004,null,"2082-07-14",0,6.2241499999999998,0,5.7013299999999996,0,5.1785100000000002]
["1983-10-28",1.2,0.45300000000000001,10,1983,43,1.2,{"$f":"IF(B6178<Parameters!$A$16,B6178*Parameters!$B$16,IF(AND(B6178>Parameters!$A$16,B6178<Parameters!$A$17),B6178*Parameters!$B$17,B6178*Parameters!$B$18))","v":0.96},{"$f":"IF(B6178<Parameters!$A$20,B6178*Parameters!$B$20,IF(AND(B6178>Parameters!$A$20,B6178<Parameters!$A$21),B6178*Parameters!$B$21,B6178*Parameters!$B$22))","v":0.72},14.539534883720931,1.2116279069767442,11.804651162790698,0.81190019193857965,2.7348837209302328,0.6142903225806452,981.46510547012713,0.28050977111929437,{"$f":"VLOOKUP($F6178,'Gegevens vergelijking'!$I$16:$Q$68,9,FALSE)","v":15.056100159581629},-3.5319587679102251,11.524141391671403,2430.423039761185,0,0,15.056100159581629,1,1.254675013298469,1.2116279069767442,1.453953488372093,1.1804651162790698,1.5056100159581629,0.27348837209302329,0,2.8050977111929436E-2,1.5056100159581629,-0.3531958767910226,0.18809980806142038,0,2.3762648065661262E-2,1.2754379567809497,-0.29920060484661093,-7.593711351006986,-7.593711351006986,0,null,null,null,null,null,null,null,null,null,null,null,null,null,null,null,null,null,null,null,null,null,"1983-10-28",1.2,0.45300000000000001,null,"1991-10-27",0,1.04,null,"2022-10-27",0,1.1778,0,1.1778,0,1.10748,null,"2032-10-26",0,1.19889,0,1.19889,0,1.1084700000000001,null,"2082-10-27",0,1.3043199999999999,0,1.3043199999999999,0,1.11344]
["1983-12-29",0.1,0.219,12,1983,52,0.1,{"$f":"IF(B6240<Parameters!$A$16,B6240*Parameters!$B$16,IF(AND(B6240>Parameters!$A$16,B6240<Parameters!$A$17),B6240*Parameters!$B$17,B6240*Parameters!$B$18))","v":0},{"$f":"IF(B6240<Parameters!$A$20,B6240*Parameters!$B$20,IF(AND(B6240>Parameters!$A$20,B6240<Parameters!$A$21),B6240*Parameters!$B$21,B6240*Parameters!$B$22))","v":0},1.2116279069767442,1.2116279069767442,0.13023255813953488,0.10748560460652591,1.0813953488372092,0.28351612903225809,1040.9804400219155,0.13727205623360664,{"$f":"VLOOKUP($F6240,'Gegevens vergelijking'!$I$16:$Q$68,9,FALSE)","v":0},-7.0394980940717555E-3,-7.0394980940717555E-3,3104.7465492965175,0,0,0,"",0,1.2116279069767442,0.12116279069767441,1.3023255813953489E-2,0,0.10813953488372093,0,1.3727205623360664E-2,0,-7.0394980940717555E-4,0.8925143953934741,0,1.0540532889366223,0,-5.405328893662241E-2,-1.5134920902254274E-2,-1.5134920902254274E-2,0,null,null,null,null,null,null,null,null,null,null,null,null,null,null,null,null,null,null,null,null,null,"1983-12-29",0.1,0.219,null,"1991-12-28",0,0.26800000000000002,null,"2022-12-28",0,0.49614999999999998,0,0.46012999999999998,0,0.42397000000000001,null,"2032-12-27",5.58,0.51790000000000003,0,0.47160000000000002,0,0.42509999999999998,null,"2082-12-28",11.92,0.62668000000000001,0,0.52893000000000001,0,0.43076999999999999]
["1984-03-25",1.8,1.542,3,1984,12,1.8,{"$f":"IF(B6327<Parameters!$A$16,B6327*Parameters!$B$16,IF(AND(B6327>Parameters!$A$16,B6327<Parameters!$A$17),B6327*Parameters!$B$17,B6327*Parameters!$B$18))","v":1.4400000000000002},{"$f":"IF(B6327<Parameters!$A$20,B6327*Parameters!$B$20,IF(AND(B6327>Parameters!$A$20,B6327<Parameters!$A$21),B6327*Parameters!$B$21,B6327*Parameters!$B$22))","v":1.08},21.809302325581395,1.2116279069767442,17.706976744186047,0.81190019193857965,4.1023255813953483,1.445225806451613,1173.1300251065168,0.78891014543338911,{"$f":"VLOOKUP($F6327,'Gegevens vergelijking'!$I$16:$Q$68,9,FALSE)","v":22.555070739851423},-5.6370041410987657,16.91806659875266,4602.0341419646638,0,0,22.555070739851423,1,1.2530594855473014,1.2116279069767442,2.1809302325581394,1.7706976744186047,2.2555070739851422,0.41023255813953485,0,7.8891014543338911E-2,2.2555070739851422,-0.56370041410987648,0.18809980806142035,0,4.4553633114835477E-2,1.2737956945279894,-0.31834932764282492,-12.119558903362345,-12.119558903362345,0,null,null,null,null,null,null,null,null,null,null,null,null,null,null,null,null,null,null,null,null,null,"1984-03-25",1.8,1.542,null,"1992-03-24",0.1,1.2410000000000001,null,"2023-03-25",4.2699999999999996,1.05992,4.2699999999999996,1.05992,4.2699999999999996,0.99670999999999998,null,"2033-03-24",4.32,1.0627599999999999,4.32,1.0627599999999999,4.32,0.98148999999999997,null,"2083-03-25",4.55,1.0769299999999999,4.55,1.0769299999999999,4.55,0.90536000000000005]
["1984-05-07",0,3.2370000000000001,5,1984,19,0,{"$f":"IF(B6370<Parameters!$A$16,B6370*Parameters!$B$16,IF(AND(B6370>Parameters!$A$16,B6370<Parameters!$A$17),B6370*Parameters!$B$17,B6370*Parameters!$B$18))","v":0},{"$f":"IF(B6370<Parameters!$A$20,B6370*Parameters!$B$20,IF(AND(B6370>Parameters!$A$20,B6370<Parameters!$A$21),B6370*Parameters!$B$21,B6370*Parameters!$B$22))","v":0},0,"",0,"",0,3.0434516129032261,1119.8828013676189,1.5899750908692758,{"$f":"VLOOKUP($F6370,'Gegevens vergelijking'!$I$16:$Q$68,9,FALSE)","v":36.149555012451422},-37.739530103320696,-1.5899750908692758,3998.7298834061826,0,0,36.149555012451422,1,"","",0,0,3.6149555012451424,0,0,0.15899750908692759,3.6149555012451424,-3.77395301033207,"","","","","",-81.139989722139504,0,-81.139989722139504,null,null,null,null,null,null,null,null,null,null,null,null,null,null,null,null,null,null,null,null,null,"1984-05-07",0,3.2370000000000001,null,"1992-05-06",0.2,3.7549999999999999,null,"2023-05-07",17.43,0.80491999999999997,17.43,0.80491999999999997,17.43,0.76812999999999998,null,"2033-05-06",17.53,0.81405000000000005,17.53,0.81405000000000005,17.53,0.76673999999999998,null,"2083-05-07",18.11,0.85965000000000003,18.11,0.85965000000000003,18.11,0.75978000000000001]
["1984-06-15",0,3.137,6,1984,24,0,{"$f":"IF(B6409<Parameters!$A$16,B6409*Parameters!$B$16,IF(AND(B6409>Parameters!$A$16,B6409<Parameters!$A$17),B6409*Parameters!$B$17,B6409*Parameters!$B$18))","v":0},{"$f":"IF(B6409<Parameters!$A$20,B6409*Parameters!$B$20,IF(AND(B6409>Parameters!$A$20,B6409<Parameters!$A$21),B6409*Parameters!$B$21,B6409*Parameters!$B$22))","v":0},0,"",0,"",0,3.0036666666666667,1126.7745219869284,1.5797792544277329,{"$f":"VLOOKUP($F6409,'Gegevens vergelijking'!$I$16:$Q$68,9,FALSE)","v":43.951162369211438},-45.530941623639173,-1.5797792544277329,4076.8147882420249,0,0,43.951162369211438,1,"","",0,0,4.3951162369211438,0,0,0.15797792544277328,4.3951162369211438,-4.5530941623639167,"","","","","",-97.89152449082421,0,-97.89152449082421,null,null,null,null,null,null,null,null,null,null,null,null,null,null,null,null,null,null,null,null,null,"1984-06-15",0,3.137,null,"1992-06-14",0,4.7549999999999999,null,"2023-06-15",1.54,0.87041000000000002,1.94,0.83213999999999999,1.54,0.7964,null,"2033-06-14",1.45,0.88937999999999995,1.9,0.84018000000000004,1.45,0.79422999999999999,null,"2083-06-15",1.0900000000000001,0.98426000000000002,1.69,0.88038000000000005,1.0900000000000001,0.78337999999999997]
["1984-09-28",0,2.427,9,1984,39,0,{"$f":"IF(B6514<Parameters!$A$16,B6514*Parameters!$B$16,IF(AND(B6514>Parameters!$A$16,B6514<Parameters!$A$17),B6514*Parameters!$B$17,B6514*Parameters!$B$18))","v":0},{"$f":"IF(B6514<Parameters!$A$20,B6514*Parameters!$B$20,IF(AND(B6514>Parameters!$A$20,B6514<Parameters!$A$21),B6514*Parameters!$B$21,B6514*Parameters!$B$22))","v":0},0,"",0,"",0,2.5603333333333333,1025.5824160625098,1.2238771520037484,{"$f":"VLOOKUP($F6514,'Gegevens vergelijking'!$I$16:$Q$68,9,FALSE)","v":23.128696279329194},-24.352573431332942,-1.2238771520037484,2930.2831167305744,0,0,23.128696279329194,1,"","",0,0,2.3128696279329195,0,0,0.12238771520037484,2.3128696279329195,-2.4352573431332942,"","","","","",-52.358032877365822,0,-52.358032877365822,null,null,null,null,null,null,null,null,null,null,null,null,null,null,null,null,null,null,null,null,null,"1984-09-28",0,2.427,null,"1992-09-27",0,2.5979999999999999,null,"2023-09-28",0,2.0110100000000002,0,2.0110100000000002,0,1.9272199999999999,null,"2033-09-27",0,2.0470199999999998,0,2.0470199999999998,0,1.93929,null,"2083-09-28",0,2.2270300000000001,0,2.2270300000000001,0,1.9996100000000001]
["1984-11-10",0,0.67700000000000005,11,1984,45,0,{"$f":"IF(B6557<Parameters!$A$16,B6557*Parameters!$B$16,IF(AND(B6557>Parameters!$A$16,B6557<Parameters!$A$17),B6557*Parameters!$B$17,B6557*Parameters!$B$18))","v":0},{"$f":"IF(B6557<Parameters!$A$20,B6557*Parameters!$B$20,IF(AND(B6557>Parameters!$A$20,B6557<Parameters!$A$21),B6557*Parameters!$B$21,B6557*Parameters!$B$22))","v":0},0,"",0,"",0,0.84366666666666668,1106.2588840270159,0.43449717400298526,{"$f":"VLOOKUP($F6557,'Gegevens vergelijking'!$I$16:$Q$68,9,FALSE)","v":11.050358269480521},-11.484855443483506,-0.43449717400298526,3844.3675190857643,0,0,11.050358269480521,1,"","",0,0,1.105035826948052,0,0,4.3449717400298529E-2,1.105035826948052,-1.1484855443483506,"","","","","",-24.692439203489538,-24.692439203489538,0,null,null,null,null,null,null,null,null,null,null,null,null,null,null,null,null,null,null,null,null,null,"1984-11-10",0,0.67700000000000005,null,"1992-11-09",1,0.16500000000000001,null,"2023-11-10",0,1.61948,0,1.61948,0,1.5036499999999999,null,"2033-11-09",0,1.6484700000000001,0,1.6484700000000001,0,1.49956,null,"2083-11-10",0,1.7934399999999999,0,1.7934399999999999,0,1.47906]
["1984-12-19",4.7,0.24299999999999999,12,1984,51,4.7,{"$f":"IF(B6596<Parameters!$A$16,B6596*Parameters!$B$16,IF(AND(B6596>Parameters!$A$16,B6596<Parameters!$A$17),B6596*Parameters!$B$17,B6596*Parameters!$B$18))","v":4.4649999999999999},{"$f":"IF(B6596<Parameters!$A$20,B6596*Parameters!$B$20,IF(AND(B6596>Parameters!$A$20,B6596<Parameters!$A$21),B6596*Parameters!$B$21,B6596*Parameters!$B$22))","v":3.5250000000000004},56.946511627906979,1.2116279069767442,53.858720930232558,0.94577735124760076,3.0877906976744214,0.30751612903225806,1171.0420551972782,0.16690040348076229,{"$f":"VLOOKUP($F6596,'Gegevens vergelijking'!$I$16:$Q$68,9,FALSE)","v":6.5880102040816331},47.103810322670164,53.691820526751798,4578.3769247515656,0,0,6.5880102040816331,1,0.1401704298740773,1.2116279069767442,5.6946511627906977,5.3858720930232558,0.65880102040816335,0.30877906976744213,0,1.6690040348076231E-2,0.65880102040816335,4.7103810322670157,5.422264875239928E-2,0,3.0988556838726553E-3,0.12232021277697259,0.87458093153915462,101.27319219374084,101.27319219374084,0,null,null,null,null,null,null,null,null,null,null,null,null,null,null,null,null,null,null,null,null,null,"1984-12-19",4.7,0.24299999999999999,null,"1992-12-18",5.7,0.83799999999999997,null,"2023-12-19",6.27,0.33903,5.39,0.31441999999999998,4.83,0.28971000000000002,null,"2033-12-18",6.46,0.35389999999999999,5.47,0.32225999999999999,4.8099999999999996,0.29049000000000003,null,"2083-12-19",7.47,0.42823,5.88,0.36142999999999997,4.71,0.29436000000000001]
["1985-04-07",11.7,1.1830000000000001,4,1985,14,11.7,{"$f":"IF(B6705<Parameters!$A$16,B6705*Parameters!$B$16,IF(AND(B6705>Parameters!$A$16,B6705<Parameters!$A$17),B6705*Parameters!$B$17,B6705*Parameters!$B$18))","v":11.114999999999998},{"$f":"IF(B6705<Parameters!$A$20,B6705*Parameters!$B$20,IF(AND(B6705>Parameters!$A$20,B6705<Parameters!$A$21),B6705*Parameters!$B$21,B6705*Parameters!$B$22))","v":8.7749999999999986},141.76046511627908,1.2116279069767442,134.0738372093023,0.94577735124760054,7.6866279069767813,1.0163333333333333,1260.4048617176632,0.59136822825750401,{"$f":"VLOOKUP($F6705,'Gegevens vergelijking'!$I$16:$Q$68,9,FALSE)","v":27.019937776034283},106.46253120501051,133.4824689810448,5590.8796985084209,0,0,27.019937776034283,1,0.23093963911140414,1.2116279069767442,14.176046511627908,13.40738372093023,2.7019937776034282,0.76866279069767818,0,5.9136822825750404E-2,2.7019937776034282,10.646253120501051,5.4222648752399495E-2,0,4.4107652959489829E-3,0.20153027867661855,0.79405895602743237,228.8944420907726,0,228.8944420907726,null,null,null,null,null,null,null,null,null,null,null,null,null,null,null,null,null,null,null,null,null,"1985-04-07",11.7,1.1830000000000001,null,"1993-04-06",1,1.1559999999999999,null,"2024-04-06",23.36,1.54305,23.36,1.54305,23.36,1.47638,null,"2034-04-06",23.63,1.55535,23.63,1.55535,23.63,1.4696199999999999,null,"2084-04-06",25.02,1.6168499999999999,25.02,1.6168499999999999,25.02,1.43587]
["1985-05-16",0,4.4980000000000002,5,1985,20,0,{"$f":"IF(B6744<Parameters!$A$16,B6744*Parameters!$B$16,IF(AND(B6744>Parameters!$A$16,B6744<Parameters!$A$17),B6744*Parameters!$B$17,B6744*Parameters!$B$18))","v":0},{"$f":"IF(B6744<Parameters!$A$20,B6744*Parameters!$B$20,IF(AND(B6744>Parameters!$A$20,B6744<Parameters!$A$21),B6744*Parameters!$B$21,B6744*Parameters!$B$22))","v":0},0,"",0,"",0,4.3044516129032262,1222.2630743165851,2.4540122316007973,{"$f":"VLOOKUP($F6744,'Gegevens vergelijking'!$I$16:$Q$68,9,FALSE)","v":36.908247477731429},-39.362259709332228,-2.4540122316007973,5158.7237821560584,0,0,36.908247477731429,1,"","",0,0,3.6908247477731431,0,0,0.24540122316007973,3.6908247477731431,-3.936225970933223,"","","","","",-84.628858375064297,0,-84.628858375064297,null,null,null,null,null,null,null,null,null,null,null,null,null,null,null,null,null,null,null,null,null,"1985-05-16",0,4.4980000000000002,null,"1993-05-15",1,2.7570000000000001,null,"2024-05-15",0.88,3.5279199999999999,0.88,3.5279199999999999,0.88,3.36666,null,"2034-05-15",0.87,3.5678999999999998,0.87,3.5678999999999998,0.87,3.36056,null,"2084-05-15",0.8,3.7677900000000002,0.8,3.7677900000000002,0.8,3.3300700000000001]
["1985-08-29",0,4.0119999999999996,8,1985,35,0,{"$f":"IF(B6849<Parameters!$A$16,B6849*Parameters!$B$16,IF(AND(B6849>Parameters!$A$16,B6849<Parameters!$A$17),B6849*Parameters!$B$17,B6849*Parameters!$B$18))","v":0},{"$f":"IF(B6849<Parameters!$A$20,B6849*Parameters!$B$20,IF(AND(B6849>Parameters!$A$20,B6849<Parameters!$A$21),B6849*Parameters!$B$21,B6849*Parameters!$B$22))","v":0},0,"",0,"",0,4.0765161290322576,1081.0378064664435,2.0553754355583216,{"$f":"VLOOKUP($F6849,'Gegevens vergelijking'!$I$16:$Q$68,9,FALSE)","v":31.823036754388561},-33.878412189946886,-2.0553754355583216,3558.6064515728372,0,0,31.823036754388561,1,"","",0,0,3.1823036754388561,0,0,0.20553754355583215,3.1823036754388561,-3.387841218994688,"","","","","",-72.838586208385792,0,-72.838586208385792,null,null,null,null,null,null,null,null,null,null,null,null,null,null,null,null,null,null,null,null,null,"1985-08-29",0,4.0119999999999996,null,"1993-08-28",0,3.0139999999999998,null,"2024-08-28",0,4.4174199999999999,0,4.2407300000000001,0,4.0640400000000003,null,"2034-08-28",0,4.5438200000000002,0,4.3166500000000001,0,4.08948,null,"2084-08-28",0,5.1758499999999996,0,4.6962599999999997,0,4.2166800000000002]
["1985-10-11",0,1.1819999999999999,10,1985,41,0,{"$f":"IF(B6892<Parameters!$A$16,B6892*Parameters!$B$16,IF(AND(B6892>Parameters!$A$16,B6892<Parameters!$A$17),B6892*Parameters!$B$17,B6892*Parameters!$B$18))","v":0},{"$f":"IF(B6892<Parameters!$A$20,B6892*Parameters!$B$20,IF(AND(B6892>Parameters!$A$20,B6892<Parameters!$A$21),B6892*Parameters!$B$21,B6892*Parameters!$B$22))","v":0},0,"",0,"",0,1.3432903225806452,1044.641794012942,0.65366434810338325,{"$f":"VLOOKUP($F6892,'Gegevens vergelijking'!$I$16:$Q$68,9,FALSE)","v":17.237476837457141},-17.891141185560524,-0.65366434810338325,3146.2305986003471,0,0,17.237476837457141,1,"","",0,0,1.7237476837457142,0,0,6.5366434810338325E-2,1.7237476837457142,-1.7891141185560526,"","","","","",-38.465953548955135,-38.465953548955135,0,null,null,null,null,null,null,null,null,null,null,null,null,null,null,null,null,null,null,null,null,null,"1985-10-11",0,1.1819999999999999,null,"1993-10-10",0.2,1.5309999999999999,null,"2024-10-10",0,1.1180600000000001,0,1.1180600000000001,0,1.0512999999999999,null,"2034-10-10",0,1.13808,0,1.13808,0,1.0522400000000001,null,"2084-10-10",0,1.2381599999999999,0,1.2381599999999999,0,1.0569599999999999]
["1985-11-19",0.4,0,11,1985,47,0.4,{"$f":"IF(B6931<Parameters!$A$16,B6931*Parameters!$B$16,IF(AND(B6931>Parameters!$A$16,B6931<Parameters!$A$17),B6931*Parameters!$B$17,B6931*Parameters!$B$18))","v":0},{"$f":"IF(B6931<Parameters!$A$20,B6931*Parameters!$B$20,IF(AND(B6931>Parameters!$A$20,B6931<Parameters!$A$21),B6931*Parameters!$B$21,B6931*Parameters!$B$22))","v":0},4.8465116279069766,1.2116279069767442,0.52093023255813953,0.10748560460652591,4.3255813953488369,0.16666666666666666,1033.1513084278822,8.0135385855418947E-2,{"$f":"VLOOKUP($F6931,'Gegevens vergelijking'!$I$16:$Q$68,9,FALSE)","v":7.1842085238095228},-6.7434136771068021,0.44079484670272057,3016.0405454932729,0,0,7.1842085238095228,1,1.7960521309523807,1.2116279069767442,0.48465116279069764,5.2093023255813956E-2,0.71842085238095232,0.4325581395348837,0,8.0135385855418951E-3,0.71842085238095232,-0.67434136771068021,0.8925143953934741,0,0.15383132106174174,13.791114576955781,-12.94494589801752,-14.498339405779625,-14.498339405779625,0,null,null,null,null,null,null,null,null,null,null,null,null,null,null,null,null,null,null,null,null,null,"1985-11-19",0.4,0,null,"1993-11-18",0,0,null,"2024-11-18",0,0,0,0,0,0,null,"2034-11-18",0,0,0,0,0,0,null,"2084-11-18",0,0,0,0,0,0]
["1986-01-19",6.5,0.65700000000000003,1,1986,3,6.5,{"$f":"IF(B6992<Parameters!$A$16,B6992*Parameters!$B$16,IF(AND(B6992>Parameters!$A$16,B6992<Parameters!$A$17),B6992*Parameters!$B$17,B6992*Parameters!$B$18))","v":6.1749999999999998},{"$f":"IF(B6992<Parameters!$A$20,B6992*Parameters!$B$20,IF(AND(B6992>Parameters!$A$20,B6992<Parameters!$A$21),B6992*Parameters!$B$21,B6992*Parameters!$B$22))","v":4.875},78.755813953488371,1.2116279069767442,74.485465116279073,0.94577735124760087,4.2703488372092977,0.72151612903225804,1206.6468428921955,0.40290264916603369,{"$f":"VLOOKUP($F6992,'Gegevens vergelijking'!$I$16:$Q$68,9,FALSE)","v":5.3886624347828569},68.693900032330177,74.082562467113036,4981.788004862442,0,0,5.3886624347828569,1,8.2902498996659343E-2,1.2116279069767442,7.8755813953488367,7.4485465116279075,0.53886624347828571,0.42703488372092979,0,4.0290264916603369E-2,0.53886624347828571,6.8693900032330184,5.4222648752399183E-2,0,5.4091445698441079E-3,7.2345153868216161E-2,0.92224570156193975,147.69188506950991,147.69188506950991,0,null,null,null,null,null,null,null,null,null,null,null,null,null,null,null,null,null,null,null,null,null,"1986-01-19",6.5,0.65700000000000003,null,"1994-01-18",0,0.33900000000000002,null,"2025-01-18",18.309999999999999,0.27932000000000001,15.55,0.26230999999999999,13.73,0.24529999999999999,null,"2035-01-18",18.91,0.28969,15.7,0.26782,13.55,0.24595,null,"2085-01-18",21.72,0.34156999999999998,16.48,0.2954,12.49,0.24923000000000001]
["1986-04-17",2.2000000000000002,1.4379999999999999,4,1986,16,2.2000000000000002,{"$f":"IF(B7080<Parameters!$A$16,B7080*Parameters!$B$16,IF(AND(B7080>Parameters!$A$16,B7080<Parameters!$A$17),B7080*Parameters!$B$17,B7080*Parameters!$B$18))","v":2.09},{"$f":"IF(B7080<Parameters!$A$20,B7080*Parameters!$B$20,IF(AND(B7080>Parameters!$A$20,B7080<Parameters!$A$21),B7080*Parameters!$B$21,B7080*Parameters!$B$22))","v":1.6500000000000001},26.655813953488376,1.2116279069767444,25.210465116279067,0.94577735124760054,1.4453488372093091,1.2713333333333332,1253.8392335822282,0.74184811490405955,{"$f":"VLOOKUP($F7080,'Gegevens vergelijking'!$I$16:$Q$68,9,FALSE)","v":32.719747675074295},-8.2511306736992864,24.468617001375009,5516.4895024365524,0,0,32.719747675074295,1,1.4872612579579225,1.2116279069767444,2.6655813953488376,2.5210465116279068,3.2719747675074293,0.1445348837209309,0,7.4184811490405955E-2,3.2719747675074293,-0.82511306736992829,5.4222648752399474E-2,0,2.9426197076587394E-2,1.2978637055746458,-0.32728990265123303,-17.739930948453456,0,-17.739930948453456,null,null,null,null,null,null,null,null,null,null,null,null,null,null,null,null,null,null,null,null,null,"1986-04-17",2.2000000000000002,1.4379999999999999,null,"1994-04-16",0,3.6720000000000002,null,"2025-04-16",0.35,2.14175,0.35,2.14175,0.35,2.04921,null,"2035-04-16",0.35,2.15883,0.35,2.15883,0.35,2.0398399999999999,null,"2085-04-16",0.35,2.2441900000000001,0.35,2.2441900000000001,0.35,1.99299]
["1986-07-31",0.1,3.14,7,1986,31,0.1,{"$f":"IF(B7185<Parameters!$A$16,B7185*Parameters!$B$16,IF(AND(B7185>Parameters!$A$16,B7185<Parameters!$A$17),B7185*Parameters!$B$17,B7185*Parameters!$B$18))","v":0},{"$f":"IF(B7185<Parameters!$A$20,B7185*Parameters!$B$20,IF(AND(B7185>Parameters!$A$20,B7185<Parameters!$A$21),B7185*Parameters!$B$21,B7185*Parameters!$B$22))","v":0},1.2116279069767442,1.2116279069767442,0.13023255813953488,0.10748560460652591,1.0813953488372092,3.1077419354838711,1074.2096924665498,1.5575727074747774,{"$f":"VLOOKUP($F7185,'Gegevens vergelijking'!$I$16:$Q$68,9,FALSE)","v":36.543125282102856},-37.9704654314381,-1.4273401493352424,3481.2422255193114,0,0,36.543125282102856,1,36.543125282102856,1.2116279069767442,0.12116279069767441,1.3023255813953489E-2,3.6543125282102857,0.10813953488372093,0,0.15575727074747775,3.6543125282102857,-3.7970465431438098,0.8925143953934741,0,11.959933289538469,280.59899770186121,-291.55893099139968,-81.636500677591911,0,-81.636500677591911,null,null,null,null,null,null,null,null,null,null,null,null,null,null,null,null,null,null,null,null,null,"1986-07-31",0.1,3.14,null,"1994-07-30",1.2,5.44,null,"2025-07-30",0,5.5405800000000003,0,5.3459000000000003,0,5.1512200000000004,null,"2035-07-30",0,5.66561,0,5.4153000000000002,0,5.165,null,"2085-07-30",0,6.2907200000000003,0,5.7623100000000003,0,5.2338899999999997]
["1986-09-12",0,1.387,9,1986,37,0,{"$f":"IF(B7228<Parameters!$A$16,B7228*Parameters!$B$16,IF(AND(B7228>Parameters!$A$16,B7228<Parameters!$A$17),B7228*Parameters!$B$17,B7228*Parameters!$B$18))","v":0},{"$f":"IF(B7228<Parameters!$A$20,B7228*Parameters!$B$20,IF(AND(B7228>Parameters!$A$20,B7228<Parameters!$A$21),B7228*Parameters!$B$21,B7228*Parameters!$B$22))","v":0},0,"",0,"",0,1.5203333333333333,1013.7308817926433,0.71871584345193862,{"$f":"VLOOKUP($F7228,'Gegevens vergelijking'!$I$16:$Q$68,9,FALSE)","v":29.316349609488093},-30.035065452940032,-0.71871584345193862,2796.0022924283858,0,0,29.316349609488093,1,"","",0,0,2.9316349609488093,0,0,7.1871584345193862E-2,2.9316349609488093,-3.0035065452940031,"","","","","",-64.575390723821073,0,-64.575390723821073,null,null,null,null,null,null,null,null,null,null,null,null,null,null,null,null,null,null,null,null,null,"1986-09-12",0,1.387,null,"1994-09-11",4.7,1.6160000000000001,null,"2025-09-11",0,2.7716799999999999,0,2.7716799999999999,0,2.6562000000000001,null,"2035-09-11",0,2.8212999999999999,0,2.8212999999999999,0,2.6728200000000002,null,"2085-09-11",0,3.06941,0,3.06941,0,2.75596]
["1986-10-21",23.4,0.37,{"$f":"MONTH(A7267)","v":10},1986,{"$f":"INT((A7267-DATE(YEAR(A7267-WEEKDAY(A7267-1)+4),1,3)+WEEKDAY(DATE(YEAR(A7267-WEEKDAY(A7267-1)+4),1,3))+5)/7)","v":43},23.4,{"$f":"IF(B7267<Parameters!$A$16,B7267*Parameters!$B$16,IF(AND(B7267>Parameters!$A$16,B7267<Parameters!$A$17),B7267*Parameters!$B$17,B7267*Parameters!$B$18))","v":22.229999999999997},{"$f":"IF(B7267<Parameters!$A$20,B7267*Parameters!$B$20,IF(AND(B7267>Parameters!$A$20,B7267<Parameters!$A$21),B7267*Parameters!$B$21,B7267*Parameters!$B$22))","v":17.549999999999997},283.52093023255816,1.2116279069767442,268.14767441860459,{"$f":"IF(B7267=0,\"\",L7267/J7267)","v":0.94577735124760054},{"$f":"IF(B7267=0,0,SUM(J7267-L7267))","v":15.373255813953563},0.53129032258064512,1066.1418867699958,0.25794193650935321,{"$f":"VLOOKUP($F7267,'Gegevens vergelijking'!$I$16:$Q$68,9,FALSE)","v":15.056100159581629},252.83363232251361,267.88973248209527,3389.8319849061918,0,0,15.056100159581629,{"$f":"IF(R7267=0,\"\",((R7267-W7267)/R7267))","v":1},{"$f":"IF(B7267=0,\"\",X7267/(B7267*10))","v":6.4342308374280469E-2},1.2116279069767442,{"$f":"J7267/10","v":28.352093023255815},{"$f":"L7267/10","v":26.814767441860461},1.5056100159581629,1.5373255813953564,0,2.579419365093532E-2,{"$f":"(R7267-W7267)/10","v":1.5056100159581629},{"$f":"SUM(AC7267-AF7267-AG7267-AD7267)","v":25.283363232251364},{"$f":"IF(AB7267=0,\"\",AE7267/AB7267)","v":5.4222648752399495E-2},0,9.6193986044675051E-4,{"$f":"IF(AC7267=0,\"\",AD7267/AC7267)","v":5.6148539017636945E-2},{"$f":"IF(AC7267=0,\"\",AI7267/AC7267)","v":0.94288952112191637},543.5923094934044,543.5923094934044,0,null,null,null,null,null,null,null,null,null,null,null,null,null,null,null,null,null,null,null,null,null,"1986-10-21",23.4,0.37,null,"1994-10-20",0,1.1719999999999999,null,"2025-10-20",18.489999999999998,0.61983999999999995,18.489999999999998,0.61983999999999995,18.489999999999998,0.58282999999999996,null,"2035-10-20",18.64,0.63093999999999995,18.64,0.63093999999999995,18.64,0.58335000000000004,null,"2085-10-20",19.350000000000001,0.68642000000000003,19.350000000000001,0.68642000000000003,19.350000000000001,0.58596999999999999]
["1987-02-03",0,9.0999999999999998E-2,2,1987,6,0,{"$f":"IF(B7372<Parameters!$A$16,B7372*Parameters!$B$16,IF(AND(B7372>Parameters!$A$16,B7372<Parameters!$A$17),B7372*Parameters!$B$17,B7372*Parameters!$B$18))","v":0},{"$f":"IF(B7372<Parameters!$A$20,B7372*Parameters!$B$20,IF(AND(B7372>Parameters!$A$20,B7372<Parameters!$A$21),B7372*Parameters!$B$21,B7372*Parameters!$B$22))","v":0},0,"",0,"",0,5.5285714285714285E-2,1260.45718422711,3.2432580140461541E-2,{"$f":"VLOOKUP($F7372,'Gegevens vergelijking'!$I$16:$Q$68,9,FALSE)","v":9.1430429772914277},-9.1754755574318896,-3.2432580140461541E-2,5591.4725255245785,0,0,9.1430429772914277,1,"","",0,0,0.91430429772914279,0,0,3.2432580140461542E-3,0.91430429772914279,-0.91754755574318891,"","","","","",-19.727272448478562,-19.727272448478562,0,null,null,null,null,null,null,null,null,null,null,null,null,null,null,null,null,null,null,null,null,null,"1987-02-03",0,9.0999999999999998E-2,null,"1995-02-02",2.6,0.49299999999999999,null,"2026-02-02",0,0.63980000000000004,0,0.60811999999999999,0,0.57664000000000004,null,"2036-02-02",0,0.65573999999999999,0,0.61500999999999995,0,0.57454000000000005,null,"2086-02-02",0,0.73546,0,0.64946999999999999,0,0.56403000000000003]
["1987-03-18",7.8,0.73899999999999999,3,1987,12,7.8,{"$f":"IF(B7415<Parameters!$A$16,B7415*Parameters!$B$16,IF(AND(B7415>Parameters!$A$16,B7415<Parameters!$A$17),B7415*Parameters!$B$17,B7415*Parameters!$B$18))","v":7.4099999999999993},{"$f":"IF(B7415<Parameters!$A$20,B7415*Parameters!$B$20,IF(AND(B7415>Parameters!$A$20,B7415<Parameters!$A$21),B7415*Parameters!$B$21,B7415*Parameters!$B$22))","v":5.85},94.506976744186048,1.2116279069767442,89.382558139534879,0.94577735124760076,5.1244186046511686,0.64222580645161287,1258.049943251171,0.37403971980825729,{"$f":"VLOOKUP($F7415,'Gegevens vergelijking'!$I$16:$Q$68,9,FALSE)","v":22.555070739851423},66.453447679875211,89.008518419726627,5564.1978878968594,0,0,22.555070739851423,1,0.28916757358783879,1.2116279069767442,9.4506976744186044,8.9382558139534876,2.2555070739851422,0.51244186046511686,0,3.7403971980825727E-2,2.2555070739851422,6.6453447679875195,5.4222648752399294E-2,0,4.184705915715064E-3,0.25234308806244682,0.74347220602183806,142.87491251173168,142.87491251173168,0,null,null,null,null,null,null,null,null,null,null,null,null,null,null,null,null,null,null,null,null,null,"1987-03-18",7.8,0.73899999999999999,null,"1995-03-17",12.3,0.84299999999999997,null,"2026-03-17",3.34,0.22208,3.34,0.22208,3.34,0.20884,null,"2036-03-16",3.38,0.22267000000000001,3.38,0.22267000000000001,3.38,0.20563999999999999,null,"2086-03-17",3.58,0.22564000000000001,3.58,0.22564000000000001,3.58,0.18970000000000001]
["1987-04-26",0,1.9139999999999999,4,1987,17,0,{"$f":"IF(B7454<Parameters!$A$16,B7454*Parameters!$B$16,IF(AND(B7454>Parameters!$A$16,B7454<Parameters!$A$17),B7454*Parameters!$B$17,B7454*Parameters!$B$18))","v":0},{"$f":"IF(B7454<Parameters!$A$20,B7454*Parameters!$B$20,IF(AND(B7454>Parameters!$A$20,B7454<Parameters!$A$21),B7454*Parameters!$B$21,B7454*Parameters!$B$22))","v":0},0,"",0,"",0,1.7473333333333332,1210.9808181314443,0.98669035391719351,{"$f":"VLOOKUP($F7454,'Gegevens vergelijking'!$I$16:$Q$68,9,FALSE)","v":34.009844090885714},-34.996534444802904,-0.98669035391719351,5030.8930198233584,0,0,34.009844090885714,1,"","",0,0,3.4009844090885712,0,0,9.8669035391719354E-2,3.4009844090885712,-3.4996534444802907,"","","","","",-75.24254905632624,0,-75.24254905632624,null,null,null,null,null,null,null,null,null,null,null,null,null,null,null,null,null,null,null,null,null,"1987-04-26",0,1.9139999999999999,null,"1995-04-25",11.1,2.899,null,"2026-04-25",0.23,3.9965000000000002,0.23,3.9965000000000002,0.23,3.8238099999999999,null,"2036-04-24",0.23,4.0283600000000002,0.23,4.0283600000000002,0.23,3.80633,null,"2086-04-25",0.23,4.18764,0.23,4.18764,0.23,3.7189199999999998]
["1987-08-13",0,3.4540000000000002,8,1987,33,0,{"$f":"IF(B7563<Parameters!$A$16,B7563*Parameters!$B$16,IF(AND(B7563>Parameters!$A$16,B7563<Parameters!$A$17),B7563*Parameters!$B$17,B7563*Parameters!$B$18))","v":0},{"$f":"IF(B7563<Parameters!$A$20,B7563*Parameters!$B$20,IF(AND(B7563>Parameters!$A$20,B7563<Parameters!$A$21),B7563*Parameters!$B$21,B7563*Parameters!$B$22))","v":0},0,"",0,"",0,3.5185161290322582,1163.0898222199019,1.9089489902557186,{"$f":"VLOOKUP($F7563,'Gegevens vergelijking'!$I$16:$Q$68,9,FALSE)","v":36.379063958805723},-38.288012949061439,-1.9089489902557186,4488.2761517267427,0,0,36.379063958805723,1,"","",0,0,3.6379063958805724,0,0,0.19089489902557186,3.6379063958805724,-3.8288012949061443,"","","","","",-82.3192278404821,0,-82.3192278404821,null,null,null,null,null,null,null,null,null,null,null,null,null,null,null,null,null,null,null,null,null,"1987-08-13",0,3.4540000000000002,null,"1995-08-12",0,5.0289999999999999,null,"2026-08-12",0,3.8817699999999999,0,3.7265100000000002,0,3.57124,null,"2036-08-11",0,3.9928499999999998,0,3.7932199999999998,0,3.5935999999999999,null,"2086-08-12",0,4.5482399999999998,0,4.1268000000000002,0,3.7053699999999998]
["1987-09-21",0,2.593,9,1987,39,0,{"$f":"IF(B7602<Parameters!$A$16,B7602*Parameters!$B$16,IF(AND(B7602>Parameters!$A$16,B7602<Parameters!$A$17),B7602*Parameters!$B$17,B7602*Parameters!$B$18))","v":0},{"$f":"IF(B7602<Parameters!$A$20,B7602*Parameters!$B$20,IF(AND(B7602>Parameters!$A$20,B7602<Parameters!$A$21),B7602*Parameters!$B$21,B7602*Parameters!$B$22))","v":0},0,"",0,"",0,2.7263333333333333,1139.3752755513019,1.4475490397177191,{"$f":"VLOOKUP($F7602,'Gegevens vergelijking'!$I$16:$Q$68,9,FALSE)","v":23.128696279329194},-24.576245319046912,-1.4475490397177191,4219.5844530739432,0,0,23.128696279329194,1,"","",0,0,2.3128696279329195,0,0,0.1447549039717719,2.3128696279329195,-2.4576245319046914,"","","","","",-52.838927435950865,0,-52.838927435950865,null,null,null,null,null,null,null,null,null,null,null,null,null,null,null,null,null,null,null,null,null,"1987-09-21",0,2.593,null,"1995-09-20",0,1.724,null,"2026-09-20",0,3.1632099999999999,0,3.1632099999999999,0,3.0314199999999998,null,"2036-09-19",0,3.21984,0,3.21984,0,3.0503900000000002,null,"2086-09-20",0,3.5030000000000001,0,3.5030000000000001,0,3.14527]
["1988-01-04",9.3000000000000007,0.58799999999999997,1,1988,1,9.3000000000000007,{"$f":"IF(B7707<Parameters!$A$16,B7707*Parameters!$B$16,IF(AND(B7707>Parameters!$A$16,B7707<Parameters!$A$17),B7707*Parameters!$B$17,B7707*Parameters!$B$18))","v":8.8350000000000009},{"$f":"IF(B7707<Parameters!$A$20,B7707*Parameters!$B$20,IF(AND(B7707>Parameters!$A$20,B7707<Parameters!$A$21),B7707*Parameters!$B$21,B7707*Parameters!$B$22))","v":6.9750000000000005},112.68139534883723,1.2116279069767444,106.57151162790699,0.94577735124760065,6.1098837209302417,0.65251612903225809,1271.7953488372093,0.38598464090441215,{"$f":"VLOOKUP($F7707,'Gegevens vergelijking'!$I$16:$Q$68,9,FALSE)","v":3.0894753415257137},103.09605164547686,106.18552698700258,5719.9367441860477,103.09605164547702,0,3.0894753415257137,1,3.3220164962642081E-2,1.2116279069767444,11.268139534883723,10.657151162790699,0.30894753415257137,0.61098837209302415,10.309605164547701,3.8598464090441216E-2,0.30894753415257137,-1.4765966227514582E-14,5.4222648752399301E-2,0.91493410537128983,3.6218369713293774E-3,2.8989692407785071E-2,-1.3855453490300256E-15,-3.1746827389156351E-13,-3.1746827389156351E-13,0,null,null,null,null,null,null,null,null,null,null,null,null,null,null,null,null,null,null,null,null,null,"1988-01-04",9.3000000000000007,0.58799999999999997,null,"1996-01-03",0.3,0,null,"2027-01-03",1.74,0.78047999999999995,1.47,0.73294999999999999,1.29,0.68542000000000003,null,"2037-01-02",1.8,0.80947000000000002,1.49,0.74836000000000003,1.28,0.68725000000000003,null,"2087-01-03",2.09,0.95443999999999996,1.59,0.82543,1.19,0.69642000000000004]
["1988-01-28",2.4,0.59399999999999997,1,1988,4,2.4,{"$f":"IF(B7731<Parameters!$A$16,B7731*Parameters!$B$16,IF(AND(B7731>Parameters!$A$16,B7731<Parameters!$A$17),B7731*Parameters!$B$17,B7731*Parameters!$B$18))","v":2.2799999999999998},{"$f":"IF(B7731<Parameters!$A$20,B7731*Parameters!$B$20,IF(AND(B7731>Parameters!$A$20,B7731<Parameters!$A$21),B7731*Parameters!$B$21,B7731*Parameters!$B$22))","v":1.7999999999999998},29.079069767441862,1.2116279069767442,27.502325581395347,0.94577735124760065,1.5767441860465148,0.65851612903225809,1271.7953488372093,0.3895338372267485,{"$f":"VLOOKUP($F7731,'Gegevens vergelijking'!$I$16:$Q$68,9,FALSE)","v":6.2443769793828574},20.86841476478574,27.112791744168597,5719.9367441860477,20.868414764785484,0,6.2443769793828574,1,0.26018237414095241,1.2116279069767442,2.9079069767441861,2.7502325581395346,0.62443769793828574,0.15767441860465148,2.0868414764785483,3.8953383722674852E-2,0.62443769793828574,2.5646151868841116E-14,5.4222648752399343E-2,0.71764382188561726,1.4163669034965489E-2,0.22704905303015635,9.3250848161691869E-15,5.51392265180084E-13,5.51392265180084E-13,0,null,null,null,null,null,null,null,null,null,null,null,null,null,null,null,null,null,null,null,null,null,"1988-01-28",2.4,0.59399999999999997,null,"1996-01-27",0,0,null,"2027-01-27",7.99,0.72070999999999996,6.86,0.67681999999999998,6.12,0.63292999999999999,null,"2037-01-26",8.24,0.74748000000000003,6.93,0.69105000000000005,6.05,0.63461999999999996,null,"2087-01-27",9.3699999999999992,0.88134000000000001,7.3,0.76221000000000005,5.73,0.64307999999999998]
["1988-03-27",3.8,0.68799999999999994,3,1988,12,3.8,{"$f":"IF(B7790<Parameters!$A$16,B7790*Parameters!$B$16,IF(AND(B7790>Parameters!$A$16,B7790<Parameters!$A$17),B7790*Parameters!$B$17,B7790*Parameters!$B$18))","v":3.61},{"$f":"IF(B7790<Parameters!$A$20,B7790*Parameters!$B$20,IF(AND(B7790>Parameters!$A$20,B7790<Parameters!$A$21),B7790*Parameters!$B$21,B7790*Parameters!$B$22))","v":2.8499999999999996},46.041860465116279,1.2116279069767442,43.545348837209303,0.94577735124760076,2.4965116279069761,0.59122580645161282,1271.7953488372093,0.34972940965473925,{"$f":"VLOOKUP($F7790,'Gegevens vergelijking'!$I$16:$Q$68,9,FALSE)","v":22.555070739851423},20.640548687703141,43.195619427554561,5719.9367441860477,20.640548687702903,0,22.555070739851423,1,0.59355449315398479,1.2116279069767442,4.6041860465116278,4.3545348837209303,2.2555070739851422,0.2496511627906976,2.0640548687702904,3.4972940965473924E-2,2.2555070739851422,2.3980817331903381E-14,5.4222648752399218E-2,0.44829962297768711,8.0313838100637067E-3,0.51796739128607494,5.5070904177513173E-15,5.155875726359227E-13,5.155875726359227E-13,0,null,null,null,null,null,null,null,null,null,null,null,null,null,null,null,null,null,null,null,null,null,"1988-03-27",3.8,0.68799999999999994,null,"1996-03-26",2.8,0.72199999999999998,null,"2027-03-27",4.2699999999999996,1.5464800000000001,4.2699999999999996,1.5464800000000001,4.2699999999999996,1.45425,null,"2037-03-26",4.32,1.55061,4.32,1.55061,4.32,1.43204,null,"2087-03-27",4.5599999999999996,1.5712999999999999,4.5599999999999996,1.5712999999999999,4.5599999999999996,1.32097]
["1988-07-10",0,6.1150000000000002,7,1988,27,0,{"$f":"IF(B7895<Parameters!$A$16,B7895*Parameters!$B$16,IF(AND(B7895>Parameters!$A$16,B7895<Parameters!$A$17),B7895*Parameters!$B$17,B7895*Parameters!$B$18))","v":0},{"$f":"IF(B7895<Parameters!$A$20,B7895*Parameters!$B$20,IF(AND(B7895>Parameters!$A$20,B7895<Parameters!$A$21),B7895*Parameters!$B$21,B7895*Parameters!$B$22))","v":0},0,"",0,"",0,6.0827419354838712,1136.0079102623311,3.2258162821408383,{"$f":"VLOOKUP($F7895,'Gegevens vergelijking'!$I$16:$Q$68,9,FALSE)","v":44.20203263918858},-47.427848921329421,-3.2258162821408383,4181.4313687193471,0,0,44.20203263918858,1,"","",0,0,4.4202032639188582,0,0,0.32258162821408382,4.4202032639188582,-4.7427848921329421,"","","","","",-101.96987518085827,0,-101.96987518085827,null,null,null,null,null,null,null,null,null,null,null,null,null,null,null,null,null,null,null,null,null,"1988-07-10",0,6.1150000000000002,null,"1996-07-09",1,3.51,null,"2027-07-10",0,4.3223700000000003,0,4.1704999999999997,0,4.0186200000000003,null,"2037-07-09",0,4.4199099999999998,0,4.22464,0,4.0293700000000001,null,"2087-07-10",0,4.9075800000000003,0,4.4953500000000002,0,4.0831099999999996]
["1988-08-22",0.2,1.952,8,1988,34,0.2,{"$f":"IF(B7938<Parameters!$A$16,B7938*Parameters!$B$16,IF(AND(B7938>Parameters!$A$16,B7938<Parameters!$A$17),B7938*Parameters!$B$17,B7938*Parameters!$B$18))","v":0},{"$f":"IF(B7938<Parameters!$A$20,B7938*Parameters!$B$20,IF(AND(B7938>Parameters!$A$20,B7938<Parameters!$A$21),B7938*Parameters!$B$21,B7938*Parameters!$B$22))","v":0},2.4232558139534883,1.2116279069767442,0.26046511627906976,0.10748560460652591,2.1627906976744184,2.016516129032258,1112.4821154399228,1.0461513218205141,{"$f":"VLOOKUP($F7938,'Gegevens vergelijking'!$I$16:$Q$68,9,FALSE)","v":32.292939745809527},-33.078625951350972,-0.7856862055414443,3914.8782753237269,0,0,32.292939745809527,1,16.146469872904763,1.2116279069767442,0.24232558139534882,2.6046511627906978E-2,3.2292939745809526,0.21627906976744185,0,0.1046151321820514,3.2292939745809526,-3.3078625951350968,0.8925143953934741,0,4.0164738248466163,123.98182223837586,-126.99829606322247,-71.119045795404588,0,-71.119045795404588,null,null,null,null,null,null,null,null,null,null,null,null,null,null,null,null,null,null,null,null,null,"1988-08-22",0.2,1.952,null,"1996-08-21",0,2.3159999999999998,null,"2027-08-22",13.49,1.4591400000000001,17.48,1.4007700000000001,13.49,1.3424100000000001,null,"2037-08-21",12.94,1.5008900000000001,17.18,1.4258500000000001,12.94,1.3508100000000001,null,"2087-08-22",10.11,1.70966,16.579999999999998,1.55124,10.11,1.39283]
["1988-12-05",0,0.44900000000000001,12,1988,49,0,{"$f":"IF(B8043<Parameters!$A$16,B8043*Parameters!$B$16,IF(AND(B8043>Parameters!$A$16,B8043<Parameters!$A$17),B8043*Parameters!$B$17,B8043*Parameters!$B$18))","v":0},{"$f":"IF(B8043<Parameters!$A$20,B8043*Parameters!$B$20,IF(AND(B8043>Parameters!$A$20,B8043<Parameters!$A$21),B8043*Parameters!$B$21,B8043*Parameters!$B$22))","v":0},0,"",0,"",0,0.51351612903225807,1187.1703236089288,0.28362434186611396,{"$f":"VLOOKUP($F8043,'Gegevens vergelijking'!$I$16:$Q$68,9,FALSE)","v":3.2736734693877554},-3.5572978112538696,-0.28362434186611396,4761.1142081756952,0,0,3.2736734693877554,1,"","",0,0,0.32736734693877556,0,0,2.8362434186611395E-2,0.32736734693877556,-0.35572978112538695,"","","","","",-7.6481902941958193,-7.6481902941958193,0,null,null,null,null,null,null,null,null,null,null,null,null,null,null,null,null,null,null,null,null,null,"1988-12-05",0,0.44900000000000001,null,"1996-12-04",0,0.51700000000000002,null,"2027-12-05",28.99,0.34848000000000001,24.02,0.32318999999999998,20.62,0.29779,null,"2037-12-04",30.04,0.36375999999999997,24.29,0.33123999999999998,20.18,0.29858000000000001,null,"2087-12-05",35.51,0.44017000000000001,25.61,0.37151000000000001,17.95,0.30257000000000001]
["1989-01-17",2.9,7.9000000000000001E-2,1,1989,3,2.9,{"$f":"IF(B8086<Parameters!$A$16,B8086*Parameters!$B$16,IF(AND(B8086>Parameters!$A$16,B8086<Parameters!$A$17),B8086*Parameters!$B$17,B8086*Parameters!$B$18))","v":2.7549999999999999},{"$f":"IF(B8086<Parameters!$A$20,B8086*Parameters!$B$20,IF(AND(B8086>Parameters!$A$20,B8086<Parameters!$A$21),B8086*Parameters!$B$21,B8086*Parameters!$B$22))","v":2.1749999999999998},35.13720930232558,1.2116279069767442,33.231976744186042,0.94577735124760065,1.905232558139538,0.14351612903225808,1248.7557951190533,8.3193009521217873E-2,{"$f":"VLOOKUP($F8086,'Gegevens vergelijking'!$I$16:$Q$68,9,FALSE)","v":5.3886624347828569},27.760121299881966,33.148783734664825,5458.8928831650564,0,0,5.3886624347828569,1,0.18581594602699505,1.2116279069767442,3.5137209302325578,3.323197674418604,0.53886624347828571,0.1905232558139538,0,8.3193009521217876E-3,0.53886624347828571,2.7760121299881968,5.4222648752399322E-2,0,2.5034023754176029E-3,0.16215293108393281,0.83534366654064962,59.68426079474623,59.68426079474623,0,null,null,null,null,null,null,null,null,null,null,null,null,null,null,null,null,null,null,null,null,null,"1989-01-17",2.9,7.9000000000000001E-2,null,"1997-01-16",0,0.68700000000000006,null,"2028-01-17",0,0.74714000000000003,0,0.70164000000000004,0,0.65613999999999995,null,"2038-01-16",0,0.77490000000000003,0,0.71640000000000004,0,0.65790000000000004,null,"2088-01-17",0,0.91366999999999998,0,0.79017000000000004,0,0.66666999999999998]
["1989-02-25",3.8,0.96399999999999997,2,1989,8,3.8,{"$f":"IF(B8125<Parameters!$A$16,B8125*Parameters!$B$16,IF(AND(B8125>Parameters!$A$16,B8125<Parameters!$A$17),B8125*Parameters!$B$17,B8125*Parameters!$B$18))","v":3.61},{"$f":"IF(B8125<Parameters!$A$20,B8125*Parameters!$B$20,IF(AND(B8125>Parameters!$A$20,B8125<Parameters!$A$21),B8125*Parameters!$B$21,B8125*Parameters!$B$22))","v":2.8499999999999996},46.041860465116279,1.2116279069767442,43.545348837209303,0.94577735124760076,2.4965116279069761,0.92828571428571427,1266.4010232949331,0.54564792310993082,{"$f":"VLOOKUP($F8125,'Gegevens vergelijking'!$I$16:$Q$68,9,FALSE)","v":13.231023004605715},29.768677909493654,42.999700914099371,5658.8176971599642,0,0,13.231023004605715,1,0.34818481591067674,1.2116279069767442,4.6041860465116278,4.3545348837209303,1.3231023004605715,0.2496511627906976,0,5.4564792310993079E-2,1.3231023004605715,2.9768677909493659,5.4222648752399218E-2,0,1.2530567274814827E-2,0.30384468968359407,0.68362474304159115,64.002657505411378,64.002657505411378,0,null,null,null,null,null,null,null,null,null,null,null,null,null,null,null,null,null,null,null,null,null,"1989-02-25",3.8,0.96399999999999997,null,"1997-02-24",9.3000000000000007,1.0960000000000001,null,"2028-02-25",3.47,1.41326,2.9,1.34328,2.52,1.2737499999999999,null,"2038-02-24",3.6,1.44848,2.96,1.3585,2.5099999999999998,1.2690999999999999,null,"2088-02-25",4.3499999999999996,1.62456,3.25,1.4346099999999999,2.41,1.2458800000000001]
["1989-06-10",1.3,2.7610000000000001,6,1989,23,1.3,{"$f":"IF(B8230<Parameters!$A$16,B8230*Parameters!$B$16,IF(AND(B8230>Parameters!$A$16,B8230<Parameters!$A$17),B8230*Parameters!$B$17,B8230*Parameters!$B$18))","v":1.04},{"$f":"IF(B8230<Parameters!$A$20,B8230*Parameters!$B$20,IF(AND(B8230>Parameters!$A$20,B8230<Parameters!$A$21),B8230*Parameters!$B$21,B8230*Parameters!$B$22))","v":0.78},15.751162790697675,1.2116279069767442,12.788372093023256,0.81190019193857965,2.9627906976744196,2.6276666666666668,1161.9306266762783,{"$f":"SUM(O8230*P8229)/$E$3*10","v":1.4231976412084273},{"$f":"VLOOKUP($F8230,'Gegevens vergelijking'!$I$16:$Q$68,9,FALSE)","v":40.291810686080005},-28.926636234265178,11.365174451814829,4475.1421785566226,0,0,40.291810686080005,1,3.0993700527753849,1.2116279069767442,1.5751162790697675,1.2788372093023255,4.0291810686080005,0.29627906976744195,0,0.14231976412084274,4.0291810686080005,-2.8926636234265177,0.1880998080614204,0,0.11128841347874592,3.1506598645234414,-2.2619482780021873,-62.192267903670128,0,-62.192267903670128,null,null,null,null,null,null,null,null,null,null,null,null,null,null,null,null,null,null,null,null,null,"1989-06-10",1.3,2.7610000000000001,null,"1997-06-09",0,6.375,null,"2028-06-09",0,4.7298799999999996,0,4.5219199999999997,0,4.3277099999999997,null,"2038-06-09",0,4.8329899999999997,0,4.5655999999999999,0,4.3159200000000002,null,"2088-06-09",0,5.3485300000000002,0,4.7840600000000002,0,4.2569400000000002]
["1989-07-23",0.3,3.403,7,1989,29,0.3,{"$f":"IF(B8273<Parameters!$A$16,B8273*Parameters!$B$16,IF(AND(B8273>Parameters!$A$16,B8273<Parameters!$A$17),B8273*Parameters!$B$17,B8273*Parameters!$B$18))","v":0},{"$f":"IF(B8273<Parameters!$A$20,B8273*Parameters!$B$20,IF(AND(B8273>Parameters!$A$20,B8273<Parameters!$A$21),B8273*Parameters!$B$21,B8273*Parameters!$B$22))","v":0},3.6348837209302327,1.2116279069767442,0.39069767441860465,0.10748560460652591,3.2441860465116279,3.370741935483871,1021.5683620337219,1.6074988443724716,{"$f":"VLOOKUP($F8273,'Gegevens vergelijking'!$I$16:$Q$68,9,FALSE)","v":41.402437318314284},-42.619238488268152,-1.216801169953867,2884.8028884744199,0,0,41.402437318314284,1,13.800812439438095,1.2116279069767442,0.36348837209302326,3.9069767441860463E-2,4.1402437318314282,0.32441860465116279,0,0.16074988443724716,4.1402437318314282,-4.2619238488268145,0.8925143953934741,0,4.1144315659533506,105.97052408854252,-109.08495565449586,-91.631362749776514,0,-91.631362749776514,null,null,null,null,null,null,null,null,null,null,null,null,null,null,null,null,null,null,null,null,null,"1989-07-23",0.3,3.403,null,"1997-07-22",0,3.3540000000000001,null,"2028-07-22",0,6.5546699999999998,0,6.3243600000000004,0,6.0940500000000002,null,"2038-07-22",0,6.7025800000000002,0,6.40646,0,6.1103500000000004,null,"2088-07-22",0,7.4421099999999996,0,6.81698,0,6.1918499999999996]
["1989-11-05",0,0.443,11,1989,44,0,{"$f":"IF(B8378<Parameters!$A$16,B8378*Parameters!$B$16,IF(AND(B8378>Parameters!$A$16,B8378<Parameters!$A$17),B8378*Parameters!$B$17,B8378*Parameters!$B$18))","v":0},{"$f":"IF(B8378<Parameters!$A$20,B8378*Parameters!$B$20,IF(AND(B8378>Parameters!$A$20,B8378<Parameters!$A$21),B8378*Parameters!$B$21,B8378*Parameters!$B$22))","v":0},0,"",0,"",0,0.60966666666666669,953.31683705364935,0.27061107824507014,{"$f":"VLOOKUP($F8378,'Gegevens vergelijking'!$I$16:$Q$68,9,FALSE)","v":11.034608376916667},-11.305219455161737,-0.27061107824507014,2111.4961734520462,0,0,11.034608376916667,1,"","",0,0,1.1034608376916668,0,0,2.7061107824507012E-2,1.1034608376916668,-1.1305219455161739,"","","","","",-24.306221828597739,-24.306221828597739,0,null,null,null,null,null,null,null,null,null,null,null,null,null,null,null,null,null,null,null,null,null,"1989-11-05",0,0.443,null,"1997-11-04",2.2999999999999998,0.78,null,"2028-11-04",4.92,0.40433999999999998,4.92,0.40433999999999998,4.92,0.37541999999999998,null,"2038-11-04",4.93,0.41158,4.93,0.41158,4.93,0.37440000000000001,null,"2088-11-04",4.96,0.44777,4.96,0.44777,4.96,0.36928]
["1989-12-14",8.1,1.008,12,1989,50,8.1,{"$f":"IF(B8417<Parameters!$A$16,B8417*Parameters!$B$16,IF(AND(B8417>Parameters!$A$16,B8417<Parameters!$A$17),B8417*Parameters!$B$17,B8417*Parameters!$B$18))","v":7.6949999999999994},{"$f":"IF(B8417<Parameters!$A$20,B8417*Parameters!$B$20,IF(AND(B8417>Parameters!$A$20,B8417<Parameters!$A$21),B8417*Parameters!$B$21,B8417*Parameters!$B$22))","v":6.0749999999999993},98.141860465116281,1.2116279069767442,92.820348837209309,0.94577735124760087,5.3215116279069719,1.072516129032258,961.71901848244011,0.47595510040326805,{"$f":"VLOOKUP($F8417,'Gegevens vergelijking'!$I$16:$Q$68,9,FALSE)","v":6.1862244897959178},86.158169247010122,92.34439373680604,2206.6949740886216,0,0,6.1862244897959178,1,7.6373141849332318E-2,1.2116279069767442,9.8141860465116277,9.2820348837209306,0.61862244897959173,0.53215116279069719,0,4.7595510040326805E-2,0.61862244897959173,8.6158169247010115,5.4222648752399183E-2,0,5.127702129605333E-3,6.6647287661517798E-2,0.92822501020887682,185.24006388107176,185.24006388107176,0,null,null,null,null,null,null,null,null,null,null,null,null,null,null,null,null,null,null,null,null,null,"1989-12-14",8.1,1.008,null,"1997-12-13",1.3,0.247,null,"2028-12-13",15.79,0.45952999999999999,13.51,0.42616999999999999,12.02,0.39267999999999997,null,"2038-12-13",16.25,0.47968,13.65,0.43679000000000001,11.88,0.39373000000000002,null,"2088-12-13",18.600000000000001,0.58043,14.36,0.48988999999999999,11.2,0.39898]
["1990-03-11",0,1.3140000000000001,3,1990,10,0,{"$f":"IF(B8504<Parameters!$A$16,B8504*Parameters!$B$16,IF(AND(B8504>Parameters!$A$16,B8504<Parameters!$A$17),B8504*Parameters!$B$17,B8504*Parameters!$B$18))","v":0},{"$f":"IF(B8504<Parameters!$A$20,B8504*Parameters!$B$20,IF(AND(B8504>Parameters!$A$20,B8504<Parameters!$A$21),B8504*Parameters!$B$21,B8504*Parameters!$B$22))","v":0},0,"",0,"",0,1.217225806451613,1144.9830944079392,0.64911338496751747,{"$f":"VLOOKUP($F8504,'Gegevens vergelijking'!$I$16:$Q$68,9,FALSE)","v":16.951002269891429},-17.600115654858946,-0.64911338496751747,4283.1224323312981,0,0,16.951002269891429,1,"","",0,0,1.6951002269891429,0,0,6.491133849675175E-2,1.6951002269891429,-1.7600115654858945,"","","","","",-37.840248657946731,-37.840248657946731,0,null,null,null,null,null,null,null,null,null,null,null,null,null,null,null,null,null,null,null,null,null,"1990-03-11",0,1.3140000000000001,null,"1998-03-10",0,1.976,null,"2029-03-10",1.06,0.99431000000000003,1.06,0.99431000000000003,1.06,0.93501000000000001,null,"2039-03-10",1.08,0.99697000000000002,1.08,0.99697000000000002,1.08,0.92073000000000005,null,"2089-03-10",1.1599999999999999,1.01027,1.1599999999999999,1.01027,1.1599999999999999,0.84931999999999996]
["1990-05-12",4.9000000000000004,1.655,5,1990,19,4.9000000000000004,{"$f":"IF(B8566<Parameters!$A$16,B8566*Parameters!$B$16,IF(AND(B8566>Parameters!$A$16,B8566<Parameters!$A$17),B8566*Parameters!$B$17,B8566*Parameters!$B$18))","v":4.6550000000000002},{"$f":"IF(B8566<Parameters!$A$20,B8566*Parameters!$B$20,IF(AND(B8566>Parameters!$A$20,B8566<Parameters!$A$21),B8566*Parameters!$B$21,B8566*Parameters!$B$22))","v":3.6750000000000003},59.369767441860475,1.2116279069767444,56.150581395348837,0.94577735124760065,3.2191860465116378,1.4614516129032258,1076.6837539634819,0.73071422992813762,{"$f":"VLOOKUP($F8566,'Gegevens vergelijking'!$I$16:$Q$68,9,FALSE)","v":36.149555012451422},19.270312152969279,55.419867165420698,3509.2739562317693,0,0,36.149555012451422,1,0.7377460206622739,1.2116279069767444,5.9369767441860475,5.6150581395348835,3.6149555012451424,0.32191860465116379,0,7.3071422992813759E-2,3.6149555012451424,1.9270312152969273,5.4222648752399391E-2,0,1.3013475760531759E-2,0.64379662888843803,0.34318989535103028,41.431171128883939,0,41.431171128883939,null,null,null,null,null,null,null,null,null,null,null,null,null,null,null,null,null,null,null,null,null,"1990-05-12",4.9000000000000004,1.655,null,"1998-05-11",0,5.9619999999999997,null,"2029-05-11",9.52,2.6178300000000001,9.52,2.6178300000000001,9.52,2.4981599999999999,null,"2039-05-11",9.51,2.6474899999999999,9.51,2.6474899999999999,9.51,2.4936400000000001,null,"2089-05-11",9.51,2.79582,9.51,2.79582,9.51,2.4710100000000002]
["1990-06-24",0,5.3879999999999999,6,1990,25,0,{"$f":"IF(B8609<Parameters!$A$16,B8609*Parameters!$B$16,IF(AND(B8609>Parameters!$A$16,B8609<Parameters!$A$17),B8609*Parameters!$B$17,B8609*Parameters!$B$18))","v":0},{"$f":"IF(B8609<Parameters!$A$20,B8609*Parameters!$B$20,IF(AND(B8609>Parameters!$A$20,B8609<Parameters!$A$21),B8609*Parameters!$B$21,B8609*Parameters!$B$22))","v":0},0,"",0,"",0,5.2546666666666662,976.53961699797071,2.3962270180877017,{"$f":"VLOOKUP($F8609,'Gegevens vergelijking'!$I$16:$Q$68,9,FALSE)","v":41.801906897514286},-44.198133915601986,-2.3962270180877017,2374.6160330841053,0,0,41.801906897514286,1,"","",0,0,4.1801906897514289,0,0,0.23962270180877016,4.1801906897514289,-4.4198133915601989,"","","","","",-95.025987918544274,0,-95.025987918544274,null,null,null,null,null,null,null,null,null,null,null,null,null,null,null,null,null,null,null,null,null,"1990-06-24",0,5.3879999999999999,null,"1998-06-23",0,3.2890000000000001,null,"2029-06-23",0.26,3.6137199999999998,0.32,3.4548299999999998,0.26,3.30646,null,"2039-06-23",0.26,3.6924999999999999,0.32,3.48821,0.26,3.2974399999999999,null,"2089-06-23",0.21,4.0863800000000001,0.28999999999999998,3.6551100000000001,0.21,3.25238]
["1990-08-02",0,6.11,8,1990,31,0,{"$f":"IF(B8648<Parameters!$A$16,B8648*Parameters!$B$16,IF(AND(B8648>Parameters!$A$16,B8648<Parameters!$A$17),B8648*Parameters!$B$17,B8648*Parameters!$B$18))","v":0},{"$f":"IF(B8648<Parameters!$A$20,B8648*Parameters!$B$20,IF(AND(B8648>Parameters!$A$20,B8648<Parameters!$A$21),B8648*Parameters!$B$21,B8648*Parameters!$B$22))","v":0},0,"",0,"",0,6.1745161290322583,899.4872511266401,2.5931284548073479,{"$f":"VLOOKUP($F8648,'Gegevens vergelijking'!$I$16:$Q$68,9,FALSE)","v":36.543125282102856},-39.136253736910206,-2.5931284548073479,1501.5936067858231,0,0,36.543125282102856,1,"","",0,0,3.6543125282102857,0,0,0.2593128454807348,3.6543125282102857,-3.9136253736910205,"","","","","",-84.14294553435694,0,-84.14294553435694,null,null,null,null,null,null,null,null,null,null,null,null,null,null,null,null,null,null,null,null,null,"1990-08-02",0,6.11,null,"1998-08-01",0,2.8580000000000001,null,"2029-08-01",0,5.5131600000000001,0,5.2926399999999996,0,5.0721299999999996,null,"2039-08-01",0,5.6709199999999997,0,5.3874000000000004,0,5.1038800000000002,null,"2089-08-01",0,6.4597199999999999,0,5.8611700000000004,0,5.2626299999999997]
["1990-11-15",1.5,0.40899999999999997,11,1990,46,1.5,{"$f":"IF(B8753<Parameters!$A$16,B8753*Parameters!$B$16,IF(AND(B8753>Parameters!$A$16,B8753<Parameters!$A$17),B8753*Parameters!$B$17,B8753*Parameters!$B$18))","v":1.2000000000000002},{"$f":"IF(B8753<Parameters!$A$20,B8753*Parameters!$B$20,IF(AND(B8753>Parameters!$A$20,B8753<Parameters!$A$21),B8753*Parameters!$B$21,B8753*Parameters!$B$22))","v":0.89999999999999991},18.174418604651162,1.2116279069767442,14.755813953488374,0.81190019193857976,3.4186046511627879,0.57566666666666666,905.39738675299486,0.24231242043984352,{"$f":"VLOOKUP($F8753,'Gegevens vergelijking'!$I$16:$Q$68,9,FALSE)","v":9.880531666666668},4.6329698663818624,14.513501533048531,1568.5569100656769,0,0,9.880531666666668,1,0.65870211111111121,1.2116279069767442,1.8174418604651161,1.4755813953488375,0.98805316666666676,0.34186046511627877,0,2.4231242043984351E-2,0.98805316666666676,0.46329698663818641,0.18809980806142018,0,1.6421487910028794E-2,0.66960261885999472,0.31397589322997654,9.9608852127210081,9.9608852127210081,0,null,null,null,null,null,null,null,null,null,null,null,null,null,null,null,null,null,null,null,null,null,"1990-11-15",1.5,0.40899999999999997,null,"1998-11-14",17.899999999999999,0,null,"2029-11-14",8.01,0.24217,8.01,0.24217,8.01,0.22484999999999999,null,"2039-11-14",8.0500000000000007,0.24651000000000001,8.0500000000000007,0.24651000000000001,8.0500000000000007,0.22423999999999999,null,"2089-11-14",8.2100000000000009,0.26818999999999998,8.2100000000000009,0.26818999999999998,8.2100000000000009,0.22117999999999999]
["1990-12-28",1,0.56699999999999995,12,1990,52,1,{"$f":"IF(B8796<Parameters!$A$16,B8796*Parameters!$B$16,IF(AND(B8796>Parameters!$A$16,B8796<Parameters!$A$17),B8796*Parameters!$B$17,B8796*Parameters!$B$18))","v":0.95},{"$f":"IF(B8796<Parameters!$A$20,B8796*Parameters!$B$20,IF(AND(B8796>Parameters!$A$20,B8796<Parameters!$A$21),B8796*Parameters!$B$21,B8796*Parameters!$B$22))","v":0.75},12.116279069767442,1.2116279069767442,11.459302325581396,0.94577735124760076,0.65697674418604635,0.63151612903225796,993.03726336796922,0.29139375849741883,{"$f":"VLOOKUP($F8796,'Gegevens vergelijking'!$I$16:$Q$68,9,FALSE)","v":0},11.167908567083977,11.167908567083977,2561.5384604395254,0,0,0,"",0,1.2116279069767442,1.2116279069767442,1.1459302325581395,0,6.5697674418604635E-2,0,2.9139375849741883E-2,0,1.1167908567083977,5.4222648752399218E-2,0,2.5428577606065976E-2,0,0.97457142239393413,24.011003419230551,24.011003419230551,0,null,null,null,null,null,null,null,null,null,null,null,null,null,null,null,null,null,null,null,null,null,"1990-12-28",1,0.56699999999999995,null,"1998-12-27",5.7,0.61499999999999999,null,"2029-12-27",0.26,0.48670000000000002,0.21,0.45136999999999999,0.16,0.41588999999999998,null,"2039-12-27",0.27,0.50804000000000005,0.21,0.46261000000000002,0.16,0.41700999999999999,null,"2089-12-27",0.34,0.61475000000000002,0.22,0.51885000000000003,0.12,0.42257]
["1991-04-12",0,4.5229999999999997,4,1991,15,0,{"$f":"IF(B8901<Parameters!$A$16,B8901*Parameters!$B$16,IF(AND(B8901>Parameters!$A$16,B8901<Parameters!$A$17),B8901*Parameters!$B$17,B8901*Parameters!$B$18))","v":0},{"$f":"IF(B8901<Parameters!$A$20,B8901*Parameters!$B$20,IF(AND(B8901>Parameters!$A$20,B8901<Parameters!$A$21),B8901*Parameters!$B$21,B8901*Parameters!$B$22))","v":0},0,"",0,"",0,4.3563333333333327,1041.911095532085,2.1166731608710769,{"$f":"VLOOKUP($F8901,'Gegevens vergelijking'!$I$16:$Q$68,9,FALSE)","v":28.925363264788576},-31.042036425659653,-2.1166731608710769,3115.2911071741178,0,0,28.925363264788576,1,"","",0,0,2.8925363264788575,0,0,0.2116673160871077,2.8925363264788575,-3.1042036425659654,"","","","","",-66.740378315168257,0,-66.740378315168257,null,null,null,null,null,null,null,null,null,null,null,null,null,null,null,null,null,null,null,null,null,"1991-04-12",0,4.5229999999999997,null,"1999-04-11",0.6,2.226,null,"2030-04-11",0,4.2711600000000001,0,4.2711600000000001,0,4.0866100000000003,null,"2040-04-10",0,4.3052099999999998,0,4.3052099999999998,0,4.06792,null,"2090-04-11",0,4.4754399999999999,0,4.4754399999999999,0,3.9744999999999999]
["1991-05-25",0,3.089,5,1991,21,0,{"$f":"IF(B8944<Parameters!$A$16,B8944*Parameters!$B$16,IF(AND(B8944>Parameters!$A$16,B8944<Parameters!$A$17),B8944*Parameters!$B$17,B8944*Parameters!$B$18))","v":0},{"$f":"IF(B8944<Parameters!$A$20,B8944*Parameters!$B$20,IF(AND(B8944>Parameters!$A$20,B8944<Parameters!$A$21),B8944*Parameters!$B$21,B8944*Parameters!$B$22))","v":0},0,"",0,"",0,2.8954516129032259,986.90898407706345,1.3338346328211146,{"$f":"VLOOKUP($F8944,'Gegevens vergelijking'!$I$16:$Q$68,9,FALSE)","v":38.569226396674274},-39.90306102949539,-1.3338346328211146,2492.1035353067373,0,0,38.569226396674274,1,"","",0,0,3.8569226396674274,0,0,0.13338346328211145,3.8569226396674274,-3.990306102949539,"","","","","",-85.791581213415085,0,-85.791581213415085,null,null,null,null,null,null,null,null,null,null,null,null,null,null,null,null,null,null,null,null,null,"1991-05-25",0,3.089,null,"1999-05-24",0,2.61,null,"2030-05-24",0,4.4171899999999997,0,4.4171899999999997,0,4.2152799999999999,null,"2040-05-23",0,4.4672499999999999,0,4.4672499999999999,0,4.2076399999999996,null,"2090-05-24",0,4.71753,0,4.71753,0,4.1694599999999999]
["1991-07-03",0.2,4.2969999999999997,7,1991,27,0.2,{"$f":"IF(B8983<Parameters!$A$16,B8983*Parameters!$B$16,IF(AND(B8983>Parameters!$A$16,B8983<Parameters!$A$17),B8983*Parameters!$B$17,B8983*Parameters!$B$18))","v":0},{"$f":"IF(B8983<Parameters!$A$20,B8983*Parameters!$B$20,IF(AND(B8983>Parameters!$A$20,B8983<Parameters!$A$21),B8983*Parameters!$B$21,B8983*Parameters!$B$22))","v":0},2.4232558139534883,1.2116279069767442,0.26046511627906976,0.10748560460652591,2.1627906976744184,4.2647419354838707,975.37386129232164,1.9427855011356419,{"$f":"VLOOKUP($F8983,'Gegevens vergelijking'!$I$16:$Q$68,9,FALSE)","v":44.20203263918858},-45.884353024045147,-1.6823203848565722,2361.4077316502944,0,0,44.20203263918858,1,22.10101631959429,1.2116279069767442,0.24232558139534882,2.6046511627906978E-2,4.4202032639188582,0.21627906976744185,0,0.19427855011356418,4.4202032639188582,-4.5884353024045152,0.8925143953934741,0,7.4589086204314814,169.70423245402759,-176.16314107445905,-98.651359001697088,0,-98.651359001697088,null,null,null,null,null,null,null,null,null,null,null,null,null,null,null,null,null,null,null,null,null,"1991-07-03",0.2,4.2969999999999997,null,"1999-07-02",0,5.4989999999999997,null,"2030-07-02",18.57,3.2485599999999999,24.68,3.13442,18.57,3.02027,null,"2040-07-01",17.82,3.3218700000000001,24.63,3.1751100000000001,17.82,3.0283500000000001,null,"2090-07-02",14.06,3.6883900000000001,0,3.3785699999999999,14.06,3.06874]
["1991-10-16",3.4,0.91900000000000004,10,1991,42,3.4,{"$f":"IF(B9088<Parameters!$A$16,B9088*Parameters!$B$16,IF(AND(B9088>Parameters!$A$16,B9088<Parameters!$A$17),B9088*Parameters!$B$17,B9088*Parameters!$B$18))","v":3.23},{"$f":"IF(B9088<Parameters!$A$20,B9088*Parameters!$B$20,IF(AND(B9088>Parameters!$A$20,B9088<Parameters!$A$21),B9088*Parameters!$B$21,B9088*Parameters!$B$22))","v":2.5499999999999998},41.195348837209302,1.2116279069767442,38.961627906976744,0.94577735124760076,2.2337209302325576,1.0802903225806453,848.3983587555656,0.42524286504446873,{"$f":"VLOOKUP($F9088,'Gegevens vergelijking'!$I$16:$Q$68,9,FALSE)","v":14.997021876739497},23.539363165192782,38.536385041932277,922.74377822679605,0,0,14.997021876739497,1,0.44108887872763225,1.2116279069767442,4.11953488372093,3.8961627906976743,1.4997021876739498,0.22337209302325575,0,4.2524286504446875E-2,1.4997021876739498,2.3539363165192775,5.4222648752399218E-2,0,1.0914401884329935E-2,0.3849177429789587,0.60416785513671134,50.609630805164464,50.609630805164464,0,null,null,null,null,null,null,null,null,null,null,null,null,null,null,null,null,null,null,null,null,null,"1991-10-16",3.4,0.91900000000000004,null,"1999-10-15",0,1.2250000000000001,null,"2030-10-15",0,1.2236800000000001,0,1.2236800000000001,0,1.1506099999999999,null,"2040-10-14",0,1.2455799999999999,0,1.2455799999999999,0,1.1516500000000001,null,"2090-10-15",0,1.3551200000000001,0,1.3551200000000001,0,1.1568099999999999]
["1991-11-28",0,0.27700000000000002,11,1991,48,0,{"$f":"IF(B9131<Parameters!$A$16,B9131*Parameters!$B$16,IF(AND(B9131>Parameters!$A$16,B9131<Parameters!$A$17),B9131*Parameters!$B$17,B9131*Parameters!$B$18))","v":0},{"$f":"IF(B9131<Parameters!$A$20,B9131*Parameters!$B$20,IF(AND(B9131>Parameters!$A$20,B9131<Parameters!$A$21),B9131*Parameters!$B$21,B9131*Parameters!$B$22))","v":0},0,"",0,"",0,0.44366666666666665,996.40342772520376,0.20577621071826993,{"$f":"VLOOKUP($F9131,'Gegevens vergelijking'!$I$16:$Q$68,9,FALSE)","v":8.6779285714285717},-8.8837047821468413,-0.20577621071826993,2599.6779379395302,0,0,8.6779285714285717,1,"","",0,0,0.86779285714285714,0,0,2.0577621071826993E-2,0.86779285714285714,-0.88837047821468418,"","","","","",-19.09996528161571,-19.09996528161571,0,null,null,null,null,null,null,null,null,null,null,null,null,null,null,null,null,null,null,null,null,null,"1991-11-28",0,0.27700000000000002,null,"1999-11-27",0.5,0.29199999999999998,null,"2030-11-27",0,0.31579000000000002,0,0.31579000000000002,0,0.29320000000000002,null,"2040-11-26",0,0.32144,0,0.32144,0,0.29239999999999999,null,"2090-11-27",0,0.34971000000000002,0,0.34971000000000002,0,0.28841]
["1992-03-12",11.2,0.19,3,1992,11,11.2,{"$f":"IF(B9236<Parameters!$A$16,B9236*Parameters!$B$16,IF(AND(B9236>Parameters!$A$16,B9236<Parameters!$A$17),B9236*Parameters!$B$17,B9236*Parameters!$B$18))","v":10.639999999999999},{"$f":"IF(B9236<Parameters!$A$20,B9236*Parameters!$B$20,IF(AND(B9236>Parameters!$A$20,B9236<Parameters!$A$21),B9236*Parameters!$B$21,B9236*Parameters!$B$22))","v":8.3999999999999986},135.70232558139534,1.2116279069767442,128.3441860465116,0.94577735124760054,7.3581395348837475,9.3225806451612908E-2,1084.6891130205393,4.6616697906031679E-2,{"$f":"VLOOKUP($F9236,'Gegevens vergelijking'!$I$16:$Q$68,9,FALSE)","v":19.509069665199995},108.78849968340556,128.29756934860558,3599.9766609229118,0,0,19.509069665199995,1,0.17418812201071424,1.2116279069767442,13.570232558139534,12.834418604651159,1.9509069665199994,0.73581395348837475,0,4.6616697906031682E-3,1.9509069665199994,10.878849968340555,5.4222648752399433E-2,0,3.6321628070583512E-4,0.15200587004486482,0.84763091367442922,233.89527431932194,233.89527431932194,0,null,null,null,null,null,null,null,null,null,null,null,null,null,null,null,null,null,null,null,null,null,"1992-03-12",11.2,0.19,null,"2000-03-11",0.1,0.94299999999999995,null,"2031-03-12",0.74,0.77627000000000002,0.74,0.77627000000000002,0.74,0.72997000000000001,null,"2041-03-11",0.75,0.77834000000000003,0.75,0.77834000000000003,0.75,0.71882000000000001,null,"2091-03-12",0.81,0.78871999999999998,0.81,0.78871999999999998,0.81,0.66307000000000005]
["1992-04-01",0,2.3719999999999999,4,1992,14,0,{"$f":"IF(B9256<Parameters!$A$16,B9256*Parameters!$B$16,IF(AND(B9256>Parameters!$A$16,B9256<Parameters!$A$17),B9256*Parameters!$B$17,B9256*Parameters!$B$18))","v":0},{"$f":"IF(B9256<Parameters!$A$20,B9256*Parameters!$B$20,IF(AND(B9256>Parameters!$A$20,B9256<Parameters!$A$21),B9256*Parameters!$B$21,B9256*Parameters!$B$22))","v":0},0,"",0,"",0,2.2053333333333334,1112.0374389856327,1.1432069492936971,{"$f":"VLOOKUP($F9256,'Gegevens vergelijking'!$I$16:$Q$68,9,FALSE)","v":27.019937776034283},-28.163144725327982,-1.1432069492936971,3909.8399807476658,0,0,27.019937776034283,1,"","",0,0,2.7019937776034282,0,0,0.11432069492936972,2.7019937776034282,-2.816314472532798,"","","","","",-60.550761159455156,0,-60.550761159455156,null,null,null,null,null,null,null,null,null,null,null,null,null,null,null,null,null,null,null,null,null,"1992-04-01",0,2.3719999999999999,null,"2000-03-31",0.1,1.415,null,"2031-04-01",2.92,0.69854000000000005,2.92,0.69854000000000005,2.92,0.65688000000000002,null,"2041-03-31",2.96,0.70040999999999998,2.96,0.70040999999999998,2.96,0.64685000000000004,null,"2091-04-01",3.14,0.70974999999999999,3.14,0.70974999999999999,3.14,0.59667999999999999]
["1992-06-03",6,4.9009999999999998,6,1992,23,6,{"$f":"IF(B9319<Parameters!$A$16,B9319*Parameters!$B$16,IF(AND(B9319>Parameters!$A$16,B9319<Parameters!$A$17),B9319*Parameters!$B$17,B9319*Parameters!$B$18))","v":5.6999999999999993},{"$f":"IF(B9319<Parameters!$A$20,B9319*Parameters!$B$20,IF(AND(B9319>Parameters!$A$20,B9319<Parameters!$A$21),B9319*Parameters!$B$21,B9319*Parameters!$B$22))","v":4.5},72.697674418604649,1.2116279069767442,68.755813953488371,0.94577735124760076,3.9418604651162781,4.7676666666666661,1075.4247989231988,2.3796701922040766,{"$f":"VLOOKUP($F9319,'Gegevens vergelijking'!$I$16:$Q$68,9,FALSE)","v":40.291810686080005},26.084333075204288,66.376143761284297,3495.0096832086174,0,0,40.291810686080005,1,0.67153017810133342,1.2116279069767442,7.2697674418604645,6.8755813953488367,4.0291810686080005,0.39418604651162781,0,0.23796701922040767,4.0291810686080005,2.6084333075204285,5.4222648752399225E-2,0,3.4610457725274921E-2,0.58601314375154412,0.37937639852318089,56.081316111689212,0,56.081316111689212,null,null,null,null,null,null,null,null,null,null,null,null,null,null,null,null,null,null,null,null,null,"1992-06-03",6,4.9009999999999998,null,"2000-06-02",0,5.1159999999999997,null,"2031-06-03",47.69,0.42437999999999998,63.42,0.40572000000000003,47.69,0.38829999999999998,null,"2041-06-02",46.36,0.43363000000000002,64.180000000000007,0.40964,46.36,0.38723999999999997,null,"2091-06-03",40.520000000000003,0.47988999999999998,68.739999999999995,0.42924000000000001,40.520000000000003,0.38195000000000001]
["1992-09-16",0.1,2.2639999999999998,9,1992,38,0.1,{"$f":"IF(B9424<Parameters!$A$16,B9424*Parameters!$B$16,IF(AND(B9424>Parameters!$A$16,B9424<Parameters!$A$17),B9424*Parameters!$B$17,B9424*Parameters!$B$18))","v":0},{"$f":"IF(B9424<Parameters!$A$20,B9424*Parameters!$B$20,IF(AND(B9424>Parameters!$A$20,B9424<Parameters!$A$21),B9424*Parameters!$B$21,B9424*Parameters!$B$22))","v":0},1.2116279069767442,1.2116279069767442,0.13023255813953488,0.10748560460652591,1.0813953488372092,2.3973333333333331,1045.042431969775,1.1679312629231573,{"$f":"VLOOKUP($F9424,'Gegevens vergelijking'!$I$16:$Q$68,9,FALSE)","v":26.07719066135714},-27.114889366140762,-1.0376987047836224,3150.7699260718173,0,0,26.07719066135714,1,26.07719066135714,1.2116279069767442,0.12116279069767441,1.3023255813953489E-2,2.6077190661357141,0.10813953488372093,0,0.11679312629231572,2.6077190661357141,-2.7114889366140762,0.8925143953934741,0,8.9680436260170993,200.2355711497066,-208.20361477572371,-58.297012137202643,0,-58.297012137202643,null,null,null,null,null,null,null,null,null,null,null,null,null,null,null,null,null,null,null,null,null,"1992-09-16",0.1,2.2639999999999998,null,"2000-09-15",8.1,2.8679999999999999,null,"2031-09-16",0,2.2275800000000001,0,2.2275800000000001,0,2.1347700000000001,null,"2041-09-15",0,2.2674599999999998,0,2.2674599999999998,0,2.1481300000000001,null,"2091-09-16",0,2.4668700000000001,0,2.4668700000000001,0,2.21495]
["1992-10-29",8.5,0.371,10,1992,44,8.5,{"$f":"IF(B9467<Parameters!$A$16,B9467*Parameters!$B$16,IF(AND(B9467>Parameters!$A$16,B9467<Parameters!$A$17),B9467*Parameters!$B$17,B9467*Parameters!$B$18))","v":8.0749999999999993},{"$f":"IF(B9467<Parameters!$A$20,B9467*Parameters!$B$20,IF(AND(B9467>Parameters!$A$20,B9467<Parameters!$A$21),B9467*Parameters!$B$21,B9467*Parameters!$B$22))","v":6.375},102.98837209302326,1.2116279069767442,97.40406976744184,0.94577735124760054,5.5843023255814188,0.53229032258064513,1058.5367063837307,0.26018765917029879,{"$f":"VLOOKUP($F9467,'Gegevens vergelijking'!$I$16:$Q$68,9,FALSE)","v":11.034608376916667},86.109273731354875,97.143882108271541,3303.6634038617021,0,0,11.034608376916667,1,0.12981892208137255,1.2116279069767442,10.298837209302325,9.7404069767441843,1.1034608376916668,0.55843023255814184,0,2.6018765917029878E-2,1.1034608376916668,8.6109273731354872,5.4222648752399454E-2,0,2.6712195885809772E-3,0.11328693352610901,0.88404184688530996,185.13493852241297,185.13493852241297,0,null,null,null,null,null,null,null,null,null,null,null,null,null,null,null,null,null,null,null,null,null,"1992-10-29",8.5,0.371,null,"2000-10-28",8.5,0.81100000000000005,null,"2031-10-29",6.02,0.24643999999999999,6.02,0.24643999999999999,6.02,0.23172999999999999,null,"2041-10-28",6.05,0.25085000000000002,6.05,0.25085000000000002,6.05,0.23194000000000001,null,"2091-10-29",6.18,0.27290999999999999,6.18,0.27290999999999999,6.18,0.23297999999999999]
["1992-12-07",4.4000000000000004,0.36599999999999999,12,1992,50,4.4000000000000004,{"$f":"IF(B9506<Parameters!$A$16,B9506*Parameters!$B$16,IF(AND(B9506>Parameters!$A$16,B9506<Parameters!$A$17),B9506*Parameters!$B$17,B9506*Parameters!$B$18))","v":4.18},{"$f":"IF(B9506<Parameters!$A$20,B9506*Parameters!$B$20,IF(AND(B9506>Parameters!$A$20,B9506<Parameters!$A$21),B9506*Parameters!$B$21,B9506*Parameters!$B$22))","v":3.3000000000000003},53.311627906976753,1.2116279069767444,50.420930232558135,0.94577735124760054,2.8906976744186181,0.43051612903225805,1161.7169422002928,0.23184460539229124,{"$f":"VLOOKUP($F9506,'Gegevens vergelijking'!$I$16:$Q$68,9,FALSE)","v":6.1862244897959178},44.002861137369926,50.189085627165845,4472.721080416708,0,0,6.1862244897959178,1,0.1405960111317254,1.2116279069767444,5.3311627906976753,5.0420930232558137,0.61862244897959173,0.2890697674418618,0,2.3184460539229124E-2,0.61862244897959173,4.4002861137369926,5.4222648752399474E-2,0,4.5981818328806436E-3,0.12269159774052141,0.87271022042659796,94.606151445345347,94.606151445345347,0,null,null,null,null,null,null,null,null,null,null,null,null,null,null,null,null,null,null,null,null,null,"1992-12-07",4.4000000000000004,0.36599999999999999,null,"2000-12-06",1.7,0.95599999999999996,null,"2031-12-07",9.61,0.35557,8.2200000000000006,0.32976,7.31,0.30384,null,"2041-12-06",9.9600000000000009,0.37115999999999999,8.33,0.33798,0,0.30465999999999999,null,"2091-12-07",11.62,0.44912000000000002,8.93,0.37906000000000001,6.96,0.30871999999999999]
["1993-03-22",1.2,1.226,3,1993,12,1.2,{"$f":"IF(B9611<Parameters!$A$16,B9611*Parameters!$B$16,IF(AND(B9611>Parameters!$A$16,B9611<Parameters!$A$17),B9611*Parameters!$B$17,B9611*Parameters!$B$18))","v":0.96},{"$f":"IF(B9611<Parameters!$A$20,B9611*Parameters!$B$20,IF(AND(B9611>Parameters!$A$20,B9611<Parameters!$A$21),B9611*Parameters!$B$21,B9611*Parameters!$B$22))","v":0.72},14.539534883720931,1.2116279069767442,11.804651162790698,0.81190019193857965,2.7348837209302328,1.129225806451613,1221.5485497364523,0.64211143228114209,{"$f":"VLOOKUP($F9611,'Gegevens vergelijking'!$I$16:$Q$68,9,FALSE)","v":22.555070739851423},-11.392531009341868,11.162539730509556,5150.6280413498771,0,0,22.555070739851423,1,1.8795892283209519,1.2116279069767442,1.453953488372093,1.1804651162790698,2.2555070739851422,0.27348837209302329,0,6.4211143228114206E-2,2.2555070739851422,-1.1392531009341866,0.18809980806142038,0,5.4394782482445052E-2,1.9106935417919841,-0.96508832427442914,-24.493941670085011,-24.493941670085011,0,null,null,null,null,null,null,null,null,null,null,null,null,null,null,null,null,null,null,null,null,null,"1993-03-22",1.2,1.226,null,"2001-03-21",9.9,0.83199999999999996,null,"2032-03-21",0,2.4327700000000001,0,2.4327700000000001,0,2.28769,null,"2042-03-21",0,2.4392800000000001,0,2.4392800000000001,0,2.2527499999999998,null,"2092-03-21",1.83,2.4718200000000001,1.83,2.4718200000000001,1.83,2.07802]
["1993-05-04",0,4.2389999999999999,5,1993,18,0,{"$f":"IF(B9654<Parameters!$A$16,B9654*Parameters!$B$16,IF(AND(B9654>Parameters!$A$16,B9654<Parameters!$A$17),B9654*Parameters!$B$17,B9654*Parameters!$B$18))","v":0},{"$f":"IF(B9654<Parameters!$A$20,B9654*Parameters!$B$20,IF(AND(B9654>Parameters!$A$20,B9654<Parameters!$A$21),B9654*Parameters!$B$21,B9654*Parameters!$B$22))","v":0},0,"",0,"",0,4.0454516129032259,1138.3473542361362,2.1478139960953904,{"$f":"VLOOKUP($F9654,'Gegevens vergelijking'!$I$16:$Q$68,9,FALSE)","v":33.340195028868571},-35.488009024963958,-2.1478139960953904,4207.9378494886823,0,0,33.340195028868571,1,"","",0,0,3.3340195028868571,0,0,0.21478139960953904,3.3340195028868571,-3.5488009024963962,"","","","","",-76.29921940367251,0,-76.29921940367251,null,null,null,null,null,null,null,null,null,null,null,null,null,null,null,null,null,null,null,null,null,"1993-05-04",0,4.2389999999999999,null,"2001-05-03",1.5,2.5169999999999999,null,"2032-05-03",0,1.7733300000000001,0,1.7733300000000001,0,1.6922699999999999,null,"2042-05-03",0,1.7934300000000001,0,1.7934300000000001,0,1.6892100000000001,null,"2092-05-03",0,1.89391,0,1.89391,0,1.67388]
["1993-08-17",0,3.1850000000000001,8,1993,33,0,{"$f":"IF(B9759<Parameters!$A$16,B9759*Parameters!$B$16,IF(AND(B9759>Parameters!$A$16,B9759<Parameters!$A$17),B9759*Parameters!$B$17,B9759*Parameters!$B$18))","v":0},{"$f":"IF(B9759<Parameters!$A$20,B9759*Parameters!$B$20,IF(AND(B9759>Parameters!$A$20,B9759<Parameters!$A$21),B9759*Parameters!$B$21,B9759*Parameters!$B$22))","v":0},0,"",0,"",0,3.2495161290322581,1029.8841396093001,1.5616309382322788,{"$f":"VLOOKUP($F9759,'Gegevens vergelijking'!$I$16:$Q$68,9,FALSE)","v":36.379063958805723},-37.940694897038,-1.5616309382322788,2979.0227120124964,0,0,36.379063958805723,1,"","",0,0,3.6379063958805724,0,0,0.15616309382322788,3.6379063958805724,-3.7940694897038001,"","","","","",-81.572494028631695,0,-81.572494028631695,null,null,null,null,null,null,null,null,null,null,null,null,null,null,null,null,null,null,null,null,null,"1993-08-17",0,3.1850000000000001,null,"2001-08-16",0,2.879,null,"2032-08-16",0,3.4583699999999999,0,3.3200400000000001,0,3.1817099999999998,null,"2042-08-16",0,3.5573299999999999,0,3.37948,0,3.2016300000000002,null,"2092-08-16",0,4.0521399999999996,0,3.6766700000000001,0,3.3012100000000002]
["1993-09-29",0,2.0739999999999998,9,1993,39,0,{"$f":"IF(B9802<Parameters!$A$16,B9802*Parameters!$B$16,IF(AND(B9802>Parameters!$A$16,B9802<Parameters!$A$17),B9802*Parameters!$B$17,B9802*Parameters!$B$18))","v":0},{"$f":"IF(B9802<Parameters!$A$20,B9802*Parameters!$B$20,IF(AND(B9802>Parameters!$A$20,B9802<Parameters!$A$21),B9802*Parameters!$B$21,B9802*Parameters!$B$22))","v":0},0,"",0,"",0,2.2073333333333331,1016.6538939427953,1.045955199775233,{"$f":"VLOOKUP($F9802,'Gegevens vergelijking'!$I$16:$Q$68,9,FALSE)","v":23.128696279329194},-24.174651479104426,-1.045955199775233,2829.1207454514424,0,0,23.128696279329194,1,"","",0,0,2.3128696279329195,0,0,0.1045955199775233,2.3128696279329195,-2.417465147910443,"","","","","",-51.975500680074525,0,-51.975500680074525,null,null,null,null,null,null,null,null,null,null,null,null,null,null,null,null,null,null,null,null,null,"1993-09-29",0,2.0739999999999998,null,"2001-09-28",0,2.581,null,"2032-09-28",5.49,0.66464999999999996,5.49,0.66464999999999996,5.49,0.63695999999999997,null,"2042-09-28",5.44,0.67654999999999998,5.44,0.67654999999999998,5.44,0.64093999999999995,null,"2092-09-28",0,0.73604000000000003,0,0.73604000000000003,0,0.66088000000000002]
["1993-11-07",0.7,0,11,1993,44,0.7,{"$f":"IF(B9841<Parameters!$A$16,B9841*Parameters!$B$16,IF(AND(B9841>Parameters!$A$16,B9841<Parameters!$A$17),B9841*Parameters!$B$17,B9841*Parameters!$B$18))","v":0},{"$f":"IF(B9841<Parameters!$A$20,B9841*Parameters!$B$20,IF(AND(B9841>Parameters!$A$20,B9841<Parameters!$A$21),B9841*Parameters!$B$21,B9841*Parameters!$B$22))","v":0},8.4813953488372089,1.2116279069767442,0.91162790697674412,0.10748560460652591,7.5697674418604652,0.16666666666666666,1041.6911040550317,8.0821060824935884E-2,{"$f":"VLOOKUP($F9841,'Gegevens vergelijking'!$I$16:$Q$68,9,FALSE)","v":11.034608376916667},-10.20380153076486,0.83080684615180822,3112.7985491469849,0,0,11.034608376916667,1,1.5763726252738095,1.2116279069767442,0.84813953488372085,9.1162790697674412E-2,1.1034608376916668,0.75697674418604655,0,8.0821060824935887E-3,1.1034608376916668,-1.020380153076486,0.89251439539347421,0,8.8655755496740901E-2,12.104289801209612,-11.192945556706352,-21.938173291144448,-21.938173291144448,0,null,null,null,null,null,null,null,null,null,null,null,null,null,null,null,null,null,null,null,null,null,"1993-11-07",0.7,0,null,"2001-11-06",0.7,0.31900000000000001,null,"2032-11-06",0.1,0,0.1,0,0.1,0,null,"2042-11-06",0.1,0,0.1,0,0.1,0,null,"2092-11-06",0.1,0,0.1,0,0.1,0]
["1994-02-20",0,0,2,1994,7,0,{"$f":"IF(B9946<Parameters!$A$16,B9946*Parameters!$B$16,IF(AND(B9946>Parameters!$A$16,B9946<Parameters!$A$17),B9946*Parameters!$B$17,B9946*Parameters!$B$18))","v":0},{"$f":"IF(B9946<Parameters!$A$20,B9946*Parameters!$B$20,IF(AND(B9946>Parameters!$A$20,B9946<Parameters!$A$21),B9946*Parameters!$B$21,B9946*Parameters!$B$22))","v":0},0,"",0,"",0,-3.5714285714285712E-2,1262.4008081623954,-2.0986176647147473E-2,{"$f":"VLOOKUP($F9946,'Gegevens vergelijking'!$I$16:$Q$68,9,FALSE)","v":10.977630682914283},-10.956644506267136,2.0986176647147473E-2,5613.4942670325245,0,0,10.977630682914283,1,"","",0,0,1.0977630682914283,0,0,-2.0986176647147473E-3,1.0977630682914283,-1.0956644506267137,"","","","","",-23.556785688474346,-23.556785688474346,0,null,null,null,null,null,null,null,null,null,null,null,null,null,null,null,null,null,null,null,null,null,"1994-02-20",0,0,null,"2002-02-19",6.3,0.56899999999999995,null,"2033-02-19",0,1.0517300000000001,0,0.99965000000000004,0,0.94789999999999996,null,"2043-02-19",0,1.0779399999999999,0,1.01098,0,0.94445000000000001,null,"2093-02-19",0,1.2089799999999999,0,1.06762,0,0.92717000000000005]
["1994-04-10",0,2.1240000000000001,4,1994,14,0,{"$f":"IF(B9995<Parameters!$A$16,B9995*Parameters!$B$16,IF(AND(B9995>Parameters!$A$16,B9995<Parameters!$A$17),B9995*Parameters!$B$17,B9995*Parameters!$B$18))","v":0},{"$f":"IF(B9995<Parameters!$A$20,B9995*Parameters!$B$20,IF(AND(B9995>Parameters!$A$20,B9995<Parameters!$A$21),B9995*Parameters!$B$21,B9995*Parameters!$B$22))","v":0},0,"",0,"",0,1.9573333333333334,1269.3083984985724,1.1578267113755183,{"$f":"VLOOKUP($F9995,'Gegevens vergelijking'!$I$16:$Q$68,9,FALSE)","v":27.019937776034283},-28.177764487409799,-1.1578267113755183,5691.7589796986376,0,0,27.019937776034283,1,"","",0,0,2.7019937776034282,0,0,0.11578267113755183,2.7019937776034282,-2.8177764487409802,"","","","","",-60.582193647931078,0,-60.582193647931078,null,null,null,null,null,null,null,null,null,null,null,null,null,null,null,null,null,null,null,null,null,"1994-04-10",0,2.1240000000000001,null,"2002-04-09",0.3,2.9489999999999998,null,"2033-04-09",9.06,0.91142999999999996,9.06,0.91142999999999996,9.06,0.87204999999999999,null,"2043-04-09",9.11,0.91869000000000001,9.11,0.91869000000000001,9.11,0.86806000000000005,null,"2093-04-09",9.2899999999999991,0.95501999999999998,9.2899999999999991,0.95501999999999998,9.2899999999999991,0.84811999999999999]
["1994-07-19",0,4.78,7,1994,29,0,{"$f":"IF(B10095<Parameters!$A$16,B10095*Parameters!$B$16,IF(AND(B10095>Parameters!$A$16,B10095<Parameters!$A$17),B10095*Parameters!$B$17,B10095*Parameters!$B$18))","v":0},{"$f":"IF(B10095<Parameters!$A$20,B10095*Parameters!$B$20,IF(AND(B10095>Parameters!$A$20,B10095<Parameters!$A$21),B10095*Parameters!$B$21,B10095*Parameters!$B$22))","v":0},0,"",0,"",0,4.7477419354838712,1070.9207900445617,2.3733949022462366,{"$f":"VLOOKUP($F10095,'Gegevens vergelijking'!$I$16:$Q$68,9,FALSE)","v":41.402437318314284},-43.775832220560524,-2.3733949022462366,3443.9781449186348,0,0,41.402437318314284,1,"","",0,0,4.1402437318314282,0,0,0.23733949022462367,4.1402437318314282,-4.3775832220560522,"","","","","",-94.118039274205117,0,-94.118039274205117,null,null,null,null,null,null,null,null,null,null,null,null,null,null,null,null,null,null,null,null,null,"1994-07-19",0,4.78,null,"2002-07-18",0,5.4829999999999997,null,"2033-07-18",0,4.0802500000000004,0,3.9368799999999999,0,3.7935099999999999,null,"2043-07-18",0,4.17232,0,3.9879899999999999,0,3.8036599999999998,null,"2093-07-18",0,4.6326700000000001,0,4.2435299999999998,0,3.85439]
["1994-08-27",8.4,0.90700000000000003,8,1994,34,8.4,{"$f":"IF(B10134<Parameters!$A$16,B10134*Parameters!$B$16,IF(AND(B10134>Parameters!$A$16,B10134<Parameters!$A$17),B10134*Parameters!$B$17,B10134*Parameters!$B$18))","v":7.9799999999999995},{"$f":"IF(B10134<Parameters!$A$20,B10134*Parameters!$B$20,IF(AND(B10134>Parameters!$A$20,B10134<Parameters!$A$21),B10134*Parameters!$B$21,B10134*Parameters!$B$22))","v":6.3000000000000007},101.77674418604651,1.2116279069767442,96.258139534883725,0.94577735124760076,5.5186046511627893,0.97151612903225804,1060.5872627269505,0.47671339037215493,{"$f":"VLOOKUP($F10134,'Gegevens vergelijking'!$I$16:$Q$68,9,FALSE)","v":32.292939745809527},63.488486398702044,95.78142614451157,3326.8967160874245,0,0,32.292939745809527,1,0.38443975887868487,1.2116279069767442,10.177674418604651,9.6258139534883718,3.2292939745809526,0.55186046511627895,0,4.7671339037215495E-2,3.2292939745809526,6.3488486398702033,5.4222648752399225E-2,0,4.9524475818421062E-3,0.33548269166480871,0.65956486075334919,136.50024575720937,0,136.50024575720937,null,null,null,null,null,null,null,null,null,null,null,null,null,null,null,null,null,null,null,null,null,"1994-08-27",8.4,0.90700000000000003,null,"2002-08-26",0,2.2050000000000001,null,"2033-08-26",0,2.3437299999999999,0,2.2499899999999999,0,2.1562399999999999,null,"2043-08-26",0,2.4108000000000001,0,2.29027,0,2.16974,null,"2093-08-26",0,2.74613,0,2.4916800000000001,0,2.2372299999999998]
["1994-10-09",0,1.599,10,1994,40,0,{"$f":"IF(B10177<Parameters!$A$16,B10177*Parameters!$B$16,IF(AND(B10177>Parameters!$A$16,B10177<Parameters!$A$17),B10177*Parameters!$B$17,B10177*Parameters!$B$18))","v":0},{"$f":"IF(B10177<Parameters!$A$20,B10177*Parameters!$B$20,IF(AND(B10177>Parameters!$A$20,B10177<Parameters!$A$21),B10177*Parameters!$B$21,B10177*Parameters!$B$22))","v":0},0,"",0,"",0,1.7602903225806452,1090.275848528069,0.89410134792396656,{"$f":"VLOOKUP($F10177,'Gegevens vergelijking'!$I$16:$Q$68,9,FALSE)","v":19.161461678190477},-20.055563026114445,-0.89410134792396656,3663.2757606029281,0,0,19.161461678190477,1,"","",0,0,1.9161461678190477,0,0,8.9410134792396651E-2,1.9161461678190477,-2.0055563026114442,"","","","","",-43.119460506146055,-43.119460506146055,0,null,null,null,null,null,null,null,null,null,null,null,null,null,null,null,null,null,null,null,null,null,"1994-10-09",0,1.599,null,"2002-10-08",0,1.22,null,"2033-10-08",0,1.0465800000000001,0,1.0465800000000001,0,0.98409000000000002,null,"2043-10-08",0,1.06532,0,1.06532,0,0.98497000000000001,null,"2093-10-08",0,1.159,0,1.159,0,0.98938999999999999]
["1995-01-22",17,0.61099999999999999,1,1995,3,17,{"$f":"IF(B10282<Parameters!$A$16,B10282*Parameters!$B$16,IF(AND(B10282>Parameters!$A$16,B10282<Parameters!$A$17),B10282*Parameters!$B$17,B10282*Parameters!$B$18))","v":16.149999999999999},{"$f":"IF(B10282<Parameters!$A$20,B10282*Parameters!$B$20,IF(AND(B10282>Parameters!$A$20,B10282<Parameters!$A$21),B10282*Parameters!$B$21,B10282*Parameters!$B$22))","v":12.75},205.97674418604652,1.2116279069767442,194.80813953488368,0.94577735124760054,11.168604651162838,0.67551612903225799,1271.7953488372093,0.39861211720718492,{"$f":"VLOOKUP($F10282,'Gegevens vergelijking'!$I$16:$Q$68,9,FALSE)","v":5.3886624347828569},189.02086498289364,194.40952741767649,5719.9367441860477,153.76091838823959,0,5.3886624347828569,1,3.1698014322252097E-2,1.2116279069767442,20.597674418604651,19.480813953488369,0.53886624347828571,1.1168604651162837,15.376091838823958,3.9861211720718492E-2,0.53886624347828571,3.5259946594654061,5.4222648752399454E-2,0.74649649889288727,2.046177937733483E-3,2.7661382361376774E-2,0.18099832316472675,75.80888517850623,75.80888517850623,0,null,null,null,null,null,null,null,null,null,null,null,null,null,null,null,null,null,null,null,null,null,"1995-01-22",17,0.61099999999999999,null,"2003-01-21",1.5,0.74,null,"2034-01-21",6.58,0.79427000000000003,5.64,0.74590000000000001,5.03,0.69752999999999998,null,"2044-01-21",6.8,0.82377999999999996,5.72,0.76158999999999999,4.9800000000000004,0.69940000000000002,null,"2094-01-21",7.77,0.97130000000000005,6.06,0.84001000000000003,4.78,0.70872000000000002]
["1995-03-06",4.5,0.76400000000000001,3,1995,10,4.5,{"$f":"IF(B10325<Parameters!$A$16,B10325*Parameters!$B$16,IF(AND(B10325>Parameters!$A$16,B10325<Parameters!$A$17),B10325*Parameters!$B$17,B10325*Parameters!$B$18))","v":4.2749999999999995},{"$f":"IF(B10325<Parameters!$A$20,B10325*Parameters!$B$20,IF(AND(B10325>Parameters!$A$20,B10325<Parameters!$A$21),B10325*Parameters!$B$21,B10325*Parameters!$B$22))","v":3.375},54.52325581395349,1.2116279069767442,51.566860465116271,0.94577735124760054,2.9563953488372192,0.66722580645161289,1271.7953488372093,0.39468589640433366,{"$f":"VLOOKUP($F10325,'Gegevens vergelijking'!$I$16:$Q$68,9,FALSE)","v":16.951002269891429},34.221172298820512,51.172174568711938,5719.9367441860477,34.22117229882042,0,16.951002269891429,1,0.37668893933092062,1.2116279069767442,5.4523255813953488,5.1566860465116271,1.6951002269891429,0.29563953488372191,3.4221172298820419,3.9468589640433364E-2,1.6951002269891429,8.8817841970012523E-15,5.4222648752399412E-2,0.6276435951585746,7.6538670930205079E-3,0.32871891204930676,1.722382188267902E-15,1.9095836023552692E-13,1.9095836023552692E-13,0,null,null,null,null,null,null,null,null,null,null,null,null,null,null,null,null,null,null,null,null,null,"1995-03-06",4.5,0.76400000000000001,null,"2003-03-05",0,1.6519999999999999,null,"2034-03-05",8.0500000000000007,0.15545999999999999,8.0500000000000007,0.15545999999999999,8.0500000000000007,0.14618,null,"2044-03-04",8.15,0.15587000000000001,8.15,0.15587000000000001,8.15,0.14394999999999999,null,"2094-03-05",8.66,0.15795000000000001,8.66,0.15795000000000001,8.66,0.13278999999999999]
["1995-04-14",0,1.3120000000000001,4,1995,15,0,{"$f":"IF(B10364<Parameters!$A$16,B10364*Parameters!$B$16,IF(AND(B10364>Parameters!$A$16,B10364<Parameters!$A$17),B10364*Parameters!$B$17,B10364*Parameters!$B$18))","v":0},{"$f":"IF(B10364<Parameters!$A$20,B10364*Parameters!$B$20,IF(AND(B10364>Parameters!$A$20,B10364<Parameters!$A$21),B10364*Parameters!$B$21,B10364*Parameters!$B$22))","v":0},0,"",0,"",0,1.1453333333333333,1240.650510349735,0.66230199690826708,{"$f":"VLOOKUP($F10364,'Gegevens vergelijking'!$I$16:$Q$68,9,FALSE)","v":28.925363264788576},-29.587665261696841,-0.66230199690826708,5367.0579953568722,0,0,28.925363264788576,1,"","",0,0,2.8925363264788575,0,0,6.6230199690826705E-2,2.8925363264788575,-2.9587665261696841,"","","","","",-63.613480312648207,0,-63.613480312648207,null,null,null,null,null,null,null,null,null,null,null,null,null,null,null,null,null,null,null,null,null,"1995-04-14",0,1.3120000000000001,null,"2003-04-13",0,4.109,null,"2034-04-13",0,1.84755,0,1.84755,0,1.7677099999999999,null,"2044-04-12",0,1.8622700000000001,0,1.8622700000000001,0,1.75963,null,"2094-04-13",0,1.93591,0,1.93591,0,1.71922]
["1995-07-28",1,1.615,7,1995,30,1,{"$f":"IF(B10469<Parameters!$A$16,B10469*Parameters!$B$16,IF(AND(B10469>Parameters!$A$16,B10469<Parameters!$A$17),B10469*Parameters!$B$17,B10469*Parameters!$B$18))","v":0.95},{"$f":"IF(B10469<Parameters!$A$20,B10469*Parameters!$B$20,IF(AND(B10469>Parameters!$A$20,B10469<Parameters!$A$21),B10469*Parameters!$B$21,B10469*Parameters!$B$22))","v":0.75},{"$f":"B10469*SUM($B$3,$C$3,$D$3)/$E$3*10","v":12.116279069767442},{"$f":"IF(B10469=0,\"\",SUM(J10469/(B10469*10)))","v":1.2116279069767442},11.459302325581396,0.94577735124760076,0.65697674418604635,1.582741935483871,1098.1315070891228,0.81020645357682175,{"$f":"VLOOKUP($F10469,'Gegevens vergelijking'!$I$16:$Q$68,9,FALSE)","v":38.460966477868567},{"$f":"SUM(L10469-R10469-Q10469)","v":-27.811870605863991},10.649095872004574,3752.2823215253329,{"$f":"IF(SUM(U10468+S10469)>SUM($AK$3+$AN$3),SUM(U10468+S10469-($AK$3+$AN$3)),0)","v":0},{"$f":"IF(U10468<$AN$3,R10469,IF(SUM(U10468-R10469)>$AN$3,0,IF(SUM(U10468+S10469)<$AN$3,SUM(R10469-(U10468-$AN$3)),0)))","v":0},38.460966477868567,1,3.8460966477868568,1.2116279069767442,1.2116279069767442,1.1459302325581395,3.8460966477868568,{"$f":"N10469/10","v":6.5697674418604635E-2},0,{"$f":"Q10469/10","v":8.1020645357682178E-2},3.8460966477868568,-2.7811870605863995,5.4222648752399218E-2,0,7.0702947749981399E-2,3.3563096063893423,-2.4270125541393237,-59.795521802607588,0,-59.795521802607588,null,null,null,null,null,null,null,null,null,null,null,null,null,null,null,null,null,null,null,null,null,"1995-07-28",1,1.615,null,"2003-07-27",0.7,2.883,null,"2034-07-27",1.82,2.75238,2.31,2.6556700000000002,1.82,2.5589599999999999,null,"2044-07-26",1.69,2.8144800000000001,2.2400000000000002,2.69014,1.69,2.5657999999999999,null,"2094-07-27",1.1399999999999999,3.1250200000000001,1.89,2.86252,1.1399999999999999,2.6000200000000002]
["1995-09-09",0,2.7309999999999999,9,1995,36,0,{"$f":"IF(B10512<Parameters!$A$16,B10512*Parameters!$B$16,IF(AND(B10512>Parameters!$A$16,B10512<Parameters!$A$17),B10512*Parameters!$B$17,B10512*Parameters!$B$18))","v":0},{"$f":"IF(B10512<Parameters!$A$20,B10512*Parameters!$B$20,IF(AND(B10512>Parameters!$A$20,B10512<Parameters!$A$21),B10512*Parameters!$B$21,B10512*Parameters!$B$22))","v":0},0,"",0,"",0,2.8643333333333332,997.95659610622192,1.3332131366406887,{"$f":"VLOOKUP($F10512,'Gegevens vergelijking'!$I$16:$Q$68,9,FALSE)","v":30.026641895863097},-31.359855032503788,-1.3332131366406887,2617.2757211238991,0,0,30.026641895863097,1,"","",0,0,3.0026641895863095,0,0,0.13332131366406888,3.0026641895863095,-3.1359855032503785,"","","","","",-67.423688319883141,0,-67.423688319883141,null,null,null,null,null,null,null,null,null,null,null,null,null,null,null,null,null,null,null,null,null,"1995-09-09",0,2.7309999999999999,null,"2003-09-08",0,3.613,null,"2034-09-08",7.26,1.1543300000000001,7.26,1.1543300000000001,7.26,1.1062399999999999,null,"2044-09-07",7.22,1.175,7.22,1.175,7.22,1.1131599999999999,null,"2094-09-08",6.97,1.27833,6.97,1.27833,6.97,1.1477900000000001]
["1995-12-23",17.8,0.36199999999999999,12,1995,51,17.8,{"$f":"IF(B10617<Parameters!$A$16,B10617*Parameters!$B$16,IF(AND(B10617>Parameters!$A$16,B10617<Parameters!$A$17),B10617*Parameters!$B$17,B10617*Parameters!$B$18))","v":16.91},{"$f":"IF(B10617<Parameters!$A$20,B10617*Parameters!$B$20,IF(AND(B10617>Parameters!$A$20,B10617<Parameters!$A$21),B10617*Parameters!$B$21,B10617*Parameters!$B$22))","v":13.350000000000001},215.66976744186047,1.2116279069767442,203.97558139534883,0.94577735124760065,11.694186046511646,0.42651612903225805,1014.0917632140151,0.19772254605221276,{"$f":"VLOOKUP($F10617,'Gegevens vergelijking'!$I$16:$Q$68,9,FALSE)","v":6.5880102040816331},197.18984864521499,203.77785884929662,2800.091168487274,0,0,6.5880102040816331,1,3.7011293281357487E-2,1.2116279069767442,21.566976744186046,20.397558139534883,0.65880102040816335,1.1694186046511645,0,1.9772254605221275E-2,0.65880102040816335,19.718984864521499,5.4222648752399315E-2,0,9.6934419649469543E-4,3.2298033710773659E-2,0.9667326220927317,423.95817458721223,423.95817458721223,0,null,null,null,null,null,null,null,null,null,null,null,null,null,null,null,null,null,null,null,null,null,"1995-12-23",17.8,0.36199999999999999,null,"2003-12-22",7.4,0.22800000000000001,null,"2034-12-22",18.02,0.58592,15.35,0.54339000000000004,13.59,0.50068999999999997,null,"2044-12-21",18.55,0.61162000000000005,15.51,0.55693000000000004,13.41,0.50202999999999998,null,"2094-12-22",21.26,0.74007999999999996,0,0.62463999999999997,12.5,0.50871999999999995]
["1996-01-31",0,0,1,1996,5,0,{"$f":"IF(B10656<Parameters!$A$16,B10656*Parameters!$B$16,IF(AND(B10656>Parameters!$A$16,B10656<Parameters!$A$17),B10656*Parameters!$B$17,B10656*Parameters!$B$18))","v":0},{"$f":"IF(B10656<Parameters!$A$20,B10656*Parameters!$B$20,IF(AND(B10656>Parameters!$A$20,B10656<Parameters!$A$21),B10656*Parameters!$B$21,B10656*Parameters!$B$22))","v":0},0,"",0,"",0,6.4516129032258063E-2,1020.0357417787284,3.0630662930127235E-2,{"$f":"VLOOKUP($F10656,'Gegevens vergelijking'!$I$16:$Q$68,9,FALSE)","v":8.2529179304628588},-8.283548593392986,-3.0630662930127235E-2,2867.4379206570443,0,0,8.2529179304628588,1,"","",0,0,0.82529179304628586,0,0,3.0630662930127236E-3,0.82529179304628586,-0.82835485933929853,"","","","","",-17.809629475794917,-17.809629475794917,0,null,null,null,null,null,null,null,null,null,null,null,null,null,null,null,null,null,null,null,null,null,"1996-01-31",0,0,null,"2004-01-30",0,0.79100000000000004,null,"2035-01-30",0,0,0,0,0,0,null,"2045-01-29",0,0,0,0,0,0,null,"2095-01-30",1.93,0,15.58,0,0,0]
["1996-03-14",0,1.371,3,1996,11,0,{"$f":"IF(B10699<Parameters!$A$16,B10699*Parameters!$B$16,IF(AND(B10699>Parameters!$A$16,B10699<Parameters!$A$17),B10699*Parameters!$B$17,B10699*Parameters!$B$18))","v":0},{"$f":"IF(B10699<Parameters!$A$20,B10699*Parameters!$B$20,IF(AND(B10699>Parameters!$A$20,B10699<Parameters!$A$21),B10699*Parameters!$B$21,B10699*Parameters!$B$22))","v":0},0,"",0,"",0,1.274225806451613,1043.5194293134778,0.61950841517272681,{"$f":"VLOOKUP($F10699,'Gegevens vergelijking'!$I$16:$Q$68,9,FALSE)","v":19.509069665199995},-20.128578080372723,-0.61950841517272681,3133.5139280343305,0,0,19.509069665199995,1,"","",0,0,1.9509069665199994,0,0,6.1950841517272683E-2,1.9509069665199994,-2.0128578080372721,"","","","","",-43.276442872801354,-43.276442872801354,0,null,null,null,null,null,null,null,null,null,null,null,null,null,null,null,null,null,null,null,null,null,"1996-03-14",0,1.371,null,"2004-03-13",0.5,1.728,null,"2035-03-14",0,0,0,0,0,0,null,"2045-03-13",0,0,0,0,0,0,null,"2095-03-14",0,0,0,0,0,0]
["1996-07-07",0,5.0780000000000003,7,1996,27,0,{"$f":"IF(B10814<Parameters!$A$16,B10814*Parameters!$B$16,IF(AND(B10814>Parameters!$A$16,B10814<Parameters!$A$17),B10814*Parameters!$B$17,B10814*Parameters!$B$18))","v":0},{"$f":"IF(B10814<Parameters!$A$20,B10814*Parameters!$B$20,IF(AND(B10814>Parameters!$A$20,B10814<Parameters!$A$21),B10814*Parameters!$B$21,B10814*Parameters!$B$22))","v":0},0,"",0,"",0,5.0457419354838713,862.69029163663231,2.0341875029274705,{"$f":"VLOOKUP($F10814,'Gegevens vergelijking'!$I$16:$Q$68,9,FALSE)","v":44.20203263918858},-46.236220142116053,-2.0341875029274705,1084.6749243924644,0,0,44.20203263918858,1,"","",0,0,4.4202032639188582,0,0,0.20341875029274706,4.4202032639188582,-4.6236220142116053,"","","","","",-99.407873305549515,0,-99.407873305549515,null,null,null,null,null,null,null,null,null,null,null,null,null,null,null,null,null,null,null,null,null,"1996-07-07",0,5.0780000000000003,null,"2004-07-06",0,4.7949999999999999,null,"2035-07-07",7.44,2.8066599999999999,9.67,2.7080500000000001,7.44,2.6094300000000001,null,"2045-07-06",7.05,2.87,9.5399999999999991,2.7431999999999999,7.05,2.6164100000000001,null,"2095-07-07",5.14,3.1866599999999998,8.69,2.9189799999999999,5.14,2.6513100000000001]
["1996-08-10",5.9,2.444,8,1996,32,5.9,{"$f":"IF(B10848<Parameters!$A$16,B10848*Parameters!$B$16,IF(AND(B10848>Parameters!$A$16,B10848<Parameters!$A$17),B10848*Parameters!$B$17,B10848*Parameters!$B$18))","v":5.6050000000000004},{"$f":"IF(B10848<Parameters!$A$20,B10848*Parameters!$B$20,IF(AND(B10848>Parameters!$A$20,B10848<Parameters!$A$21),B10848*Parameters!$B$21,B10848*Parameters!$B$22))","v":4.4250000000000007},71.486046511627904,1.2116279069767442,67.609883720930227,0.94577735124760076,3.876162790697677,2.508516129032258,842.75815320548668,0.97642780364108717,{"$f":"VLOOKUP($F10848,'Gegevens vergelijking'!$I$16:$Q$68,9,FALSE)","v":35.235564143205707},31.397891774083433,66.63345591728914,858.83884969580868,0,35.235564143205707,0,0,0,1.2116279069767442,7.1486046511627901,6.7609883720930224,0,0.3876162790697677,0,9.7642780364108714E-2,0,6.6633455917289135,5.4222648752399273E-2,0,1.4442086717253309E-2,0,0.98555791328274667,143.26193022217166,0,143.26193022217166,null,null,null,null,null,null,null,null,null,null,null,null,null,null,null,null,null,null,null,null,null,"1996-08-10",5.9,2.444,null,"2004-08-09",0,4.7939999999999996,null,"2035-08-10",0,5.1697699999999998,0,4.9629899999999996,0,4.7561999999999998,null,"2045-08-09",0,5.3177000000000003,0,5.0518400000000003,0,4.7859800000000003,null,"2095-08-10",0,6.0573699999999997,0,5.4961099999999998,0,4.9348400000000003]
["1996-11-23",3.4,3.1E-2,11,1996,47,3.4,{"$f":"IF(B10953<Parameters!$A$16,B10953*Parameters!$B$16,IF(AND(B10953>Parameters!$A$16,B10953<Parameters!$A$17),B10953*Parameters!$B$17,B10953*Parameters!$B$18))","v":3.23},{"$f":"IF(B10953<Parameters!$A$20,B10953*Parameters!$B$20,IF(AND(B10953>Parameters!$A$20,B10953<Parameters!$A$21),B10953*Parameters!$B$21,B10953*Parameters!$B$22))","v":2.5499999999999998},41.195348837209302,1.2116279069767442,38.961627906976744,0.94577735124760076,2.2337209302325576,0.19766666666666666,1028.1326577068476,9.4267355081915583E-2,{"$f":"VLOOKUP($F10953,'Gegevens vergelijking'!$I$16:$Q$68,9,FALSE)","v":7.1842085238095228},31.683152028085306,38.867360551894826,2959.1779874176659,0,0,7.1842085238095228,1,0.21130025070028008,1.2116279069767442,4.11953488372093,3.8961627906976743,0.71842085238095232,0.22337209302325575,0,9.4267355081915586E-3,0.71842085238095232,3.1683152028085306,5.4222648752399218E-2,0,2.4194922067164296E-3,0.18439189812505416,0.81318860966822948,68.118776860383406,68.118776860383406,0,null,null,null,null,null,null,null,null,null,null,null,null,null,null,null,null,null,null,null,null,null,"1996-11-23",3.4,3.1E-2,null,"2004-11-22",0.7,0.47599999999999998,null,"2035-11-23",0,0.55049000000000003,0,0.55049000000000003,0,0.51112000000000002,null,"2045-11-22",0,0.56035000000000001,0,0.56035000000000001,0,0.50973000000000002,null,"2095-11-23",0,0.60963000000000001,0,0.60963000000000001,0,0.50275999999999998]
["1997-01-01",0,0,1,1997,1,0,{"$f":"IF(B10992<Parameters!$A$16,B10992*Parameters!$B$16,IF(AND(B10992>Parameters!$A$16,B10992<Parameters!$A$17),B10992*Parameters!$B$17,B10992*Parameters!$B$18))","v":0},{"$f":"IF(B10992<Parameters!$A$20,B10992*Parameters!$B$20,IF(AND(B10992>Parameters!$A$20,B10992<Parameters!$A$21),B10992*Parameters!$B$21,B10992*Parameters!$B$22))","v":0},0,"",0,"",0,6.4516129032258063E-2,1078.067635805508,3.2358384597988829E-2,{"$f":"VLOOKUP($F10992,'Gegevens vergelijking'!$I$16:$Q$68,9,FALSE)","v":3.0894753415257137},-3.1218337261237026,-3.2358384597988829E-2,3524.9536809199549,0,0,3.0894753415257137,1,"","",0,0,0.30894753415257137,0,0,3.235838459798883E-3,0.30894753415257137,-0.31218337261237022,"","","","","",-6.7119425111659599,-6.7119425111659599,0,null,null,null,null,null,null,null,null,null,null,null,null,null,null,null,null,null,null,null,null,null,"1997-01-01",0,0,null,"2004-12-31",1.3,0.48099999999999998,null,"2036-01-01",0,0,0,0,0,0,null,"2045-12-31",0,0,0,0,0,0,null,"2096-01-01",0,0,0,0,0,0]
["1997-02-13",11.7,0.57599999999999996,2,1997,7,11.7,{"$f":"IF(B11035<Parameters!$A$16,B11035*Parameters!$B$16,IF(AND(B11035>Parameters!$A$16,B11035<Parameters!$A$17),B11035*Parameters!$B$17,B11035*Parameters!$B$18))","v":11.114999999999998},{"$f":"IF(B11035<Parameters!$A$20,B11035*Parameters!$B$20,IF(AND(B11035>Parameters!$A$20,B11035<Parameters!$A$21),B11035*Parameters!$B$21,B11035*Parameters!$B$22))","v":8.7749999999999986},141.76046511627908,1.2116279069767442,134.0738372093023,0.94577735124760054,7.6866279069767813,0.54028571428571426,1110.5079886550132,0.27634181671344366,{"$f":"VLOOKUP($F11035,'Gegevens vergelijking'!$I$16:$Q$68,9,FALSE)","v":10.977630682914283},122.81986470967458,133.79749539258884,3892.5109289600819,0,0,10.977630682914283,1,9.3825903272771655E-2,1.2116279069767442,14.176046511627908,13.40738372093023,1.0977630682914283,0.76866279069767818,0,2.7634181671344366E-2,1.0977630682914283,12.281986470967459,5.4222648752399495E-2,0,2.061116638901348E-3,8.1877500572890546E-2,0.91606138278820815,264.06270912580032,264.06270912580032,0,null,null,null,null,null,null,null,null,null,null,null,null,null,null,null,null,null,null,null,null,null,"1997-02-13",11.7,0.57599999999999996,null,"2005-02-12",16.399999999999999,0.86299999999999999,null,"2036-02-13",19.25,0.83809999999999996,16.16,0.79659000000000002,14.03,0.75536000000000003,null,"2046-02-12",19.86,0.85897999999999997,16.32,0.80562,13.8,0.75261,null,"2096-02-13",23.17,0.96340000000000003,17.11,0.85075999999999996,12.44,0.73884000000000005]
["1997-05-29",0,5.367,5,1997,22,0,{"$f":"IF(B11140<Parameters!$A$16,B11140*Parameters!$B$16,IF(AND(B11140>Parameters!$A$16,B11140<Parameters!$A$17),B11140*Parameters!$B$17,B11140*Parameters!$B$18))","v":0},{"$f":"IF(B11140<Parameters!$A$20,B11140*Parameters!$B$20,IF(AND(B11140>Parameters!$A$20,B11140<Parameters!$A$21),B11140*Parameters!$B$21,B11140*Parameters!$B$22))","v":0},0,"",0,"",0,5.173451612903226,1022.2274755077049,2.4687140367184446,{"$f":"VLOOKUP($F11140,'Gegevens vergelijking'!$I$16:$Q$68,9,FALSE)","v":39.779582414171429},-42.248296450889875,-2.4687140367184446,2892.2708076973468,0,0,39.779582414171429,1,"","",0,0,3.9779582414171428,0,0,0.24687140367184446,3.9779582414171428,-4.2248296450889873,"","","","","",-90.833837369413231,0,-90.833837369413231,null,null,null,null,null,null,null,null,null,null,null,null,null,null,null,null,null,null,null,null,null,"1997-05-29",0,5.367,null,"2005-05-28",0,6.6689999999999996,null,"2036-05-28",0,4.7347900000000003,0,4.7347900000000003,0,4.5183499999999999,null,"2046-05-28",0,4.7884500000000001,0,4.7884500000000001,0,4.5101699999999996,null,"2096-05-28",0,5.0567200000000003,0,5.0567200000000003,0,4.4692499999999997]
["1997-07-11",0.1,4.1900000000000004,7,1997,28,0.1,{"$f":"IF(B11183<Parameters!$A$16,B11183*Parameters!$B$16,IF(AND(B11183>Parameters!$A$16,B11183<Parameters!$A$17),B11183*Parameters!$B$17,B11183*Parameters!$B$18))","v":0},{"$f":"IF(B11183<Parameters!$A$20,B11183*Parameters!$B$20,IF(AND(B11183>Parameters!$A$20,B11183<Parameters!$A$21),B11183*Parameters!$B$21,B11183*Parameters!$B$22))","v":0},1.2116279069767442,1.2116279069767442,0.13023255813953488,0.10748560460652591,1.0813953488372092,4.1577419354838714,966.28958751063237,1.8754152167352292,{"$f":"VLOOKUP($F11183,'Gegevens vergelijking'!$I$16:$Q$68,9,FALSE)","v":37.932157990359997},-39.677340648955692,-1.7451826585956942,2258.4806553903418,0,0,37.932157990359997,1,37.932157990359997,1.2116279069767442,0.12116279069767441,1.3023255813953489E-2,3.7932157990359996,0.10813953488372093,0,0.18754152167352292,3.7932157990359996,-3.967734064895569,0.8925143953934741,0,14.400509699931224,291.26478456883569,-304.6652942687669,-85.306282395254726,0,-85.306282395254726,null,null,null,null,null,null,null,null,null,null,null,null,null,null,null,null,null,null,null,null,null,"1997-07-11",0.1,4.1900000000000004,null,"2005-07-10",0,5.4080000000000004,null,"2036-07-10",0,5.7848800000000002,0,5.5816100000000004,0,5.3783500000000002,null,"2046-07-10",0,5.9154099999999996,0,5.6540699999999999,0,5.3927399999999999,null,"2096-07-10",0,6.5680899999999998,0,6.0163799999999998,0,5.4646600000000003]
["1997-08-19",0,4.7009999999999996,8,1997,34,0,{"$f":"IF(B11222<Parameters!$A$16,B11222*Parameters!$B$16,IF(AND(B11222>Parameters!$A$16,B11222<Parameters!$A$17),B11222*Parameters!$B$17,B11222*Parameters!$B$18))","v":0},{"$f":"IF(B11222<Parameters!$A$20,B11222*Parameters!$B$20,IF(AND(B11222>Parameters!$A$20,B11222<Parameters!$A$21),B11222*Parameters!$B$21,B11222*Parameters!$B$22))","v":0},0,"",0,"",0,4.7655161290322576,896.88681800837026,1.9946744229206663,{"$f":"VLOOKUP($F11222,'Gegevens vergelijking'!$I$16:$Q$68,9,FALSE)","v":32.292939745809527},-34.287614168730194,-1.9946744229206663,1472.1300542437848,0,0,32.292939745809527,1,"","",0,0,3.2292939745809526,0,0,0.19946744229206664,3.2292939745809526,-3.4287614168730194,"","","","","",-73.718370462769926,0,-73.718370462769926,null,null,null,null,null,null,null,null,null,null,null,null,null,null,null,null,null,null,null,null,null,"1997-08-19",0,4.7009999999999996,null,"2005-08-18",0,4.9720000000000004,null,"2036-08-18",0,4.3407400000000003,0,4.1671199999999997,0,3.99349,null,"2046-08-18",0,4.46495,0,4.2417199999999999,0,4.0184899999999999,null,"2096-08-18",0,5.0860000000000003,0,4.6147400000000003,0,4.1434800000000003]
["1997-12-02",0,0.38400000000000001,12,1997,49,0,{"$f":"IF(B11327<Parameters!$A$16,B11327*Parameters!$B$16,IF(AND(B11327>Parameters!$A$16,B11327<Parameters!$A$17),B11327*Parameters!$B$17,B11327*Parameters!$B$18))","v":0},{"$f":"IF(B11327<Parameters!$A$20,B11327*Parameters!$B$20,IF(AND(B11327>Parameters!$A$20,B11327<Parameters!$A$21),B11327*Parameters!$B$21,B11327*Parameters!$B$22))","v":0},0,"",0,"",0,0.44851612903225807,927.11219442880292,0.19347070793135118,{"$f":"VLOOKUP($F11327,'Gegevens vergelijking'!$I$16:$Q$68,9,FALSE)","v":3.2736734693877554},-3.4671441773191067,-0.19347070793135118,1814.5910696837173,0,0,3.2736734693877554,1,"","",0,0,0.32736734693877556,0,0,1.9347070793135118E-2,0.32736734693877556,-0.3467144177319107,"","","","","",-7.4543599812360801,-7.4543599812360801,0,null,null,null,null,null,null,null,null,null,null,null,null,null,null,null,null,null,null,null,null,null,"1997-12-02",0,0.38400000000000001,null,"2005-12-01",0,0.61499999999999999,null,"2036-12-01",0,0.35321000000000002,0,0.32756999999999997,0,0.30182999999999999,null,"2046-12-01",0,0.36870000000000003,0,0.33572999999999997,0,0.30263000000000001,null,"2096-12-01",0,0.44613999999999998,0,0.37655,0,0.30667]
["1998-01-14",0.8,0.61599999999999999,1,1998,3,0.8,{"$f":"IF(B11370<Parameters!$A$16,B11370*Parameters!$B$16,IF(AND(B11370>Parameters!$A$16,B11370<Parameters!$A$17),B11370*Parameters!$B$17,B11370*Parameters!$B$18))","v":0},{"$f":"IF(B11370<Parameters!$A$20,B11370*Parameters!$B$20,IF(AND(B11370>Parameters!$A$20,B11370<Parameters!$A$21),B11370*Parameters!$B$21,B11370*Parameters!$B$22))","v":0},9.6930232558139533,1.2116279069767442,1.0418604651162791,0.10748560460652591,8.6511627906976738,0.68051612903225811,1027.1313535855675,0.32523723919029696,{"$f":"VLOOKUP($F11370,'Gegevens vergelijking'!$I$16:$Q$68,9,FALSE)","v":5.3886624347828569},-4.6720392088568747,0.71662322592598215,2947.8329632443379,0,0,5.3886624347828569,1,0.67358280434785711,1.2116279069767442,0.96930232558139529,0.10418604651162791,0.53886624347828571,0.8651162790697674,0,3.2523723919029697E-2,0.53886624347828571,-0.46720392088568752,0.8925143953934741,0,0.31216967154425823,5.1721536762424742,-4.4843233477867326,-10.044884299042282,-10.044884299042282,0,null,null,null,null,null,null,null,null,null,null,null,null,null,null,null,null,null,null,null,null,null,"1998-01-14",0.8,0.61599999999999999,null,"2006-01-13",0,0.44700000000000001,null,"2037-01-13",0,1.31382,0.1,1.2338100000000001,0,1.1537999999999999,null,"2047-01-13",0,1.36263,0,1.25976,0,1.15689,null,"2097-01-13",0,1.60666,0,1.3894899999999999,0,1.17232]
["1998-04-29",0,3.8130000000000002,4,1998,18,0,{"$f":"IF(B11475<Parameters!$A$16,B11475*Parameters!$B$16,IF(AND(B11475>Parameters!$A$16,B11475<Parameters!$A$17),B11475*Parameters!$B$17,B11475*Parameters!$B$18))","v":0},{"$f":"IF(B11475<Parameters!$A$20,B11475*Parameters!$B$20,IF(AND(B11475>Parameters!$A$20,B11475<Parameters!$A$21),B11475*Parameters!$B$21,B11475*Parameters!$B$22))","v":0},0,"",0,"",0,3.6463333333333336,1076.8797968413014,1.8316194393442331,{"$f":"VLOOKUP($F11475,'Gegevens vergelijking'!$I$16:$Q$68,9,FALSE)","v":33.340195028868571},-35.171814468212801,-1.8316194393442331,3511.4951706866013,0,0,33.340195028868571,1,"","",0,0,3.3340195028868571,0,0,0.18316194393442331,3.3340195028868571,-3.5171814468212803,"","","","","",-75.619401106657534,0,-75.619401106657534,null,null,null,null,null,null,null,null,null,null,null,null,null,null,null,null,null,null,null,null,null,"1998-04-29",0,3.8130000000000002,null,"2006-04-28",0,3.4159999999999999,null,"2037-04-28",0,2.5799799999999999,0,2.5799799999999999,0,2.4685000000000001,null,"2047-04-28",0,2.6005500000000001,0,2.6005500000000001,0,2.4572099999999999,null,"2097-04-28",0,2.7033700000000001,0,2.7033700000000001,0,2.4007800000000001]
["1998-06-13",2.9,4.1920000000000002,6,1998,24,2.9,{"$f":"IF(B11520<Parameters!$A$16,B11520*Parameters!$B$16,IF(AND(B11520>Parameters!$A$16,B11520<Parameters!$A$17),B11520*Parameters!$B$17,B11520*Parameters!$B$18))","v":2.7549999999999999},{"$f":"IF(B11520<Parameters!$A$20,B11520*Parameters!$B$20,IF(AND(B11520>Parameters!$A$20,B11520<Parameters!$A$21),B11520*Parameters!$B$21,B11520*Parameters!$B$22))","v":2.1749999999999998},35.13720930232558,1.2116279069767442,33.231976744186042,0.94577735124760065,1.905232558139538,4.0586666666666664,1008.9460175506819,1.9067434274915023,{"$f":"VLOOKUP($F11520,'Gegevens vergelijking'!$I$16:$Q$68,9,FALSE)","v":43.951162369211438},-12.625929052516899,31.32523331669454,2741.7885931761048,0,0,43.951162369211438,1,1.5155573230762565,1.2116279069767442,3.5137209302325578,3.323197674418604,4.3951162369211438,0.1905232558139538,0,0.19067434274915024,4.3951162369211438,-1.2625929052516902,5.4222648752399322E-2,0,5.7376768230469125E-2,1.3225563651401124,-0.37993313337058165,-27.145747462911338,0,-27.145747462911338,null,null,null,null,null,null,null,null,null,null,null,null,null,null,null,null,null,null,null,null,null,"1998-06-13",2.9,4.1920000000000002,null,"2006-06-12",0,7.2939999999999996,null,"2037-06-12",0.94,3.6851699999999998,1.18,3.5231400000000002,0.94,3.3718300000000001,null,"2047-06-12",0.9,3.7654999999999998,1.1599999999999999,3.5571799999999998,0.9,3.3626399999999999,null,"2097-06-12",0.67,4.1671800000000001,1.02,3.7273800000000001,0.67,3.3166899999999999]
["1998-07-21",7.5,2.7440000000000002,7,1998,30,7.5,{"$f":"IF(B11558<Parameters!$A$16,B11558*Parameters!$B$16,IF(AND(B11558>Parameters!$A$16,B11558<Parameters!$A$17),B11558*Parameters!$B$17,B11558*Parameters!$B$18))","v":7.125},{"$f":"IF(B11558<Parameters!$A$20,B11558*Parameters!$B$20,IF(AND(B11558>Parameters!$A$20,B11558<Parameters!$A$21),B11558*Parameters!$B$21,B11558*Parameters!$B$22))","v":5.625},90.872093023255815,1.2116279069767442,85.944767441860463,0.94577735124760076,4.9273255813953512,2.7117419354838712,922.98058375917503,{"$f":"SUM(O11558*P11557)/$E$3*10","v":1.1589757828391634},{"$f":"VLOOKUP($F11558,'Gegevens vergelijking'!$I$16:$Q$68,9,FALSE)","v":38.460966477868567},46.324825181152733,84.785791659021299,1767.7788955145065,0,0,38.460966477868567,1,0.51281288637158084,1.2116279069767442,9.0872093023255811,8.5944767441860463,3.8460966477868568,0.49273255813953509,0,0.11589757828391634,3.8460966477868568,4.6324825181152729,5.4222648752399259E-2,0,1.3485123263882029E-2,0.44750794751857897,0.5390069292175389,99.598374139478366,0,99.598374139478366,null,null,null,null,null,null,null,null,null,null,null,null,null,null,null,null,null,null,null,null,null,"1998-07-21",7.5,2.7440000000000002,null,"2006-07-20",0.8,5.5339999999999998,null,"2037-07-20",0.09,6.0107100000000004,0,5.7995099999999997,0.09,5.5883200000000004,null,"2047-07-20",0.09,6.1463400000000004,0.12,5.8747999999999996,0.09,5.6032599999999997,null,"2097-07-20",0.08,6.8244999999999996,0.1,6.2512499999999998,0.08,5.6779999999999999]
["1998-11-03",7.2,0.52400000000000002,11,1998,45,7.2,{"$f":"IF(B11663<Parameters!$A$16,B11663*Parameters!$B$16,IF(AND(B11663>Parameters!$A$16,B11663<Parameters!$A$17),B11663*Parameters!$B$17,B11663*Parameters!$B$18))","v":6.84},{"$f":"IF(B11663<Parameters!$A$20,B11663*Parameters!$B$20,IF(AND(B11663>Parameters!$A$20,B11663<Parameters!$A$21),B11663*Parameters!$B$21,B11663*Parameters!$B$22))","v":5.4},87.237209302325581,1.2116279069767442,82.506976744186048,0.94577735124760076,4.7302325581395337,0.69066666666666665,1032.2718551815512,0.32959070524541101,{"$f":"VLOOKUP($F11663,'Gegevens vergelijking'!$I$16:$Q$68,9,FALSE)","v":11.050358269480521},71.127027769460113,82.177386038940639,3006.0761219710939,0,0,11.050358269480521,1,0.15347719818722946,1.2116279069767442,8.7237209302325578,8.2506976744186051,1.105035826948052,0.47302325581395338,0,3.2959070524541098E-2,1.105035826948052,7.1127027769460121,5.4222648752399225E-2,0,3.9947010331903348E-3,0.13393241039169693,0.86207288857511277,152.92310970433925,152.92310970433925,0,null,null,null,null,null,null,null,null,null,null,null,null,null,null,null,null,null,null,null,null,null,"1998-11-03",7.2,0.52400000000000002,null,"2006-11-02",0.8,0.41499999999999998,null,"2037-11-02",0,0.74038999999999999,0,0.74038999999999999,0,0.68744000000000005,null,"2047-11-02",4.4400000000000004,0.75365000000000004,4.4400000000000004,0.75365000000000004,4.4400000000000004,0.68557000000000001,null,"2097-11-02",4.49,0.81993000000000005,4.49,0.81993000000000005,4.49,0.67620000000000002]
["1998-12-16",0,0.47899999999999998,12,1998,51,0,{"$f":"IF(B11706<Parameters!$A$16,B11706*Parameters!$B$16,IF(AND(B11706>Parameters!$A$16,B11706<Parameters!$A$17),B11706*Parameters!$B$17,B11706*Parameters!$B$18))","v":0},{"$f":"IF(B11706<Parameters!$A$20,B11706*Parameters!$B$20,IF(AND(B11706>Parameters!$A$20,B11706<Parameters!$A$21),B11706*Parameters!$B$21,B11706*Parameters!$B$22))","v":0},0,"",0,"",0,0.5435161290322581,1128.708260255295,0.28548877612521428,{"$f":"VLOOKUP($F11706,'Gegevens vergelijking'!$I$16:$Q$68,9,FALSE)","v":6.5880102040816331},-6.8734989802068469,-0.28548877612521428,4098.7245226906016,0,0,6.5880102040816331,1,"","",0,0,0.65880102040816335,0,0,2.854887761252143E-2,0.65880102040816335,-0.6873498980206848,"","","","","",-14.778022807444724,-14.778022807444724,0,null,null,null,null,null,null,null,null,null,null,null,null,null,null,null,null,null,null,null,null,null,"1998-12-16",0,0.47899999999999998,null,"2006-12-15",0,0.73,null,"2037-12-15",4.3600000000000003,0.47725000000000001,3.7,0.44259999999999999,3.27,0.40782000000000002,null,"2047-12-15",4.51,0.49817,3.76,0.45362999999999998,3.25,0.40891,null,"2097-12-15",5.29,0.60280999999999996,4.0599999999999996,0.50878000000000001,3.11,0.41436000000000001]
["1999-03-31",0,3.097,{"$f":"MONTH(A11811)","v":3},1999,{"$f":"INT((A11811-DATE(YEAR(A11811-WEEKDAY(A11811-1)+4),1,3)+WEEKDAY(DATE(YEAR(A11811-WEEKDAY(A11811-1)+4),1,3))+5)/7)","v":13},0,{"$f":"IF(B11811<Parameters!$A$16,B11811*Parameters!$B$16,IF(AND(B11811>Parameters!$A$16,B11811<Parameters!$A$17),B11811*Parameters!$B$17,B11811*Parameters!$B$18))","v":0},{"$f":"IF(B11811<Parameters!$A$20,B11811*Parameters!$B$20,IF(AND(B11811>Parameters!$A$20,B11811<Parameters!$A$21),B11811*Parameters!$B$21,B11811*Parameters!$B$22))","v":0},0,"",0,{"$f":"IF(B11811=0,\"\",L11811/J11811)","v":""},{"$f":"IF(B11811=0,0,SUM(J11811-L11811))","v":0},3.000225806451613,1254.820617412237,1.7541497409741629,{"$f":"VLOOKUP($F11811,'Gegevens vergelijking'!$I$16:$Q$68,9,FALSE)","v":23.460342198479999},-25.214491939454163,-1.7541497409741629,5527.6088247664457,0,0,23.460342198479999,{"$f":"IF(R11811=0,\"\",((R11811-W11811)/R11811))","v":1},{"$f":"IF(B11811=0,\"\",X11811/(B11811*10))","v":""},"",{"$f":"J11811/10","v":0},{"$f":"L11811/10","v":0},2.3460342198479998,0,0,0.1754149740974163,{"$f":"(R11811-W11811)/10","v":2.3460342198479998},{"$f":"SUM(AC11811-AF11811-AG11811-AD11811)","v":-2.5214491939454162},{"$f":"IF(AB11811=0,\"\",AE11811/AB11811)","v":""},"","",{"$f":"IF(AC11811=0,\"\",AD11811/AC11811)","v":""},{"$f":"IF(AC11811=0,\"\",AI11811/AC11811)","v":""},-54.211157669826449,-54.211157669826449,0,null,null,null,null,null,null,null,null,null,null,null,null,null,null,null,null,null,null,null,null,null,"1999-03-31",0,3.097,null,"2007-03-30",4.0999999999999996,1.61,null,"2038-03-30",0,2.6043799999999999,0,2.6043799999999999,0,2.4490599999999998,null,"2048-03-29",0,2.6113499999999998,0,2.6113499999999998,0,2.4116599999999999,null,"2098-03-30",1.6,2.6461800000000002,1.6,2.6461800000000002,1.6,2.2246000000000001]
["1999-05-09",0,5.1230000000000002,5,1999,18,0,{"$f":"IF(B11850<Parameters!$A$16,B11850*Parameters!$B$16,IF(AND(B11850>Parameters!$A$16,B11850<Parameters!$A$17),B11850*Parameters!$B$17,B11850*Parameters!$B$18))","v":0},{"$f":"IF(B11850<Parameters!$A$20,B11850*Parameters!$B$20,IF(AND(B11850>Parameters!$A$20,B11850<Parameters!$A$21),B11850*Parameters!$B$21,B11850*Parameters!$B$22))","v":0},0,"",0,"",0,4.9294516129032262,1221.5181526909303,2.8079728433101767,{"$f":"VLOOKUP($F11850,'Gegevens vergelijking'!$I$16:$Q$68,9,FALSE)","v":33.340195028868571},-36.148167872178746,-2.8079728433101767,5150.2836352809172,0,0,33.340195028868571,1,"","",0,0,3.3340195028868571,0,0,0.28079728433101769,3.3340195028868571,-3.6148167872178747,"","","","","",-77.718560925184306,0,-77.718560925184306,null,null,null,null,null,null,null,null,null,null,null,null,null,null,null,null,null,null,null,null,null,"1999-05-09",0,5.1230000000000002,null,"2007-05-08",1.6,2.82,null,"2038-05-08",1.1000000000000001,3.7101500000000001,1.1000000000000001,3.7101500000000001,1.1000000000000001,3.5405500000000001,null,"2048-05-07",0,3.7522000000000002,0,3.7522000000000002,0,3.5341399999999998,null,"2098-05-08",1.01,3.9624100000000002,1.01,3.9624100000000002,1.01,3.5020699999999998]
["1999-06-21",10.9,1.7889999999999999,6,1999,25,10.9,{"$f":"IF(B11893<Parameters!$A$16,B11893*Parameters!$B$16,IF(AND(B11893>Parameters!$A$16,B11893<Parameters!$A$17),B11893*Parameters!$B$17,B11893*Parameters!$B$18))","v":10.355},{"$f":"IF(B11893<Parameters!$A$20,B11893*Parameters!$B$20,IF(AND(B11893>Parameters!$A$20,B11893<Parameters!$A$21),B11893*Parameters!$B$21,B11893*Parameters!$B$22))","v":8.1750000000000007},132.06744186046512,1.2116279069767442,124.90639534883721,0.94577735124760065,7.1610465116279158,1.6556666666666666,1159.0004889964309,0.88693218047795719,{"$f":"VLOOKUP($F11893,'Gegevens vergelijking'!$I$16:$Q$68,9,FALSE)","v":41.801906897514286},82.217556270844966,124.01946316835925,4441.9429915138771,0,0,41.801906897514286,1,0.38350373300471824,1.2116279069767442,13.206744186046512,12.490639534883721,4.1801906897514289,0.71610465116279154,0,8.8693218047795716E-2,4.1801906897514289,8.2217556270844963,5.4222648752399294E-2,0,7.1007747681849495E-3,0.33466586543283378,0.65823335979898123,176.76774598231668,0,176.76774598231668,null,null,null,null,null,null,null,null,null,null,null,null,null,null,null,null,null,null,null,null,null,"1999-06-21",10.9,1.7889999999999999,null,"2007-06-20",0.8,5.6,null,"2038-06-20",14.26,1.33918,18.12,1.2803,14.26,1.2253099999999999,null,"2048-06-19",14,1.3683700000000001,18.14,1.2926599999999999,14,1.22197,null,"2098-06-20",0,1.51434,18.29,1.3545199999999999,0,1.2052700000000001]
["1999-10-04",3.7,0.752,10,1999,40,3.7,{"$f":"IF(B11998<Parameters!$A$16,B11998*Parameters!$B$16,IF(AND(B11998>Parameters!$A$16,B11998<Parameters!$A$17),B11998*Parameters!$B$17,B11998*Parameters!$B$18))","v":3.5150000000000001},{"$f":"IF(B11998<Parameters!$A$20,B11998*Parameters!$B$20,IF(AND(B11998>Parameters!$A$20,B11998<Parameters!$A$21),B11998*Parameters!$B$21,B11998*Parameters!$B$22))","v":2.7750000000000004},44.830232558139535,1.2116279069767442,42.39941860465116,0.94577735124760065,2.430813953488375,0.91329032258064513,1012.1378103784434,0.429087035736676,{"$f":"VLOOKUP($F11998,'Gegevens vergelijking'!$I$16:$Q$68,9,FALSE)","v":19.161461678190477},22.808869890724008,41.970331568914482,2777.9523979759069,0,0,19.161461678190477,1,0.5178773426537967,1.2116279069767442,4.4830232558139533,4.239941860465116,1.9161461678190477,0.24308139534883749,0,4.2908703573667599E-2,1.9161461678190477,2.2808869890724006,5.4222648752399294E-2,0,1.0120116026534518E-2,0.45192746289423152,0.53795242107923391,49.039070265056615,49.039070265056615,0,null,null,null,null,null,null,null,null,null,null,null,null,null,null,null,null,null,null,null,null,null,"1999-10-04",3.7,0.752,null,"2007-10-03",6.5,0.88,null,"2038-10-03",0,1.5256000000000001,0,1.5256000000000001,0,1.4345000000000001,null,"2048-10-02",0,1.55291,0,1.55291,0,1.4357899999999999,null,"2098-10-03",0,1.68947,0,1.68947,0,1.4422299999999999]
["1999-11-12",0,0.49299999999999999,11,1999,45,0,{"$f":"IF(B12037<Parameters!$A$16,B12037*Parameters!$B$16,IF(AND(B12037>Parameters!$A$16,B12037<Parameters!$A$17),B12037*Parameters!$B$17,B12037*Parameters!$B$18))","v":0},{"$f":"IF(B12037<Parameters!$A$20,B12037*Parameters!$B$20,IF(AND(B12037>Parameters!$A$20,B12037<Parameters!$A$21),B12037*Parameters!$B$21,B12037*Parameters!$B$22))","v":0},0,"",0,"",0,0.65966666666666662,1014.2343054086859,0.3114967769034917,{"$f":"VLOOKUP($F12037,'Gegevens vergelijking'!$I$16:$Q$68,9,FALSE)","v":11.050358269480521},-11.361855046384012,-0.3114967769034917,2801.706206925538,0,0,11.050358269480521,1,"","",0,0,1.105035826948052,0,0,3.1149677690349171E-2,1.105035826948052,-1.1361855046384013,"","","","","",-24.427988349725627,-24.427988349725627,0,null,null,null,null,null,null,null,null,null,null,null,null,null,null,null,null,null,null,null,null,null,"1999-11-12",0,0.49299999999999999,null,"2007-11-11",3.5,0.66,null,"2038-11-11",0,0.45981,0,0.45981,0,0.42692999999999998,null,"2048-11-10",0,0.46804000000000001,0,0.46804000000000001,0,0.42576000000000003,null,"2098-11-11",0,0.50919999999999999,0,0.50919999999999999,0,0.41993999999999998]
["1999-12-25",8.6,0.62,12,1999,51,8.6,{"$f":"IF(B12080<Parameters!$A$16,B12080*Parameters!$B$16,IF(AND(B12080>Parameters!$A$16,B12080<Parameters!$A$17),B12080*Parameters!$B$17,B12080*Parameters!$B$18))","v":8.17},{"$f":"IF(B12080<Parameters!$A$20,B12080*Parameters!$B$20,IF(AND(B12080>Parameters!$A$20,B12080<Parameters!$A$21),B12080*Parameters!$B$21,B12080*Parameters!$B$22))","v":6.4499999999999993},104.2,1.2116279069767442,98.550000000000011,0.94577735124760087,5.6499999999999915,0.68451612903225811,1123.0094051554934,0.35496912525842628,{"$f":"VLOOKUP($F12080,'Gegevens vergelijking'!$I$16:$Q$68,9,FALSE)","v":6.5880102040816331},91.607020670659963,98.19503087474159,4034.1550802070396,0,0,6.5880102040816331,1,7.6604769814902704E-2,1.2116279069767442,10.42,9.8550000000000004,0.65880102040816335,0.56499999999999917,0,3.5496912525842625E-2,0.65880102040816335,9.160702067065996,5.4222648752399155E-2,0,3.6019190792331429E-3,6.6849418610671063E-2,0.92954866231009592,196.95509444191893,196.95509444191893,0,null,null,null,null,null,null,null,null,null,null,null,null,null,null,null,null,null,null,null,null,null,"1999-12-25",8.6,0.62,null,"2007-12-24",0,0.38,null,"2038-12-24",23.71,0.58947000000000005,19.72,0.54668000000000005,16.989999999999998,0.50371999999999995,null,"2048-12-23",24.6,0.61531999999999998,19.95,0.56030000000000002,16.64,0.50505999999999995,null,"2098-12-24",29.04,0.74456,21.12,0.62841999999999998,14.92,0.51180000000000003]
["2000-04-08",0,2.7280000000000002,4,2000,14,0,{"$f":"IF(B12185<Parameters!$A$16,B12185*Parameters!$B$16,IF(AND(B12185>Parameters!$A$16,B12185<Parameters!$A$17),B12185*Parameters!$B$17,B12185*Parameters!$B$18))","v":0},{"$f":"IF(B12185<Parameters!$A$20,B12185*Parameters!$B$20,IF(AND(B12185>Parameters!$A$20,B12185<Parameters!$A$21),B12185*Parameters!$B$21,B12185*Parameters!$B$22))","v":0},0,"",0,"",0,2.5613333333333337,1234.4248613155439,1.473588295410774,{"$f":"VLOOKUP($F12185,'Gegevens vergelijking'!$I$16:$Q$68,9,FALSE)","v":27.019937776034283},-28.493526071445057,-1.473588295410774,5296.5198468698145,0,0,27.019937776034283,1,"","",0,0,2.7019937776034282,0,0,0.1473588295410774,2.7019937776034282,-2.8493526071445054,"","","","","",-61.261081053606866,0,-61.261081053606866,null,null,null,null,null,null,null,null,null,null,null,null,null,null,null,null,null,null,null,null,null,"2000-04-08",0,2.7280000000000002,null,"2008-04-07",0,1.97,null,"2039-04-08",0,3.2856700000000001,0,3.2856700000000001,0,3.1436899999999999,null,"2049-04-07",0,3.3118599999999998,0,3.3118599999999998,0,3.1293199999999999,null,"2099-04-08",0,3.4428100000000001,0,3.4428100000000001,0,3.0574599999999998]
["2000-06-21",2.1,3.8039999999999998,{"$f":"MONTH(A12259)","v":6},2000,{"$f":"INT((A12259-DATE(YEAR(A12259-WEEKDAY(A12259-1)+4),1,3)+WEEKDAY(DATE(YEAR(A12259-WEEKDAY(A12259-1)+4),1,3))+5)/7)","v":25},2.1,{"$f":"IF(B12259<Parameters!$A$16,B12259*Parameters!$B$16,IF(AND(B12259>Parameters!$A$16,B12259<Parameters!$A$17),B12259*Parameters!$B$17,B12259*Parameters!$B$18))","v":1.9949999999999999},{"$f":"IF(B12259<Parameters!$A$20,B12259*Parameters!$B$20,IF(AND(B12259>Parameters!$A$20,B12259<Parameters!$A$21),B12259*Parameters!$B$21,B12259*Parameters!$B$22))","v":1.5750000000000002},25.444186046511629,1.2116279069767442,24.064534883720931,{"$f":"IF(B12259=0,\"\",L12259/J12259)","v":0.94577735124760076},{"$f":"IF(B12259=0,0,SUM(J12259-L12259))","v":1.3796511627906973},3.6706666666666665,1151.199487761889,1.9683970582099946,{"$f":"VLOOKUP($F12259,'Gegevens vergelijking'!$I$16:$Q$68,9,FALSE)","v":41.801906897514286},-19.705769072003349,22.096137825510937,4353.5557116643722,0,0,41.801906897514286,{"$f":"IF(R12259=0,\"\",((R12259-W12259)/R12259))","v":1},{"$f":"IF(B12259=0,\"\",X12259/(B12259*10))","v":1.9905669951197278},1.2116279069767442,{"$f":"J12259/10","v":2.5444186046511628},{"$f":"L12259/10","v":2.4064534883720929},4.1801906897514289,0.13796511627906974,0,0.19683970582099947,{"$f":"(R12259-W12259)/10","v":4.1801906897514289},{"$f":"SUM(AC12259-AF12259-AG12259-AD12259)","v":-1.9705769072003356},{"$f":"IF(AB12259=0,\"\",AE12259/AB12259)","v":5.4222648752399225E-2},0,8.1796596847652656E-2,{"$f":"IF(AC12259=0,\"\",AD12259/AC12259)","v":1.7370752062942325},{"$f":"IF(AC12259=0,\"\",AI12259/AC12259)","v":-0.81887180314188524},-42.367403504807221,0,-42.367403504807221,null,null,null,null,null,null,null,null,null,null,null,null,null,null,null,null,null,null,null,null,null,"2000-06-21",2.1,3.8039999999999998,null,"2008-06-20",0.3,4.28,null,"2039-06-21",0,7.9895899999999997,0,7.6383000000000001,0,7.3102600000000004,null,"2049-06-20",0,8.1637599999999999,0,7.7121000000000004,0,7.29033,null,"2099-06-21",0,9.0345999999999993,0,8.0810999999999993,0,7.1906999999999996]
["2000-09-04",0,1.585,9,2000,36,0,{"$f":"IF(B12334<Parameters!$A$16,B12334*Parameters!$B$16,IF(AND(B12334>Parameters!$A$16,B12334<Parameters!$A$17),B12334*Parameters!$B$17,B12334*Parameters!$B$18))","v":0},{"$f":"IF(B12334<Parameters!$A$20,B12334*Parameters!$B$20,IF(AND(B12334>Parameters!$A$20,B12334<Parameters!$A$21),B12334*Parameters!$B$21,B12334*Parameters!$B$22))","v":0},0,"",0,"",0,1.7183333333333333,1081.9523279054613,0.86690234048313897,{"$f":"VLOOKUP($F12334,'Gegevens vergelijking'!$I$16:$Q$68,9,FALSE)","v":30.026641895863097},-30.893544236346237,-0.86690234048313897,3568.9682064205253,0,0,30.026641895863097,1,"","",0,0,3.0026641895863095,0,0,8.6690234048313899E-2,3.0026641895863095,-3.0893544236346235,"","","","","",-66.421120108144407,0,-66.421120108144407,null,null,null,null,null,null,null,null,null,null,null,null,null,null,null,null,null,null,null,null,null,"2000-09-04",0,1.585,null,"2008-09-03",0.1,1.95,null,"2039-09-04",2.39,2.0483500000000001,2.39,2.0483500000000001,2.39,1.9630099999999999,null,"2049-09-03",2.34,2.0850200000000001,2.34,2.0850200000000001,2.34,1.9753000000000001,null,"2099-09-04",2.12,2.2683800000000001,2.12,2.2683800000000001,2.12,2.03674]
["2000-10-13",0.6,1.119,10,2000,41,0.6,{"$f":"IF(B12373<Parameters!$A$16,B12373*Parameters!$B$16,IF(AND(B12373>Parameters!$A$16,B12373<Parameters!$A$17),B12373*Parameters!$B$17,B12373*Parameters!$B$18))","v":0},{"$f":"IF(B12373<Parameters!$A$20,B12373*Parameters!$B$20,IF(AND(B12373>Parameters!$A$20,B12373<Parameters!$A$21),B12373*Parameters!$B$21,B12373*Parameters!$B$22))","v":0},7.2697674418604654,1.2116279069767442,0.78139534883720929,0.10748560460652591,6.4883720930232558,1.2802903225806452,1080.7943800084549,0.64449437612149274,{"$f":"VLOOKUP($F12373,'Gegevens vergelijking'!$I$16:$Q$68,9,FALSE)","v":17.237476837457141},-17.100575864741426,0.13690097271571655,3555.8483693961884,0,0,17.237476837457141,1,2.8729128062428568,1.2116279069767442,0.72697674418604652,7.8139534883720926E-2,1.7237476837457142,0.64883720930232558,0,6.4449437612149274E-2,1.7237476837457142,-1.7100575864741425,0.8925143953934741,0,0.8247993503935771,22.059866190793368,-21.884665541186944,-36.766238109194063,-36.766238109194063,0,null,null,null,null,null,null,null,null,null,null,null,null,null,null,null,null,null,null,null,null,null,"2000-10-13",0.6,1.119,null,"2008-10-12",0,2.1,null,"2039-10-13",0.39,1.69096,0.39,1.69096,0.39,1.58999,null,"2049-10-12",0,1.72123,0,1.72123,0,1.5914200000000001,null,"2099-10-13",0.37,1.8726,0.37,1.8726,0.37,1.5985499999999999]
["2000-11-25",7.5,0.51,11,2000,47,7.5,{"$f":"IF(B12416<Parameters!$A$16,B12416*Parameters!$B$16,IF(AND(B12416>Parameters!$A$16,B12416<Parameters!$A$17),B12416*Parameters!$B$17,B12416*Parameters!$B$18))","v":7.125},{"$f":"IF(B12416<Parameters!$A$20,B12416*Parameters!$B$20,IF(AND(B12416>Parameters!$A$20,B12416<Parameters!$A$21),B12416*Parameters!$B$21,B12416*Parameters!$B$22))","v":5.625},90.872093023255815,1.2116279069767442,85.944767441860463,0.94577735124760076,4.9273255813953512,0.67666666666666664,1172.2822178183305,0.36677323538580997,{"$f":"VLOOKUP($F12416,'Gegevens vergelijking'!$I$16:$Q$68,9,FALSE)","v":7.1842085238095228},78.39378568266514,85.577994206474656,4592.4282750013881,0,0,7.1842085238095228,1,9.5789446984126975E-2,1.2116279069767442,9.0872093023255811,8.5944767441860463,0.71842085238095232,0.49273255813953509,0,3.6677323538580997E-2,0.71842085238095232,7.839378568266512,5.4222648752399259E-2,0,4.2675458472084772E-3,8.3590993816691231E-2,0.91214146033610022,168.54663921772999,168.54663921772999,0,null,null,null,null,null,null,null,null,null,null,null,null,null,null,null,null,null,null,null,null,null,"2000-11-25",7.5,0.51,null,"2008-11-24",3.7,0.05,null,"2039-11-25",0,0.4118,0,0.4118,0,0.38235000000000002,null,"2049-11-24",0,0.41918,0,0.41918,0,0.38130999999999998,null,"2099-11-25",0,0.45604,0,0.45604,0,0.37609999999999999]
["2001-03-10",6.3,0.89400000000000002,3,2001,10,6.3,{"$f":"IF(B12521<Parameters!$A$16,B12521*Parameters!$B$16,IF(AND(B12521>Parameters!$A$16,B12521<Parameters!$A$17),B12521*Parameters!$B$17,B12521*Parameters!$B$18))","v":5.9849999999999994},{"$f":"IF(B12521<Parameters!$A$20,B12521*Parameters!$B$20,IF(AND(B12521>Parameters!$A$20,B12521<Parameters!$A$21),B12521*Parameters!$B$21,B12521*Parameters!$B$22))","v":4.7249999999999996},76.332558139534882,1.2116279069767442,72.193604651162786,0.94577735124760076,4.1389534883720955,0.7972258064516129,1271.7953488372093,0.4708376150866056,{"$f":"VLOOKUP($F12521,'Gegevens vergelijking'!$I$16:$Q$68,9,FALSE)","v":16.951002269891429},54.771764766184745,71.722767036076178,5719.9367441860477,31.930084592409003,0,16.951002269891429,1,0.26906352809351475,1.2116279069767442,7.6332558139534878,7.2193604651162788,1.6951002269891429,0.41389534883720958,{"$f":"V12521/10","v":3.1930084592409003},4.708376150866056E-2,1.6951002269891429,2.2841680173775751,5.4222648752399273E-2,0.41830229944660369,6.5218743039868708E-3,0.23479922289236194,0.31639478710262531,49.109612373617864,49.109612373617864,0,null,null,null,null,null,null,null,null,null,null,null,null,null,null,null,null,null,null,null,null,null,"2001-03-10",6.3,0.89400000000000002,null,"2009-03-09",3.7,1.19,null,"2040-03-09",8.26,0.74195,8.26,0.74195,8.26,0.69769999999999999,null,"2050-03-09",8.3699999999999992,0.74392999999999998,8.3699999999999992,0.74392999999999998,8.3699999999999992,0.68703999999999998,null,"2100-03-10",8.86,0.75385000000000002,8.86,0.75385000000000002,8.86,0.63375000000000004]
["2001-04-22",0,1.9470000000000001,4,2001,16,0,{"$f":"IF(B12564<Parameters!$A$16,B12564*Parameters!$B$16,IF(AND(B12564>Parameters!$A$16,B12564<Parameters!$A$17),B12564*Parameters!$B$17,B12564*Parameters!$B$18))","v":0},{"$f":"IF(B12564<Parameters!$A$20,B12564*Parameters!$B$20,IF(AND(B12564>Parameters!$A$20,B12564<Parameters!$A$21),B12564*Parameters!$B$21,B12564*Parameters!$B$22))","v":0},0,"",0,"",0,1.7803333333333333,1265.8463621269075,1.0506673733903682,{"$f":"VLOOKUP($F12564,'Gegevens vergelijking'!$I$16:$Q$68,9,FALSE)","v":32.719747675074295},-33.770415048464663,-1.0506673733903682,5652.533248483961,0,0,32.719747675074295,1,"","",0,0,3.2719747675074293,0,0,0.10506673733903682,3.2719747675074293,-3.3770415048464661,"","","","","",-72.606392354199016,0,-72.606392354199016,null,null,null,null,null,null,null,null,null,null,null,null,null,null,null,null,null,null,null,null,null,"2001-04-22",0,1.9470000000000001,null,"2009-04-21",0,4.1500000000000004,null,"2040-04-21",0.23,2.2127300000000001,0.23,2.2127300000000001,0.23,2.1171199999999999,null,"2050-04-21",0.23,2.2303700000000002,0.23,2.2303700000000002,0.23,2.10744,null,"2100-04-22",0.23,2.3185600000000002,0.23,2.3185600000000002,0.23,2.05904]
["2001-08-05",5.2,3.984,8,2001,31,5.2,{"$f":"IF(B12669<Parameters!$A$16,B12669*Parameters!$B$16,IF(AND(B12669>Parameters!$A$16,B12669<Parameters!$A$17),B12669*Parameters!$B$17,B12669*Parameters!$B$18))","v":4.9399999999999995},{"$f":"IF(B12669<Parameters!$A$20,B12669*Parameters!$B$20,IF(AND(B12669>Parameters!$A$20,B12669<Parameters!$A$21),B12669*Parameters!$B$21,B12669*Parameters!$B$22))","v":3.9000000000000004},63.004651162790701,1.2116279069767442,59.588372093023246,0.94577735124760054,3.4162790697674552,4.048516129032258,1119.455898758514,2.104489639795259,{"$f":"VLOOKUP($F12669,'Gegevens vergelijking'!$I$16:$Q$68,9,FALSE)","v":36.543125282102856},20.940757171125131,57.483882453227984,3993.8929709067506,0,0,36.543125282102856,1,0.70275240927120874,1.2116279069767442,6.3004651162790699,5.9588372093023247,3.6543125282102857,0.3416279069767455,0,0.21044896397952589,3.6543125282102857,2.0940757171125131,5.422264875239944E-2,0,3.5317119194159995E-2,0.6132593322914659,0.35142354851437407,45.022627917919031,0,45.022627917919031,null,null,null,null,null,null,null,null,null,null,null,null,null,null,null,null,null,null,null,null,null,"2001-08-05",5.2,3.984,null,"2009-08-04",0,6.1,null,"2040-08-04",2.42,4.17849,3.28,4.0113599999999998,2.42,3.84422,null,"2050-08-04",2.23,4.2980600000000004,3.2,4.08317,2.23,3.86829,null,"2100-08-05",1.27,4.8959000000000001,2.76,4.4422499999999996,1.27,3.98861]
["2001-09-13",5,1.6719999999999999,9,{"$f":"IF(AND((F12707>1),(F12708=1)),E12707+1,E12707)","v":2001},37,{"$f":"B12708","v":5},{"$f":"IF(B12708<Parameters!$A$16,B12708*Parameters!$B$16,IF(AND(B12708>Parameters!$A$16,B12708<Parameters!$A$17),B12708*Parameters!$B$17,B12708*Parameters!$B$18))","v":4.75},{"$f":"IF(B12708<Parameters!$A$20,B12708*Parameters!$B$20,IF(AND(B12708>Parameters!$A$20,B12708<Parameters!$A$21),B12708*Parameters!$B$21,B12708*Parameters!$B$22))","v":3.75},60.581395348837212,1.2116279069767442,{"$f":"IF(B12708=0,0,SUM(B12708*$D$3+H12708*$B$3+I12708*$C$3)/$E$3*10)","v":57.29651162790698},0.94577735124760076,3.2848837209302317,{"$f":"IF(OR($D12708=1,$D12708=12,$D12708=8),C12708+(2/31),IF($D12708=2,C12708-(1/28),IF($D12708=3,C12708-(3/31),IF($D12708=4,C12708-(5/30),IF($D12708=5,C12708-(6/31),IF($D12708=6,C12708-(4/30),IF($D12708=7,C12708-(1/31),IF($D12708=9,C12708+(4/30),IF($D12708=10,C12708+(5/31),IF($D12708=11,C12708+(5/30)))))))))))","v":1.8053333333333332},{"$f":"-(($BH$3-$BI$3)*($AN$3+$AK$3-U12708)/($AK$3)-$BH$3)","v":1136.3909417874056},0.95221296803304023,{"$f":"VLOOKUP($F12708,'Gegevens vergelijking'!$I$16:$Q$68,9,FALSE)","v":29.316349609488093},27.027949050385846,{"$f":"L12708-Q12708","v":56.344298659873942},{"$f":"IF(U12707<$AN$3,U12707+T12708,IF(AND((U12707>$AN$3),(SUM(U12707+S12708)<$AN$3)),SUM($AN$3+T12708),IF((SUM(U12707+S12708)>($AN$3+$AK$3)),$AN$3+$AK$3,U12707+S12708)))","v":4185.7712109498616},0,0,{"$f":"R12708-W12708","v":29.316349609488093},1,0.58632699218976181,{"$f":"K12708","v":1.2116279069767442},6.058139534883721,5.7296511627906979,{"$f":"X12708/10","v":2.9316349609488093},0.32848837209302317,0,9.5221296803304017E-2,2.9316349609488093,2.7027949050385844,5.4222648752399218E-2,{"$f":"IF(AB12708=0,\"\",AF12708/AB12708)","v":0},1.6619039117370157E-2,0.51166028745123815,0.47172067343139168,{"$f":"AI12708*$E$5/1000","v":58.110090458329566},{"$f":"IF(OR(F12708<=13,F12708>=40),VALUE(AO12708),0)","v":0},{"$f":"IF(OR(F12708<=13,F12708>=40),0,VALUE(AO12708))","v":58.110090458329566},null,null,null,null,null,null,null,null,null,null,null,null,null,null,null,null,null,null,null,null,null,"2001-09-13",5,1.6719999999999999,null,"2009-09-12",0,2.77,null,"2040-09-12",1.08,2.22865,1.08,2.22865,1.08,2.1357900000000001,null,"2050-09-12",1.06,2.2685499999999998,1.06,2.2685499999999998,1.06,2.1491600000000002,null,"2100-09-13",0.93,2.4680499999999999,0.93,2.4680499999999999,0.93,2.2160099999999998]
["2001-10-26",0,1.214,10,2001,43,0,{"$f":"IF(B12751<Parameters!$A$16,B12751*Parameters!$B$16,IF(AND(B12751>Parameters!$A$16,B12751<Parameters!$A$17),B12751*Parameters!$B$17,B12751*Parameters!$B$18))","v":0},{"$f":"IF(B12751<Parameters!$A$20,B12751*Parameters!$B$20,IF(AND(B12751>Parameters!$A$20,B12751<Parameters!$A$21),B12751*Parameters!$B$21,B12751*Parameters!$B$22))","v":0},0,"",0,"",0,1.3752903225806452,1204.654556684058,0.77147485561001206,{"$f":"VLOOKUP($F12751,'Gegevens vergelijking'!$I$16:$Q$68,9,FALSE)","v":15.056100159581629},-15.827575015191641,-0.77147485561001206,4959.2149077272625,0,0,15.056100159581629,1,"","",0,0,1.5056100159581629,0,0,7.7147485561001206E-2,1.5056100159581629,-1.5827575015191642,"","","","","",-34.029286282662035,-34.029286282662035,0,null,null,null,null,null,null,null,null,null,null,null,null,null,null,null,null,null,null,null,null,null,"2001-10-26",0,1.214,null,"2009-10-25",0.4,1,null,"2040-10-25",0.28999999999999998,0.90361999999999998,0.28999999999999998,0.90361999999999998,0.28999999999999998,0.84967000000000004,null,"2050-10-25",0.28999999999999998,0.91979999999999995,0.28999999999999998,0.91979999999999995,0.28999999999999998,0.85043000000000002,null,"2100-10-26",0.28000000000000003,1.0006900000000001,0.28000000000000003,1.0006900000000001,0.28000000000000003,0.85424]
["2002-02-08",4.0999999999999996,0.86299999999999999,2,2002,6,4.0999999999999996,{"$f":"IF(B12856<Parameters!$A$16,B12856*Parameters!$B$16,IF(AND(B12856>Parameters!$A$16,B12856<Parameters!$A$17),B12856*Parameters!$B$17,B12856*Parameters!$B$18))","v":3.8949999999999996},{"$f":"IF(B12856<Parameters!$A$20,B12856*Parameters!$B$20,IF(AND(B12856>Parameters!$A$20,B12856<Parameters!$A$21),B12856*Parameters!$B$21,B12856*Parameters!$B$22))","v":3.0749999999999997},49.676744186046506,1.2116279069767439,46.983139534883719,0.94577735124760087,2.6936046511627865,0.82728571428571429,1271.7953488372093,0.48936656911071624,{"$f":"VLOOKUP($F12856,'Gegevens vergelijking'!$I$16:$Q$68,9,FALSE)","v":9.1430429772914277},37.350729988481575,46.493772965773005,5719.9367441860477,37.350729988481362,0,9.1430429772914277,1,0.22300104822662017,1.2116279069767439,4.9676744186046502,4.6983139534883716,0.91430429772914279,0.26936046511627865,3.7350729988481364,4.8936656911071623E-2,0.91430429772914279,2.0761170560490427E-14,5.4222648752399155E-2,0.75187556270993816,1.0415791153066192E-2,0.19460263975128705,4.4188555226446327E-15,4.4636516705054419E-13,4.4636516705054419E-13,0,null,null,null,null,null,null,null,null,null,null,null,null,null,null,null,null,null,null,null,null,null,"2002-02-08",4.0999999999999996,0.86299999999999999,null,"2010-02-07",0.1,0.27,null,"2041-02-07",6.99,0.94108000000000003,6.1,0.89448000000000005,5.55,0.84818000000000005,null,"2051-02-07",7.18,0.96453,6.18,0.90461000000000003,5.54,0.84508000000000005,null,"2101-02-08",8.1300000000000008,1.08178,6.6,0.95528999999999997,5.51,0.82962000000000002]
["2002-03-19",6.2,0.998,3,2002,12,6.2,{"$f":"IF(B12895<Parameters!$A$16,B12895*Parameters!$B$16,IF(AND(B12895>Parameters!$A$16,B12895<Parameters!$A$17),B12895*Parameters!$B$17,B12895*Parameters!$B$18))","v":5.89},{"$f":"IF(B12895<Parameters!$A$20,B12895*Parameters!$B$20,IF(AND(B12895>Parameters!$A$20,B12895<Parameters!$A$21),B12895*Parameters!$B$21,B12895*Parameters!$B$22))","v":4.6500000000000004},75.120930232558138,1.2116279069767442,71.047674418604657,0.94577735124760087,4.0732558139534802,0.90122580645161288,1271.7953488372093,0.53310455297545312,{"$f":"VLOOKUP($F12895,'Gegevens vergelijking'!$I$16:$Q$68,9,FALSE)","v":22.555070739851423},47.959499125777782,70.514569865629198,5719.9367441860477,47.959499125778166,0,22.555070739851423,1,0.36379146354599068,1.2116279069767442,7.5120930232558134,7.1047674418604654,2.2555070739851422,0.40732558139534802,4.7959499125778162,5.3310455297545314E-2,2.2555070739851422,-3.8191672047105385E-14,5.4222648752399127E-2,0.63843058089544336,7.5034764661607778E-3,0.3174638849817879,-5.3754992488683704E-15,-8.2112094901276578E-13,-8.2112094901276578E-13,0,null,null,null,null,null,null,null,null,null,null,null,null,null,null,null,null,null,null,null,null,null,"2002-03-19",6.2,0.998,null,"2010-03-18",0,2.87,null,"2041-03-18",8.66,1.3143,8.66,1.3143,8.66,1.2359199999999999,null,"2051-03-18",8.76,1.31782,8.76,1.31782,8.76,1.2170399999999999,null,"2101-03-19",9.27,1.3353999999999999,9.27,1.3353999999999999,9.27,1.1226499999999999]
["2002-07-06",0.2,2.6819999999999999,7,2002,27,0.2,{"$f":"IF(B13004<Parameters!$A$16,B13004*Parameters!$B$16,IF(AND(B13004>Parameters!$A$16,B13004<Parameters!$A$17),B13004*Parameters!$B$17,B13004*Parameters!$B$18))","v":0},{"$f":"IF(B13004<Parameters!$A$20,B13004*Parameters!$B$20,IF(AND(B13004>Parameters!$A$20,B13004<Parameters!$A$21),B13004*Parameters!$B$21,B13004*Parameters!$B$22))","v":0},2.4232558139534883,1.2116279069767442,0.26046511627906976,0.10748560460652591,2.1627906976744184,2.6497419354838709,1136.6212754108783,1.4057479916043025,{"$f":"VLOOKUP($F13004,'Gegevens vergelijking'!$I$16:$Q$68,9,FALSE)","v":44.20203263918858},-45.347315514513809,-1.1452828753252327,4188.3809480623859,0,0,44.20203263918858,1,22.10101631959429,1.2116279069767442,0.24232558139534882,2.6046511627906978E-2,4.4202032639188582,0.21627906976744185,0,0.14057479916043025,4.4202032639188582,-4.5347315514513813,0.8925143953934741,0,5.3970681820522328,169.70423245402759,-174.1013006360798,-97.496728356204699,0,-97.496728356204699,null,null,null,null,null,null,null,null,null,null,null,null,null,null,null,null,null,null,null,null,null,"2002-07-06",0.2,2.6819999999999999,null,"2010-07-05",0.1,3.05,null,"2041-07-05",0.59,3.8468100000000001,0.74,3.7116500000000001,0.59,3.5764800000000001,null,"2051-07-05",0.55000000000000004,3.9336199999999999,0,3.75983,0.55000000000000004,3.5860500000000002,null,"2101-07-06",0,4.3676300000000001,0,4.0007599999999996,0,3.63388]
["2002-07-13",0.1,1.669,7,2002,28,0.1,{"$f":"IF(B13011<Parameters!$A$16,B13011*Parameters!$B$16,IF(AND(B13011>Parameters!$A$16,B13011<Parameters!$A$17),B13011*Parameters!$B$17,B13011*Parameters!$B$18))","v":0},{"$f":"IF(B13011<Parameters!$A$20,B13011*Parameters!$B$20,IF(AND(B13011>Parameters!$A$20,B13011<Parameters!$A$21),B13011*Parameters!$B$21,B13011*Parameters!$B$22))","v":0},1.2116279069767442,1.2116279069767442,0.13023255813953488,0.10748560460652591,1.0813953488372092,1.636741935483871,1119.4744402359684,0.85482559467978803,{"$f":"VLOOKUP($F13011,'Gegevens vergelijking'!$I$16:$Q$68,9,FALSE)","v":37.932157990359997},-38.656751026900253,-0.72459303654025309,3994.1030504474807,0,0,37.932157990359997,1,37.932157990359997,1.2116279069767442,0.12116279069767441,1.3023255813953489E-2,3.7932157990359996,0.10813953488372093,0,8.5482559467978808E-2,3.7932157990359996,-3.8656751026900249,0.8925143953934741,0,6.5638393877198009,291.26478456883569,-296.82862395655548,-83.112014707835542,0,-83.112014707835542,null,null,null,null,null,null,null,null,null,null,null,null,null,null,null,null,null,null,null,null,null,"2002-07-13",0.1,1.669,null,"2010-07-12",4,3.48,null,"2041-07-12",0,4.1909999999999998,0,4.0437399999999997,0,3.8964799999999999,null,"2051-07-12",0,4.2855600000000003,0,4.0962300000000003,0,3.9068999999999998,null,"2101-07-13",0,4.7584200000000001,0,4.3587100000000003,0,3.9590100000000001]
["2002-09-27",3.3,0.77800000000000002,9,2002,39,3.3,{"$f":"IF(B13087<Parameters!$A$16,B13087*Parameters!$B$16,IF(AND(B13087>Parameters!$A$16,B13087<Parameters!$A$17),B13087*Parameters!$B$17,B13087*Parameters!$B$18))","v":3.1349999999999998},{"$f":"IF(B13087<Parameters!$A$20,B13087*Parameters!$B$20,IF(AND(B13087>Parameters!$A$20,B13087<Parameters!$A$21),B13087*Parameters!$B$21,B13087*Parameters!$B$22))","v":2.4749999999999996},39.983720930232558,1.2116279069767442,37.815697674418601,0.94577735124760065,2.1680232558139565,0.91133333333333333,1119.3483054395358,0.4739331224415671,{"$f":"VLOOKUP($F13087,'Gegevens vergelijking'!$I$16:$Q$68,9,FALSE)","v":23.128696279329194},14.21306827264784,37.341764551977036,3992.6739119028421,0,0,23.128696279329194,1,0.70086958422209678,1.2116279069767442,3.9983720930232556,3.78156976744186,2.3128696279329195,0.21680232558139564,0,4.7393312244156709E-2,2.3128696279329195,1.4213068272647837,5.4222648752399308E-2,0,1.2532708678866218E-2,0.61161627846880096,0.3758510128523328,30.558096786192852,0,30.558096786192852,null,null,null,null,null,null,null,null,null,null,null,null,null,null,null,null,null,null,null,null,null,"2002-09-27",3.3,0.77800000000000002,null,"2010-09-26",10.9,0.78,null,"2041-09-26",7.75,1.0337799999999999,7.75,1.0337799999999999,7.75,0.99070999999999998,null,"2051-09-26",7.71,1.0522899999999999,7.71,1.0522899999999999,7.71,0.99690999999999996,null,"2101-09-27",7.51,1.14483,7.51,1.14483,7.51,1.0279199999999999]
["2003-01-10",0,0,1,2003,2,0,{"$f":"IF(B13192<Parameters!$A$16,B13192*Parameters!$B$16,IF(AND(B13192>Parameters!$A$16,B13192<Parameters!$A$17),B13192*Parameters!$B$17,B13192*Parameters!$B$18))","v":0},{"$f":"IF(B13192<Parameters!$A$20,B13192*Parameters!$B$20,IF(AND(B13192>Parameters!$A$20,B13192<Parameters!$A$21),B13192*Parameters!$B$21,B13192*Parameters!$B$22))","v":0},0,"",0,"",0,6.4516129032258063E-2,1269.3283327141362,3.8100864718638126E-2,{"$f":"VLOOKUP($F13192,'Gegevens vergelijking'!$I$16:$Q$68,9,FALSE)","v":4.3012032855657143},-4.3393041502843523,-3.8100864718638126E-2,5691.9848393077618,0,0,4.3012032855657143,1,"","",0,0,0.43012032855657145,0,0,3.8100864718638126E-3,0.43012032855657145,-0.43393041502843527,"","","","","",-9.3295039231113588,-9.3295039231113588,0,null,null,null,null,null,null,null,null,null,null,null,null,null,null,null,null,null,null,null,null,null,"2003-01-10",0,0,null,"2011-01-09",0.3,0.35,null,"2042-01-09",0,0,0,0,0,0,null,"2052-01-09",0,0,0,0,0,0,null,"2102-01-10",0,0,0,0,0,0]
["2003-02-18",0,0,2,2003,8,0,{"$f":"IF(B13231<Parameters!$A$16,B13231*Parameters!$B$16,IF(AND(B13231>Parameters!$A$16,B13231<Parameters!$A$17),B13231*Parameters!$B$17,B13231*Parameters!$B$18))","v":0},{"$f":"IF(B13231<Parameters!$A$20,B13231*Parameters!$B$20,IF(AND(B13231>Parameters!$A$20,B13231<Parameters!$A$21),B13231*Parameters!$B$21,B13231*Parameters!$B$22))","v":0},0,"",0,"",0,-3.5714285714285712E-2,1260.9503428032526,-2.096538627090621E-2,{"$f":"VLOOKUP($F13231,'Gegevens vergelijking'!$I$16:$Q$68,9,FALSE)","v":13.231023004605715},-13.21005761833481,2.096538627090621E-2,5597.0601345723362,0,0,13.231023004605715,1,"","",0,0,1.3231023004605715,0,0,-2.096538627090621E-3,1.3231023004605715,-1.321005761833481,"","","","","",-28.401623879419841,-28.401623879419841,0,null,null,null,null,null,null,null,null,null,null,null,null,null,null,null,null,null,null,null,null,null,"2003-02-18",0,0,null,"2011-02-17",0,1.25,null,"2042-02-17",0,0,0,0,0,0,null,"2052-02-17",0,0,0,0,0,0,null,"2102-02-18",0,0,0,0,0,0]
["2003-04-02",2.1,1.4359999999999999,4,2003,14,2.1,{"$f":"IF(B13274<Parameters!$A$16,B13274*Parameters!$B$16,IF(AND(B13274>Parameters!$A$16,B13274<Parameters!$A$17),B13274*Parameters!$B$17,B13274*Parameters!$B$18))","v":1.9949999999999999},{"$f":"IF(B13274<Parameters!$A$20,B13274*Parameters!$B$20,IF(AND(B13274>Parameters!$A$20,B13274<Parameters!$A$21),B13274*Parameters!$B$21,B13274*Parameters!$B$22))","v":1.5750000000000002},25.444186046511629,1.2116279069767442,24.064534883720931,0.94577735124760076,1.3796511627906973,1.2693333333333332,1231.1803689139833,0.72706550249908752,{"$f":"VLOOKUP($F13274,'Gegevens vergelijking'!$I$16:$Q$68,9,FALSE)","v":27.019937776034283},-3.6824683948124388,23.337469381221844,5259.7589428211732,0,0,27.019937776034283,1,1.2866637036206801,1.2116279069767442,2.5444186046511628,2.4064534883720929,2.7019937776034282,0.13796511627906974,0,7.2706550249908755E-2,2.7019937776034282,-0.36824683948124415,5.4222648752399225E-2,0,3.0213154171158722E-2,1.1228115526268745,-0.15302470679803337,-7.917307048846749,0,-7.917307048846749,null,null,null,null,null,null,null,null,null,null,null,null,null,null,null,null,null,null,null,null,null,"2003-04-02",2.1,1.4359999999999999,null,"2011-04-01",0.2,1.57,null,"2042-04-01",7.51,2.0213999999999999,7.51,2.0213999999999999,7.51,1.93405,null,"2052-03-31",0,2.0375100000000002,0,2.0375100000000002,0,1.9252100000000001,null,"2102-04-02",7.63,2.1180699999999999,7.63,2.1180699999999999,7.63,1.881]
["2003-07-16",0,5.8609999999999998,7,2003,29,0,{"$f":"IF(B13379<Parameters!$A$16,B13379*Parameters!$B$16,IF(AND(B13379>Parameters!$A$16,B13379<Parameters!$A$17),B13379*Parameters!$B$17,B13379*Parameters!$B$18))","v":0},{"$f":"IF(B13379<Parameters!$A$20,B13379*Parameters!$B$20,IF(AND(B13379>Parameters!$A$20,B13379<Parameters!$A$21),B13379*Parameters!$B$21,B13379*Parameters!$B$22))","v":0},0,"",0,"",0,5.8287419354838708,1045.7848081929758,2.8457548104200603,{"$f":"VLOOKUP($F13379,'Gegevens vergelijking'!$I$16:$Q$68,9,FALSE)","v":41.402437318314284},-44.248192128734345,-2.8457548104200603,3159.1812329055006,0,0,41.402437318314284,1,"","",0,0,4.1402437318314282,0,0,0.28457548104200603,4.1402437318314282,-4.4248192128734338,"","","","","",-95.133613076778829,0,-95.133613076778829,null,null,null,null,null,null,null,null,null,null,null,null,null,null,null,null,null,null,null,null,null,"2003-07-16",0,5.8609999999999998,null,"2011-07-15",0,5.37,null,"2042-07-15",0,7.7424799999999996,0,7.47044,0,7.1983899999999998,null,"2052-07-14",0,7.9171899999999997,0,7.5674200000000003,0,7.2176400000000003,null,"2102-07-16",0,8.7907399999999996,0,8.0523299999999995,0,7.3139099999999999]
["2003-08-28",4.4000000000000004,2.302,8,2003,35,4.4000000000000004,{"$f":"IF(B13422<Parameters!$A$16,B13422*Parameters!$B$16,IF(AND(B13422>Parameters!$A$16,B13422<Parameters!$A$17),B13422*Parameters!$B$17,B13422*Parameters!$B$18))","v":4.18},{"$f":"IF(B13422<Parameters!$A$20,B13422*Parameters!$B$20,IF(AND(B13422>Parameters!$A$20,B13422<Parameters!$A$21),B13422*Parameters!$B$21,B13422*Parameters!$B$22))","v":3.3000000000000003},53.311627906976753,1.2116279069767444,50.420930232558135,0.94577735124760054,2.8906976744186181,2.3665161290322581,949.52550747034547,1.0434422702119948,{"$f":"VLOOKUP($F13422,'Gegevens vergelijking'!$I$16:$Q$68,9,FALSE)","v":31.823036754388561},17.55445120795758,49.377487962346137,2068.5394684335461,0,0,31.823036754388561,1,0.72325083532701273,1.2116279069767444,5.3311627906976753,5.0420930232558137,3.1823036754388561,0.2890697674418618,0,0.10434422702119947,3.1823036754388561,1.7554451207957582,5.4222648752399474E-2,0,2.0694625533469756E-2,0.63114735502915376,0.34815801943737656,37.742070097108801,0,37.742070097108801,null,null,null,null,null,null,null,null,null,null,null,null,null,null,null,null,null,null,null,null,null,"2003-08-28",4.4000000000000004,2.302,null,"2011-08-27",4.4000000000000004,2.71,null,"2042-08-27",0,2.43486,0,2.3374700000000002,0,2.2400799999999998,null,"2052-08-26",0,2.5045299999999999,0,2.3793199999999999,0,2.2541000000000002,null,"2102-08-28",0,2.8529,0,2.5885600000000002,0,2.3242099999999999]
["2003-12-11",5.7,7.9000000000000001E-2,12,2003,50,5.7,{"$f":"IF(B13527<Parameters!$A$16,B13527*Parameters!$B$16,IF(AND(B13527>Parameters!$A$16,B13527<Parameters!$A$17),B13527*Parameters!$B$17,B13527*Parameters!$B$18))","v":5.415},{"$f":"IF(B13527<Parameters!$A$20,B13527*Parameters!$B$20,IF(AND(B13527>Parameters!$A$20,B13527<Parameters!$A$21),B13527*Parameters!$B$21,B13527*Parameters!$B$22))","v":4.2750000000000004},69.062790697674416,1.2116279069767442,65.318023255813955,0.94577735124760087,3.7447674418604606,0.14351612903225808,994.28892889618612,6.6022480710372117E-2,{"$f":"VLOOKUP($F13527,'Gegevens vergelijking'!$I$16:$Q$68,9,FALSE)","v":6.1862244897959178},59.065776285307663,65.252000775103582,2575.7201414820338,0,0,6.1862244897959178,1,0.10853025420694593,1.2116279069767442,6.9062790697674412,6.5318023255813955,0.61862244897959173,0.37447674418604604,0,6.6022480710372115E-3,0.61862244897959173,5.9065776285307665,5.4222648752399169E-2,0,1.0107850394032777E-3,9.4709303518998977E-2,0.90427991144159769,126.99141901341147,126.99141901341147,0,null,null,null,null,null,null,null,null,null,null,null,null,null,null,null,null,null,null,null,null,null,"2003-12-11",5.7,7.9000000000000001E-2,null,"2011-12-10",0,0.35,null,"2042-12-10",0,0.32013000000000003,0,0.29688999999999999,0,0.27356000000000003,null,"2052-12-09",0,0.33417000000000002,0,0.30429,0,0.27428999999999998,null,"2102-12-11",0,0.40436,0,0.34127999999999997,0,0.27794999999999997]
["2004-01-19",20.6,0.20300000000000001,1,2004,4,20.6,{"$f":"IF(B13566<Parameters!$A$16,B13566*Parameters!$B$16,IF(AND(B13566>Parameters!$A$16,B13566<Parameters!$A$17),B13566*Parameters!$B$17,B13566*Parameters!$B$18))","v":19.57},{"$f":"IF(B13566<Parameters!$A$20,B13566*Parameters!$B$20,IF(AND(B13566>Parameters!$A$20,B13566<Parameters!$A$21),B13566*Parameters!$B$21,B13566*Parameters!$B$22))","v":15.450000000000001},249.59534883720931,1.2116279069767442,236.06162790697675,0.94577735124760076,13.533720930232562,0.26751612903225808,1161.7744379548544,0.14203283103199066,{"$f":"VLOOKUP($F13566,'Gegevens vergelijking'!$I$16:$Q$68,9,FALSE)","v":6.2443769793828574},229.67521809656191,235.91959507594476,4473.372521583784,0,0,6.2443769793828574,1,3.0312509608654649E-2,1.2116279069767442,24.959534883720931,23.606162790697674,0.62443769793828574,1.3533720930232562,0,1.4203283103199066E-2,0.62443769793828574,22.967521809656187,5.4222648752399245E-2,0,6.0167691077670871E-4,2.645231685788229E-2,0.97294600623134087,493.80171890760801,493.80171890760801,0,null,null,null,null,null,null,null,null,null,null,null,null,null,null,null,null,null,null,null,null,null,"2004-01-19",20.6,0.20300000000000001,null,"2012-01-18",3,0.36,null,"2043-01-18",0,0.44713999999999998,0,0.41991000000000001,0,0.39267999999999997,null,"2053-01-17",12.77,0.46375,0,0.42874000000000001,0,0.39373000000000002,null,"2103-01-19",0,0.54679999999999995,0,0.47288999999999998,0,0.39898]
["2004-03-02",0,1.137,3,2004,10,0,{"$f":"IF(B13609<Parameters!$A$16,B13609*Parameters!$B$16,IF(AND(B13609>Parameters!$A$16,B13609<Parameters!$A$17),B13609*Parameters!$B$17,B13609*Parameters!$B$18))","v":0},{"$f":"IF(B13609<Parameters!$A$20,B13609*Parameters!$B$20,IF(AND(B13609>Parameters!$A$20,B13609<Parameters!$A$21),B13609*Parameters!$B$21,B13609*Parameters!$B$22))","v":0},0,"",0,"",0,1.040225806451613,1195.8393802651894,0.57932671470234109,{"$f":"VLOOKUP($F13609,'Gegevens vergelijking'!$I$16:$Q$68,9,FALSE)","v":16.951002269891429},-17.530328984593769,-0.57932671470234109,4859.3367713660864,0,0,16.951002269891429,1,"","",0,0,1.6951002269891429,0,{"$f":"V13609/10","v":0},5.7932671470234107E-2,1.6951002269891429,-1.753032898459377,"","","","","",-37.690207316876609,-37.690207316876609,0,null,null,null,null,null,null,null,null,null,null,null,null,null,null,null,null,null,null,null,null,null,"2004-03-02",0,1.137,null,"2012-03-01",0.4,0.67,null,"2043-03-02",0,1.3455999999999999,0,1.3455999999999999,0,1.26535,null,"2053-03-01",0,1.3492,0,1.3492,0,1.2460199999999999,null,"2103-03-03",0,1.3671899999999999,0,1.3671899999999999,0,1.1493800000000001]
["2004-06-15",0,4.9870000000000001,6,2004,25,0,{"$f":"IF(B13714<Parameters!$A$16,B13714*Parameters!$B$16,IF(AND(B13714>Parameters!$A$16,B13714<Parameters!$A$17),B13714*Parameters!$B$17,B13714*Parameters!$B$18))","v":0},{"$f":"IF(B13714<Parameters!$A$20,B13714*Parameters!$B$20,IF(AND(B13714>Parameters!$A$20,B13714<Parameters!$A$21),B13714*Parameters!$B$21,B13714*Parameters!$B$22))","v":0},0,"",0,"",0,4.8536666666666664,1026.9557516599534,2.3271651023767319,{"$f":"VLOOKUP($F13714,'Gegevens vergelijking'!$I$16:$Q$68,9,FALSE)","v":41.801906897514286},-44.129071999891018,-2.3271651023767319,2945.8433498505301,0,0,41.801906897514286,1,"","",0,0,4.1801906897514289,0,0,0.2327165102376732,4.1801906897514289,-4.4129071999891023,"","","","","",-94.877504799765688,0,-94.877504799765688,null,null,null,null,null,null,null,null,null,null,null,null,null,null,null,null,null,null,null,null,null,"2004-06-15",0,4.9870000000000001,null,"2012-06-14",0.1,5.83,null,"2043-06-15",0,5.4530599999999998,0,5.2133000000000003,0,4.9893999999999998,null,"2053-06-14",0,5.57193,0,5.2636599999999998,0,4.9757999999999996,null,"2103-06-16",0,6.1662999999999997,0,5.5155200000000004,0,4.9077999999999999]
["2004-08-24",2,2.5619999999999998,8,2004,35,2,{"$f":"IF(B13784<Parameters!$A$16,B13784*Parameters!$B$16,IF(AND(B13784>Parameters!$A$16,B13784<Parameters!$A$17),B13784*Parameters!$B$17,B13784*Parameters!$B$18))","v":1.9},{"$f":"IF(B13784<Parameters!$A$20,B13784*Parameters!$B$20,IF(AND(B13784>Parameters!$A$20,B13784<Parameters!$A$21),B13784*Parameters!$B$21,B13784*Parameters!$B$22))","v":1.5},24.232558139534884,1.2116279069767442,22.918604651162791,0.94577735124760076,1.3139534883720927,2.6265161290322578,1017.4258562651207,1.2440176649620387,{"$f":"VLOOKUP($F13784,'Gegevens vergelijking'!$I$16:$Q$68,9,FALSE)","v":31.823036754388561},-10.148449768187808,21.674586986200751,2837.8672701301625,0,0,31.823036754388561,1,1.591151837719428,1.2116279069767442,2.4232558139534883,2.2918604651162791,3.1823036754388561,0.13139534883720927,0,0.12440176649620387,3.1823036754388561,-1.0148449768187811,5.4222648752399218E-2,0,5.4279816938982914E-2,1.3885241810641382,-0.44280399800312109,-21.819167001603795,0,-21.819167001603795,null,null,null,null,null,null,null,null,null,null,null,null,null,null,null,null,null,null,null,null,null,"2004-08-24",2,2.5619999999999998,null,"2012-08-23",0.2,4.3899999999999997,null,"2043-08-24",0.32,4.3285099999999996,0.43,4.1553800000000001,0.32,3.9822500000000001,null,"2053-08-23",0.3,4.4523700000000002,0.42,4.2297799999999999,0.3,4.00718,null,"2103-08-25",0,5.0716799999999997,0.37,4.60175,0,4.1318200000000003]
["2004-11-11",0,0.35199999999999998,11,2004,46,0,{"$f":"IF(B13863<Parameters!$A$16,B13863*Parameters!$B$16,IF(AND(B13863>Parameters!$A$16,B13863<Parameters!$A$17),B13863*Parameters!$B$17,B13863*Parameters!$B$18))","v":0},{"$f":"IF(B13863<Parameters!$A$20,B13863*Parameters!$B$20,IF(AND(B13863>Parameters!$A$20,B13863<Parameters!$A$21),B13863*Parameters!$B$21,B13863*Parameters!$B$22))","v":0},0,"",0,"",0,0.51866666666666661,1054.7006159950065,0.25465209899229174,{"$f":"VLOOKUP($F13863,'Gegevens vergelijking'!$I$16:$Q$68,9,FALSE)","v":9.880531666666668},-10.13518376565896,-0.25465209899229174,3260.1995478101444,0,0,9.880531666666668,1,"","",0,0,0.98805316666666676,0,0,2.5465209899229173E-2,0.98805316666666676,-1.0135183765658959,"","","","","",-21.790645096166763,-21.790645096166763,0,null,null,null,null,null,null,null,null,null,null,null,null,null,null,null,null,null,null,null,null,null,"2004-11-11",0,0.35199999999999998,null,"2012-11-10",1.3,0.33,null,"2043-11-11",2.29,0.24964,2.29,0.24964,2.29,0.23179,null,"2053-11-10",2.2799999999999998,0.25411,2.2799999999999998,0.25411,2.2799999999999998,0.23116,null,"2103-11-12",2.27,0.27645999999999998,2.27,0.27645999999999998,2.27,0.22800000000000001]
["2004-12-20",0,0,12,2004,52,0,{"$f":"IF(B13902<Parameters!$A$16,B13902*Parameters!$B$16,IF(AND(B13902>Parameters!$A$16,B13902<Parameters!$A$17),B13902*Parameters!$B$17,B13902*Parameters!$B$18))","v":0},{"$f":"IF(B13902<Parameters!$A$20,B13902*Parameters!$B$20,IF(AND(B13902>Parameters!$A$20,B13902<Parameters!$A$21),B13902*Parameters!$B$21,B13902*Parameters!$B$22))","v":0},0,"",0,"",0,6.4516129032258063E-2,1130.1741364436671,3.3913792337642149E-2,{"$f":"VLOOKUP($F13902,'Gegevens vergelijking'!$I$16:$Q$68,9,FALSE)","v":0},-3.3913792337642149E-2,-3.3913792337642149E-2,4115.3332636702416,0,0,0,"","","",0,0,0,0,0,3.3913792337642149E-3,0,-3.3913792337642149E-3,"","","","","",-7.2914653525930614E-2,-7.2914653525930614E-2,0,null,null,null,null,null,null,null,null,null,null,null,null,null,null,null,null,null,null,null,null,null,"2004-12-20",0,0,null,"2012-12-19",0,0.45,null,"2043-12-20",2.66,0.43236000000000002,2.23,0.40096999999999999,1.94,0.36946000000000001,null,"2053-12-19",2.77,0.45130999999999999,2.27,0.41095999999999999,1.92,0.37045,null,"2103-12-21",3.32,0.54610999999999998,2.46,0.46092,1.82,0.37539]
["2005-02-01",0.2,0.63,2,2005,5,0.2,{"$f":"IF(B13945<Parameters!$A$16,B13945*Parameters!$B$16,IF(AND(B13945>Parameters!$A$16,B13945<Parameters!$A$17),B13945*Parameters!$B$17,B13945*Parameters!$B$18))","v":0},{"$f":"IF(B13945<Parameters!$A$20,B13945*Parameters!$B$20,IF(AND(B13945>Parameters!$A$20,B13945<Parameters!$A$21),B13945*Parameters!$B$21,B13945*Parameters!$B$22))","v":0},2.4232558139534883,1.2116279069767442,0.26046511627906976,0.10748560460652591,2.1627906976744184,0.59428571428571431,1191.1279899149058,0.32944504291325372,{"$f":"VLOOKUP($F13945,'Gegevens vergelijking'!$I$16:$Q$68,9,FALSE)","v":8.2529179304628588},-8.3218978570970421,-6.8979926634183952E-2,4805.9555495394734,0,0,8.2529179304628588,1,4.1264589652314294,1.2116279069767442,0.24232558139534882,2.6046511627906978E-2,0.82529179304628586,0.21627906976744185,0,3.2944504291325373E-2,0.82529179304628586,-0.83218978570970426,0.8925143953934741,0,1.2648336468990991,31.685309911598473,-31.950143558497572,-17.892080392758643,-17.892080392758643,0,null,null,null,null,null,null,null,null,null,null,null,null,null,null,null,null,null,null,null,null,null,"2005-02-01",0.2,0.63]
["2005-05-17",0.9,2.5790000000000002,5,2005,20,0.9,{"$f":"IF(B14050<Parameters!$A$16,B14050*Parameters!$B$16,IF(AND(B14050>Parameters!$A$16,B14050<Parameters!$A$17),B14050*Parameters!$B$17,B14050*Parameters!$B$18))","v":0},{"$f":"IF(B14050<Parameters!$A$20,B14050*Parameters!$B$20,IF(AND(B14050>Parameters!$A$20,B14050<Parameters!$A$21),B14050*Parameters!$B$21,B14050*Parameters!$B$22))","v":0},10.904651162790698,1.2116279069767442,1.172093023255814,0.10748560460652591,9.7325581395348841,2.3854516129032262,1167.3643101552261,1.2988317957902029,{"$f":"VLOOKUP($F14050,'Gegevens vergelijking'!$I$16:$Q$68,9,FALSE)","v":36.908247477731429},-37.034986250265817,-0.12673877253438892,4536.7071607720864,0,0,36.908247477731429,1,4.1009163864146032,1.2116279069767442,1.0904651162790697,0.1172093023255814,3.6908247477731431,0.97325581395348837,0,0.12988317957902029,3.6908247477731431,-3.7034986250265818,0.8925143953934741,0,1.1081303019638635,31.489179395683561,-31.597309697647425,-79.625220438071509,0,-79.625220438071509,null,null,null,null,null,null,null,null,null,null,null,null,null,null,null,null,null,null,null,null,null,"2005-05-17",0.9,2.5790000000000002]
["2005-06-25",0,5.0449999999999999,6,2005,25,0,{"$f":"IF(B14089<Parameters!$A$16,B14089*Parameters!$B$16,IF(AND(B14089>Parameters!$A$16,B14089<Parameters!$A$17),B14089*Parameters!$B$17,B14089*Parameters!$B$18))","v":0},{"$f":"IF(B14089<Parameters!$A$20,B14089*Parameters!$B$20,IF(AND(B14089>Parameters!$A$20,B14089<Parameters!$A$21),B14089*Parameters!$B$21,B14089*Parameters!$B$22))","v":0},0,"",0,"",0,4.9116666666666662,1048.2785690233359,2.4037014195444186,{"$f":"VLOOKUP($F14089,'Gegevens vergelijking'!$I$16:$Q$68,9,FALSE)","v":41.801906897514286},-44.205608317058704,-2.4037014195444186,3187.4361619541955,0,0,41.801906897514286,1,"","",0,0,4.1801906897514289,0,0,0.24037014195444187,4.1801906897514289,-4.4205608317058704,"","","","","",-95.042057881676214,0,-95.042057881676214,null,null,null,null,null,null,null,null,null,null,null,null,null,null,null,null,null,null,null,null,null,"2005-06-25",0,5.0449999999999999]
["2005-08-07",2.2999999999999998,3.3610000000000002,8,2005,31,2.2999999999999998,{"$f":"IF(B14132<Parameters!$A$16,B14132*Parameters!$B$16,IF(AND(B14132>Parameters!$A$16,B14132<Parameters!$A$17),B14132*Parameters!$B$17,B14132*Parameters!$B$18))","v":2.1849999999999996},{"$f":"IF(B14132<Parameters!$A$20,B14132*Parameters!$B$20,IF(AND(B14132>Parameters!$A$20,B14132<Parameters!$A$21),B14132*Parameters!$B$21,B14132*Parameters!$B$22))","v":1.7249999999999999},27.867441860465114,1.2116279069767442,26.356395348837207,0.94577735124760076,1.5110465116279066,3.4255161290322582,1062.1285359485,1.6939210941751079,{"$f":"VLOOKUP($F14132,'Gegevens vergelijking'!$I$16:$Q$68,9,FALSE)","v":36.543125282102856},-11.880651027440758,24.662474254662101,3344.3597241631605,0,0,36.543125282102856,1,1.5888315340044721,1.2116279069767442,2.7867441860465112,2.6356395348837207,3.6543125282102857,0.15110465116279065,0,0.16939210941751079,3.6543125282102857,-1.1880651027440758,5.4222648752399225E-2,0,6.4269831733641841E-2,1.3864993599633142,-0.45076919169695601,-25.543399708997629,0,-25.543399708997629,null,null,null,null,null,null,null,null,null,null,null,null,null,null,null,null,null,null,null,null,null,"2005-08-07",2.2999999999999998,3.3610000000000002]
["2005-11-20",0.2,5.5E-2,11,2005,46,0.2,{"$f":"IF(B14237<Parameters!$A$16,B14237*Parameters!$B$16,IF(AND(B14237>Parameters!$A$16,B14237<Parameters!$A$17),B14237*Parameters!$B$17,B14237*Parameters!$B$18))","v":0},{"$f":"IF(B14237<Parameters!$A$20,B14237*Parameters!$B$20,IF(AND(B14237>Parameters!$A$20,B14237<Parameters!$A$21),B14237*Parameters!$B$21,B14237*Parameters!$B$22))","v":0},2.4232558139534883,1.2116279069767442,0.26046511627906976,0.10748560460652591,2.1627906976744184,0.22166666666666665,1055.735659035312,0.108935694917249,{"$f":"VLOOKUP($F14237,'Gegevens vergelijking'!$I$16:$Q$68,9,FALSE)","v":9.880531666666668},-9.7290022453048479,0.15152942136182077,3271.9268423085314,0,0,9.880531666666668,1,4.940265833333334,1.2116279069767442,0.24232558139534882,2.6046511627906978E-2,0.98805316666666676,0.21627906976744185,0,1.0893569491724899E-2,0.98805316666666676,-0.97290022453048464,0.8925143953934741,0,0.41823525727158095,37.934184077380955,-37.352419334652531,-20.917354827405418,-20.917354827405418,0,null,null,null,null,null,null,null,null,null,null,null,null,null,null,null,null,null,null,null,null,null,"2005-11-20",0.2,5.5E-2]
["2005-12-29",0.4,0,12,2005,52,0.4,{"$f":"IF(B14276<Parameters!$A$16,B14276*Parameters!$B$16,IF(AND(B14276>Parameters!$A$16,B14276<Parameters!$A$17),B14276*Parameters!$B$17,B14276*Parameters!$B$18))","v":0},{"$f":"IF(B14276<Parameters!$A$20,B14276*Parameters!$B$20,IF(AND(B14276>Parameters!$A$20,B14276<Parameters!$A$21),B14276*Parameters!$B$21,B14276*Parameters!$B$22))","v":0},4.8465116279069766,1.2116279069767442,0.52093023255813953,0.10748560460652591,4.3255813953488369,6.4516129032258063E-2,1101.5455479295697,3.3053337981890751E-2,{"$f":"VLOOKUP($F14276,'Gegevens vergelijking'!$I$16:$Q$68,9,FALSE)","v":0},0.48787689457624878,0.48787689457624878,3790.9642514609504,0,0,0,"",0,1.2116279069767442,0.48465116279069764,5.2093023255813956E-2,0,0.4325581395348837,0,3.3053337981890753E-3,0,4.8787689457624878E-2,0.8925143953934741,0,6.3450604161665286E-2,0,0.93654939583833463,1.0489353233389349,1.0489353233389349,0,null,null,null,null,null,null,null,null,null,null,null,null,null,null,null,null,null,null,null,null,null,"2005-12-29",0.4,0]
["2006-04-17",0.4,2.3069999999999999,4,2006,16,0.4,{"$f":"IF(B14385<Parameters!$A$16,B14385*Parameters!$B$16,IF(AND(B14385>Parameters!$A$16,B14385<Parameters!$A$17),B14385*Parameters!$B$17,B14385*Parameters!$B$18))","v":0},{"$f":"IF(B14385<Parameters!$A$20,B14385*Parameters!$B$20,IF(AND(B14385>Parameters!$A$20,B14385<Parameters!$A$21),B14385*Parameters!$B$21,B14385*Parameters!$B$22))","v":0},4.8465116279069766,1.2116279069767442,0.52093023255813953,0.10748560460652591,4.3255813953488369,2.1403333333333334,1171.6842198012962,1.1693479925045125,{"$f":"VLOOKUP($F14385,'Gegevens vergelijking'!$I$16:$Q$68,9,FALSE)","v":32.719747675074295},-33.368165435020671,-0.64841775994637296,4585.6528090718311,0,0,32.719747675074295,1,8.1799369187685738,1.2116279069767442,0.48465116279069764,5.2093023255813956E-2,3.2719747675074293,0.4325581395348837,0,0.11693479925045125,3.2719747675074293,-3.3368165435020667,0.8925143953934741,0,2.2447305213256268,62.810229911972968,-64.054960433298604,-71.741555685294429,0,-71.741555685294429,null,null,null,null,null,null,null,null,null,null,null,null,null,null,null,null,null,null,null,null,null,"2006-04-17",0.4,2.3069999999999999]
["2006-05-26",15.2,1.1359999999999999,5,2006,21,15.2,{"$f":"IF(B14424<Parameters!$A$16,B14424*Parameters!$B$16,IF(AND(B14424>Parameters!$A$16,B14424<Parameters!$A$17),B14424*Parameters!$B$17,B14424*Parameters!$B$18))","v":14.44},{"$f":"IF(B14424<Parameters!$A$20,B14424*Parameters!$B$20,IF(AND(B14424>Parameters!$A$20,B14424<Parameters!$A$21),B14424*Parameters!$B$21,B14424*Parameters!$B$22))","v":11.399999999999999},184.16744186046512,1.2116279069767442,174.18139534883721,0.94577735124760076,9.9860465116279045,0.94245161290322566,1140.8840658030967,0.49487858279080582,{"$f":"VLOOKUP($F14424,'Gegevens vergelijking'!$I$16:$Q$68,9,FALSE)","v":38.569226396674274},135.11729036937211,173.6865167660464,4236.6794210415292,0,0,38.569226396674274,1,0.25374491050443604,1.2116279069767442,18.416744186046511,17.418139534883721,3.8569226396674274,0.9986046511627904,0,4.9487858279080581E-2,3.8569226396674274,13.511729036937215,5.4222648752399218E-2,0,2.8411678629609136E-3,0.22143137801503296,0.77572745412200628,290.50217429415017,0,290.50217429415017,null,null,null,null,null,null,null,null,null,null,null,null,null,null,null,null,null,null,null,null,null,"2006-05-26",15.2,1.1359999999999999]
["2006-09-02",0,3.0150000000000001,9,2006,35,0,{"$f":"IF(B14523<Parameters!$A$16,B14523*Parameters!$B$16,IF(AND(B14523>Parameters!$A$16,B14523<Parameters!$A$17),B14523*Parameters!$B$17,B14523*Parameters!$B$18))","v":0},{"$f":"IF(B14523<Parameters!$A$20,B14523*Parameters!$B$20,IF(AND(B14523>Parameters!$A$20,B14523<Parameters!$A$21),B14523*Parameters!$B$21,B14523*Parameters!$B$22))","v":0},0,"",0,"",0,3.1483333333333334,1088.0836348508892,1.5976449180668935,{"$f":"VLOOKUP($F14523,'Gegevens vergelijking'!$I$16:$Q$68,9,FALSE)","v":31.823036754388561},-33.420681672455451,-1.5976449180668935,3638.4374356303797,0,0,31.823036754388561,1,"","",0,0,3.1823036754388561,0,0,0.15976449180668933,3.1823036754388561,-3.3420681672455452,"","","","","",-71.854465595779232,0,-71.854465595779232,null,null,null,null,null,null,null,null,null,null,null,null,null,null,null,null,null,null,null,null,null,"2006-09-02",0,3.0150000000000001]
["2006-10-22",7.3,1.7,10,2006,42,7.3,{"$f":"IF(B14573<Parameters!$A$16,B14573*Parameters!$B$16,IF(AND(B14573>Parameters!$A$16,B14573<Parameters!$A$17),B14573*Parameters!$B$17,B14573*Parameters!$B$18))","v":6.9349999999999996},{"$f":"IF(B14573<Parameters!$A$20,B14573*Parameters!$B$20,IF(AND(B14573>Parameters!$A$20,B14573<Parameters!$A$21),B14573*Parameters!$B$21,B14573*Parameters!$B$22))","v":5.4749999999999996},88.448837209302326,1.2116279069767442,83.652906976744191,0.94577735124760087,4.7959302325581348,1.8612903225806452,1031.3485888421721,0.88767741521893273,{"$f":"VLOOKUP($F14573,'Gegevens vergelijking'!$I$16:$Q$68,9,FALSE)","v":14.997021876739497},67.768207684785764,82.76522956152526,2995.6152852322161,0,0,14.997021876739497,1,0.20543865584574653,1.2116279069767442,8.8448837209302322,8.3652906976744195,1.4997021876739498,0.47959302325581349,0,8.8767741521893276E-2,1.4997021876739498,6.7768207684785757,5.4222648752399183E-2,0,1.061143536190213E-2,0.17927675700389853,0.81011180763419921,145.70164652228937,145.70164652228937,0,null,null,null,null,null,null,null,null,null,null,null,null,null,null,null,null,null,null,null,null,null,"2006-10-22",7.3,1.7]
["2006-11-30",0,0.52500000000000002,11,2006,48,0,{"$f":"IF(B14612<Parameters!$A$16,B14612*Parameters!$B$16,IF(AND(B14612>Parameters!$A$16,B14612<Parameters!$A$17),B14612*Parameters!$B$17,B14612*Parameters!$B$18))","v":0},{"$f":"IF(B14612<Parameters!$A$20,B14612*Parameters!$B$20,IF(AND(B14612>Parameters!$A$20,B14612<Parameters!$A$21),B14612*Parameters!$B$21,B14612*Parameters!$B$22))","v":0},0,"",0,"",0,0.69166666666666665,1072.5598628166968,0.34530452914964016,{"$f":"VLOOKUP($F14612,'Gegevens vergelijking'!$I$16:$Q$68,9,FALSE)","v":8.6779285714285717},-9.0232331005782118,-0.34530452914964016,3462.5492461720096,0,0,8.6779285714285717,1,"","",0,0,0.86779285714285714,0,0,3.4530452914964017E-2,0.86779285714285714,-0.90232331005782118,"","","","","",-19.399951166243156,-19.399951166243156,0,null,null,null,null,null,null,null,null,null,null,null,null,null,null,null,null,null,null,null,null,null,"2006-11-30",0,0.52500000000000002]
["2007-03-19",3.7,0.88,3,2007,12,3.7,{"$f":"IF(B14721<Parameters!$A$16,B14721*Parameters!$B$16,IF(AND(B14721>Parameters!$A$16,B14721<Parameters!$A$17),B14721*Parameters!$B$17,B14721*Parameters!$B$18))","v":3.5150000000000001},{"$f":"IF(B14721<Parameters!$A$20,B14721*Parameters!$B$20,IF(AND(B14721>Parameters!$A$20,B14721<Parameters!$A$21),B14721*Parameters!$B$21,B14721*Parameters!$B$22))","v":2.7750000000000004},44.830232558139535,1.2116279069767442,42.39941860465116,0.94577735124760065,2.430813953488375,0.78322580645161288,1261.8778687557308,0.45906756538114935,{"$f":"VLOOKUP($F14721,'Gegevens vergelijking'!$I$16:$Q$68,9,FALSE)","v":22.555070739851423},19.385280299418586,41.940351039270013,5607.569233784674,0,0,22.555070739851423,1,0.60959650648247088,1.2116279069767442,4.4830232558139533,4.239941860465116,2.2555070739851422,0.24308139534883749,0,4.5906756538114935E-2,2.2555070739851422,1.9385280299418586,5.4222648752399294E-2,0,1.0827213685679885E-2,0.53196650996948247,0.45720627634483757,41.67835264374996,41.67835264374996,0,null,null,null,null,null,null,null,null,null,null,null,null,null,null,null,null,null,null,null,null,null,"2007-03-19",3.7,0.88]
["2007-04-27",0,5.31,4,2007,17,0,{"$f":"IF(B14760<Parameters!$A$16,B14760*Parameters!$B$16,IF(AND(B14760>Parameters!$A$16,B14760<Parameters!$A$17),B14760*Parameters!$B$17,B14760*Parameters!$B$18))","v":0},{"$f":"IF(B14760<Parameters!$A$20,B14760*Parameters!$B$20,IF(AND(B14760>Parameters!$A$20,B14760<Parameters!$A$21),B14760*Parameters!$B$21,B14760*Parameters!$B$22))","v":0},0,"",0,"",0,5.1433333333333326,1172.2986504760479,2.8122037151466994,{"$f":"VLOOKUP($F14760,'Gegevens vergelijking'!$I$16:$Q$68,9,FALSE)","v":34.009844090885714},-36.822047806032415,-2.8122037151466994,4592.6144610911815,0,0,34.009844090885714,1,"","",0,0,3.4009844090885712,0,0,0.28122037151466994,3.4009844090885712,-3.6822047806032412,"","","","","",-79.167402782969688,0,-79.167402782969688,null,null,null,null,null,null,null,null,null,null,null,null,null,null,null,null,null,null,null,null,null,"2007-04-27",0,5.31]
["2007-06-09",3.5,1.83,6,2007,23,3.5,{"$f":"IF(B14803<Parameters!$A$16,B14803*Parameters!$B$16,IF(AND(B14803>Parameters!$A$16,B14803<Parameters!$A$17),B14803*Parameters!$B$17,B14803*Parameters!$B$18))","v":3.3249999999999997},{"$f":"IF(B14803<Parameters!$A$20,B14803*Parameters!$B$20,IF(AND(B14803>Parameters!$A$20,B14803<Parameters!$A$21),B14803*Parameters!$B$21,B14803*Parameters!$B$22))","v":2.625},42.406976744186046,1.2116279069767442,40.107558139534881,0.94577735124760065,2.2994186046511658,1.6966666666666668,1140.8802389947211,0.90039809067754462,{"$f":"VLOOKUP($F14803,'Gegevens vergelijking'!$I$16:$Q$68,9,FALSE)","v":40.291810686080005},-1.0846506372226692,39.207160048857332,4236.6360623529881,0,0,40.291810686080005,1,1.1511945910308572,1.2116279069767442,4.2406976744186045,4.0107558139534882,4.0291810686080005,0.22994186046511658,0,9.0039809067754467E-2,4.0291810686080005,-0.10846506372226683,5.4222648752399308E-2,0,2.2449586373347496E-2,1.0045939607169327,-2.7043547090280343E-2,-2.3319988700287366,0,-2.3319988700287366,null,null,null,null,null,null,null,null,null,null,null,null,null,null,null,null,null,null,null,null,null,"2007-06-09",3.5,1.83]
["2007-09-22",0,2.9,9,2007,38,0,{"$f":"IF(B14908<Parameters!$A$16,B14908*Parameters!$B$16,IF(AND(B14908>Parameters!$A$16,B14908<Parameters!$A$17),B14908*Parameters!$B$17,B14908*Parameters!$B$18))","v":0},{"$f":"IF(B14908<Parameters!$A$20,B14908*Parameters!$B$20,IF(AND(B14908>Parameters!$A$20,B14908<Parameters!$A$21),B14908*Parameters!$B$21,B14908*Parameters!$B$22))","v":0},0,"",0,"",0,3.0333333333333332,1041.1145513935669,1.4722897756995508,{"$f":"VLOOKUP($F14908,'Gegevens vergelijking'!$I$16:$Q$68,9,FALSE)","v":26.07719066135714},-27.54948043705669,-1.4722897756995508,3106.2660644178172,0,0,26.07719066135714,1,"","",0,0,2.6077190661357141,0,0,0.14722897756995507,2.6077190661357141,-2.754948043705669,"","","","","",-59.231382939671889,0,-59.231382939671889,null,null,null,null,null,null,null,null,null,null,null,null,null,null,null,null,null,null,null,null,null,"2007-09-22",0,2.9]
["2007-10-31",0,0.97,{"$f":"MONTH(A14947)","v":10},2007,{"$f":"INT((A14947-DATE(YEAR(A14947-WEEKDAY(A14947-1)+4),1,3)+WEEKDAY(DATE(YEAR(A14947-WEEKDAY(A14947-1)+4),1,3))+5)/7)","v":44},0,{"$f":"IF(B14947<Parameters!$A$16,B14947*Parameters!$B$16,IF(AND(B14947>Parameters!$A$16,B14947<Parameters!$A$17),B14947*Parameters!$B$17,B14947*Parameters!$B$18))","v":0},{"$f":"IF(B14947<Parameters!$A$20,B14947*Parameters!$B$20,IF(AND(B14947>Parameters!$A$20,B14947<Parameters!$A$21),B14947*Parameters!$B$21,B14947*Parameters!$B$22))","v":0},0,"",0,{"$f":"IF(B14947=0,\"\",L14947/J14947)","v":""},{"$f":"IF(B14947=0,0,SUM(J14947-L14947))","v":0},1.1312903225806452,1073.4892175820169,0.56538892427337206,{"$f":"VLOOKUP($F14947,'Gegevens vergelijking'!$I$16:$Q$68,9,FALSE)","v":11.034608376916667},-11.59999730119004,-0.56538892427337206,3473.079066287678,0,0,11.034608376916667,{"$f":"IF(R14947=0,\"\",((R14947-W14947)/R14947))","v":1},{"$f":"IF(B14947=0,\"\",X14947/(B14947*10))","v":""},"",{"$f":"J14947/10","v":0},{"$f":"L14947/10","v":0},1.1034608376916668,0,0,5.6538892427337208E-2,{"$f":"(R14947-W14947)/10","v":1.1034608376916668},{"$f":"SUM(AC14947-AF14947-AG14947-AD14947)","v":-1.1599997301190039},{"$f":"IF(AB14947=0,\"\",AE14947/AB14947)","v":""},"","",{"$f":"IF(AC14947=0,\"\",AD14947/AC14947)","v":""},{"$f":"IF(AC14947=0,\"\",AI14947/AC14947)","v":""},-24.939994197558587,-24.939994197558587,0,null,null,null,null,null,null,null,null,null,null,null,null,null,null,null,null,null,null,null,null,null,"2007-10-31",0,0.97]
["2007-12-13",0.2,0.08,12,2007,50,0.2,{"$f":"IF(B14990<Parameters!$A$16,B14990*Parameters!$B$16,IF(AND(B14990>Parameters!$A$16,B14990<Parameters!$A$17),B14990*Parameters!$B$17,B14990*Parameters!$B$18))","v":0},{"$f":"IF(B14990<Parameters!$A$20,B14990*Parameters!$B$20,IF(AND(B14990>Parameters!$A$20,B14990<Parameters!$A$21),B14990*Parameters!$B$21,B14990*Parameters!$B$22))","v":0},2.4232558139534883,1.2116279069767442,0.26046511627906976,0.10748560460652591,2.1627906976744184,0.14451612903225808,1194.4509036610646,8.0322803658398875E-2,{"$f":"VLOOKUP($F14990,'Gegevens vergelijking'!$I$16:$Q$68,9,FALSE)","v":6.1862244897959178},-6.0060821771752471,0.18014231262067087,4843.6049868831078,0,0,6.1862244897959178,1,3.0931122448979589,1.2116279069767442,0.24232558139534882,2.6046511627906978E-2,0.61862244897959173,0.21627906976744185,0,8.0322803658398872E-3,0.61862244897959173,-0.6006082177175246,0.8925143953934741,0,0.30838219261706706,23.750683309037896,-23.05906550165496,-12.913076680926778,-12.913076680926778,0,null,null,null,null,null,null,null,null,null,null,null,null,null,null,null,null,null,null,null,null,null,"2007-12-13",0.2,0.08]
["2008-03-27",3.6,0.56999999999999995,3,2008,13,3.6,{"$f":"IF(B15095<Parameters!$A$16,B15095*Parameters!$B$16,IF(AND(B15095>Parameters!$A$16,B15095<Parameters!$A$17),B15095*Parameters!$B$17,B15095*Parameters!$B$18))","v":3.42},{"$f":"IF(B15095<Parameters!$A$20,B15095*Parameters!$B$20,IF(AND(B15095>Parameters!$A$20,B15095<Parameters!$A$21),B15095*Parameters!$B$21,B15095*Parameters!$B$22))","v":2.7},43.618604651162791,1.2116279069767442,41.253488372093024,0.94577735124760076,2.3651162790697668,0.47322580645161283,1271.7953488372093,0.27992854864879008,{"$f":"VLOOKUP($F15095,'Gegevens vergelijking'!$I$16:$Q$68,9,FALSE)","v":23.460342198479999},17.513217624964234,40.973559823444234,5719.9367441860477,17.513217624964454,0,23.460342198479999,1,0.65167617217999996,1.2116279069767442,4.3618604651162789,4.1253488372093026,2.3460342198479998,0.23651162790697669,1.7513217624964454,2.7992854864879006E-2,2.3460342198479998,-2.1760371282653068E-14,5.4222648752399225E-2,0.40150797498052443,6.7855728011150416E-3,0.56868747648381524,-5.274795451570449E-15,-4.6784798257704097E-13,-4.6784798257704097E-13,0,null,null,null,null,null,null,null,null,null,null,null,null,null,null,null,null,null,null,null,null,null,"2008-03-27",3.6,0.56999999999999995]
["2008-05-05",0,5.81,5,2008,19,0,{"$f":"IF(B15134<Parameters!$A$16,B15134*Parameters!$B$16,IF(AND(B15134>Parameters!$A$16,B15134<Parameters!$A$17),B15134*Parameters!$B$17,B15134*Parameters!$B$18))","v":0},{"$f":"IF(B15134<Parameters!$A$20,B15134*Parameters!$B$20,IF(AND(B15134>Parameters!$A$20,B15134<Parameters!$A$21),B15134*Parameters!$B$21,B15134*Parameters!$B$22))","v":0},0,"",0,"",0,5.6164516129032256,1213.4392697765313,3.1789387178934119,{"$f":"VLOOKUP($F15134,'Gegevens vergelijking'!$I$16:$Q$68,9,FALSE)","v":36.149555012451422},-39.328493730344832,-3.1789387178934119,5058.7478870407376,0,0,36.149555012451422,1,"","",0,0,3.6149555012451424,0,0,0.3178938717893412,3.6149555012451424,-3.9328493730344838,"","","","","",-84.556261520241407,0,-84.556261520241407,null,null,null,null,null,null,null,null,null,null,null,null,null,null,null,null,null,null,null,null,null,"2008-05-05",0,5.81]
["2008-08-22",4.7,1.56,8,2008,34,4.7,{"$f":"IF(B15243<Parameters!$A$16,B15243*Parameters!$B$16,IF(AND(B15243>Parameters!$A$16,B15243<Parameters!$A$17),B15243*Parameters!$B$17,B15243*Parameters!$B$18))","v":4.4649999999999999},{"$f":"IF(B15243<Parameters!$A$20,B15243*Parameters!$B$20,IF(AND(B15243>Parameters!$A$20,B15243<Parameters!$A$21),B15243*Parameters!$B$21,B15243*Parameters!$B$22))","v":3.5250000000000004},56.946511627906979,1.2116279069767442,53.858720930232558,0.94577735124760076,3.0877906976744214,1.6245161290322581,1122.3984866198289,0.84669012492905571,{"$f":"VLOOKUP($F15243,'Gegevens vergelijking'!$I$16:$Q$68,9,FALSE)","v":32.292939745809527},20.719091059493977,53.012030805303503,4027.2332215951055,0,0,32.292939745809527,1,0.68708382437892612,1.2116279069767442,5.6946511627906977,5.3858720930232558,3.2292939745809526,0.30877906976744213,0,8.4669012492905565E-2,3.2292939745809526,2.0719091059493979,5.422264875239928E-2,0,1.5720576172349877E-2,0.59958608723072193,0.38469333659692828,44.546045777912056,0,44.546045777912056,null,null,null,null,null,null,null,null,null,null,null,null,null,null,null,null,null,null,null,null,null,"2008-08-22",4.7,1.56]
["2008-09-23",3.9,1.1399999999999999,9,2008,39,3.9,{"$f":"IF(B15275<Parameters!$A$16,B15275*Parameters!$B$16,IF(AND(B15275>Parameters!$A$16,B15275<Parameters!$A$17),B15275*Parameters!$B$17,B15275*Parameters!$B$18))","v":3.7049999999999996},{"$f":"IF(B15275<Parameters!$A$20,B15275*Parameters!$B$20,IF(AND(B15275>Parameters!$A$20,B15275<Parameters!$A$21),B15275*Parameters!$B$21,B15275*Parameters!$B$22))","v":2.9249999999999998},47.253488372093024,1.2116279069767442,44.69127906976744,0.94577735124760076,2.5622093023255843,1.2733333333333332,1077.4942897806823,0.63705009782833089,{"$f":"VLOOKUP($F15275,'Gegevens vergelijking'!$I$16:$Q$68,9,FALSE)","v":23.128696279329194},20.925532692609913,44.054228971939111,3518.4575281796515,0,0,23.128696279329194,1,0.59304349434177417,1.2116279069767442,4.7253488372093022,4.4691279069767438,2.3128696279329195,0.25622093023255843,0,6.3705009782833083E-2,2.3128696279329195,2.0925532692609914,5.4222648752399294E-2,0,1.4254461073576202E-2,0.51752146639667773,0.46822407252974613,44.989895289111317,0,44.989895289111317,null,null,null,null,null,null,null,null,null,null,null,null,null,null,null,null,null,null,null,null,null,"2008-09-23",3.9,1.1399999999999999]
["2008-11-13",0,0.69,11,2008,46,0,{"$f":"IF(B15326<Parameters!$A$16,B15326*Parameters!$B$16,IF(AND(B15326>Parameters!$A$16,B15326<Parameters!$A$17),B15326*Parameters!$B$17,B15326*Parameters!$B$18))","v":0},{"$f":"IF(B15326<Parameters!$A$20,B15326*Parameters!$B$20,IF(AND(B15326>Parameters!$A$20,B15326<Parameters!$A$21),B15326*Parameters!$B$21,B15326*Parameters!$B$22))","v":0},0,"",0,"",0,0.85666666666666658,1139.0024248495956,0.45419851504691655,{"$f":"VLOOKUP($F15326,'Gegevens vergelijking'!$I$16:$Q$68,9,FALSE)","v":9.880531666666668},-10.334730181713585,-0.45419851504691655,4215.3599620986197,0,0,9.880531666666668,1,"","",0,0,0.98805316666666676,0,0,4.5419851504691654E-2,0.98805316666666676,-1.0334730181713585,"","","","","",-22.219669890684205,-22.219669890684205,0,null,null,null,null,null,null,null,null,null,null,null,null,null,null,null,null,null,null,null,null,null,"2008-11-13",0,0.69]
["2009-02-26",0.2,1.21,2,2009,9,0.2,{"$f":"IF(B15431<Parameters!$A$16,B15431*Parameters!$B$16,IF(AND(B15431>Parameters!$A$16,B15431<Parameters!$A$17),B15431*Parameters!$B$17,B15431*Parameters!$B$18))","v":0},{"$f":"IF(B15431<Parameters!$A$20,B15431*Parameters!$B$20,IF(AND(B15431>Parameters!$A$20,B15431<Parameters!$A$21),B15431*Parameters!$B$21,B15431*Parameters!$B$22))","v":0},2.4232558139534883,1.2116279069767442,0.26046511627906976,0.10748560460652591,2.1627906976744184,1.1742857142857142,1263.8525528799537,0.69102760789667805,{"$f":"VLOOKUP($F15431,'Gegevens vergelijking'!$I$16:$Q$68,9,FALSE)","v":14.865981240331427},-15.296543731949036,-0.43056249161760829,5629.942894941044,0,0,14.865981240331427,1,7.4329906201657137,1.2116279069767442,0.24232558139534882,2.6046511627906978E-2,1.4865981240331427,0.21627906976744185,0,6.9102760789667803E-2,1.4865981240331427,-1.5296543731949035,0.8925143953934741,0,2.6530524231747461,57.074749404843871,-58.727801828018613,-32.887569023690425,-32.887569023690425,0,null,null,null,null,null,null,null,null,null,null,null,null,null,null,null,null,null,null,null,null,null,"2009-02-26",0.2,1.21]
["2009-04-06",0,2.87,4,2009,15,0,{"$f":"IF(B15470<Parameters!$A$16,B15470*Parameters!$B$16,IF(AND(B15470>Parameters!$A$16,B15470<Parameters!$A$17),B15470*Parameters!$B$17,B15470*Parameters!$B$18))","v":0},{"$f":"IF(B15470<Parameters!$A$20,B15470*Parameters!$B$20,IF(AND(B15470>Parameters!$A$20,B15470<Parameters!$A$21),B15470*Parameters!$B$21,B15470*Parameters!$B$22))","v":0},0,"",0,"",0,2.7033333333333336,1249.263970853129,1.5741646278825516,{"$f":"VLOOKUP($F15470,'Gegevens vergelijking'!$I$16:$Q$68,9,FALSE)","v":28.925363264788576},-30.499527892671129,-1.5741646278825516,5464.6506403387884,0,0,28.925363264788576,1,"","",0,0,2.8925363264788575,0,0,0.15741646278825516,2.8925363264788575,-3.0499527892671128,"","","","","",-65.573984969242929,0,-65.573984969242929,null,null,null,null,null,null,null,null,null,null,null,null,null,null,null,null,null,null,null,null,null,"2009-04-06",0,2.87]
["2009-07-24",8.4,3.65,7,2009,30,8.4,{"$f":"IF(B15579<Parameters!$A$16,B15579*Parameters!$B$16,IF(AND(B15579>Parameters!$A$16,B15579<Parameters!$A$17),B15579*Parameters!$B$17,B15579*Parameters!$B$18))","v":7.9799999999999995},{"$f":"IF(B15579<Parameters!$A$20,B15579*Parameters!$B$20,IF(AND(B15579>Parameters!$A$20,B15579<Parameters!$A$21),B15579*Parameters!$B$21,B15579*Parameters!$B$22))","v":6.3000000000000007},101.77674418604651,1.2116279069767442,96.258139534883725,0.94577735124760076,5.5186046511627893,3.6177419354838709,1083.2430667555375,1.8144272601497575,{"$f":"VLOOKUP($F15579,'Gegevens vergelijking'!$I$16:$Q$68,9,FALSE)","v":38.460966477868567},55.982745796865402,94.443712274733969,3583.5925978959635,0,0,38.460966477868567,1,0.45786864854605436,1.2116279069767442,10.177674418604651,9.6258139534883718,3.8460966477868568,0.55186046511627895,0,0.18144272601497574,3.8460966477868568,5.5982745796865405,5.4222648752399225E-2,0,1.884959826687917E-2,0.39956066742730267,0.58158973430581828,120.36290346326062,0,120.36290346326062,null,null,null,null,null,null,null,null,null,null,null,null,null,null,null,null,null,null,null,null,null,"2009-07-24",8.4,3.65]
["2009-09-01",6,1.66,9,2009,36,6,{"$f":"IF(B15618<Parameters!$A$16,B15618*Parameters!$B$16,IF(AND(B15618>Parameters!$A$16,B15618<Parameters!$A$17),B15618*Parameters!$B$17,B15618*Parameters!$B$18))","v":5.6999999999999993},{"$f":"IF(B15618<Parameters!$A$20,B15618*Parameters!$B$20,IF(AND(B15618>Parameters!$A$20,B15618<Parameters!$A$21),B15618*Parameters!$B$21,B15618*Parameters!$B$22))","v":4.5},72.697674418604649,1.2116279069767442,68.755813953488371,0.94577735124760076,3.9418604651162781,1.7933333333333332,998.76623015027667,0.83028939486053399,{"$f":"VLOOKUP($F15618,'Gegevens vergelijking'!$I$16:$Q$68,9,FALSE)","v":30.026641895863097},37.898882662764741,67.925524558627842,2626.4490757582612,0,0,30.026641895863097,1,0.50044403159771833,1.2116279069767442,7.2697674418604645,6.8755813953488367,3.0026641895863095,0.39418604651162781,0,8.3028939486053402E-2,3.0026641895863095,3.7898882662764741,5.4222648752399225E-2,0,1.2075915433452719E-2,0.436714223413534,0.5512098611530134,81.482597724944199,0,81.482597724944199,null,null,null,null,null,null,null,null,null,null,null,null,null,null,null,null,null,null,null,null,null,"2009-09-01",6,1.66]
["2009-10-10",5.9,1.19,10,2009,41,5.9,{"$f":"IF(B15657<Parameters!$A$16,B15657*Parameters!$B$16,IF(AND(B15657>Parameters!$A$16,B15657<Parameters!$A$17),B15657*Parameters!$B$17,B15657*Parameters!$B$18))","v":5.6050000000000004},{"$f":"IF(B15657<Parameters!$A$20,B15657*Parameters!$B$20,IF(AND(B15657>Parameters!$A$20,B15657<Parameters!$A$21),B15657*Parameters!$B$21,B15657*Parameters!$B$22))","v":4.4250000000000007},71.486046511627904,1.2116279069767442,67.609883720930227,0.94577735124760076,3.876162790697677,1.3512903225806452,1030.7916289251386,0.6451014312246649,{"$f":"VLOOKUP($F15657,'Gegevens vergelijking'!$I$16:$Q$68,9,FALSE)","v":17.237476837457141},49.727305452248423,66.964782289705568,2989.3047911595045,0,0,17.237476837457141,1,0.29216062436368034,1.2116279069767442,7.1486046511627901,6.7609883720930224,1.7237476837457142,0.3876162790697677,{"$f":"V15657/10","v":0},6.4510143122466487E-2,1.7237476837457142,4.9727305452248416,5.4222648752399273E-2,0,9.5415255243954614E-3,0.25495498422401336,0.73550349025159123,106.9137067223341,106.9137067223341,0,null,null,null,null,null,null,null,null,null,null,null,null,null,null,null,null,null,null,null,null,null,"2009-10-10",5.9,1.19]
["2010-01-27",2.4,0,1,2010,4,2.4,{"$f":"IF(B15766<Parameters!$A$16,B15766*Parameters!$B$16,IF(AND(B15766>Parameters!$A$16,B15766<Parameters!$A$17),B15766*Parameters!$B$17,B15766*Parameters!$B$18))","v":2.2799999999999998},{"$f":"IF(B15766<Parameters!$A$20,B15766*Parameters!$B$20,IF(AND(B15766>Parameters!$A$20,B15766<Parameters!$A$21),B15766*Parameters!$B$21,B15766*Parameters!$B$22))","v":1.7999999999999998},29.079069767441862,1.2116279069767442,27.502325581395347,0.94577735124760065,1.5767441860465148,6.4516129032258063E-2,1162.8089823191456,3.4836784543058948E-2,{"$f":"VLOOKUP($F15766,'Gegevens vergelijking'!$I$16:$Q$68,9,FALSE)","v":6.2443769793828574},21.22311181746943,27.467488796852287,4485.0941659591799,0,0,6.2443769793828574,1,0.26018237414095241,1.2116279069767442,2.9079069767441861,2.7502325581395346,0.62443769793828574,0.15767441860465148,0,3.4836784543058946E-3,0.62443769793828574,2.1223111817469431,5.4222648752399343E-2,0,1.2666850459593564E-3,0.22704905303015635,0.7716842619238844,45.629690407559274,45.629690407559274,0,null,null,null,null,null,null,null,null,null,null,null,null,null,null,null,null,null,null,null,null,null,"2010-01-27",2.4,0]
["2010-03-07",0,0,3,2010,9,0,{"$f":"IF(B15805<Parameters!$A$16,B15805*Parameters!$B$16,IF(AND(B15805>Parameters!$A$16,B15805<Parameters!$A$17),B15805*Parameters!$B$17,B15805*Parameters!$B$18))","v":0},{"$f":"IF(B15805<Parameters!$A$20,B15805*Parameters!$B$20,IF(AND(B15805>Parameters!$A$20,B15805<Parameters!$A$21),B15805*Parameters!$B$21,B15805*Parameters!$B$22))","v":0},0,"",0,"",0,-9.6774193548387094E-2,1221.7498529367736,-5.5051330331985442E-2,{"$f":"VLOOKUP($F15805,'Gegevens vergelijking'!$I$16:$Q$68,9,FALSE)","v":14.865981240331427},-14.810929909999443,5.5051330331985442E-2,5152.9088565640332,0,0,14.865981240331427,1,"","",0,0,1.4865981240331427,0,0,-5.5051330331985443E-3,1.4865981240331427,-1.4810929909999442,"","","","","",-31.843499306498803,-31.843499306498803,0,null,null,null,null,null,null,null,null,null,null,null,null,null,null,null,null,null,null,null,null,null,"2010-03-07",0,0]
["2010-04-19",0,3.37,4,2010,16,0,{"$f":"IF(B15848<Parameters!$A$16,B15848*Parameters!$B$16,IF(AND(B15848>Parameters!$A$16,B15848<Parameters!$A$17),B15848*Parameters!$B$17,B15848*Parameters!$B$18))","v":0},{"$f":"IF(B15848<Parameters!$A$20,B15848*Parameters!$B$20,IF(AND(B15848>Parameters!$A$20,B15848<Parameters!$A$21),B15848*Parameters!$B$21,B15848*Parameters!$B$22))","v":0},0,"",0,"",0,3.2033333333333336,1185.148691030806,1.7703151052173938,{"$f":"VLOOKUP($F15848,'Gegevens vergelijking'!$I$16:$Q$68,9,FALSE)","v":32.719747675074295},-34.490062780291687,-1.7703151052173938,4738.208609386118,0,0,32.719747675074295,1,"","",0,0,3.2719747675074293,0,0,0.17703151052173938,3.2719747675074293,-3.4490062780291688,"","","","","",-74.153634977627121,0,-74.153634977627121,null,null,null,null,null,null,null,null,null,null,null,null,null,null,null,null,null,null,null,null,null,"2010-04-19",0,3.37]
["2010-08-02",1.8,2.81,8,2010,31,1.8,{"$f":"IF(B15953<Parameters!$A$16,B15953*Parameters!$B$16,IF(AND(B15953>Parameters!$A$16,B15953<Parameters!$A$17),B15953*Parameters!$B$17,B15953*Parameters!$B$18))","v":1.4400000000000002},{"$f":"IF(B15953<Parameters!$A$20,B15953*Parameters!$B$20,IF(AND(B15953>Parameters!$A$20,B15953<Parameters!$A$21),B15953*Parameters!$B$21,B15953*Parameters!$B$22))","v":1.08},21.809302325581395,1.2116279069767442,17.706976744186047,0.81190019193857965,4.1023255813953483,2.8745161290322581,964.08162953673332,1.2913370204859076,{"$f":"VLOOKUP($F15953,'Gegevens vergelijking'!$I$16:$Q$68,9,FALSE)","v":36.543125282102856},-20.127485558402718,16.415639723700139,2233.4639436289294,0,0,36.543125282102856,1,2.0301736267834922,1.2116279069767442,2.1809302325581394,1.7706976744186047,3.6543125282102857,0.41023255813953485,0,0.12913370204859076,3.6543125282102857,-2.0127485558402718,0.18809980806142035,0,7.2928147991717915E-2,2.0637698806546134,-1.1366980286463315,-43.274093950565849,0,-43.274093950565849,null,null,null,null,null,null,null,null,null,null,null,null,null,null,null,null,null,null,null,null,null,"2010-08-02",1.8,2.81]
["2010-08-30",9.5,2.68,8,2010,35,9.5,{"$f":"IF(B15981<Parameters!$A$16,B15981*Parameters!$B$16,IF(AND(B15981>Parameters!$A$16,B15981<Parameters!$A$17),B15981*Parameters!$B$17,B15981*Parameters!$B$18))","v":9.0250000000000004},{"$f":"IF(B15981<Parameters!$A$20,B15981*Parameters!$B$20,IF(AND(B15981>Parameters!$A$20,B15981<Parameters!$A$21),B15981*Parameters!$B$21,B15981*Parameters!$B$22))","v":7.125},115.1046511627907,1.2116279069767442,108.86337209302326,0.94577735124760076,6.2412790697674438,2.7445161290322582,1059.8774576773944,1.3444255921831494,{"$f":"VLOOKUP($F15981,'Gegevens vergelijking'!$I$16:$Q$68,9,FALSE)","v":31.823036754388561},75.695909746451548,107.51894650084012,3318.8544487338559,0,0,31.823036754388561,1,0.33497933425672172,1.2116279069767442,11.51046511627907,10.886337209302326,3.1823036754388561,0.62412790697674436,0,0.13444255921831494,3.1823036754388561,7.5695909746451555,5.4222648752399245E-2,0,1.2349659636065139E-2,0.29232088022402908,0.69532946013990582,162.74620595487085,0,162.74620595487085,null,null,null,null,null,null,null,null,null,null,null,null,null,null,null,null,null,null,null,null,null,"2010-08-30",9.5,2.68]
["2010-12-29",0,0.21,12,2010,52,0,{"$f":"IF(B16102<Parameters!$A$16,B16102*Parameters!$B$16,IF(AND(B16102>Parameters!$A$16,B16102<Parameters!$A$17),B16102*Parameters!$B$17,B16102*Parameters!$B$18))","v":0},{"$f":"IF(B16102<Parameters!$A$20,B16102*Parameters!$B$20,IF(AND(B16102>Parameters!$A$20,B16102<Parameters!$A$21),B16102*Parameters!$B$21,B16102*Parameters!$B$22))","v":0},0,"",0,"",0,0.27451612903225808,1262.9111384055843,{"$f":"SUM(O16102*P16101)/$E$3*10","v":0.16125273672372026},{"$f":"VLOOKUP($F16102,'Gegevens vergelijking'!$I$16:$Q$68,9,FALSE)","v":0},-0.16125273672372026,-0.16125273672372026,5619.2764353291632,0,0,0,"","","",0,0,0,0,0,1.6125273672372025E-2,0,-1.6125273672372025E-2,"","","","","",-0.34669338395599852,-0.34669338395599852,0,null,null,null,null,null,null,null,null,null,null,null,null,null,null,null,null,null,null,null,null,null,"2010-12-29",0,0.21]
["2011-02-06",0,1.05,2,2011,5,0,{"$f":"IF(B16141<Parameters!$A$16,B16141*Parameters!$B$16,IF(AND(B16141>Parameters!$A$16,B16141<Parameters!$A$17),B16141*Parameters!$B$17,B16141*Parameters!$B$18))","v":0},{"$f":"IF(B16141<Parameters!$A$20,B16141*Parameters!$B$20,IF(AND(B16141>Parameters!$A$20,B16141<Parameters!$A$21),B16141*Parameters!$B$21,B16141*Parameters!$B$22))","v":0},0,"",0,"",0,1.0142857142857142,1268.2302749027831,0.59866988180621705,{"$f":"VLOOKUP($F16141,'Gegevens vergelijking'!$I$16:$Q$68,9,FALSE)","v":8.2529179304628588},-8.8515878122690754,-0.59866988180621705,5679.543571815937,0,0,8.2529179304628588,1,"","",0,0,0.82529179304628586,0,0,5.9866988180621708E-2,0.82529179304628586,-0.88515878122690761,"","","","","",-19.030913796378513,-19.030913796378513,0,null,null,null,null,null,null,null,null,null,null,null,null,null,null,null,null,null,null,null,null,null,"2011-02-06",0,1.05]
["2011-03-21",0,2.67,3,2011,12,0,{"$f":"IF(B16184<Parameters!$A$16,B16184*Parameters!$B$16,IF(AND(B16184>Parameters!$A$16,B16184<Parameters!$A$17),B16184*Parameters!$B$17,B16184*Parameters!$B$18))","v":0},{"$f":"IF(B16184<Parameters!$A$20,B16184*Parameters!$B$20,IF(AND(B16184>Parameters!$A$20,B16184<Parameters!$A$21),B16184*Parameters!$B$21,B16184*Parameters!$B$22))","v":0},0,"",0,"",0,2.5732258064516129,1244.703677846551,1.4922628107198275,{"$f":"VLOOKUP($F16184,'Gegevens vergelijking'!$I$16:$Q$68,9,FALSE)","v":22.555070739851423},-24.047333550571253,-1.4922628107198275,5412.9813889120132,0,0,22.555070739851423,1,"","",0,0,2.2555070739851422,0,0,0.14922628107198274,2.2555070739851422,-2.4047333550571248,"","","","","",-51.70176713372819,-51.70176713372819,0,null,null,null,null,null,null,null,null,null,null,null,null,null,null,null,null,null,null,null,null,null,"2011-03-21",0,2.67]
["2011-07-04",0,6.35,7,2011,27,0,{"$f":"IF(B16289<Parameters!$A$16,B16289*Parameters!$B$16,IF(AND(B16289>Parameters!$A$16,B16289<Parameters!$A$17),B16289*Parameters!$B$17,B16289*Parameters!$B$18))","v":0},{"$f":"IF(B16289<Parameters!$A$20,B16289*Parameters!$B$20,IF(AND(B16289>Parameters!$A$20,B16289<Parameters!$A$21),B16289*Parameters!$B$21,B16289*Parameters!$B$22))","v":0},0,"",0,"",0,6.3177419354838706,1035.8503220240993,3.0560865707464346,{"$f":"VLOOKUP($F16289,'Gegevens vergelijking'!$I$16:$Q$68,9,FALSE)","v":44.20203263918858},-47.258119209935018,-3.0560865707464346,3046.6210393137503,0,0,44.20203263918858,1,"","",0,0,4.4202032639188582,0,0,0.30560865707464346,4.4202032639188582,-4.7258119209935021,"","","","","",-101.60495630136029,0,-101.60495630136029,null,null,null,null,null,null,null,null,null,null,null,null,null,null,null,null,null,null,null,null,null,"2011-07-04",0,6.35]
["2011-08-12",1.3,2.48,8,2011,32,1.3,{"$f":"IF(B16328<Parameters!$A$16,B16328*Parameters!$B$16,IF(AND(B16328>Parameters!$A$16,B16328<Parameters!$A$17),B16328*Parameters!$B$17,B16328*Parameters!$B$18))","v":1.04},{"$f":"IF(B16328<Parameters!$A$20,B16328*Parameters!$B$20,IF(AND(B16328>Parameters!$A$20,B16328<Parameters!$A$21),B16328*Parameters!$B$21,B16328*Parameters!$B$22))","v":0.78},15.751162790697675,1.2116279069767442,12.788372093023256,0.81190019193857965,2.9627906976744196,2.544516129032258,980.8600268987509,1.1633100189389136,{"$f":"VLOOKUP($F16328,'Gegevens vergelijking'!$I$16:$Q$68,9,FALSE)","v":35.235564143205707},-23.610502069121367,11.625062074084342,2423.5673493938566,0,0,35.235564143205707,1,2.7104280110158236,1.2116279069767442,1.5751162790697675,1.2788372093023255,3.5235564143205709,0.29627906976744195,0,0.11633100189389137,3.5235564143205709,-2.3610502069121369,0.1880998080614204,0,9.0966231704625006E-2,2.7552814296378352,-1.8462476613424603,-50.762579448610943,0,-50.762579448610943,null,null,null,null,null,null,null,null,null,null,null,null,null,null,null,null,null,null,null,null,null,"2011-08-12",1.3,2.48]
["2011-11-29",0.2,0.49,11,2011,48,0.2,{"$f":"IF(B16437<Parameters!$A$16,B16437*Parameters!$B$16,IF(AND(B16437>Parameters!$A$16,B16437<Parameters!$A$17),B16437*Parameters!$B$17,B16437*Parameters!$B$18))","v":0},{"$f":"IF(B16437<Parameters!$A$20,B16437*Parameters!$B$20,IF(AND(B16437>Parameters!$A$20,B16437<Parameters!$A$21),B16437*Parameters!$B$21,B16437*Parameters!$B$22))","v":0},2.4232558139534883,1.2116279069767442,0.26046511627906976,0.10748560460652591,2.1627906976744184,0.65666666666666662,1059.6914918313589,0.32389334978916196,{"$f":"VLOOKUP($F16437,'Gegevens vergelijking'!$I$16:$Q$68,9,FALSE)","v":8.6779285714285717},-8.741356804938663,-6.3428233510092191E-2,3316.747409549806,0,0,8.6779285714285717,1,4.3389642857142858,1.2116279069767442,0.24232558139534882,2.6046511627906978E-2,0.86779285714285714,0.21627906976744185,0,3.2389334978916197E-2,0.86779285714285714,-0.87413568049386636,0.8925143953934741,0,1.2435191107976753,33.317047193877549,-33.560566304675227,-18.793917130618127,-18.793917130618127,0,null,null,null,null,null,null,null,null,null,null,null,null,null,null,null,null,null,null,null,null,null,"2011-11-29",0.2,0.49]
["2012-01-07",6.2,0.57999999999999996,1,2012,1,6.2,{"$f":"IF(B16476<Parameters!$A$16,B16476*Parameters!$B$16,IF(AND(B16476>Parameters!$A$16,B16476<Parameters!$A$17),B16476*Parameters!$B$17,B16476*Parameters!$B$18))","v":5.89},{"$f":"IF(B16476<Parameters!$A$20,B16476*Parameters!$B$20,IF(AND(B16476>Parameters!$A$20,B16476<Parameters!$A$21),B16476*Parameters!$B$21,B16476*Parameters!$B$22))","v":4.6500000000000004},75.120930232558138,1.2116279069767442,71.047674418604657,0.94577735124760087,4.0732558139534802,0.64451612903225808,1241.3328561834476,0.37033225188481655,{"$f":"VLOOKUP($F16476,'Gegevens vergelijking'!$I$16:$Q$68,9,FALSE)","v":3.0894753415257137},67.587866825194126,70.677342166719839,5374.7891429807778,0,0,3.0894753415257137,1,4.9830247443963124E-2,1.2116279069767442,7.5120930232558134,7.1047674418604654,0.30894753415257137,0.40732558139534802,0,3.7033225188481657E-2,0.30894753415257137,6.7587866825194123,5.4222648752399127E-2,0,5.2124472041528329E-3,4.3484538611677608E-2,0.95130301418416952,145.31391367416737,145.31391367416737,0,null,null,null,null,null,null,null,null,null,null,null,null,null,null,null,null,null,null,null,null,null,"2012-01-07",6.2,0.57999999999999996]
["2012-02-15",8.6,0.56999999999999995,2,2012,7,8.6,{"$f":"IF(B16515<Parameters!$A$16,B16515*Parameters!$B$16,IF(AND(B16515>Parameters!$A$16,B16515<Parameters!$A$17),B16515*Parameters!$B$17,B16515*Parameters!$B$18))","v":8.17},{"$f":"IF(B16515<Parameters!$A$20,B16515*Parameters!$B$20,IF(AND(B16515>Parameters!$A$20,B16515<Parameters!$A$21),B16515*Parameters!$B$21,B16515*Parameters!$B$22))","v":6.4499999999999993},104.2,1.2116279069767442,98.550000000000011,0.94577735124760087,5.6499999999999915,0.53428571428571425,1271.7953488372093,0.31448256691420651,{"$f":"VLOOKUP($F16515,'Gegevens vergelijking'!$I$16:$Q$68,9,FALSE)","v":10.977630682914283},87.257886750171522,98.235517433085803,5719.9367441860477,15.907701181916309,0,10.977630682914283,1,0.12764686840598002,1.2116279069767442,10.42,9.8550000000000004,1.0977630682914283,0.56499999999999917,1.5907701181916309,3.1448256691420651E-2,1.0977630682914283,7.1350185568255196,5.4222648752399155E-2,0.15266507852126976,3.191096569398341E-3,0.11139148333753712,0.72399985355915975,153.4028989717487,153.4028989717487,0,null,null,null,null,null,null,null,null,null,null,null,null,null,null,null,null,null,null,null,null,null,"2012-02-15",8.6,0.56999999999999995]
["2012-06-03",17.8,0.49,6,2012,22,17.8,{"$f":"IF(B16624<Parameters!$A$16,B16624*Parameters!$B$16,IF(AND(B16624>Parameters!$A$16,B16624<Parameters!$A$17),B16624*Parameters!$B$17,B16624*Parameters!$B$18))","v":16.91},{"$f":"IF(B16624<Parameters!$A$20,B16624*Parameters!$B$20,IF(AND(B16624>Parameters!$A$20,B16624<Parameters!$A$21),B16624*Parameters!$B$21,B16624*Parameters!$B$22))","v":13.350000000000001},215.66976744186047,1.2116279069767442,203.97558139534883,0.94577735124760065,11.694186046511646,0.35666666666666669,1205.7601943253183,0.19762415750318676,{"$f":"VLOOKUP($F16624,'Gegevens vergelijking'!$I$16:$Q$68,9,FALSE)","v":39.779582414171429},163.99837482367423,203.77795723784564,4971.7420565729153,0,0,39.779582414171429,1,0.22348080007961477,1.2116279069767442,21.566976744186046,20.397558139534883,3.9779582414171428,1.1694186046511645,0,1.9762415750318677E-2,3.9779582414171428,16.399837482367424,5.4222648752399315E-2,0,9.6886184194836726E-4,0.19502129687312908,0.8040098412849227,352.59650587089959,0,352.59650587089959,null,null,null,null,null,null,null,null,null,null,null,null,null,null,null,null,null,null,null,null,null,"2012-06-03",17.8,0.49]
["2012-07-12",6.3,4.54,7,2012,28,6.3,{"$f":"IF(B16663<Parameters!$A$16,B16663*Parameters!$B$16,IF(AND(B16663>Parameters!$A$16,B16663<Parameters!$A$17),B16663*Parameters!$B$17,B16663*Parameters!$B$18))","v":5.9849999999999994},{"$f":"IF(B16663<Parameters!$A$20,B16663*Parameters!$B$20,IF(AND(B16663>Parameters!$A$20,B16663<Parameters!$A$21),B16663*Parameters!$B$21,B16663*Parameters!$B$22))","v":4.7249999999999996},76.332558139534882,1.2116279069767442,72.193604651162786,0.94577735124760076,4.1389534883720955,4.507741935483871,1224.7495346172257,2.5619735789394653,{"$f":"VLOOKUP($F16663,'Gegevens vergelijking'!$I$16:$Q$68,9,FALSE)","v":37.932157990359997},31.699473081863324,69.631631072223314,5186.895994391366,0,0,37.932157990359997,1,0.60209774587873011,1.2116279069767442,7.6332558139534878,7.2193604651162788,3.7932157990359996,0.41389534883720958,0,0.25619735789394654,3.7932157990359996,3.1699473081863325,5.4222648752399273E-2,0,3.5487542024239413E-2,0.52542269046748646,0.43908976750827411,68.153867126006148,0,68.153867126006148,null,null,null,null,null,null,null,null,null,null,null,null,null,null,null,null,null,null,null,null,null,"2012-07-12",6.3,4.54]
["2012-09-07",0,4.12,9,2012,36,0,{"$f":"IF(B16720<Parameters!$A$16,B16720*Parameters!$B$16,IF(AND(B16720>Parameters!$A$16,B16720<Parameters!$A$17),B16720*Parameters!$B$17,B16720*Parameters!$B$18))","v":0},{"$f":"IF(B16720<Parameters!$A$20,B16720*Parameters!$B$20,IF(AND(B16720>Parameters!$A$20,B16720<Parameters!$A$21),B16720*Parameters!$B$21,B16720*Parameters!$B$22))","v":0},0,"",0,"",0,4.2533333333333339,1114.4079618270341,2.210255880650033,{"$f":"VLOOKUP($F16720,'Gegevens vergelijking'!$I$16:$Q$68,9,FALSE)","v":30.026641895863097},-32.236897776513132,-2.210255880650033,3936.6985927992637,0,0,30.026641895863097,1,"","",0,0,3.0026641895863095,0,0,0.2210255880650033,3.0026641895863095,-3.2236897776513129,"","","","","",-69.309330219503224,0,-69.309330219503224,null,null,null,null,null,null,null,null,null,null,null,null,null,null,null,null,null,null,null,null,null,"2012-09-07",0,4.12]
["2012-10-30",7.5,0.42,10,2012,44,7.5,{"$f":"IF(B16773<Parameters!$A$16,B16773*Parameters!$B$16,IF(AND(B16773>Parameters!$A$16,B16773<Parameters!$A$17),B16773*Parameters!$B$17,B16773*Parameters!$B$18))","v":7.125},{"$f":"IF(B16773<Parameters!$A$20,B16773*Parameters!$B$20,IF(AND(B16773>Parameters!$A$20,B16773<Parameters!$A$21),B16773*Parameters!$B$21,B16773*Parameters!$B$22))","v":5.625},90.872093023255815,1.2116279069767442,85.944767441860463,0.94577735124760076,4.9273255813953512,0.58129032258064517,1180.7921475416088,0.3174679643650915,{"$f":"VLOOKUP($F16773,'Gegevens vergelijking'!$I$16:$Q$68,9,FALSE)","v":11.034608376916667},74.592691100578705,85.62729947749537,4688.84789055285,0,0,11.034608376916667,1,0.14712811169222223,1.2116279069767442,9.0872093023255811,8.5944767441860463,1.1034608376916668,0.49273255813953509,0,3.1746796436509149E-2,1.1034608376916668,7.4592691100578694,5.4222648752399259E-2,0,3.6938602990560284E-3,0.12839185799625685,0.86791428170468699,160.37428586624421,160.37428586624421,0,null,null,null,null,null,null,null,null,null,null,null,null,null,null,null,null,null,null,null,null,null,"2012-10-30",7.5,0.42]
["2012-10-31",0,1.41,10,2012,44,0,{"$f":"IF(B16774<Parameters!$A$16,B16774*Parameters!$B$16,IF(AND(B16774>Parameters!$A$16,B16774<Parameters!$A$17),B16774*Parameters!$B$17,B16774*Parameters!$B$18))","v":0},{"$f":"IF(B16774<Parameters!$A$20,B16774*Parameters!$B$20,IF(AND(B16774>Parameters!$A$20,B16774<Parameters!$A$21),B16774*Parameters!$B$21,B16774*Parameters!$B$22))","v":0},0,"",0,"",0,1.5712903225806452,1179.742076110118,0.86296152298202189,{"$f":"VLOOKUP($F16774,'Gegevens vergelijking'!$I$16:$Q$68,9,FALSE)","v":11.034608376916667},-11.89756989989869,-0.86296152298202189,4676.9503206529516,0,0,11.034608376916667,1,"","",0,0,1.1034608376916668,0,0,8.6296152298202186E-2,1.1034608376916668,-1.189756989989869,"","","","","",-25.579775284782183,-25.579775284782183,0,null,null,null,null,null,null,null,null,null,null,null,null,null,null,null,null,null,null,null,null,null,"2012-10-31",0,1.41]
["2012-11-01",2.5,0.62,11,2012,44,2.5,{"$f":"IF(B16775<Parameters!$A$16,B16775*Parameters!$B$16,IF(AND(B16775>Parameters!$A$16,B16775<Parameters!$A$17),B16775*Parameters!$B$17,B16775*Parameters!$B$18))","v":2.375},{"$f":"IF(B16775<Parameters!$A$20,B16775*Parameters!$B$20,IF(AND(B16775>Parameters!$A$20,B16775<Parameters!$A$21),B16775*Parameters!$B$21,B16775*Parameters!$B$22))","v":1.875},30.290697674418606,1.2116279069767442,28.64825581395349,0.94577735124760076,1.6424418604651159,0.78666666666666663,1181.2585468559694,0.43165756583253923,{"$f":"VLOOKUP($F16775,'Gegevens vergelijking'!$I$16:$Q$68,9,FALSE)","v":11.034608376916667},17.181989871204287,28.216598248120953,4694.1323105241563,0,0,11.034608376916667,1,0.44138433507666669,1.2116279069767442,3.0290697674418605,2.8648255813953489,1.1034608376916668,0.16424418604651159,0,4.3165756583253924E-2,1.1034608376916668,1.7181989871204282,5.4222648752399218E-2,0,1.5067499000141399E-2,0.38517557398877056,0.59975692701108807,36.941278223089206,36.941278223089206,0,null,null,null,null,null,null,null,null,null,null,null,null,null,null,null,null,null,null,null,null,null,"2012-11-01",2.5,0.62]
["2012-11-02",7.4,0.76,11,2012,44,7.4,{"$f":"IF(B16776<Parameters!$A$16,B16776*Parameters!$B$16,IF(AND(B16776>Parameters!$A$16,B16776<Parameters!$A$17),B16776*Parameters!$B$17,B16776*Parameters!$B$18))","v":7.03},{"$f":"IF(B16776<Parameters!$A$20,B16776*Parameters!$B$20,IF(AND(B16776>Parameters!$A$20,B16776<Parameters!$A$21),B16776*Parameters!$B$21,B16776*Parameters!$B$22))","v":5.5500000000000007},89.66046511627907,1.2116279069767442,84.79883720930232,0.94577735124760065,4.8616279069767501,0.92666666666666664,1187.7239919402803,0.50913159073792169,{"$f":"VLOOKUP($F16776,'Gegevens vergelijking'!$I$16:$Q$68,9,FALSE)","v":11.034608376916667},73.255097241647732,84.289705618564398,4767.3874077658038,0,0,11.034608376916667,1,0.14911632941779279,1.2116279069767442,8.9660465116279067,8.479883720930232,1.1034608376916668,0.48616279069767498,0,5.0913159073792166E-2,1.1034608376916668,7.3255097241647729,5.4222648752399294E-2,0,6.0039925958096816E-3,0.13012688310431439,0.86386912429987595,157.4984590695426,157.4984590695426,0,null,null,null,null,null,null,null,null,null,null,null,null,null,null,null,null,null,null,null,null,null,"2012-11-02",7.4,0.76]
["2012-11-03",5.4,0.42,11,2012,44,5.4,{"$f":"IF(B16777<Parameters!$A$16,B16777*Parameters!$B$16,IF(AND(B16777>Parameters!$A$16,B16777<Parameters!$A$17),B16777*Parameters!$B$17,B16777*Parameters!$B$18))","v":5.13},{"$f":"IF(B16777<Parameters!$A$20,B16777*Parameters!$B$20,IF(AND(B16777>Parameters!$A$20,B16777<Parameters!$A$21),B16777*Parameters!$B$21,B16777*Parameters!$B$22))","v":4.0500000000000007},65.427906976744183,1.2116279069767442,61.880232558139532,0.94577735124760076,3.5476744186046503,0.58666666666666667,1192.1829880151558,0.32409212803331677,{"$f":"VLOOKUP($F16777,'Gegevens vergelijking'!$I$16:$Q$68,9,FALSE)","v":11.034608376916667},50.521532053189553,61.556140430106218,4817.9089398189935,0,0,11.034608376916667,1,0.20434459957253087,1.2116279069767442,6.5427906976744179,6.1880232558139534,1.1034608376916668,0.35476744186046505,0,3.2409212803331679E-2,1.1034608376916668,5.0521532053189553,5.4222648752399225E-2,0,5.2374096643676349E-3,0.17832202499480118,0.8164405653408312,108.62129391435754,108.62129391435754,0,null,null,null,null,null,null,null,null,null,null,null,null,null,null,null,null,null,null,null,null,null,"2012-11-03",5.4,0.42]
["2012-11-04",5,0.66,11,2012,44,5,{"$f":"IF(B16778<Parameters!$A$16,B16778*Parameters!$B$16,IF(AND(B16778>Parameters!$A$16,B16778<Parameters!$A$17),B16778*Parameters!$B$17,B16778*Parameters!$B$18))","v":4.75},{"$f":"IF(B16778<Parameters!$A$20,B16778*Parameters!$B$20,IF(AND(B16778>Parameters!$A$20,B16778<Parameters!$A$21),B16778*Parameters!$B$21,B16778*Parameters!$B$22))","v":3.75},60.581395348837212,1.2116279069767442,57.29651162790698,0.94577735124760076,3.2848837209302317,0.82666666666666666,1196.2255749809431,0.4583897380275328,{"$f":"VLOOKUP($F16778,'Gegevens vergelijking'!$I$16:$Q$68,9,FALSE)","v":11.034608376916667},45.80351351296278,56.838121889879446,4863.7124533319566,0,0,11.034608376916667,1,0.22069216753833334,1.2116279069767442,6.058139534883721,5.7296511627906979,1.1034608376916668,0.32848837209302317,0,4.5838973802753279E-2,1.1034608376916668,4.5803513512962777,5.4222648752399218E-2,0,8.000307959486112E-3,0.19258778699438528,0.79941190504612858,98.477554052869962,98.477554052869962,0,null,null,null,null,null,null,null,null,null,null,null,null,null,null,null,null,null,null,null,null,null,"2012-11-04",5,0.66]
["2012-11-05",0.4,0.23,11,2012,45,0.4,{"$f":"IF(B16779<Parameters!$A$16,B16779*Parameters!$B$16,IF(AND(B16779>Parameters!$A$16,B16779<Parameters!$A$17),B16779*Parameters!$B$17,B16779*Parameters!$B$18))","v":0},{"$f":"IF(B16779<Parameters!$A$20,B16779*Parameters!$B$20,IF(AND(B16779>Parameters!$A$20,B16779<Parameters!$A$21),B16779*Parameters!$B$21,B16779*Parameters!$B$22))","v":0},4.8465116279069766,1.2116279069767442,0.52093023255813953,0.10748560460652591,4.3255813953488369,0.39666666666666667,1195.2767760780998,0.22069898205074764,{"$f":"VLOOKUP($F16779,'Gegevens vergelijking'!$I$16:$Q$68,9,FALSE)","v":11.050358269480521},-10.750127018973128,0.30023125050739186,4852.9623263129834,0,0,11.050358269480521,1,2.7625895673701302,1.2116279069767442,0.48465116279069764,5.2093023255813956E-2,1.105035826948052,0.4325581395348837,0,2.2069898205074764E-2,1.105035826948052,-1.0750127018973128,0.8925143953934741,0,0.42366322447241733,21.212741320877782,-20.636404545350199,-23.112773090792228,-23.112773090792228,0,null,null,null,null,null,null,null,null,null,null,null,null,null,null,null,null,null,null,null,null,null,"2012-11-05",0.4,0.23]
["2012-11-06",1.5,0.69,11,2012,45,1.5,{"$f":"IF(B16780<Parameters!$A$16,B16780*Parameters!$B$16,IF(AND(B16780>Parameters!$A$16,B16780<Parameters!$A$17),B16780*Parameters!$B$17,B16780*Parameters!$B$18))","v":1.2000000000000002},{"$f":"IF(B16780<Parameters!$A$20,B16780*Parameters!$B$20,IF(AND(B16780>Parameters!$A$20,B16780<Parameters!$A$21),B16780*Parameters!$B$21,B16780*Parameters!$B$22))","v":0.89999999999999991},18.174418604651162,1.2116279069767442,14.755813953488374,0.81190019193857976,3.4186046511627879,0.85666666666666658,1195.5617829086227,0.47625756814274672,{"$f":"VLOOKUP($F16780,'Gegevens vergelijking'!$I$16:$Q$68,9,FALSE)","v":11.050358269480521},3.2291981158651071,14.279556385345627,4856.1915244288484,0,0,11.050358269480521,1,0.73669055129870142,1.2116279069767442,1.8174418604651161,1.4755813953488375,1.105035826948052,0.34186046511627877,0,4.7625756814274674E-2,1.105035826948052,0.32291981158651084,0.18809980806142018,0,3.2275926603842563E-2,0.74888164789229672,0.21884242550386074,6.9427759491099836,6.9427759491099836,0,null,null,null,null,null,null,null,null,null,null,null,null,null,null,null,null,null,null,null,null,null,"2012-11-06",1.5,0.69]
["2012-11-07",0.8,0.55000000000000004,11,2012,45,0.8,{"$f":"IF(B16781<Parameters!$A$16,B16781*Parameters!$B$16,IF(AND(B16781>Parameters!$A$16,B16781<Parameters!$A$17),B16781*Parameters!$B$17,B16781*Parameters!$B$18))","v":0},{"$f":"IF(B16781<Parameters!$A$20,B16781*Parameters!$B$20,IF(AND(B16781>Parameters!$A$20,B16781<Parameters!$A$21),B16781*Parameters!$B$21,B16781*Parameters!$B$22))","v":0},9.6930232558139533,1.2116279069767442,1.0418604651162791,0.10748560460652591,8.6511627906976738,0.71666666666666667,1194.6432665393654,0.39852059430287423,{"$f":"VLOOKUP($F16781,'Gegevens vergelijking'!$I$16:$Q$68,9,FALSE)","v":11.050358269480521},-10.407018398667116,0.64333987081340482,4845.7845060301815,0,0,11.050358269480521,1,1.3812947836850651,1.2116279069767442,0.96930232558139529,0.10418604651162791,1.105035826948052,0.8651162790697674,0,3.9852059430287426E-2,1.105035826948052,-1.0407018398667116,0.8925143953934741,0,0.38250860613891946,10.606370660438891,-9.9888792665778112,-22.375089557134299,-22.375089557134299,0,null,null,null,null,null,null,null,null,null,null,null,null,null,null,null,null,null,null,null,null,null,"2012-11-07",0.8,0.55000000000000004]
["2012-11-08",0,0.67,11,2012,45,0,{"$f":"IF(B16782<Parameters!$A$16,B16782*Parameters!$B$16,IF(AND(B16782>Parameters!$A$16,B16782<Parameters!$A$17),B16782*Parameters!$B$17,B16782*Parameters!$B$18))","v":0},{"$f":"IF(B16782<Parameters!$A$20,B16782*Parameters!$B$20,IF(AND(B16782>Parameters!$A$20,B16782<Parameters!$A$21),B16782*Parameters!$B$21,B16782*Parameters!$B$22))","v":0},0,"",0,"",0,0.83666666666666667,1193.6269383621504,0.46489218589361347,{"$f":"VLOOKUP($F16782,'Gegevens vergelijking'!$I$16:$Q$68,9,FALSE)","v":11.050358269480521},-11.515250455374135,-0.46489218589361347,4834.2692555748072,0,0,11.050358269480521,1,"","",0,0,1.105035826948052,0,0,4.648921858936135E-2,1.105035826948052,-1.1515250455374133,"","","","","",-24.757788479054387,-24.757788479054387,0,null,null,null,null,null,null,null,null,null,null,null,null,null,null,null,null,null,null,null,null,null,"2012-11-08",0,0.67]
["2012-11-09",2.2999999999999998,0.71,11,2012,45,2.2999999999999998,{"$f":"IF(B16783<Parameters!$A$16,B16783*Parameters!$B$16,IF(AND(B16783>Parameters!$A$16,B16783<Parameters!$A$17),B16783*Parameters!$B$17,B16783*Parameters!$B$18))","v":2.1849999999999996},{"$f":"IF(B16783<Parameters!$A$20,B16783*Parameters!$B$20,IF(AND(B16783>Parameters!$A$20,B16783<Parameters!$A$21),B16783*Parameters!$B$21,B16783*Parameters!$B$22))","v":1.7249999999999999},27.867441860465114,1.2116279069767442,26.356395348837207,0.94577735124760076,1.5110465116279066,0.87666666666666659,1194.9348826523808,0.48670369734766744,{"$f":"VLOOKUP($F16783,'Gegevens vergelijking'!$I$16:$Q$68,9,FALSE)","v":11.050358269480521},14.819333382009019,25.869691651489539,4849.0885889568162,0,0,11.050358269480521,1,0.48045035954263132,1.2116279069767442,2.7867441860465112,2.6356395348837207,1.105035826948052,0.15110465116279065,0,4.8670369734766745E-2,1.105035826948052,1.4819333382009019,5.4222648752399225E-2,0,1.8466246651180997E-2,0.41926667600879042,0.56226707734002856,31.861566771319392,31.861566771319392,0,null,null,null,null,null,null,null,null,null,null,null,null,null,null,null,null,null,null,null,null,null,"2012-11-09",2.2999999999999998,0.71]
["2012-11-10",1.3,0.33,11,2012,45,1.3,{"$f":"IF(B16784<Parameters!$A$16,B16784*Parameters!$B$16,IF(AND(B16784>Parameters!$A$16,B16784<Parameters!$A$17),B16784*Parameters!$B$17,B16784*Parameters!$B$18))","v":1.04},{"$f":"IF(B16784<Parameters!$A$20,B16784*Parameters!$B$20,IF(AND(B16784>Parameters!$A$20,B16784<Parameters!$A$21),B16784*Parameters!$B$21,B16784*Parameters!$B$22))","v":0.78},15.751162790697675,1.2116279069767442,12.788372093023256,0.81190019193857965,2.9627906976744196,0.4966666666666667,1195.0639155369665,0.27603922095380584,{"$f":"VLOOKUP($F16784,'Gegevens vergelijking'!$I$16:$Q$68,9,FALSE)","v":11.050358269480521},1.4619746025889291,12.51233287206945,4850.5505635594054,0,0,11.050358269480521,1,0.8500275591908093,1.2116279069767442,1.5751162790697675,1.2788372093023255,1.105035826948052,0.29627906976744195,0,2.7603922095380585E-2,1.105035826948052,0.14619746025889291,0.1880998080614204,0,2.1585172760526735E-2,0.86409420910649648,0.11432061813297682,3.1432453955661979,3.1432453955661979,0,null,null,null,null,null,null,null,null,null,null,null,null,null,null,null,null,null,null,null,null,null,"2012-11-10",1.3,0.33]
["2012-11-11",0,0.4,11,2012,45,0,{"$f":"IF(B16785<Parameters!$A$16,B16785*Parameters!$B$16,IF(AND(B16785>Parameters!$A$16,B16785<Parameters!$A$17),B16785*Parameters!$B$17,B16785*Parameters!$B$18))","v":0},{"$f":"IF(B16785<Parameters!$A$20,B16785*Parameters!$B$20,IF(AND(B16785>Parameters!$A$20,B16785<Parameters!$A$21),B16785*Parameters!$B$21,B16785*Parameters!$B$22))","v":0},0,"",0,"",0,0.56666666666666665,1194.0608186762743,0.31497808626555707,{"$f":"VLOOKUP($F16785,'Gegevens vergelijking'!$I$16:$Q$68,9,FALSE)","v":11.050358269480521},-11.365336355746077,-0.31497808626555707,4839.1852272036595,0,0,11.050358269480521,1,"","",0,0,1.105035826948052,0,0,3.1497808626555705E-2,1.105035826948052,-1.1365336355746076,"","","","","",-24.435473164854066,-24.435473164854066,0,null,null,null,null,null,null,null,null,null,null,null,null,null,null,null,null,null,null,null,null,null,"2012-11-11",0,0.4]
["2012-11-12",0,0.28000000000000003,11,2012,46,0,{"$f":"IF(B16786<Parameters!$A$16,B16786*Parameters!$B$16,IF(AND(B16786>Parameters!$A$16,B16786<Parameters!$A$17),B16786*Parameters!$B$17,B16786*Parameters!$B$18))","v":0},{"$f":"IF(B16786<Parameters!$A$20,B16786*Parameters!$B$20,IF(AND(B16786>Parameters!$A$20,B16786<Parameters!$A$21),B16786*Parameters!$B$21,B16786*Parameters!$B$22))","v":0},0,"",0,"",0,0.44666666666666666,1193.1668753153947,0.24806844915135001,{"$f":"VLOOKUP($F16786,'Gegevens vergelijking'!$I$16:$Q$68,9,FALSE)","v":9.880531666666668},-10.128600115818019,-0.24806844915135001,4829.0566270878417,0,0,9.880531666666668,1,"","",0,0,0.98805316666666676,0,0,2.4806844915135001E-2,0.98805316666666676,-1.0128600115818018,"","","","","",-21.776490249008742,-21.776490249008742,0,null,null,null,null,null,null,null,null,null,null,null,null,null,null,null,null,null,null,null,null,null,"2012-11-12",0,0.28000000000000003]
["2012-11-13",0.6,0.32,11,2012,46,0.6,{"$f":"IF(B16787<Parameters!$A$16,B16787*Parameters!$B$16,IF(AND(B16787>Parameters!$A$16,B16787<Parameters!$A$17),B16787*Parameters!$B$17,B16787*Parameters!$B$18))","v":0},{"$f":"IF(B16787<Parameters!$A$20,B16787*Parameters!$B$20,IF(AND(B16787>Parameters!$A$20,B16787<Parameters!$A$21),B16787*Parameters!$B$21,B16787*Parameters!$B$22))","v":0},7.2697674418604654,1.2116279069767442,0.78139534883720929,0.10748560460652591,6.4883720930232558,0.48666666666666669,1192.3399545477873,0.27008118417991883,{"$f":"VLOOKUP($F16787,'Gegevens vergelijking'!$I$16:$Q$68,9,FALSE)","v":9.880531666666668},-9.3692175020093771,0.51131416465729052,4819.687409585832,0,0,9.880531666666668,1,1.6467552777777781,1.2116279069767442,0.72697674418604652,7.8139534883720926E-2,0.98805316666666676,0.64883720930232558,0,2.7008118417991882E-2,0.98805316666666676,-0.93692175020093771,0.8925143953934741,0,0.34563961070644372,12.644728025793652,-11.990367636500096,-20.143817629320161,-20.143817629320161,0,null,null,null,null,null,null,null,null,null,null,null,null,null,null,null,null,null,null,null,null,null,"2012-11-13",0.6,0.32]
["2012-11-14",0,0.64,11,2012,46,0,{"$f":"IF(B16788<Parameters!$A$16,B16788*Parameters!$B$16,IF(AND(B16788>Parameters!$A$16,B16788<Parameters!$A$17),B16788*Parameters!$B$17,B16788*Parameters!$B$18))","v":0},{"$f":"IF(B16788<Parameters!$A$20,B16788*Parameters!$B$20,IF(AND(B16788>Parameters!$A$20,B16788<Parameters!$A$21),B16788*Parameters!$B$21,B16788*Parameters!$B$22))","v":0},0,"",0,"",0,0.80666666666666664,1191.4284219775009,0.44735855659002255,{"$f":"VLOOKUP($F16788,'Gegevens vergelijking'!$I$16:$Q$68,9,FALSE)","v":9.880531666666668},-10.327890223256691,-0.44735855659002255,4809.3595193625752,0,0,9.880531666666668,1,"","",0,0,0.98805316666666676,0,0,4.4735855659002254E-2,0.98805316666666676,-1.032789022325669,"","","","","",-22.204963980001885,-22.204963980001885,0,null,null,null,null,null,null,null,null,null,null,null,null,null,null,null,null,null,null,null,null,null,"2012-11-14",0,0.64]
["2012-11-15",0,0.22,11,2012,46,0,{"$f":"IF(B16789<Parameters!$A$16,B16789*Parameters!$B$16,IF(AND(B16789>Parameters!$A$16,B16789<Parameters!$A$17),B16789*Parameters!$B$17,B16789*Parameters!$B$18))","v":0},{"$f":"IF(B16789<Parameters!$A$20,B16789*Parameters!$B$20,IF(AND(B16789>Parameters!$A$20,B16789<Parameters!$A$21),B16789*Parameters!$B$21,B16789*Parameters!$B$22))","v":0},0,"",0,"",0,0.38666666666666666,1190.5374614330888,0.21427239837114742,{"$f":"VLOOKUP($F16789,'Gegevens vergelijking'!$I$16:$Q$68,9,FALSE)","v":9.880531666666668},-10.094804065037815,-0.21427239837114742,4799.2647152975369,0,0,9.880531666666668,1,"","",0,0,0.98805316666666676,0,0,2.1427239837114743E-2,0.98805316666666676,-1.0094804065037815,"","","","","",-21.703828739831302,-21.703828739831302,0,null,null,null,null,null,null,null,null,null,null,null,null,null,null,null,null,null,null,null,null,null,"2012-11-15",0,0.22]
["2012-11-16",0,0.27,11,2012,46,0,{"$f":"IF(B16790<Parameters!$A$16,B16790*Parameters!$B$16,IF(AND(B16790>Parameters!$A$16,B16790<Parameters!$A$17),B16790*Parameters!$B$17,B16790*Parameters!$B$18))","v":0},{"$f":"IF(B16790<Parameters!$A$20,B16790*Parameters!$B$20,IF(AND(B16790>Parameters!$A$20,B16790<Parameters!$A$21),B16790*Parameters!$B$21,B16790*Parameters!$B$22))","v":0},0,"",0,"",0,0.43666666666666665,1189.6440714023527,0.24179908131431724,{"$f":"VLOOKUP($F16790,'Gegevens vergelijking'!$I$16:$Q$68,9,FALSE)","v":9.880531666666668},-10.122330747980985,-0.24179908131431724,4789.1423845495556,0,0,9.880531666666668,1,"","",0,0,0.98805316666666676,0,0,2.4179908131431723E-2,0.98805316666666676,-1.0122330747980985,"","","","","",-21.76301110815912,-21.76301110815912,0,null,null,null,null,null,null,null,null,null,null,null,null,null,null,null,null,null,null,null,null,null,"2012-11-16",0,0.27]
["2012-11-17",0.2,0.22,11,2012,46,0.2,{"$f":"IF(B16791<Parameters!$A$16,B16791*Parameters!$B$16,IF(AND(B16791>Parameters!$A$16,B16791<Parameters!$A$17),B16791*Parameters!$B$17,B16791*Parameters!$B$18))","v":0},{"$f":"IF(B16791<Parameters!$A$20,B16791*Parameters!$B$20,IF(AND(B16791>Parameters!$A$20,B16791<Parameters!$A$21),B16791*Parameters!$B$21,B16791*Parameters!$B$22))","v":0},2.4232558139534883,1.2116279069767442,0.26046511627906976,0.10748560460652591,2.1627906976744184,0.38666666666666666,1188.7761276550273,0.21395149191112078,{"$f":"VLOOKUP($F16791,'Gegevens vergelijking'!$I$16:$Q$68,9,FALSE)","v":9.880531666666668},-9.8340180422987196,4.651362436794898E-2,4779.3083665072572,0,0,9.880531666666668,1,4.940265833333334,1.2116279069767442,0.24232558139534882,2.6046511627906978E-2,0.98805316666666676,0.21627906976744185,0,2.139514919111208E-2,0.98805316666666676,-0.98340180422987189,0.8925143953934741,0,0.82142090644448162,37.934184077380955,-37.755604983825435,-21.143138790942245,-21.143138790942245,0,null,null,null,null,null,null,null,null,null,null,null,null,null,null,null,null,null,null,null,null,null,"2012-11-17",0.2,0.22]
["2012-11-18",6.8,0.09,11,2012,46,6.8,{"$f":"IF(B16792<Parameters!$A$16,B16792*Parameters!$B$16,IF(AND(B16792>Parameters!$A$16,B16792<Parameters!$A$17),B16792*Parameters!$B$17,B16792*Parameters!$B$18))","v":6.46},{"$f":"IF(B16792<Parameters!$A$20,B16792*Parameters!$B$20,IF(AND(B16792>Parameters!$A$20,B16792<Parameters!$A$21),B16792*Parameters!$B$21,B16792*Parameters!$B$22))","v":5.0999999999999996},82.390697674418604,1.2116279069767442,77.923255813953489,0.94577735124760076,4.4674418604651152,0.25666666666666665,1194.7690068316331,0.14191590981308078,{"$f":"VLOOKUP($F16792,'Gegevens vergelijking'!$I$16:$Q$68,9,FALSE)","v":9.880531666666668},67.90080823747374,77.78133990414041,4847.2091747447312,0,0,9.880531666666668,1,0.14530193627450982,1.2116279069767442,8.23906976744186,7.7923255813953487,0.98805316666666676,0.4467441860465115,0,1.4191590981308077E-2,0.98805316666666676,6.790080823747374,5.4222648752399218E-2,0,1.8212266457643099E-3,0.12679823967131248,0.87138053368292323,145.98673771056852,145.98673771056852,0,null,null,null,null,null,null,null,null,null,null,null,null,null,null,null,null,null,null,null,null,null,"2012-11-18",6.8,0.09]
["2012-11-19",0,0.28000000000000003,11,2012,47,0,{"$f":"IF(B16793<Parameters!$A$16,B16793*Parameters!$B$16,IF(AND(B16793>Parameters!$A$16,B16793<Parameters!$A$17),B16793*Parameters!$B$17,B16793*Parameters!$B$18))","v":0},{"$f":"IF(B16793<Parameters!$A$20,B16793*Parameters!$B$20,IF(AND(B16793>Parameters!$A$20,B16793<Parameters!$A$21),B16793*Parameters!$B$21,B16793*Parameters!$B$22))","v":0},0,"",0,"",0,0.44666666666666666,1194.1130261330329,0.24821557661308347,{"$f":"VLOOKUP($F16793,'Gegevens vergelijking'!$I$16:$Q$68,9,FALSE)","v":7.1842085238095228},-7.4324241004226064,-0.24821557661308347,4839.7767506443088,0,0,7.1842085238095228,1,"","",0,0,0.71842085238095232,0,0,2.4821557661308346E-2,0.71842085238095232,-0.74324241004226066,"","","","","",-15.979711815908605,-15.979711815908605,0,null,null,null,null,null,null,null,null,null,null,null,null,null,null,null,null,null,null,null,null,null,"2012-11-19",0,0.28000000000000003]
["2012-11-20",0,0.45,11,2012,47,0,{"$f":"IF(B16794<Parameters!$A$16,B16794*Parameters!$B$16,IF(AND(B16794>Parameters!$A$16,B16794<Parameters!$A$17),B16794*Parameters!$B$17,B16794*Parameters!$B$18))","v":0},{"$f":"IF(B16794<Parameters!$A$20,B16794*Parameters!$B$20,IF(AND(B16794>Parameters!$A$20,B16794<Parameters!$A$21),B16794*Parameters!$B$21,B16794*Parameters!$B$22))","v":0},0,"",0,"",0,0.6166666666666667,1193.4487241729107,0.34249753462730403,{"$f":"VLOOKUP($F16794,'Gegevens vergelijking'!$I$16:$Q$68,9,FALSE)","v":7.1842085238095228},-7.5267060584368268,-0.34249753462730403,4832.2500445858723,0,0,7.1842085238095228,1,"","",0,0,0.71842085238095232,0,0,3.4249753462730403E-2,0.71842085238095232,-0.75267060584368273,"","","","","",-16.18241802563918,-16.18241802563918,0,null,null,null,null,null,null,null,null,null,null,null,null,null,null,null,null,null,null,null,null,null,"2012-11-20",0,0.45]
["2012-11-21",0.5,0.39,11,2012,47,0.5,{"$f":"IF(B16795<Parameters!$A$16,B16795*Parameters!$B$16,IF(AND(B16795>Parameters!$A$16,B16795<Parameters!$A$17),B16795*Parameters!$B$17,B16795*Parameters!$B$18))","v":0},{"$f":"IF(B16795<Parameters!$A$20,B16795*Parameters!$B$20,IF(AND(B16795>Parameters!$A$20,B16795<Parameters!$A$21),B16795*Parameters!$B$21,B16795*Parameters!$B$22))","v":0},6.058139534883721,1.2116279069767442,0.65116279069767447,0.10748560460652591,5.4069767441860463,0.55666666666666664,1192.8448497394681,0.3090014526153117,{"$f":"VLOOKUP($F16795,'Gegevens vergelijking'!$I$16:$Q$68,9,FALSE)","v":7.1842085238095228},-6.8420471857271599,0.34216133808236276,4825.4079974001452,0,0,7.1842085238095228,1,1.4368417047619046,1.2116279069767442,0.60581395348837208,6.5116279069767441E-2,0.71842085238095232,0.54069767441860461,0,3.0900145261531169E-2,0.71842085238095232,-0.68420471857271603,0.89251439539347399,0,0.47453794508780012,11.032891661564625,-10.507429606652424,-14.710401449313395,-14.710401449313395,0,null,null,null,null,null,null,null,null,null,null,null,null,null,null,null,null,null,null,null,null,null,"2012-11-21",0.5,0.39]
["2012-11-22",0,0.69,11,2012,47,0,{"$f":"IF(B16796<Parameters!$A$16,B16796*Parameters!$B$16,IF(AND(B16796>Parameters!$A$16,B16796<Parameters!$A$17),B16796*Parameters!$B$17,B16796*Parameters!$B$18))","v":0},{"$f":"IF(B16796<Parameters!$A$20,B16796*Parameters!$B$20,IF(AND(B16796>Parameters!$A$20,B16796<Parameters!$A$21),B16796*Parameters!$B$21,B16796*Parameters!$B$22))","v":0},0,"",0,"",0,0.85666666666666658,1192.1688277330077,0.475288568035726,{"$f":"VLOOKUP($F16796,'Gegevens vergelijking'!$I$16:$Q$68,9,FALSE)","v":7.1842085238095228},-7.6594970918452487,-0.475288568035726,4817.7485003083002,0,0,7.1842085238095228,1,"","",0,0,0.71842085238095232,0,0,4.7528856803572599E-2,0.71842085238095232,-0.76594970918452487,"","","","","",-16.467918747467284,-16.467918747467284,0,null,null,null,null,null,null,null,null,null,null,null,null,null,null,null,null,null,null,null,null,null,"2012-11-22",0,0.69]
["2012-11-23",6.7,0.12,11,2012,47,6.7,{"$f":"IF(B16797<Parameters!$A$16,B16797*Parameters!$B$16,IF(AND(B16797>Parameters!$A$16,B16797<Parameters!$A$17),B16797*Parameters!$B$17,B16797*Parameters!$B$18))","v":6.3650000000000002},{"$f":"IF(B16797<Parameters!$A$20,B16797*Parameters!$B$20,IF(AND(B16797>Parameters!$A$20,B16797<Parameters!$A$21),B16797*Parameters!$B$21,B16797*Parameters!$B$22))","v":5.0250000000000004},81.17906976744186,1.2116279069767442,76.77732558139536,0.94577735124760087,4.4017441860464999,0.28666666666666663,1198.2970396009505,0.15895584369773436,{"$f":"VLOOKUP($F16797,'Gegevens vergelijking'!$I$16:$Q$68,9,FALSE)","v":7.1842085238095228},69.434161213888103,76.61836973769762,4887.182661522188,0,0,7.1842085238095228,1,0.10722699289267945,1.2116279069767442,8.1179069767441856,7.6777325581395361,0.71842085238095232,0.44017441860465001,0,1.5895584369773435E-2,0.71842085238095232,6.9434161213888101,5.4222648752399093E-2,0,2.0703487975654682E-3,9.3572008003758811E-2,0.90435764319867573,149.28344660985942,149.28344660985942,0,null,null,null,null,null,null,null,null,null,null,null,null,null,null,null,null,null,null,null,null,null,"2012-11-23",6.7,0.12]
["2012-11-24",0.8,0.17,11,2012,47,0.8,{"$f":"IF(B16798<Parameters!$A$16,B16798*Parameters!$B$16,IF(AND(B16798>Parameters!$A$16,B16798<Parameters!$A$17),B16798*Parameters!$B$17,B16798*Parameters!$B$18))","v":0},{"$f":"IF(B16798<Parameters!$A$20,B16798*Parameters!$B$20,IF(AND(B16798>Parameters!$A$20,B16798<Parameters!$A$21),B16798*Parameters!$B$21,B16798*Parameters!$B$22))","v":0},9.6930232558139533,1.2116279069767442,1.0418604651162791,0.10748560460652591,8.6511627906976738,0.33666666666666667,1197.7383591304622,0.18764031162743566,{"$f":"VLOOKUP($F16798,'Gegevens vergelijking'!$I$16:$Q$68,9,FALSE)","v":7.1842085238095228},-6.3299883703206801,0.85422015348884339,4880.8526731518677,0,0,7.1842085238095228,1,0.89802606547619035,1.2116279069767442,0.96930232558139529,0.10418604651162791,0.71842085238095232,0.8651162790697674,0,1.8764031162743566E-2,0.71842085238095232,-0.63299883703206794,0.8925143953934741,0,0.18010119196383331,6.8955572884778906,-6.0756584804417235,-13.609474996189462,-13.609474996189462,0,null,null,null,null,null,null,null,null,null,null,null,null,null,null,null,null,null,null,null,null,null,"2012-11-24",0.8,0.17]
["2012-11-25",0.7,1.01,11,2012,47,0.7,{"$f":"IF(B16799<Parameters!$A$16,B16799*Parameters!$B$16,IF(AND(B16799>Parameters!$A$16,B16799<Parameters!$A$17),B16799*Parameters!$B$17,B16799*Parameters!$B$18))","v":0},{"$f":"IF(B16799<Parameters!$A$20,B16799*Parameters!$B$20,IF(AND(B16799>Parameters!$A$20,B16799<Parameters!$A$21),B16799*Parameters!$B$21,B16799*Parameters!$B$22))","v":0},8.4813953488372089,1.2116279069767442,0.91162790697674412,0.10748560460652591,7.5697674418604652,1.1766666666666667,1197.1268908782677,0.65550641980318336,{"$f":"VLOOKUP($F16799,'Gegevens vergelijking'!$I$16:$Q$68,9,FALSE)","v":7.1842085238095228},-6.9280870366359615,0.25612148717356076,4873.9245861152322,0,0,7.1842085238095228,1,1.0263155034013605,1.2116279069767442,0.84813953488372085,9.1162790697674412E-2,0.71842085238095232,0.75697674418604655,0,6.5550641980318333E-2,0.71842085238095232,-0.69280870366359626,0.89251439539347421,0,0.71905040947798182,7.8806369011175903,-7.5996873105955718,-14.89538712876732,-14.89538712876732,0,null,null,null,null,null,null,null,null,null,null,null,null,null,null,null,null,null,null,null,null,null,"2012-11-25",0.7,1.01]
["2012-11-26",0.1,0.76,11,2012,48,0.1,{"$f":"IF(B16800<Parameters!$A$16,B16800*Parameters!$B$16,IF(AND(B16800>Parameters!$A$16,B16800<Parameters!$A$17),B16800*Parameters!$B$17,B16800*Parameters!$B$18))","v":0},{"$f":"IF(B16800<Parameters!$A$20,B16800*Parameters!$B$20,IF(AND(B16800>Parameters!$A$20,B16800<Parameters!$A$21),B16800*Parameters!$B$21,B16800*Parameters!$B$22))","v":0},1.2116279069767442,1.2116279069767442,0.13023255813953488,0.10748560460652591,1.0813953488372092,0.92666666666666664,1196.32693779173,0.51597097002195103,{"$f":"VLOOKUP($F16800,'Gegevens vergelijking'!$I$16:$Q$68,9,FALSE)","v":8.6779285714285717},-9.0636669833109877,-0.38573841188241614,4864.860919131921,0,0,8.6779285714285717,1,8.6779285714285717,1.2116279069767442,0.12116279069767441,1.3023255813953489E-2,0.86779285714285714,0.10813953488372093,0,5.15970970021951E-2,0.86779285714285714,-0.90636669833109873,0.8925143953934741,0,3.961919948382838,66.634094387755098,-69.596014336137941,-19.486884014118623,-19.486884014118623,0,null,null,null,null,null,null,null,null,null,null,null,null,null,null,null,null,null,null,null,null,null,"2012-11-26",0.1,0.76]
["2012-11-27",1,0.26,11,2012,48,1,{"$f":"IF(B16801<Parameters!$A$16,B16801*Parameters!$B$16,IF(AND(B16801>Parameters!$A$16,B16801<Parameters!$A$17),B16801*Parameters!$B$17,B16801*Parameters!$B$18))","v":0.95},{"$f":"IF(B16801<Parameters!$A$20,B16801*Parameters!$B$20,IF(AND(B16801>Parameters!$A$20,B16801<Parameters!$A$21),B16801*Parameters!$B$21,B16801*Parameters!$B$22))","v":0.75},12.116279069767442,1.2116279069767442,11.459302325581396,0.94577735124760076,0.65697674418604635,0.42666666666666664,1196.551466248839,0.23741061711215727,{"$f":"VLOOKUP($F16801,'Gegevens vergelijking'!$I$16:$Q$68,9,FALSE)","v":8.6779285714285717},2.5439631370406666,11.221891708469238,4867.404882268962,0,0,8.6779285714285717,1,0.86779285714285714,1.2116279069767442,1.2116279069767442,1.1459302325581395,0.86779285714285714,6.5697674418604635E-2,0,2.3741061711215726E-2,0.86779285714285714,0.25439631370406668,5.4222648752399218E-2,0,2.0717720011816869E-2,0.75728245270711025,0.2219998272810729,5.4695207446374337,5.4695207446374337,0,null,null,null,null,null,null,null,null,null,null,null,null,null,null,null,null,null,null,null,null,null,"2012-11-27",1,0.26]
["2012-11-28",0.6,0.23,11,2012,48,0.6,{"$f":"IF(B16802<Parameters!$A$16,B16802*Parameters!$B$16,IF(AND(B16802>Parameters!$A$16,B16802<Parameters!$A$17),B16802*Parameters!$B$17,B16802*Parameters!$B$18))","v":0},{"$f":"IF(B16802<Parameters!$A$20,B16802*Parameters!$B$20,IF(AND(B16802>Parameters!$A$20,B16802<Parameters!$A$21),B16802*Parameters!$B$21,B16802*Parameters!$B$22))","v":0},7.2697674418604654,1.2116279069767442,0.78139534883720929,0.10748560460652591,6.4883720930232558,0.39666666666666667,1195.8350395458365,0.22075910772652999,{"$f":"VLOOKUP($F16802,'Gegevens vergelijking'!$I$16:$Q$68,9,FALSE)","v":8.6779285714285717},-8.1172923303178912,0.56063624111067933,4859.2875899386445,0,0,8.6779285714285717,1,1.4463214285714285,1.2116279069767442,0.72697674418604652,7.8139534883720926E-2,0.86779285714285714,0.64883720930232558,0,2.2075910772652998E-2,0.86779285714285714,-0.81172923303178923,0.8925143953934741,0,0.28251909619764254,11.105682397959184,-10.388201494156826,-17.452178510183469,-17.452178510183469,0,null,null,null,null,null,null,null,null,null,null,null,null,null,null,null,null,null,null,null,null,null,"2012-11-28",0.6,0.23]
["2012-11-29",0,0.4,{"$f":"MONTH(A16803)","v":11},2012,{"$f":"INT((A16803-DATE(YEAR(A16803-WEEKDAY(A16803-1)+4),1,3)+WEEKDAY(DATE(YEAR(A16803-WEEKDAY(A16803-1)+4),1,3))+5)/7)","v":48},0,{"$f":"IF(B16803<Parameters!$A$16,B16803*Parameters!$B$16,IF(AND(B16803>Parameters!$A$16,B16803<Parameters!$A$17),B16803*Parameters!$B$17,B16803*Parameters!$B$18))","v":0},{"$f":"IF(B16803<Parameters!$A$20,B16803*Parameters!$B$20,IF(AND(B16803>Parameters!$A$20,B16803<Parameters!$A$21),B16803*Parameters!$B$21,B16803*Parameters!$B$22))","v":0},0,"",0,{"$f":"IF(B16803=0,\"\",L16803/J16803)","v":""},{"$f":"IF(B16803=0,0,SUM(J16803-L16803))","v":0},0.56666666666666665,1195.0413137795358,0.31518132825239098,{"$f":"VLOOKUP($F16803,'Gegevens vergelijking'!$I$16:$Q$68,9,FALSE)","v":8.6779285714285717},-8.9931098996809631,-0.31518132825239098,4850.2944800389632,0,0,8.6779285714285717,{"$f":"IF(R16803=0,\"\",((R16803-W16803)/R16803))","v":1},{"$f":"IF(B16803=0,\"\",X16803/(B16803*10))","v":""},"",{"$f":"J16803/10","v":0},{"$f":"L16803/10","v":0},0.86779285714285714,0,0,3.1518132825239097E-2,{"$f":"(R16803-W16803)/10","v":0.86779285714285714},{"$f":"SUM(AC16803-AF16803-AG16803-AD16803)","v":-0.89931098996809622},{"$f":"IF(AB16803=0,\"\",AE16803/AB16803)","v":""},"","",{"$f":"IF(AC16803=0,\"\",AD16803/AC16803)","v":""},{"$f":"IF(AC16803=0,\"\",AI16803/AC16803)","v":""},-19.335186284314069,-19.335186284314069,0,null,null,null,null,null,null,null,null,null,null,null,null,null,null,null,null,null,null,null,null,null,"2012-11-29",0,0.4]
["2012-11-30",0,7.0000000000000007E-2,11,{"$f":"IF(AND((F16803>1),(F16804=1)),E16803+1,E16803)","v":2012},48,{"$f":"B16804","v":0},{"$f":"IF(B16804<Parameters!$A$16,B16804*Parameters!$B$16,IF(AND(B16804>Parameters!$A$16,B16804<Parameters!$A$17),B16804*Parameters!$B$17,B16804*Parameters!$B$18))","v":0},{"$f":"IF(B16804<Parameters!$A$20,B16804*Parameters!$B$20,IF(AND(B16804>Parameters!$A$20,B16804<Parameters!$A$21),B16804*Parameters!$B$21,B16804*Parameters!$B$22))","v":0},0,"",{"$f":"IF(B16804=0,0,SUM(B16804*$D$3+H16804*$B$3+I16804*$C$3)/$E$3*10)","v":0},"",0,{"$f":"IF(OR($D16804=1,$D16804=12,$D16804=8),C16804+(2/31),IF($D16804=2,C16804-(1/28),IF($D16804=3,C16804-(3/31),IF($D16804=4,C16804-(5/30),IF($D16804=5,C16804-(6/31),IF($D16804=6,C16804-(4/30),IF($D16804=7,C16804-(1/31),IF($D16804=9,C16804+(4/30),IF($D16804=10,C16804+(5/31),IF($D16804=11,C16804+(5/30)))))))))))","v":0.23666666666666666},{"$f":"-(($BH$3-$BI$3)*($AN$3+$AK$3-U16804)/($AK$3)-$BH$3)","v":1194.2637954380286},0.13154718337728222,{"$f":"VLOOKUP($F16804,'Gegevens vergelijking'!$I$16:$Q$68,9,FALSE)","v":8.6779285714285717},-8.8094757548058542,{"$f":"L16804-Q16804","v":-0.13154718337728222},{"$f":"IF(U16803<$AN$3,U16803+T16804,IF(AND((U16803>$AN$3),(SUM(U16803+S16804)<$AN$3)),SUM($AN$3+T16804),IF((SUM(U16803+S16804)>($AN$3+$AK$3)),$AN$3+$AK$3,U16803+S16804)))","v":4841.4850042841572},0,0,{"$f":"R16804-W16804","v":8.6779285714285717},1,"",{"$f":"K16804","v":""},0,0,{"$f":"X16804/10","v":0.86779285714285714},0,0,1.3154718337728221E-2,0.86779285714285714,-0.88094757548058533,"",{"$f":"IF(AB16804=0,\"\",AF16804/AB16804)","v":""},"","","",{"$f":"AI16804*$E$5/1000","v":-18.940372872832583},{"$f":"IF(OR(F16804<=13,F16804>=40),VALUE(AO16804),0)","v":-18.940372872832583},{"$f":"IF(OR(F16804<=13,F16804>=40),0,VALUE(AO16804))","v":0},null,null,null,null,null,null,null,null,null,null,null,null,null,null,null,null,null,null,null,null,null,"2012-11-30",0,7.0000000000000007E-2]
["2012-12-01",0.8,0.21,12,2012,48,0.8,{"$f":"IF(B16805<Parameters!$A$16,B16805*Parameters!$B$16,IF(AND(B16805>Parameters!$A$16,B16805<Parameters!$A$17),B16805*Parameters!$B$17,B16805*Parameters!$B$18))","v":0},{"$f":"IF(B16805<Parameters!$A$20,B16805*Parameters!$B$20,IF(AND(B16805>Parameters!$A$20,B16805<Parameters!$A$21),B16805*Parameters!$B$21,B16805*Parameters!$B$22))","v":0},{"$f":"B16805*SUM($B$3,$C$3,$D$3)/$E$3*10","v":9.6930232558139533},{"$f":"IF(B16805=0,\"\",SUM(J16805/(B16805*10)))","v":1.2116279069767442},1.0418604651162791,0.10748560460652591,8.6511627906976738,0.27451612903225808,1193.5763829564737,0.15248589496140472,{"$f":"VLOOKUP($F16805,'Gegevens vergelijking'!$I$16:$Q$68,9,FALSE)","v":8.6779285714285717},{"$f":"SUM(L16805-R16805-Q16805)","v":-7.7885540012736971},0.88937457015487431,4833.6964502828832,{"$f":"IF(SUM(U16804+S16805)>SUM($AK$3+$AN$3),SUM(U16804+S16805-($AK$3+$AN$3)),0)","v":0},{"$f":"IF(U16804<$AN$3,R16805,IF(SUM(U16804-R16805)>$AN$3,0,IF(SUM(U16804+S16805)<$AN$3,SUM(R16805-(U16804-$AN$3)),0)))","v":0},8.6779285714285717,1,1.0847410714285715,1.2116279069767442,0.96930232558139529,0.10418604651162791,0.86779285714285714,{"$f":"N16805/10","v":0.8651162790697674},0,{"$f":"Q16805/10","v":1.5248589496140472E-2},0.86779285714285714,-0.77885540012736976,0.8925143953934741,0,0.14635922953884828,8.3292617984693873,-7.475621028008236,-16.745391102738449,-16.745391102738449,0,null,null,null,null,null,null,null,null,null,null,null,null,null,null,null,null,null,null,null,null,null,"2012-12-01",0.8,0.21]
["2012-12-02",19.899999999999999,0.21,12,2012,48,19.899999999999999,{"$f":"IF(B16806<Parameters!$A$16,B16806*Parameters!$B$16,IF(AND(B16806>Parameters!$A$16,B16806<Parameters!$A$17),B16806*Parameters!$B$17,B16806*Parameters!$B$18))","v":18.904999999999998},{"$f":"IF(B16806<Parameters!$A$20,B16806*Parameters!$B$20,IF(AND(B16806>Parameters!$A$20,B16806<Parameters!$A$21),B16806*Parameters!$B$21,B16806*Parameters!$B$22))","v":14.924999999999999},241.11395348837206,1.2116279069767439,228.04011627906974,0.94577735124760076,13.073837209302326,0.27451612903225808,1212.923689967969,{"$f":"SUM(O16806*P16805)/$E$3*10","v":0.15239812481559778},{"$f":"VLOOKUP($F16806,'Gegevens vergelijking'!$I$16:$Q$68,9,FALSE)","v":8.6779285714285717},219.20978958282558,227.88771815425415,5052.9062398657088,0,0,8.6779285714285717,1,4.3607681263460159E-2,1.2116279069767439,24.111395348837206,22.804011627906974,0.86779285714285714,1.3073837209302326,0,1.5239812481559778E-2,0.86779285714285714,21.920978958282557,5.4222648752399238E-2,0,6.6829524253134837E-4,3.8054394608397504E-2,0.96127731014907114,471.30104760307501,471.30104760307501,0,null,null,null,null,null,null,null,null,null,null,null,null,null,null,null,null,null,null,null,null,null,"2012-12-02",19.899999999999999,0.21]
["2012-12-03",8.6999999999999993,0.11,12,2012,49,8.6999999999999993,{"$f":"IF(B16807<Parameters!$A$16,B16807*Parameters!$B$16,IF(AND(B16807>Parameters!$A$16,B16807<Parameters!$A$17),B16807*Parameters!$B$17,B16807*Parameters!$B$18))","v":8.2649999999999988},{"$f":"IF(B16807<Parameters!$A$20,B16807*Parameters!$B$20,IF(AND(B16807>Parameters!$A$20,B16807<Parameters!$A$21),B16807*Parameters!$B$21,B16807*Parameters!$B$22))","v":6.5249999999999995},105.41162790697672,1.2116279069767439,99.695930232558126,0.94577735124760087,5.7156976744185926,0.17451612903225805,1221.4251633752197,9.8453370783596589E-2,{"$f":"VLOOKUP($F16807,'Gegevens vergelijking'!$I$16:$Q$68,9,FALSE)","v":3.2736734693877554},96.323803392386765,99.597476861774524,5149.230043258096,0,0,3.2736734693877554,1,3.7628430682617876E-2,1.2116279069767439,10.541162790697673,9.969593023255813,0.32736734693877556,0.57156976744185928,0,9.8453370783596582E-3,0.32736734693877556,9.6323803392386775,5.4222648752399127E-2,0,9.8753650779863258E-4,3.2836580808778673E-2,0.96617588268342269,207.09617729363157,207.09617729363157,0,null,null,null,null,null,null,null,null,null,null,null,null,null,null,null,null,null,null,null,null,null,"2012-12-03",8.6999999999999993,0.11]
["2012-12-04",4,0.28000000000000003,12,2012,49,4,{"$f":"IF(B16808<Parameters!$A$16,B16808*Parameters!$B$16,IF(AND(B16808>Parameters!$A$16,B16808<Parameters!$A$17),B16808*Parameters!$B$17,B16808*Parameters!$B$18))","v":3.8},{"$f":"IF(B16808<Parameters!$A$20,B16808*Parameters!$B$20,IF(AND(B16808>Parameters!$A$20,B16808<Parameters!$A$21),B16808*Parameters!$B$21,B16808*Parameters!$B$22))","v":3},48.465116279069768,1.2116279069767442,45.837209302325583,0.94577735124760076,2.6279069767441854,0.34451612903225809,1225.1645178897554,0.19572124148308098,{"$f":"VLOOKUP($F16808,'Gegevens vergelijking'!$I$16:$Q$68,9,FALSE)","v":3.2736734693877554},42.367814591454753,45.641488060842505,5191.5978578495506,0,0,3.2736734693877554,1,8.184183673469389E-2,1.2116279069767442,4.8465116279069766,4.5837209302325581,0.32736734693877556,0.26279069767441854,0,1.9572124148308098E-2,0.32736734693877556,4.2367814591454751,5.4222648752399218E-2,0,4.2699205397120658E-3,7.1419563259093599E-2,0.92431051620119442,91.09080137162772,91.09080137162772,0,null,null,null,null,null,null,null,null,null,null,null,null,null,null,null,null,null,null,null,null,null,"2012-12-04",4,0.28000000000000003]
["2012-12-05",8,0.02,12,2012,49,8,{"$f":"IF(B16809<Parameters!$A$16,B16809*Parameters!$B$16,IF(AND(B16809>Parameters!$A$16,B16809<Parameters!$A$17),B16809*Parameters!$B$17,B16809*Parameters!$B$18))","v":7.6},{"$f":"IF(B16809<Parameters!$A$20,B16809*Parameters!$B$20,IF(AND(B16809>Parameters!$A$20,B16809<Parameters!$A$21),B16809*Parameters!$B$21,B16809*Parameters!$B$22))","v":6},96.930232558139537,1.2116279069767442,91.674418604651166,0.94577735124760076,5.2558139534883708,8.4516129032258067E-2,1232.9624569036321,4.8161005804518514E-2,{"$f":"VLOOKUP($F16809,'Gegevens vergelijking'!$I$16:$Q$68,9,FALSE)","v":3.2736734693877554},88.35258412945889,91.626257598846649,5279.9504419790092,0,0,3.2736734693877554,1,4.0920918367346945E-2,1.2116279069767442,9.6930232558139533,9.1674418604651162,0.32736734693877556,0.52558139534883708,{"$f":"V16809/10","v":0},4.8161005804518518E-3,0.32736734693877556,8.8352584129458887,5.4222648752399218E-2,0,5.2534836367181534E-4,3.57097816295468E-2,0.96376487000678135,189.95805587833661,189.95805587833661,0,null,null,null,null,null,null,null,null,null,null,null,null,null,null,null,null,null,null,null,null,null,"2012-12-05",8,0.02]
["2012-12-06",0.7,0.21,12,2012,49,0.7,{"$f":"IF(B16810<Parameters!$A$16,B16810*Parameters!$B$16,IF(AND(B16810>Parameters!$A$16,B16810<Parameters!$A$17),B16810*Parameters!$B$17,B16810*Parameters!$B$18))","v":0},{"$f":"IF(B16810<Parameters!$A$20,B16810*Parameters!$B$20,IF(AND(B16810>Parameters!$A$20,B16810<Parameters!$A$21),B16810*Parameters!$B$21,B16810*Parameters!$B$22))","v":0},8.4813953488372089,1.2116279069767442,0.91162790697674412,0.10748560460652591,7.5697674418604652,0.27451612903225808,1232.7400899667223,0.15742701437734297,{"$f":"VLOOKUP($F16810,'Gegevens vergelijking'!$I$16:$Q$68,9,FALSE)","v":3.2736734693877554},-2.5194725767883543,0.75420089259940115,5277.4309694022204,0,0,3.2736734693877554,1,0.46766763848396503,1.2116279069767442,0.84813953488372085,9.1162790697674412E-2,0.32736734693877556,0.75697674418604655,0,1.5742701437734298E-2,0.32736734693877556,-0.25194725767883541,0.89251439539347421,0,0.17268779638330992,3.5910193669304467,-2.763707163313756,-5.4168660400949609,-5.4168660400949609,0,null,null,null,null,null,null,null,null,null,null,null,null,null,null,null,null,null,null,null,null,null,"2012-12-06",0.7,0.21]
["2012-12-07",10.4,0.2,12,2012,49,10.4,{"$f":"IF(B16811<Parameters!$A$16,B16811*Parameters!$B$16,IF(AND(B16811>Parameters!$A$16,B16811<Parameters!$A$17),B16811*Parameters!$B$17,B16811*Parameters!$B$18))","v":9.879999999999999},{"$f":"IF(B16811<Parameters!$A$20,B16811*Parameters!$B$20,IF(AND(B16811>Parameters!$A$20,B16811<Parameters!$A$21),B16811*Parameters!$B$21,B16811*Parameters!$B$22))","v":7.8000000000000007},126.0093023255814,1.2116279069767442,119.17674418604649,0.94577735124760054,6.8325581395349104,0.26451612903225807,1242.9562303530336,0.15166494730273253,{"$f":"VLOOKUP($F16811,'Gegevens vergelijking'!$I$16:$Q$68,9,FALSE)","v":3.2736734693877554},115.751405769356,119.02507923874376,5393.1823751715765,0,0,3.2736734693877554,1,3.1477629513343805E-2,1.2116279069767442,12.60093023255814,11.917674418604649,0.32736734693877556,0.683255813953491,0,1.5166494730273252E-2,0.32736734693877556,11.575140576935601,5.422264875239944E-2,0,1.2726052246063106E-3,2.7469062791959081E-2,0.97125833198343459,248.86552240411541,248.86552240411541,0,null,null,null,null,null,null,null,null,null,null,null,null,null,null,null,null,null,null,null,null,null,"2012-12-07",10.4,0.2]
["2012-12-08",0,0,12,2012,49,0,{"$f":"IF(B16812<Parameters!$A$16,B16812*Parameters!$B$16,IF(AND(B16812>Parameters!$A$16,B16812<Parameters!$A$17),B16812*Parameters!$B$17,B16812*Parameters!$B$18))","v":0},{"$f":"IF(B16812<Parameters!$A$20,B16812*Parameters!$B$20,IF(AND(B16812>Parameters!$A$20,B16812<Parameters!$A$21),B16812*Parameters!$B$21,B16812*Parameters!$B$22))","v":0},0,"",0,"",0,6.4516129032258063E-2,1242.6640062609101,3.7298011413444368E-2,{"$f":"VLOOKUP($F16812,'Gegevens vergelijking'!$I$16:$Q$68,9,FALSE)","v":3.2736734693877554},-3.3109714808011996,-3.7298011413444368E-2,5389.871403690775,0,0,3.2736734693877554,1,"","",0,0,0.32736734693877556,0,0,3.7298011413444366E-3,0.32736734693877556,-0.33109714808011997,"","","","","",-7.1185886837225798,-7.1185886837225798,0,null,null,null,null,null,null,null,null,null,null,null,null,null,null,null,null,null,null,null,null,null,"2012-12-08",0,0]
["2012-12-09",3.3,0.2,12,2012,49,3.3,{"$f":"IF(B16813<Parameters!$A$16,B16813*Parameters!$B$16,IF(AND(B16813>Parameters!$A$16,B16813<Parameters!$A$17),B16813*Parameters!$B$17,B16813*Parameters!$B$18))","v":3.1349999999999998},{"$f":"IF(B16813<Parameters!$A$20,B16813*Parameters!$B$20,IF(AND(B16813>Parameters!$A$20,B16813<Parameters!$A$21),B16813*Parameters!$B$21,B16813*Parameters!$B$22))","v":2.4749999999999996},39.983720930232558,1.2116279069767442,37.815697674418601,0.94577735124760065,2.1680232558139565,0.26451612903225807,1245.6991682307555,0.15288589424365287,{"$f":"VLOOKUP($F16813,'Gegevens vergelijking'!$I$16:$Q$68,9,FALSE)","v":3.2736734693877554},34.389138310787196,37.662811780174948,5424.2605420015625,0,0,3.2736734693877554,1,9.9202226345083494E-2,1.2116279069767442,3.9983720930232556,3.78156976744186,0.32736734693877556,0.21680232558139564,0,1.5288589424365288E-2,0.32736734693877556,3.4389138310787191,5.4222648752399308E-2,0,4.0429214227370048E-3,8.6569167586780141E-2,0.90938791099048288,73.936647368192453,73.936647368192453,0,null,null,null,null,null,null,null,null,null,null,null,null,null,null,null,null,null,null,null,null,null,"2012-12-09",3.3,0.2]
["2012-12-10",6.5,0.31,12,2012,50,6.5,{"$f":"IF(B16814<Parameters!$A$16,B16814*Parameters!$B$16,IF(AND(B16814>Parameters!$A$16,B16814<Parameters!$A$17),B16814*Parameters!$B$17,B16814*Parameters!$B$18))","v":6.1749999999999998},{"$f":"IF(B16814<Parameters!$A$20,B16814*Parameters!$B$20,IF(AND(B16814>Parameters!$A$20,B16814<Parameters!$A$21),B16814*Parameters!$B$21,B16814*Parameters!$B$22))","v":4.875},78.755813953488371,1.2116279069767442,74.485465116279073,0.94577735124760087,4.2703488372092977,0.37451612903225806,1251.7080611458232,0.21699275833697032,{"$f":"VLOOKUP($F16814,'Gegevens vergelijking'!$I$16:$Q$68,9,FALSE)","v":6.1862244897959178},68.082247868146183,74.268472357942102,5492.3427898697091,0,0,6.1862244897959178,1,9.5172684458398729E-2,1.2116279069767442,7.8755813953488367,7.4485465116279075,0.61862244897959173,0.42703488372092979,0,2.1699275833697032E-2,0.61862244897959173,6.8082247868146188,5.4222648752399183E-2,0,2.9132228415063724E-3,8.3052773855122178E-2,0.91403400330337148,146.3768329165143,146.3768329165143,0,null,null,null,null,null,null,null,null,null,null,null,null,null,null,null,null,null,null,null,null,null,"2012-12-10",6.5,0.31]
["2012-12-11",0,0,12,2012,50,0,{"$f":"IF(B16815<Parameters!$A$16,B16815*Parameters!$B$16,IF(AND(B16815>Parameters!$A$16,B16815<Parameters!$A$17),B16815*Parameters!$B$17,B16815*Parameters!$B$18))","v":0},{"$f":"IF(B16815<Parameters!$A$20,B16815*Parameters!$B$20,IF(AND(B16815>Parameters!$A$20,B16815<Parameters!$A$21),B16815*Parameters!$B$21,B16815*Parameters!$B$22))","v":0},0,"",0,"",0,6.4516129032258063E-2,1251.1587541018544,3.7560631992372785E-2,{"$f":"VLOOKUP($F16815,'Gegevens vergelijking'!$I$16:$Q$68,9,FALSE)","v":6.1862244897959178},-6.2237851217882909,-3.7560631992372785E-2,5486.1190047479213,0,0,6.1862244897959178,1,"","",0,0,0.61862244897959173,0,0,3.7560631992372786E-3,0.61862244897959173,-0.622378512178829,"","","","","",-13.381138011844824,-13.381138011844824,0,null,null,null,null,null,null,null,null,null,null,null,null,null,null,null,null,null,null,null,null,null,"2012-12-11",0,0]
["2012-12-12",0,0,12,2012,50,0,{"$f":"IF(B16816<Parameters!$A$16,B16816*Parameters!$B$16,IF(AND(B16816>Parameters!$A$16,B16816<Parameters!$A$17),B16816*Parameters!$B$17,B16816*Parameters!$B$18))","v":0},{"$f":"IF(B16816<Parameters!$A$20,B16816*Parameters!$B$20,IF(AND(B16816>Parameters!$A$20,B16816<Parameters!$A$21),B16816*Parameters!$B$21,B16816*Parameters!$B$22))","v":0},0,"",0,"",0,6.4516129032258063E-2,1250.609448512693,3.7544148660220683E-2,{"$f":"VLOOKUP($F16816,'Gegevens vergelijking'!$I$16:$Q$68,9,FALSE)","v":6.1862244897959178},-6.2237686384561384,-3.7544148660220683E-2,5479.8952361094653,0,0,6.1862244897959178,1,"","",0,0,0.61862244897959173,0,0,3.7544148660220685E-3,0.61862244897959173,-0.62237686384561375,"","","","","",-13.381102572680694,-13.381102572680694,0,null,null,null,null,null,null,null,null,null,null,null,null,null,null,null,null,null,null,null,null,null,"2012-12-12",0,0]
["2012-12-13",0.2,0,12,2012,50,0.2,{"$f":"IF(B16817<Parameters!$A$16,B16817*Parameters!$B$16,IF(AND(B16817>Parameters!$A$16,B16817<Parameters!$A$17),B16817*Parameters!$B$17,B16817*Parameters!$B$18))","v":0},{"$f":"IF(B16817<Parameters!$A$20,B16817*Parameters!$B$20,IF(AND(B16817>Parameters!$A$20,B16817<Parameters!$A$21),B16817*Parameters!$B$21,B16817*Parameters!$B$22))","v":0},2.4232558139534883,1.2116279069767442,0.26046511627906976,0.10748560460652591,2.1627906976744184,6.4516129032258063E-2,1250.0831328524362,3.7527665371723723E-2,{"$f":"VLOOKUP($F16817,'Gegevens vergelijking'!$I$16:$Q$68,9,FALSE)","v":6.1862244897959178},-5.9632870388885717,0.22293745090734604,5473.9319490705766,0,0,6.1862244897959178,1,3.0931122448979589,1.2116279069767442,0.24232558139534882,2.6046511627906978E-2,0.61862244897959173,0.21627906976744185,0,3.7527665371723724E-3,0.61862244897959173,-0.59632870388885717,0.8925143953934741,0,0.14407942955215358,23.750683309037896,-22.89476273859005,-12.82106713361043,-12.82106713361043,0,null,null,null,null,null,null,null,null,null,null,null,null,null,null,null,null,null,null,null,null,null,"2012-12-13",0.2,0]
["2012-12-14",8.6,0.47,12,2012,50,8.6,{"$f":"IF(B16818<Parameters!$A$16,B16818*Parameters!$B$16,IF(AND(B16818>Parameters!$A$16,B16818<Parameters!$A$17),B16818*Parameters!$B$17,B16818*Parameters!$B$18))","v":8.17},{"$f":"IF(B16818<Parameters!$A$20,B16818*Parameters!$B$20,IF(AND(B16818>Parameters!$A$20,B16818<Parameters!$A$21),B16818*Parameters!$B$21,B16818*Parameters!$B$22))","v":6.4499999999999993},104.2,1.2116279069767442,98.550000000000011,0.94577735124760087,5.6499999999999915,0.53451612903225798,1258.2076671421435,0.3107858591352568,{"$f":"VLOOKUP($F16818,'Gegevens vergelijking'!$I$16:$Q$68,9,FALSE)","v":6.1862244897959178},92.052989651068842,98.23921414086476,5565.9849387216454,0,0,6.1862244897959178,1,7.1932842904603694E-2,1.2116279069767442,10.42,9.8550000000000004,0.61862244897959173,0.56499999999999917,0,3.1078585913525681E-2,0.61862244897959173,9.2052989651068824,5.4222648752399155E-2,0,3.1535855822958578E-3,6.2772445355615603E-2,0.9340739690620885,197.91392774979798,197.91392774979798,0,null,null,null,null,null,null,null,null,null,null,null,null,null,null,null,null,null,null,null,null,null,"2012-12-14",8.6,0.47]
["2012-12-15",2.8,0.78,12,2012,50,2.8,{"$f":"IF(B16819<Parameters!$A$16,B16819*Parameters!$B$16,IF(AND(B16819>Parameters!$A$16,B16819<Parameters!$A$17),B16819*Parameters!$B$17,B16819*Parameters!$B$18))","v":2.6599999999999997},{"$f":"IF(B16819<Parameters!$A$20,B16819*Parameters!$B$20,IF(AND(B16819>Parameters!$A$20,B16819<Parameters!$A$21),B16819*Parameters!$B$21,B16819*Parameters!$B$22))","v":2.0999999999999996},33.925581395348836,1.2116279069767442,32.086046511627899,0.94577735124760054,1.8395348837209369,0.84451612903225803,1260.4499481554647,0.49422170631329804,{"$f":"VLOOKUP($F16819,'Gegevens vergelijking'!$I$16:$Q$68,9,FALSE)","v":6.1862244897959178},25.405600315518683,31.591824805314602,5591.3905390371638,0,0,6.1862244897959178,1,0.22093658892128279,1.2116279069767442,3.3925581395348834,3.2086046511627897,0.61862244897959173,0.18395348837209369,0,4.9422170631329802E-2,0.61862244897959173,2.5405600315518679,5.4222648752399433E-2,0,1.5403010343894921E-2,0.19280108216367656,0.79179590749242845,54.622040678365167,54.622040678365167,0,null,null,null,null,null,null,null,null,null,null,null,null,null,null,null,null,null,null,null,null,null,"2012-12-15",2.8,0.78]
["2012-12-16",0.3,0.55000000000000004,12,2012,50,0.3,{"$f":"IF(B16820<Parameters!$A$16,B16820*Parameters!$B$16,IF(AND(B16820>Parameters!$A$16,B16820<Parameters!$A$17),B16820*Parameters!$B$17,B16820*Parameters!$B$18))","v":0},{"$f":"IF(B16820<Parameters!$A$20,B16820*Parameters!$B$20,IF(AND(B16820>Parameters!$A$20,B16820<Parameters!$A$21),B16820*Parameters!$B$21,B16820*Parameters!$B$22))","v":0},3.6348837209302327,1.2116279069767442,0.39069767441860465,0.10748560460652591,3.2441860465116279,0.61451612903225805,1259.9066422746548,0.36026363859507282,{"$f":"VLOOKUP($F16820,'Gegevens vergelijking'!$I$16:$Q$68,9,FALSE)","v":6.1862244897959178},-6.1557904539723856,3.0434035823531824E-2,5585.2347485831915,0,0,6.1862244897959178,1,2.0620748299319724,1.2116279069767442,0.36348837209302326,3.9069767441860463E-2,0.61862244897959173,0.32441860465116279,0,3.6026363859507284E-2,0.61862244897959173,-0.61557904539723851,0.8925143953934741,0,0.92210336068976984,15.833788872691931,-15.755892233381701,-13.234949476040629,-13.234949476040629,0,null,null,null,null,null,null,null,null,null,null,null,null,null,null,null,null,null,null,null,null,null,"2012-12-16",0.3,0.55000000000000004]
["2012-12-17",2.2000000000000002,0.49,12,2012,51,2.2000000000000002,{"$f":"IF(B16821<Parameters!$A$16,B16821*Parameters!$B$16,IF(AND(B16821>Parameters!$A$16,B16821<Parameters!$A$17),B16821*Parameters!$B$17,B16821*Parameters!$B$18))","v":2.09},{"$f":"IF(B16821<Parameters!$A$20,B16821*Parameters!$B$20,IF(AND(B16821>Parameters!$A$20,B16821<Parameters!$A$21),B16821*Parameters!$B$21,B16821*Parameters!$B$22))","v":1.6500000000000001},26.655813953488376,1.2116279069767444,25.210465116279067,0.94577735124760054,1.4453488372093091,0.554516129032258,1261.5215677816836,0.32494816475170768,{"$f":"VLOOKUP($F16821,'Gegevens vergelijking'!$I$16:$Q$68,9,FALSE)","v":6.5880102040816331},18.297506747445727,24.885516951527361,5603.5322553306369,0,0,6.5880102040816331,1,0.29945500927643787,1.2116279069767444,2.6655813953488376,2.5210465116279068,0.65880102040816335,0.1445348837209309,0,3.2494816475170767E-2,0.65880102040816335,1.8297506747445726,5.4222648752399474E-2,0,1.2889415695146378E-2,0.26132045456898689,0.72579012973586665,39.339639507008307,39.339639507008307,0,null,null,null,null,null,null,null,null,null,null,null,null,null,null,null,null,null,null,null,null,null,"2012-12-17",2.2000000000000002,0.49]
["2012-12-18",0.1,0.27,12,2012,51,0.1,{"$f":"IF(B16822<Parameters!$A$16,B16822*Parameters!$B$16,IF(AND(B16822>Parameters!$A$16,B16822<Parameters!$A$17),B16822*Parameters!$B$17,B16822*Parameters!$B$18))","v":0},{"$f":"IF(B16822<Parameters!$A$20,B16822*Parameters!$B$20,IF(AND(B16822>Parameters!$A$20,B16822<Parameters!$A$21),B16822*Parameters!$B$21,B16822*Parameters!$B$22))","v":0},1.2116279069767442,1.2116279069767442,0.13023255813953488,0.10748560460652591,1.0813953488372092,0.33451612903225808,1260.934285287592,0.19627874955582986,{"$f":"VLOOKUP($F16822,'Gegevens vergelijking'!$I$16:$Q$68,9,FALSE)","v":6.5880102040816331},-6.6540563954979284,-6.6046191416294975E-2,5596.8781989351392,0,0,6.5880102040816331,1,6.5880102040816331,1.2116279069767442,0.12116279069767441,1.3023255813953489E-2,0.65880102040816335,0.10813953488372093,0,1.9627874955582984E-2,0.65880102040816335,-0.66540563954979282,0.8925143953934741,0,1.5071403983751219,50.586506924198254,-51.093647322573375,-14.306221250320545,-14.306221250320545,0,null,null,null,null,null,null,null,null,null,null,null,null,null,null,null,null,null,null,null,null,null,"2012-12-18",0.1,0.27]
["2012-12-19",0,0.45,12,2012,51,0,{"$f":"IF(B16823<Parameters!$A$16,B16823*Parameters!$B$16,IF(AND(B16823>Parameters!$A$16,B16823<Parameters!$A$17),B16823*Parameters!$B$17,B16823*Parameters!$B$18))","v":0},{"$f":"IF(B16823<Parameters!$A$20,B16823*Parameters!$B$20,IF(AND(B16823>Parameters!$A$20,B16823<Parameters!$A$21),B16823*Parameters!$B$21,B16823*Parameters!$B$22))","v":0},0,"",0,"",0,0.51451612903225807,1260.3261993855263,0.3017539662466181,{"$f":"VLOOKUP($F16823,'Gegevens vergelijking'!$I$16:$Q$68,9,FALSE)","v":6.5880102040816331},-6.8897641703282515,-0.3017539662466181,5589.9884347648112,0,0,6.5880102040816331,1,"","",0,0,0.65880102040816335,0,0,3.0175396624661809E-2,0.65880102040816335,-0.68897641703282519,"","","","","",-14.812992966205742,-14.812992966205742,0,null,null,null,null,null,null,null,null,null,null,null,null,null,null,null,null,null,null,null,null,null,"2012-12-19",0,0.45]
["2012-12-20",10.6,0.22,12,2012,51,10.6,{"$f":"IF(B16824<Parameters!$A$16,B16824*Parameters!$B$16,IF(AND(B16824>Parameters!$A$16,B16824<Parameters!$A$17),B16824*Parameters!$B$17,B16824*Parameters!$B$18))","v":10.069999999999999},{"$f":"IF(B16824<Parameters!$A$20,B16824*Parameters!$B$20,IF(AND(B16824>Parameters!$A$20,B16824<Parameters!$A$21),B16824*Parameters!$B$21,B16824*Parameters!$B$22))","v":7.9499999999999993},128.43255813953488,1.2116279069767442,121.46860465116278,0.94577735124760076,6.9639534883720984,0.28451612903225809,1270.4507624153737,0.16678285189167807,{"$f":"VLOOKUP($F16824,'Gegevens vergelijking'!$I$16:$Q$68,9,FALSE)","v":6.5880102040816331},114.71381159518947,121.3018217992711,5704.7022463600006,0,0,6.5880102040816331,1,6.2151039661147482E-2,1.2116279069767442,12.843255813953487,12.146860465116278,0.65880102040816335,0.69639534883720988,0,1.6678285189167807E-2,0.65880102040816335,11.471381159518948,5.422264875239928E-2,0,1.3730531635779478E-3,5.423632075960106E-2,0.94439062607682112,246.6346949296574,246.6346949296574,0,null,null,null,null,null,null,null,null,null,null,null,null,null,null,null,null,null,null,null,null,null,"2012-12-20",10.6,0.22]
["2012-12-21",0.9,0.41,12,2012,51,0.9,{"$f":"IF(B16825<Parameters!$A$16,B16825*Parameters!$B$16,IF(AND(B16825>Parameters!$A$16,B16825<Parameters!$A$17),B16825*Parameters!$B$17,B16825*Parameters!$B$18))","v":0},{"$f":"IF(B16825<Parameters!$A$20,B16825*Parameters!$B$20,IF(AND(B16825>Parameters!$A$20,B16825<Parameters!$A$21),B16825*Parameters!$B$21,B16825*Parameters!$B$22))","v":0},10.904651162790698,1.2116279069767442,1.172093023255814,0.10748560460652591,9.7325581395348841,0.47451612903225804,1269.9480097693515,0.28039505949182514,{"$f":"VLOOKUP($F16825,'Gegevens vergelijking'!$I$16:$Q$68,9,FALSE)","v":6.5880102040816331},-5.6963122403176438,0.8916979637639888,5699.0059341196829,0,0,6.5880102040816331,1,0.73200113378684817,1.2116279069767442,1.0904651162790697,0.1172093023255814,0.65880102040816335,0.97325581395348837,0,2.8039505949182513E-2,0.65880102040816335,-0.56963122403176447,0.8925143953934741,0,0.23922594361405716,5.6207229915775843,-4.8599489351916416,-12.247071316682936,-12.247071316682936,0,null,null,null,null,null,null,null,null,null,null,null,null,null,null,null,null,null,null,null,null,null,"2012-12-21",0.9,0.41]
["2012-12-22",20.6,0.26,12,2012,51,20.6,{"$f":"IF(B16826<Parameters!$A$16,B16826*Parameters!$B$16,IF(AND(B16826>Parameters!$A$16,B16826<Parameters!$A$17),B16826*Parameters!$B$17,B16826*Parameters!$B$18))","v":19.57},{"$f":"IF(B16826<Parameters!$A$20,B16826*Parameters!$B$20,IF(AND(B16826>Parameters!$A$20,B16826<Parameters!$A$21),B16826*Parameters!$B$21,B16826*Parameters!$B$22))","v":15.450000000000001},249.59534883720931,1.2116279069767442,236.06162790697675,0.94577735124760076,13.533720930232562,0.32451612903225807,1271.7953488372093,0.19168307544305591,{"$f":"VLOOKUP($F16826,'Gegevens vergelijking'!$I$16:$Q$68,9,FALSE)","v":6.5880102040816331},229.28193462745207,235.8699448315337,5719.9367441860477,208.35112456108709,0,6.5880102040816331,1,3.1980632058648706E-2,1.2116279069767442,24.959534883720931,23.606162790697674,0.65880102040816335,1.3533720930232562,20.83511245610871,1.9168307544305589E-2,0.65880102040816335,2.0930810066364947,5.4222648752399245E-2,0.83475563760195526,8.1200437844388329E-4,2.7908009711251028E-2,8.8666719161205707E-2,45.001241642684633,45.001241642684633,0,null,null,null,null,null,null,null,null,null,null,null,null,null,null,null,null,null,null,null,null,null,"2012-12-22",20.6,0.26]
["2012-12-23",16.899999999999999,0.6,12,2012,51,16.899999999999999,{"$f":"IF(B16827<Parameters!$A$16,B16827*Parameters!$B$16,IF(AND(B16827>Parameters!$A$16,B16827<Parameters!$A$17),B16827*Parameters!$B$17,B16827*Parameters!$B$18))","v":16.054999999999996},{"$f":"IF(B16827<Parameters!$A$20,B16827*Parameters!$B$20,IF(AND(B16827>Parameters!$A$20,B16827<Parameters!$A$21),B16827*Parameters!$B$21,B16827*Parameters!$B$22))","v":12.674999999999999},204.76511627906973,1.2116279069767439,193.66220930232555,0.94577735124760076,11.10290697674418,0.6645161290322581,1271.7953488372093,0.39308303354908503,{"$f":"VLOOKUP($F16827,'Gegevens vergelijking'!$I$16:$Q$68,9,FALSE)","v":6.5880102040816331},186.68111606469483,193.26912626877646,5719.9367441860477,186.68111606469483,0,6.5880102040816331,1,3.8982308899891321E-2,1.2116279069767439,20.476511627906973,19.366220930232554,0.65880102040816335,1.110290697674418,18.668111606469484,3.9308303354908501E-2,0.65880102040816335,-1.6653345369377348E-15,5.4222648752399211E-2,0.91168417480969455,2.0297353570692986E-3,3.4018047340341494E-2,-8.5991714281126765E-17,-3.5804692544161298E-14,-3.5804692544161298E-14,0,null,null,null,null,null,null,null,null,null,null,null,null,null,null,null,null,null,null,null,null,null,"2012-12-23",16.899999999999999,0.6]
["2012-12-24",2,1.1000000000000001,12,2012,52,2,{"$f":"IF(B16828<Parameters!$A$16,B16828*Parameters!$B$16,IF(AND(B16828>Parameters!$A$16,B16828<Parameters!$A$17),B16828*Parameters!$B$17,B16828*Parameters!$B$18))","v":1.9},{"$f":"IF(B16828<Parameters!$A$20,B16828*Parameters!$B$20,IF(AND(B16828>Parameters!$A$20,B16828<Parameters!$A$21),B16828*Parameters!$B$21,B16828*Parameters!$B$22))","v":1.5},24.232558139534884,1.2116279069767442,22.918604651162791,0.94577735124760076,1.3139534883720927,1.1645161290322581,1271.7953488372093,0.68884939374378473,{"$f":"VLOOKUP($F16828,'Gegevens vergelijking'!$I$16:$Q$68,9,FALSE)","v":0},22.229755257419008,22.229755257419008,5719.9367441860477,22.229755257419129,0,0,"",0,1.2116279069767442,2.4232558139534883,2.2918604651162791,0,0.13139534883720927,2.222975525741913,6.8884939374378479E-2,0,-1.2462253451417382E-14,5.4222648752399218E-2,0.91735074478792955,3.005634087365068E-2,0,-5.4376143928051488E-15,-2.6793844920547372E-13,-2.6793844920547372E-13,0,null,null,null,null,null,null,null,null,null,null,null,null,null,null,null,null,null,null,null,null,null,"2012-12-24",2,1.1000000000000001]
["2012-12-25",6.5,0.85,12,2012,52,6.5,{"$f":"IF(B16829<Parameters!$A$16,B16829*Parameters!$B$16,IF(AND(B16829>Parameters!$A$16,B16829<Parameters!$A$17),B16829*Parameters!$B$17,B16829*Parameters!$B$18))","v":6.1749999999999998},{"$f":"IF(B16829<Parameters!$A$20,B16829*Parameters!$B$20,IF(AND(B16829>Parameters!$A$20,B16829<Parameters!$A$21),B16829*Parameters!$B$21,B16829*Parameters!$B$22))","v":4.875},78.755813953488371,1.2116279069767442,74.485465116279073,0.94577735124760087,4.2703488372092977,0.9145161290322581,1271.7953488372093,0.54096621364643493,{"$f":"VLOOKUP($F16829,'Gegevens vergelijking'!$I$16:$Q$68,9,FALSE)","v":0},73.944498902632631,73.944498902632631,5719.9367441860477,73.944498902632404,0,0,"",0,1.2116279069767442,7.8755813953488367,7.4485465116279075,0,0.42703488372092979,7.3944498902632407,5.4096621364643493E-2,0,2.325917236589703E-14,5.4222648752399183E-2,0.93890844612821311,7.262708406290193E-3,0,3.1226457845953159E-15,5.0007220586678613E-13,5.0007220586678613E-13,0,null,null,null,null,null,null,null,null,null,null,null,null,null,null,null,null,null,null,null,null,null,"2012-12-25",6.5,0.85]
["2012-12-26",7.7,0.56999999999999995,12,2012,52,7.7,{"$f":"IF(B16830<Parameters!$A$16,B16830*Parameters!$B$16,IF(AND(B16830>Parameters!$A$16,B16830<Parameters!$A$17),B16830*Parameters!$B$17,B16830*Parameters!$B$18))","v":7.3149999999999995},{"$f":"IF(B16830<Parameters!$A$20,B16830*Parameters!$B$20,IF(AND(B16830>Parameters!$A$20,B16830<Parameters!$A$21),B16830*Parameters!$B$21,B16830*Parameters!$B$22))","v":5.7750000000000004},93.295348837209303,1.2116279069767442,88.23662790697675,0.94577735124760087,5.0587209302325533,0.63451612903225807,1271.7953488372093,0.37533705193740297,{"$f":"VLOOKUP($F16830,'Gegevens vergelijking'!$I$16:$Q$68,9,FALSE)","v":0},87.861290855039343,87.861290855039343,5719.9367441860477,87.861290855039442,0,0,"",0,1.2116279069767442,9.32953488372093,8.823662790697675,0,0.50587209302325531,8.7861290855039442,3.7533705193740295E-2,0,-9.5132235422568101E-15,5.4222648752399183E-2,0.94175424552351772,4.2537556210001711E-3,0,-1.0781490371873801E-15,-2.0453430615852142E-13,-2.0453430615852142E-13,0,null,null,null,null,null,null,null,null,null,null,null,null,null,null,null,null,null,null,null,null,null,"2012-12-26",7.7,0.56999999999999995]
["2012-12-27",7.9,0.56000000000000005,12,2012,52,7.9,{"$f":"IF(B16831<Parameters!$A$16,B16831*Parameters!$B$16,IF(AND(B16831>Parameters!$A$16,B16831<Parameters!$A$17),B16831*Parameters!$B$17,B16831*Parameters!$B$18))","v":7.5049999999999999},{"$f":"IF(B16831<Parameters!$A$20,B16831*Parameters!$B$20,IF(AND(B16831>Parameters!$A$20,B16831<Parameters!$A$21),B16831*Parameters!$B$21,B16831*Parameters!$B$22))","v":5.9250000000000007},95.718604651162792,1.2116279069767442,90.528488372093022,0.94577735124760076,5.1901162790697697,0.62451612903225806,1271.7953488372093,0.36942172473350898,{"$f":"VLOOKUP($F16831,'Gegevens vergelijking'!$I$16:$Q$68,9,FALSE)","v":0},90.159066647359509,90.159066647359509,5719.9367441860477,90.159066647359396,0,0,"",0,1.2116279069767442,9.5718604651162789,9.0528488372093019,0,0.51901162790697697,9.0159066647359403,3.6942172473350895E-2,0,1.0727529975440575E-14,5.4222648752399259E-2,0.94191789543877513,4.0807234427145218E-3,0,1.1849894070193625E-15,2.3064189447197236E-13,2.3064189447197236E-13,0,null,null,null,null,null,null,null,null,null,null,null,null,null,null,null,null,null,null,null,null,null,"2012-12-27",7.9,0.56000000000000005]
["2012-12-28",4.9000000000000004,0.41,12,2012,52,4.9000000000000004,{"$f":"IF(B16832<Parameters!$A$16,B16832*Parameters!$B$16,IF(AND(B16832>Parameters!$A$16,B16832<Parameters!$A$17),B16832*Parameters!$B$17,B16832*Parameters!$B$18))","v":4.6550000000000002},{"$f":"IF(B16832<Parameters!$A$20,B16832*Parameters!$B$20,IF(AND(B16832>Parameters!$A$20,B16832<Parameters!$A$21),B16832*Parameters!$B$21,B16832*Parameters!$B$22))","v":3.6750000000000003},59.369767441860475,1.2116279069767444,56.150581395348837,0.94577735124760065,3.2191860465116378,0.47451612903225804,1271.7953488372093,0.28069181667509902,{"$f":"VLOOKUP($F16832,'Gegevens vergelijking'!$I$16:$Q$68,9,FALSE)","v":0},55.869889578673735,55.869889578673735,5719.9367441860477,55.869889578673792,0,0,"",0,1.2116279069767444,5.9369767441860475,5.6150581395348835,0,0.32191860465116379,5.586988957867379,2.80691816675099E-2,0,-5.4053983511437309E-15,5.4222648752399391E-2,0.9410494934713356,4.9989120272644185E-3,0,-9.626611544918893E-16,-1.1621606454959021E-13,-1.1621606454959021E-13,0,null,null,null,null,null,null,null,null,null,null,null,null,null,null,null,null,null,null,null,null,null,"2012-12-28",4.9000000000000004,0.41]
["2012-12-29",0.7,0.99,12,2012,52,0.7,{"$f":"IF(B16833<Parameters!$A$16,B16833*Parameters!$B$16,IF(AND(B16833>Parameters!$A$16,B16833<Parameters!$A$17),B16833*Parameters!$B$17,B16833*Parameters!$B$18))","v":0},{"$f":"IF(B16833<Parameters!$A$20,B16833*Parameters!$B$20,IF(AND(B16833>Parameters!$A$20,B16833<Parameters!$A$21),B16833*Parameters!$B$21,B16833*Parameters!$B$22))","v":0},8.4813953488372089,1.2116279069767442,0.91162790697674412,0.10748560460652591,7.5697674418604652,1.054516129032258,1271.7953488372093,0.62378079450095081,{"$f":"VLOOKUP($F16833,'Gegevens vergelijking'!$I$16:$Q$68,9,FALSE)","v":0},0.28784711247579331,0.28784711247579331,5719.9367441860477,0.28784711247590167,0,0,"",0,1.2116279069767442,0.84813953488372085,9.1162790697674412E-2,0,0.75697674418604655,2.8784711247590168E-2,6.2378079450095082E-2,0,-1.0838552277903091E-14,0.89251439539347421,3.3938650497569986E-2,0.68424934090665523,0,-1.1889228264026351E-13,-2.3302887397491645E-13,-2.3302887397491645E-13,0,null,null,null,null,null,null,null,null,null,null,null,null,null,null,null,null,null,null,null,null,null,"2012-12-29",0.7,0.99]
["2012-12-30",5.7,0.65,12,2012,52,5.7,{"$f":"IF(B16834<Parameters!$A$16,B16834*Parameters!$B$16,IF(AND(B16834>Parameters!$A$16,B16834<Parameters!$A$17),B16834*Parameters!$B$17,B16834*Parameters!$B$18))","v":5.415},{"$f":"IF(B16834<Parameters!$A$20,B16834*Parameters!$B$20,IF(AND(B16834>Parameters!$A$20,B16834<Parameters!$A$21),B16834*Parameters!$B$21,B16834*Parameters!$B$22))","v":4.2750000000000004},69.062790697674416,1.2116279069767442,65.318023255813955,0.94577735124760087,3.7447674418604606,0.71451612903225814,1271.7953488372093,0.422659669568555,{"$f":"VLOOKUP($F16834,'Gegevens vergelijking'!$I$16:$Q$68,9,FALSE)","v":0},64.895363586245395,64.895363586245395,5719.9367441860477,64.895363586245367,0,0,"",0,1.2116279069767442,6.9062790697674412,6.5318023255813955,0,0.37447674418604604,6.4895363586245365,4.22659669568555E-2,0,3.524958103184872E-15,5.4222648752399169E-2,0.93965741799122837,6.4707970097814321E-3,0,5.3966086655433427E-16,7.5786599218474748E-14,7.5786599218474748E-14,0,null,null,null,null,null,null,null,null,null,null,null,null,null,null,null,null,null,null,null,null,null,"2012-12-30",5.7,0.65]

{"sheet":"Parameters","index":7,"n_rows":62,"n_cols":60,"rows_kept":62,"cut":false,"hidden":true,"merged":[[18,0,18,1],[1,0,1,4],[2,0,2,2],[3,0,3,2],[4,0,4,2],[14,0,14,1],[13,0,13,1],[6,0,6,4],[42,5,42,59],[43,5,44,6],[43,7,44,8],[43,9,44,10],[43,11,44,12],[43,13,44,14],[43,15,44,16],[43,17,44,18],[43,19,44,20],[43,21,44,21],[43,22,44,23],[43,24,44,25],[43,26,44,27],[43,28,44,29],[43,30,44,31],[43,32,44,33],[43,34,44,35],[43,36,44,36],[43,37,44,38],[43,39,44,40],[43,41,44,42],[43,43,44,44],[43,45,44,46],[43,47,44,48],[43,49,44,50],[43,51,44,52],[43,53,44,54],[43,55,44,56],[43,57,44,57],[43,58,44,59],[45,5,45,6],[45,7,45,8],[45,9,45,10],[45,11,45,12],[45,13,45,14],[45,15,45,16],[45,17,45,18],[45,19,45,20],[45,22,45,23],[45,24,45,25],[45,26,45,27],[45,28,45,29],[45,30,45,31],[45,32,45,33],[45,34,45,35],[45,37,45,38],[45,39,45,40],[45,51,45,52],[45,53,45,54],[45,55,45,56],[45,58,45,59],[45,41,45,42],[45,43,45,44],[45,45,45,46],[45,47,45,48],[45,49,45,50]]}
[]
["Volume/oppervlakte-berekening"]
["Breedte van de beloopbare bovenzijde van de Wal",null,null,1,"m"]
["Hoogte van de Wal t.o.v. Maaiveld",null,null,2.5,"m"]
["Totale Breedte Wal",null,null,{"$f":"SUM(D3:D4)","v":3.5},"m"]
[]
["Parameters voor Tabellen thesis"]
["Diepte",null,null,5,"m"]
["Diepte Overloop",null,null,0.5,"m"]
["Start Diepte",null,null,1,"m"]
["Hoogte Dode Zone",null,null,0.5,"m"]
[]
[]
["Wetting Factor"]
["Serre "]
[1,0]
[2,0.8]
[">2",0.95]
["Loods"]
[1,0]
[2,0.6]
[">2",0.75]
[]
[]
[]
[null,null,null,null,null,null,null,"Lengte","Breedte","Totale diepte","Diepte Overloop","Diepte Waterniveau","Hoogte dode zone"]
[null,null,null,null,null,null,null,"Lengte","Breedte","Totale diepte","Diepte Overloop","Diepte Waterniveau","Hoogte dode zone"]
[null,null,null,null,null,null,null,"Volumewinsten berekenen op basis van dieptevariatie zones"]
[null,null,null,null,null,null,null,50,50,3,0.5,1,0.5]
[null,null,null,null,null,null,null,50,50,3.5,0.5,1,0.5]
[null,null,null,null,null,null,null,50,50,4,0.5,1,0.5]
[null,null,null,null,null,null,null,50,50,4.5,0.5,1,0.5]
[null,null,null,null,null,null,null,50,50,5,0.5,1,0.5]
[null,null,null,null,null,null,null,50,50,5.5,0.5,1,0.5]
[null,null,null,null,null,null,null,50,50,4.5,1,1,0.5]
[null,null,null,null,null,null,null,50,50,4.5,0.5,1,0.5]
[null,null,null,null,null,null,null,50,50,4.5,0.2,1,0.5]
[null,null,null,null,null,null,null,50,50,4.5,0.5,1,0.7]
[null,null,null,null,null,null,null,50,50,4.5,0.5,1,0.5]
[null,null,null,null,null,null,null,50,50,4.5,0.5,1,0.3]
[]
[null,null,null,null,null,null,"Volumeberekeningen"]
[null,null,null,null,null,"Berekening voor Tabel Bruto/Netto Oppervlakte en Volume"]
[null,null,null,null,null,"Lengte",null,"Breedte",null,"Diepte",null,"Diepte Overloop",null,"Start Diepte",null,"Hoogte Dode Zone",null,"Nuttig volume",null,"Bruto Volume Water",null,"%Nuttig?","Volume Dode Zone",null,"Volume Overloop",null,"Totaal Volume-verlies (Dode zone+overloop)",null,"Volume Waterniveau",null,"Netto Oppervlakte",null,"Bruto Oppervlakte",null,"Oppervlakte Wal",null,"%Nuttig?","Netto hoogte",null,"Nuttige Lengte boven",null,"Nuttige Lengte onder",null,"Lengte onder",null,"Lengte Startniveau",null,"Nuttige Breedte boven",null,"Nuttige Breedte onder",null,"Breedte onder",null,"Breedte Startniveau",null,"Bruto volume (-aarden wallen)",null,"%Nuttig?","Totaal Volume-verlies (aarden Wallen)"]
[]
["Tabel voor de simulatie van een reeks met ronde netto volumes",null,null,null,null,"Lb",null,"Bb",null,"H",null,"Ho",null,"Hs",null,"Hd",null,"Vn",null,"Vb",null,null,"Vd",null,"Vo",null,"Vv",null,"Vs",null,"An",null,"Ab",null,"Av",null,"A%","Hn",null,"Lnb",null,"Lno",null,"Lo",null,"Ls",null,"Bnb",null,"Bno",null,"Bo",null,"Bs"]
[23.864999999999998,23.864999999999998,5,0.5,0.5,23.864999999999998,23.864999999999998,{"$f":"F47","v":23.864999999999998},"m",5,"m",{"$f":"Parameters!$D$9","v":0.5},"m",{"$f":"Parameters!$D$10","v":1},null,{"$f":"Parameters!$D$11","v":0.5},"m",{"$f":"(AP47*AX47*AL47)+(AL47^2*((AP47+AX47)))+(AL47^3/3)*4","v":1444.8862333333329},"m³",{"$f":"SUM(R47+Y47+W47)","v":1821.1077916666661},"m³",{"$f":"R47/BD47","v":0.79341060421853571},{"$f":"(AR47*AZ47*P47)+(P47^2*((AR47+AZ47)))+(P47^3/3)*4","v":103.21827916666665},"m³",{"$f":"(AN47*AV47*L47)+(L47^2*(AN47+AV47))+(L47^3/3)*4","v":273.00327916666663},"m³",{"$f":"BD47-R47","v":376.22155833333341},"m³",{"$f":"(AR47*AZ47*(J47-N47))+((J47-N47)^2*((AR47+AZ47)))+((J47-N47)^3/3)*4","v":1297.9662333333329},"m³",{"$f":"H47*F47","v":569.5382249999999},"m²",{"$f":"SUM((F47+(2*(Parameters!$D$5)))*(H47+2*(Parameters!$D$5)))","v":952.64822499999991},"m²",{"$f":"2*(((2*Parameters!$D$5+H47)*Parameters!$D$5+(Parameters!$D$5*F47)))","v":383.10999999999996},"m²",{"$f":"SUM(AE47/AG47)","v":0.59784735860920746},{"$f":"J47-P47-L47","v":4},"m",{"$f":"F47-2*L47","v":22.864999999999998},"m",{"$f":"AN47-2*AL47","v":14.864999999999998},"m",{"$f":"F47-2*J47","v":13.864999999999998},"m",{"$f":"F47-2*N47","v":21.864999999999998},"m",{"$f":"H47-(2*L47)","v":22.864999999999998},"m",{"$f":"AV47-2*AL47","v":14.864999999999998},"m",{"$f":"H47-2*J47","v":13.864999999999998},"m",{"$f":"H47-2*N47","v":21.864999999999998},"m",{"$f":"(AR47*AZ47*J47)+(J47^2*((AR47+AZ47)))+(J47^3/3)*4","v":1821.1077916666663},"m³",{"$f":"R47/BD47","v":0.79341060421853571},{"$f":"BD47-R47","v":376.22155833333341},"m³"]
[31.78,31.78,5,0.5,0.5,31.78,31.78,{"$f":"F48","v":31.78},"m",{"$f":"Parameters!$D$8","v":5},"m",{"$f":"Parameters!$D$9","v":0.5},"m",{"$f":"Parameters!$D$10","v":1},null,{"$f":"Parameters!$D$11","v":0.5},"m",{"$f":"(AP48*AX48*AL48)+(AL48^2*((AP48+AX48)))+(AL48^3/3)*4","v":2890.0069333333336},"m³",3627.5086666666666,"m³",0.79669194449891501,248.24086666666668,"m³",489.26086666666669,"m³",737.5017333333335,"m³",2679.7669333333338,"m³",1009.9684000000001,"m²",{"$f":"SUM((F48+(2*(Parameters!$D$5)))*(H48+2*(Parameters!$D$5)))","v":1503.8884},"m²",{"$f":"2*(((2*Parameters!$D$5+H48)*Parameters!$D$5+(Parameters!$D$5*F48)))","v":493.92000000000007},"m²",{"$f":"SUM(AE48/AG48)","v":0.67157137457806049},4,"m",30.78,"m",{"$f":"AN48-2*AL48","v":22.78},"m",{"$f":"F48-2*J48","v":21.78},"m",29.78,"m",30.78,"m",{"$f":"AV48-2*AL48","v":22.78},"m",{"$f":"H48-2*J48","v":21.78},"m",29.78,"m",{"$f":"(AR48*AZ48*J48)+(J48^2*((AR48+AZ48)))+(J48^3/3)*4","v":3627.5086666666671},"m³",0.79669194449891501,737.5017333333335,"m³"]
[37.838999999999999,37.838999999999999,5,0.5,0.5,37.838999999999999,37.838999999999999,37.838999999999999,"m",{"$f":"Parameters!$D$8","v":5},"m",{"$f":"Parameters!$D$9","v":0.5},"m",{"$f":"Parameters!$D$10","v":1},null,{"$f":"Parameters!$D$11","v":0.5},"m",4334.9330173333328,"m³",5433.666271666666,"m³",0.79779154637034433,401.59112716666669,"m³",697.14212716666657,"m³",1098.7332543333332,"m³",4076.2210173333333,"m³",1431.7899209999998,"m²",{"$f":"SUM((F49+(2*(Parameters!$D$5)))*(H49+2*(Parameters!$D$5)))","v":2010.5359209999999},"m²",{"$f":"2*(((2*Parameters!$D$5+H49)*Parameters!$D$5+(Parameters!$D$5*F49)))","v":578.74599999999998},"m²",0.71214341710833817,4,"m",36.838999999999999,"m",28.838999999999999,"m",27.838999999999999,"m",35.838999999999999,"m",36.838999999999999,"m",28.838999999999999,"m",27.838999999999999,"m",35.838999999999999,"m",5433.666271666666,"m³",0.79779154637034433,1098.7332543333332,"m³"]
[42.942999999999998,42.942999999999998,5,0.5,0.5,42.942999999999998,42.942999999999998,42.942999999999998,"m",{"$f":"Parameters!$D$8","v":5},"m",{"$f":"Parameters!$D$9","v":0.5},"m",{"$f":"Parameters!$D$10","v":1},null,{"$f":"Parameters!$D$11","v":0.5},"m",5780.018329333333,"m³",7240.0229116666669,"m³",0.79834254668163229,559.25879116666658,"m³",900.74579116666655,"m³",1460.004582333333,"m³",5480.4743293333331,"m³",1844.1012489999998,"m²",{"$f":"SUM((F50+(2*(Parameters!$D$5)))*(H50+2*(Parameters!$D$5)))","v":2494.3032489999996},"m²",{"$f":"2*(((2*Parameters!$D$5+H50)*Parameters!$D$5+(Parameters!$D$5*F50)))","v":650.202},"m²",0.73932520022949311,4,"m",41.942999999999998,"m",33.942999999999998,"m",32.942999999999998,"m",40.942999999999998,"m",41.942999999999998,"m",33.942999999999998,"m",32.942999999999998,"m",40.942999999999998,"m",7240.022911666666,"m³",0.79834254668163229,1460.004582333333,"m³"]
[47.436999999999998,47.436999999999998,5,0.5,0.5,47.436999999999998,47.436999999999998,47.436999999999998,"m",{"$f":"Parameters!$D$8","v":5},"m",{"$f":"Parameters!$D$9","v":0.5},"m",{"$f":"Parameters!$D$10","v":1},null,{"$f":"Parameters!$D$11","v":0.5},"m",7224.9292093333324,"m³",9046.1615116666653,"m³",0.79867347051182713,719.64965116666644,"m³",1101.5826511666667,"m³",1821.2323023333329,"m³",6889.4332093333314,"m³",2250.2689689999997,"m²",{"$f":"SUM((F51+(2*(Parameters!$D$5)))*(H51+2*(Parameters!$D$5)))","v":2963.3869689999997},"m²",{"$f":"2*(((2*Parameters!$D$5+H51)*Parameters!$D$5+(Parameters!$D$5*F51)))","v":713.11799999999994},"m²",0.75935711148765594,4,"m",46.436999999999998,"m",38.436999999999998,"m",37.436999999999998,"m",45.436999999999998,"m",46.436999999999998,"m",38.436999999999998,"m",37.436999999999998,"m",45.436999999999998,"m",9046.1615116666653,"m³",0.79867347051182713,1821.2323023333329,"m³"]
[51.499000000000002,51.499000000000002,5,0.5,0.5,51.499000000000002,51.499000000000002,51.499000000000002,"m",{"$f":"Parameters!$D$8","v":5},"m",{"$f":"Parameters!$D$9","v":0.5},"m",{"$f":"Parameters!$D$10","v":1},null,{"$f":"Parameters!$D$11","v":0.5},"m",8669.9613373333359,"m³",10852.451671666669,"m³",0.79889425907038802,881.99966716666677,"m³",1300.4906671666668,"m³",2182.4903343333317,"m³",8301.9693373333357,"m³",2652.1470010000003,"m²",{"$f":"SUM((F52+(2*(Parameters!$D$5)))*(H52+2*(Parameters!$D$5)))","v":3422.1330010000001},"m²",{"$f":"2*(((2*Parameters!$D$5+H52)*Parameters!$D$5+(Parameters!$D$5*F52)))","v":769.98599999999999},"m²",0.7749982248571291,4,"m",50.499000000000002,"m",42.499000000000002,"m",41.499000000000002,"m",49.499000000000002,"m",50.499000000000002,"m",42.499000000000002,"m",41.499000000000002,"m",49.499000000000002,"m",10852.451671666668,"m³",0.79889425907038802,2182.4903343333317,"m³"]
[55.233499999999999,55.233499999999999,5,0.5,0.5,55.233499999999999,55.233499999999999,55.233499999999999,"m",{"$f":"Parameters!$D$8","v":5},"m",{"$f":"Parameters!$D$9","v":0.5},"m",{"$f":"Parameters!$D$10","v":1},null,{"$f":"Parameters!$D$11","v":0.5},"m",10114.951422333334,"m³",12658.689277916666,"m³",0.79905203455614215,1045.8181777916666,"m³",1497.9196777916666,"m³",2543.7378555833311,"m³",9717.0834223333331,"m³",3050.7395222499999,"m²",{"$f":"SUM((F53+(2*(Parameters!$D$5)))*(H53+2*(Parameters!$D$5)))","v":3873.0085222499997},"m²",{"$f":"2*(((2*Parameters!$D$5+H53)*Parameters!$D$5+(Parameters!$D$5*F53)))","v":822.26900000000001},"m²",0.78769243721614435,4,"m",54.233499999999999,"m",46.233499999999999,"m",45.233499999999999,"m",53.233499999999999,"m",54.233499999999999,"m",46.233499999999999,"m",45.233499999999999,"m",53.233499999999999,"m",12658.689277916665,"m³",0.79905203455614215,2543.7378555833311,"m³"]
[58.709000000000003,58.709000000000003,5,0.5,0.5,58.709000000000003,58.709000000000003,58.709000000000003,"m",{"$f":"Parameters!$D$8","v":5},"m",{"$f":"Parameters!$D$9","v":0.5},"m",{"$f":"Parameters!$D$10","v":1},null,{"$f":"Parameters!$D$11","v":0.5},"m",11559.960057333335,"m³",14464.95007166667,"m³",0.79917040847423981,1210.8045071666668,"m³",1694.1855071666669,"m³",2904.9900143333325,"m³",11134.288057333335,"m³",3446.7466810000005,"m²",{"$f":"SUM((F54+(2*(Parameters!$D$5)))*(H54+2*(Parameters!$D$5)))","v":4317.672681},"m²",{"$f":"2*(((2*Parameters!$D$5+H54)*Parameters!$D$5+(Parameters!$D$5*F54)))","v":870.92600000000004},"m²",0.79828809075024942,4,"m",57.709000000000003,"m",49.709000000000003,"m",48.709000000000003,"m",56.709000000000003,"m",57.709000000000003,"m",49.709000000000003,"m",48.709000000000003,"m",56.709000000000003,"m",14464.950071666668,"m³",0.79917040847423981,2904.9900143333325,"m³"]
[61.972999999999999,61.972999999999999,5,0.5,0.5,61.972999999999999,61.972999999999999,61.972999999999999,"m",{"$f":"Parameters!$D$8","v":5},"m",{"$f":"Parameters!$D$9","v":0.5},"m",{"$f":"Parameters!$D$10","v":1},null,{"$f":"Parameters!$D$11","v":0.5},"m",13005.024249333334,"m³",16271.280311666667,"m³",0.799262504254727,1376.7495311666667,"m³",1889.5065311666667,"m³",3266.256062333332,"m³",12553.240249333334,"m³",3840.6527289999999,"m²",{"$f":"SUM((F55+(2*(Parameters!$D$5)))*(H55+2*(Parameters!$D$5)))","v":4757.2747289999998},"m²",{"$f":"2*(((2*Parameters!$D$5+H55)*Parameters!$D$5+(Parameters!$D$5*F55)))","v":916.62199999999996},"m²",0.80732203788603185,4,"m",60.972999999999999,"m",52.972999999999999,"m",51.972999999999999,"m",59.972999999999999,"m",60.972999999999999,"m",52.972999999999999,"m",51.972999999999999,"m",59.972999999999999,"m",16271.280311666666,"m³",0.799262504254727,3266.256062333332,"m³"]
[65.0595,65.0595,5,0.5,0.5,65.0595,65.0595,65.0595,"m",{"$f":"Parameters!$D$8","v":5},"m",{"$f":"Parameters!$D$9","v":0.5},"m",{"$f":"Parameters!$D$10","v":1},null,{"$f":"Parameters!$D$11","v":0.5},"m",14449.907494333334,"m³",18077.384367916668,"m³",0.79933618715209176,1543.4706867916666,"m³",2084.0061867916666,"m³",3627.4768735833331,"m³",13973.431494333334,"m³",4232.7385402500004,"m²",{"$f":"SUM((F56+(2*(Parameters!$D$5)))*(H56+2*(Parameters!$D$5)))","v":5192.57154025},"m²",{"$f":"2*(((2*Parameters!$D$5+H56)*Parameters!$D$5+(Parameters!$D$5*F56)))","v":959.83299999999997},"m²",0.81515266712073309,4,"m",64.0595,"m",56.0595,"m",55.0595,"m",63.0595,"m",64.0595,"m",56.0595,"m",55.0595,"m",63.0595,"m",18077.384367916668,"m³",0.79933618715209176,3627.4768735833331,"m³"]
[67.995500000000007,67.995500000000007,5,0.5,0.5,67.995500000000007,67.995500000000007,67.995500000000007,"m",{"$f":"Parameters!$D$8","v":5},"m",{"$f":"Parameters!$D$9","v":0.5},"m",{"$f":"Parameters!$D$10","v":1},null,{"$f":"Parameters!$D$11","v":0.5},"m",15895.065414333338,"m³",19883.831767916672,"m³",0.79939649459218598,1710.9034267916672,"m³",2277.8629267916672,"m³",3988.7663535833381,"m³",15395.101414333338,"m³",4623.3880202500013,"m²",{"$f":"SUM((F57+(2*(Parameters!$D$5)))*(H57+2*(Parameters!$D$5)))","v":5624.3250202500012},"m²",{"$f":"2*(((2*Parameters!$D$5+H57)*Parameters!$D$5+(Parameters!$D$5*F57)))","v":1000.9370000000001},"m²",0.82203428919982502,4,"m",66.995500000000007,"m",58.995500000000007,"m",57.995500000000007,"m",65.995500000000007,"m",66.995500000000007,"m",58.995500000000007,"m",57.995500000000007,"m",65.995500000000007,"m",19883.831767916676,"m³",0.79939649459218598,3988.7663535833381,"m³"]
[70.8,70.8,5,0.5,0.5,70.8,70.8,70.8,"m",{"$f":"Parameters!$D$8","v":5},"m",{"$f":"Parameters!$D$9","v":0.5},"m",{"$f":"Parameters!$D$10","v":1},null,{"$f":"Parameters!$D$11","v":0.5},"m",17339.89333333333,"m³",21689.866666666661,"m³",0.79944674625324241,1878.8866666666668,"m³",2471.0866666666666,"m³",4349.9733333333388,"m³",16817.493333333332,"m³",5012.6399999999994,"m²",{"$f":"SUM((F58+(2*(Parameters!$D$5)))*(H58+2*(Parameters!$D$5)))","v":6052.8399999999992},"m²",{"$f":"2*(((2*Parameters!$D$5+H58)*Parameters!$D$5+(Parameters!$D$5*F58)))","v":1040.2},"m²",0.82814678729323754,4,"m",69.8,"m",61.8,"m",60.8,"m",68.8,"m",69.8,"m",61.8,"m",60.8,"m",68.8,"m",21689.866666666669,"m³",0.79944674625324241,4349.9733333333388,"m³"]
[null,null,null,null,null,{"$f":"D59^(1/2)","v":0},"m",0,"m",{"$f":"Parameters!$D$8","v":5},"m",{"$f":"Parameters!$D$9","v":0.5},"m",{"$f":"Parameters!$D$10","v":1},null,{"$f":"Parameters!$D$11","v":0.5},"m",121.33333333333333,"m³",166.66666666666666,"m³",0.72799999999999998,45.166666666666664,"m³",0.16666666666666666,"m³",45.333333333333329,"m³",165.33333333333331,"m³",0,"m²",{"$f":"SUM((F59+(2*(Parameters!$D$5)))*(H59+2*(Parameters!$D$5)))","v":49},"m²",{"$f":"2*(((2*Parameters!$D$5+H59)*Parameters!$D$5+(Parameters!$D$5*F59)))","v":49},"m²",0,4,"m",-1,"m",-9,"m",-10,"m",-2,"m",-1,"m",-9,"m",-10,"m",-2,"m",166.66666666666666,"m³",0.72799999999999998,45.333333333333329,"m³"]
[null,null,null,null,null,{"$f":"D60^(1/2)","v":0},"m",0,"m",{"$f":"Parameters!$D$8","v":5},"m",{"$f":"Parameters!$D$9","v":0.5},"m",{"$f":"Parameters!$D$10","v":1},null,{"$f":"Parameters!$D$11","v":0.5},"m",121.33333333333333,"m³",166.66666666666666,"m³",0.72799999999999998,45.166666666666664,"m³",0.16666666666666666,"m³",45.333333333333329,"m³",165.33333333333331,"m³",0,"m²",{"$f":"SUM((F60+(2*(Parameters!$D$5)))*(H60+2*(Parameters!$D$5)))","v":49},"m²",{"$f":"2*(((2*Parameters!$D$5+H60)*Parameters!$D$5+(Parameters!$D$5*F60)))","v":49},"m²",0,4,"m",-1,"m",-9,"m",-10,"m",-2,"m",-1,"m",-9,"m",-10,"m",-2,"m",166.66666666666666,"m³",0.72799999999999998,45.333333333333329,"m³"]
[null,null,null,null,null,{"$f":"D61^(1/2)","v":0},"m",0,"m",{"$f":"Parameters!$D$8","v":5},"m",{"$f":"Parameters!$D$9","v":0.5},"m",{"$f":"Parameters!$D$10","v":1},null,{"$f":"Parameters!$D$11","v":0.5},"m",121.33333333333333,"m³",166.66666666666666,"m³",0.72799999999999998,45.166666666666664,"m³",0.16666666666666666,"m³",45.333333333333329,"m³",165.33333333333331,"m³",0,"m²",{"$f":"SUM((F61+(2*(Parameters!$D$5)))*(H61+2*(Parameters!$D$5)))","v":49},"m²",{"$f":"2*(((2*Parameters!$D$5+H61)*Parameters!$D$5+(Parameters!$D$5*F61)))","v":49},"m²",0,4,"m",-1,"m",-9,"m",-10,"m",-2,"m",-1,"m",-9,"m",-10,"m",-2,"m",166.66666666666666,"m³",0.72799999999999998,45.333333333333329,"m³"]
[null,null,null,null,null,{"$f":"D62^(1/2)","v":0},"m",0,"m",{"$f":"Parameters!$D$8","v":5},"m",{"$f":"Parameters!$D$9","v":0.5},"m",{"$f":"Parameters!$D$10","v":1},null,{"$f":"Parameters!$D$11","v":0.5},"m",121.33333333333333,"m³",166.66666666666666,"m³",0.72799999999999998,45.166666666666664,"m³",0.16666666666666666,"m³",45.333333333333329,"m³",165.33333333333331,"m³",0,"m²",{"$f":"SUM((F62+(2*(Parameters!$D$5)))*(H62+2*(Parameters!$D$5)))","v":49},"m²",{"$f":"2*(((2*Parameters!$D$5+H62)*Parameters!$D$5+(Parameters!$D$5*F62)))","v":49},"m²",0,4,"m",-1,"m",-9,"m",-10,"m",-2,"m",-1,"m",-9,"m",-10,"m",-2,"m",166.66666666666666,"m³",0.72799999999999998,45.333333333333329,"m³"]

{"sheet":"Lijsten","index":8,"n_rows":73,"n_cols":25,"rows_kept":73,"cut":false,"hidden":true,"merged":[]}
["Keuzelijst ",null,"ja",null,null,null,"Keuzelijst vers water",null,null,"Standaard waarden ",null,null,null,null,null,null,"Bruto volume m³/ha T","Nuttig volume m³/ha T","Netto Oppervlakte m²/ha T","Aandeel hemelwater in verbruik %","Benuttings-percentage %","Gemiddelde Overloop m³/jaar/ha T","Maximaal watertekort m³/jaar per ha T","Gemiddeld Watertekort m³/jaar/ ha T","Terugkeer-periode:   #jaar"]
[null,null,"nee",null,null,null,null,null,null,"Eigen waarden",null,null,null,null,null,"Azalea1000",1480.6313598478305,1000.0058748234464,463.16784535225185,0.69739983576464903,0.64238511778208096,2364.3613177692278,3985.9771466541793,2535.4867761280066,1]
[null,null,null,null,null,null,null,null,null,null,null,null,null,null,null,"Azalea2000",2944.3820984193812,2000.0058748234464,865.92666609952528,0.81909571613919352,0.72776536878266596,1579.3509616455783,2969.1697611951527,1515.796994469697,1]
["Keuzelijst teelten ",null,"Azalea",null,null,null,null,null,null,null,null,null,null,null,null,"Azalea3000",4405.9885386428195,3000.005874823446,1259.5722188673219,0.92091121005561016,0.79085824774252045,953.89435398062085,2684.4888868580265,846.76412953960926,1.2777777777777777]
[null,null,"Boomkwekerij",null,null,null,null,null,null,null,null,null,null,null,null,"Azalea4000",5866.4858446009648,4000.005874823446,1648.5039510076181,0.96514192199575821,0.80232588854864095,803.68601241365423,2544.9539218532764,746.41602430482976,2.5555555555555554]
[null,null,"Komkommer",null,null,null,null,null,null,null,null,null,null,null,null,"Azalea500",746.84410288112838,500.00587482344622,253.66291233467814,0.63211242207718499,0.59358246687998539,2786.7303682289134,4498.5380500964129,3082.5300154152651,1]
[null,null,"Paprika",null,null,null,null,null,null,null,null,null,null,null,null,"Azalea5000",7326.2745853835913,5000.0058748234469,2034.4242811519582,0.98339522414383262,0.79234705820943918,869.85614220698017,2218.1548881139579,914.29216819229111,6.5714285714285712]
[null,null,"Rozen",null,null,null,null,null,null,null,null,null,null,null,null,"Azalea6000",8785.5601049567194,6000.0058748234469,2418.2059211559367,0.99543265775172363,0.77823390100780543,985.66782996300219,1084.1304418119182,440.10224803053347,11.5]
[null,null,"Sla",null,null,null,null,null,null,null,null,null,null,null,null,"Azalea7000",10244.464354672893,7000.005874823446,2800.3671642678614,1,0.75935527554488469,1161.2405904910918,0,0,"> 46jaar"]
[null,null,"Tomaat",null,null,null,null,null,null,null,null,null,null,null,null,"Azalea8000",11703.066778511344,8000.005874823446,3181.2456473994584,1,0.73822832183201637,1374.1531267961732,0,0,"> 46jaar"]
[null,null,"Andere (zelf wekelijks gebruik invullen)",null,null,null,null,null,null,null,null,null,null,null,null,"Boomkwekerij1000",1480.6313598478305,1000.0058748234464,463.16784535225185,0.76441028421971402,0.60352235581380487,2716.2214554359657,2952.6062061257435,1692.0053387340135,1]
[null,null,null,null,null,null,null,null,null,null,null,null,null,null,null,"Boomkwekerij2000",2944.3820984193812,2000.0058748234464,865.92666609952528,0.89997008425141523,0.68539039614402109,1975.857739096703,1962.979676495886,869.66008751819663,1.2105263157894737]
[null,null,null,null,null,null,null,null,null,null,null,null,null,null,null,"Boomkwekerij3000",4405.9885386428195,3000.005874823446,1259.5722188673219,0.97577607743162487,0.71826427411735072,1655.2699954119107,1418.2672870819774,533.52704978394922,3.0666666666666664]
["Lijst teeltbehoeftes",null,null,null,null,null,null,null,null,null,null,null,null,null,null,"Boomkwekerij4000",5866.4858446009648,4000.005874823446,1648.5039510076181,0.99577107770861983,0.70953258331897517,1731.0713837131664,676.78929062235716,465.70583841594299,15.333333333333334]
[null,"Simulatieteelt1",null,null,null,null,null,null,null,null,null,null,null,null,null,"Boomkwekerij500",746.84410288112838,500.00587482344622,253.66291233467814,0.68844076322841086,0.55412344694048421,3137.757748974916,3449.6738997400025,2237.6184384935518,1]
[null,{"$f":"'Gegevens '!G18","v":"Tomaat"},null,null,null,null,null,null,null,null,null,null,null,null,null,"Boomkwekerij5000",7326.2745853835913,5000.0058748234469,2034.4242811519582,1,0.69062224896776869,1917.8062172842572,0,0,"> 46jaar"]
[null,"Sim1",null,"Azalea","Boomkwekerij","Komkommer","Paprika","Rozen","Tomaat",null,"Andere (zelf wekelijks gebruik invullen)",null,null,null,null,"Boomkwekerij6000",8785.5601049567194,6000.0058748234469,2418.2059211559367,1,0.67011828900799064,2133.7502908027968,0,0,"> 46jaar"]
[null,"m³/ha dag",null,"L/m² week","L/m² week","L/m² week","L/m² week","L/m² week","L/m² week",null,null,null,null,null,null,"Boomkwekerij7000",10244.464354672893,7000.005874823446,2800.3671642678614,1,0.65087595046704405,2348.9771446027107,0,0,"> 46jaar"]
[1,{"$f":"(HLOOKUP($B$16,$D$17:$J$71,A19+2))/7*10","v":3.0894753415257137},{"$f":"(HLOOKUP($B$16,$D$17:$J$71,A19+2))","v":2.1626327390679996},4.8999999999999995,4.1999999999999993,5.0299999999999994,2.058793238872727,12,2.1626327390679996,null,null,null,null,null,null,"Boomkwekerij8000",11703.066778511344,8000.005874823446,3181.2456473994584,1,0.63276713299887122,2563.5766223060582,0,0,"> 46jaar"]
[2,4.3012032855657143,{"$f":"(HLOOKUP($B$16,$D$17:$J$71,A20+2))","v":3.0108422998959998},4.8999999999999995,4.1999999999999993,0.77000000000000013,2.0553636194454552,12,3.0108422998959998,null,null,null,null,null,null,"Komkommer1000",1480.6313598478305,1000.0058748234464,463.16784535225185,0.71690704585149012,0.69519766681045159,1888.7049999085057,4670.7440830839341,2497.1985710739523,1]
[3,5.3886624347828569,3.7720637043479996,4.8999999999999995,4.1999999999999993,1.2549999999999999,2.3213565303909087,12,3.7720637043479996,null,null,null,null,null,null,"Komkommer2000",2944.3820984193812,2000.0058748234464,865.92666609952528,0.83370829676678648,0.77983492519887598,1094.4986819425137,3648.3846143233936,1466.8800392594508,1]
[4,6.2443769793828583,4.3710638855680006,4.8999999999999995,4.1999999999999993,3.0659999999999998,2.609605928945455,12,4.3710638855680006,null,null,null,null,null,null,"Komkommer3000",4405.9885386428195,3000.005874823446,1259.5722188673219,0.9181451040916454,0.83008781388813324,575.85436097764421,3038.1442832349271,1037.9502342678375,1.4375]
[5,8.252917930462857,5.7770425513240005,4.8999999999999995,4.1999999999999993,5.7644999999999991,3.1616751536454544,13,5.7770425513240005,null,null,null,null,null,null,"Komkommer4000",5866.4858446009648,4000.005874823446,1648.5039510076181,0.95517290091737073,0.83593680165628503,472.34776891316085,2917.4533213355062,866.17010288348547,2.1904761904761907]
[6,9.1430429772914277,6.4001300841039992,4.8999999999999995,4.1999999999999993,6.3682499999999997,3.7704607346136361,13,6.4001300841039992,null,null,null,null,null,null,"Komkommer500",746.84410288112838,500.00587482344622,253.66291233467814,0.64166598530856711,0.63434801352511871,2425.3318377453861,5186.0046104238509,3160.9094339564831,1]
[7,10.977630682914283,7.6843414780399986,4.8999999999999995,4.1999999999999993,8.8409999999999993,4.1364954075045466,13,7.6843414780399986,null,null,null,null,null,null,"Komkommer5000",7326.2745853835913,5000.0058748234469,2034.4242811519582,0.97413934660250623,0.82630478422621534,523.72960062421339,2291.7724699141941,953.95668877900789,4.1818181818181817]
[8,13.231023004605714,9.2617161032239999,4.8999999999999995,4.1999999999999993,10.610250000000001,4.9643166728909085,13,9.2617161032239999,null,null,null,null,null,null,"Komkommer6000",8785.5601049567194,6000.0058748234469,2418.2059211559367,0.98727673632414126,0.81258535546321486,624.48058840398426,2174.1558918264627,860.45690919825608,7.666666666666667]
[9,14.865981240331429,10.406186868232,4.8999999999999995,4.1999999999999993,14.300999999999998,5.7200588170545466,14,10.406186868232,null,null,null,null,null,null,"Komkommer7000",10244.464354672893,7000.005874823446,2800.3671642678614,0.99438100115854788,0.79493141344970941,776.10144763688947,2054.2624868675694,760.01040284628425,15.333333333333334]
[10,16.951002269891429,11.865701588924001,4.8999999999999995,4.1999999999999993,16.847249999999999,6.9714938611681836,14,11.865701588924001,null,null,null,null,null,null,"Komkommer8000",11703.066778511344,8000.005874823446,3181.2456473994584,0.99853986915284609,0.77604684823356518,951.99554520978995,592.47990505028633,592.47990505028633,46]
[11,19.509069665199995,13.656348765639995,4.8999999999999995,4.1999999999999993,17.914749999999998,8.1013339599090912,14,13.656348765639995,null,null,null,null,null,null,"Paprika1000",1480.6313598478305,1000.0058748234464,463.16784535225185,0.85081216718438712,0.56765281992081518,3043.5232875164024,2448.6180050708576,946.59940729822199,1.0454545454545454]
[12,22.555070739851423,15.788549517895994,4.8999999999999995,4.1999999999999993,20.03575,10.868812333113636,14,15.788549517895994,null,null,null,null,null,null,"Paprika2000",2944.3820984193812,2000.0058748234464,865.92666609952528,0.97135953444535184,0.62513269822166972,2542.5202052380073,1434.7327356189473,399.79336019326519,2.3000000000000003]
[13,23.460342198480003,16.422239538936001,9.7999999999999989,8.3999999999999986,18.838750000000001,10.909532766813637,16,16.422239538936001,null,null,null,null,null,null,"Paprika3000",4405.9885386428195,3000.005874823446,1259.5722188673219,0.99802308934083284,0.62080749974059091,2602.4612625654827,426.59692058734549,183.97181282365986,15.333333333333334]
[14,27.019937776034283,18.913956443223999,9.7999999999999989,8.3999999999999986,21.577500000000001,14.024245839554546,16,18.913956443223999,null,null,null,null,null,null,"Paprika4000",5866.4858446009648,4000.005874823446,1648.5039510076181,1,0.60213670687893084,2809.4141144201794,0,0,"> 46jaar"]
[15,28.925363264788576,20.247754285352002,9.7999999999999989,8.3999999999999986,23.997749999999996,14.187246242727271,16,20.247754285352002,null,null,null,null,null,null,"Paprika500",746.84410288112838,500.00587482344622,253.66291233467814,0.75826214019218707,0.51575279362066873,3480.7316387575406,2972.6166925792718,1467.1426444895526,1]
[16,32.719747675074295,22.903823372552004,9.7999999999999989,8.3999999999999986,28.040249999999997,16.181080539831818,16,22.903823372552004,null,null,null,null,null,null,"Paprika5000",7326.2745853835913,5000.0058748234469,2034.4242811519582,1,0.58361014461033323,3026.9055761488758,0,0,"> 46jaar"]
[17,34.009844090885714,23.806890863619998,9.7999999999999989,8.3999999999999986,30.320500000000003,18.945466825340905,16,23.806890863619998,null,null,null,null,null,null,"Paprika6000",8785.5601049567194,6000.0058748234469,2418.2059211559367,1,0.56628327879462015,3243.3115199223348,0,0,"> 46jaar"]
[18,33.340195028868571,23.338136520208,14.7,12.6,25.672499999999996,18.34025530151818,19,23.338136520208,null,null,null,null,null,null,"Paprika7000",10244.464354672893,7000.005874823446,2800.3671642678614,1,0.55002254581750032,3458.8514890231013,0,0,"> 46jaar"]
[19,36.149555012451422,25.304688508715998,14.7,12.6,18.49925,18.020375177999998,19,25.304688508715998,null,null,null,null,null,null,"Paprika8000",11703.066778511344,8000.005874823446,3181.2456473994584,1,0.53471969451620138,3673.6693254425654,0,0,"> 46jaar"]
[20,36.908247477731429,25.835773234411999,19.599999999999998,16.799999999999997,12.871249999999998,20.299221572540912,19,25.835773234411999,null,null,null,null,null,null,"Rozen1000",1480.6313598478305,1000.0058748234464,463.16784535225185,0.71690704585149012,0.69519766681045159,1888.7049999085057,4670.7440830839341,2497.1985710739523,1]
[21,38.569226396674274,26.998458477671992,19.599999999999998,16.799999999999997,20.299999999999997,24.330765582818177,19,26.998458477671992,null,null,null,null,null,null,"Rozen2000",2944.3820984193812,2000.0058748234464,865.92666609952528,0.83370829676678648,0.77983492519887598,1094.4986819425137,3648.3846143233936,1466.8800392594508,1]
[22,39.779582414171429,27.845707689920001,29.4,25.2,29.261749999999999,24.231384774895457,19,27.845707689920001,null,null,null,null,null,null,"Rozen3000",4405.9885386428195,3000.005874823446,1259.5722188673219,0.9181451040916454,0.83008781388813324,575.85436097764421,3038.1442832349271,1037.9502342678375,1.4375]
[23,40.291810686080005,28.204267480256004,29.4,25.2,28.945,22.249019532695453,21,28.204267480256004,null,null,null,null,null,null,"Rozen4000",5866.4858446009648,4000.005874823446,1648.5039510076181,0.95517290091737073,0.83593680165628503,472.34776891316085,2917.4533213355062,866.17010288348547,2.1904761904761907]
[24,43.951162369211438,30.765813658448007,34.299999999999997,29.4,26.673499999999997,22.932261928800003,21,30.765813658448007,null,null,null,null,null,null,"Rozen500",746.84410288112838,500.00587482344622,253.66291233467814,0.64166598530856711,0.63434801352511871,2425.3318377453861,5186.0046104238509,3160.9094339564831,1]
[25,41.801906897514279,29.261334828259997,34.299999999999997,29.4,26.963999999999995,24.642714772277269,21,29.261334828259997,null,null,null,null,null,null,"Rozen5000",7326.2745853835913,5000.0058748234469,2034.4242811519582,0.97413934660250623,0.82630478422621534,523.72960062421339,2291.7724699141941,953.95668877900789,4.1818181818181817]
[26,43.586624781491437,30.510637347044007,34.299999999999997,29.4,34.051499999999997,25.493712322477275,21,30.510637347044007,null,null,null,null,null,null,"Rozen6000",8785.5601049567194,6000.0058748234469,2418.2059211559367,0.98727673632414126,0.81258535546321486,624.48058840398426,2174.1558918264627,860.45690919825608,7.666666666666667]
[27,44.20203263918858,30.941422847432005,44.099999999999994,37.799999999999997,42.790999999999997,26.517856624245454,19,30.941422847432005,null,null,null,null,null,null,"Rozen7000",10244.464354672893,7000.005874823446,2800.3671642678614,0.99438100115854788,0.79493141344970941,776.10144763688947,2054.2624868675694,760.01040284628425,15.333333333333334]
[28,37.93215799035999,26.552510593251995,44.099999999999994,37.799999999999997,39.882499999999993,23.449137005227271,19,26.552510593251995,null,null,null,null,null,null,"Rozen8000",11703.066778511344,8000.005874823446,3181.2456473994584,0.99853986915284609,0.77604684823356518,951.99554520978995,592.47990505028633,592.47990505028633,46]
[29,41.402437318314284,28.981706122819997,44.099999999999994,37.799999999999997,33.164249999999996,22.669566105131821,19,28.981706122819997,null,null,null,null,null,null,"Tomaat1000",1480.6313598478305,1000.0058748234464,463.16784535225185,0.75128885173107229,0.69848126682530365,1857.956752037396,4063.6384877678756,2103.3988453518,1]
[30,38.460966477868567,26.922676534507996,44.099999999999994,37.799999999999997,31.050249999999998,23.170647294095453,19,26.922676534507996,null,null,null,null,null,null,"Tomaat2000",2944.3820984193812,2000.0058748234464,865.92666609952528,0.8684411495282216,0.77880962948905452,1102.990165451354,3042.4933368727061,1190.2435173167976,1.069767441860465]
[31,36.543125282102856,25.580187697471999,34.299999999999997,29.4,30.271499999999996,22.23741311405,16,25.580187697471999,null,null,null,null,null,null,"Tomaat3000",4405.9885386428195,3000.005874823446,1259.5722188673219,0.94452092885684513,0.81870352879879349,684.99986529265482,2748.1814605264881,830.11840624882757,1.7692307692307694]
[32,35.235564143205707,24.664894900243997,34.299999999999997,29.4,14.650999999999998,21.59517189213182,16,24.664894900243997,null,null,null,null,null,null,"Tomaat4000",5866.4858446009648,4000.005874823446,1648.5039510076181,0.9721918740926786,0.81572880918983059,672.52666999063081,2368.1301309221249,1202.0247831316426,5.1111111111111107]
[33,{"$f":"(HLOOKUP($B$16,$D$17:$J$71,A51+2))/7*10","v":36.379063958805723},25.465344771164006,34.299999999999997,29.4,12.897499999999999,21.469770840363637,16,25.465344771164006,null,null,null,null,null,null,"Tomaat500",746.84410288112838,500.00587482344622,253.66291233467814,0.68033926517507737,0.64483182591908994,2331.3776959643255,4578.3651037644195,2703.4333813135818,1]
[34,32.292939745809527,22.605057822066669,34.299999999999997,29.4,16.611000000000001,19.329533804100006,16,22.605057822066669,null,null,null,null,null,null,"Tomaat5000",7326.2745853835913,5000.0058748234469,2034.4242811519582,0.98608961324439026,0.80193270855288945,773.35732882884702,2203.1828427411642,676.44645988657419,5.75]
[35,31.823036754388561,22.276125728071992,29.4,25.2,25.143999999999998,16.94295662090909,16,22.276125728071992,null,null,null,null,null,null,"Tomaat6000",8785.5601049567194,6000.0058748234469,2418.2059211559367,0.99590641743788211,0.78587048752718636,906.35316538145094,1515.7998739584491,796.2652602110835,23]
[36,30.026641895863094,21.018649327104168,29.4,25.2,28.708749999999998,17.638875485413639,15,21.018649327104168,null,null,null,null,null,null,"Tomaat7000",10244.464354672893,7000.005874823446,2800.3671642678614,1,0.76644183621875084,1084.8165535000862,0,0,"> 46jaar"]
[37,29.316349609488093,20.521444726641665,14.7,12.6,21.988749999999996,16.861711551818185,15,20.521444726641665,null,null,null,null,null,null,"Tomaat8000",11703.066778511344,8000.005874823446,3181.2456473994584,1,0.74511771861677578,1297.3475006429505,0,0,"> 46jaar"]
[38,26.077190661357143,18.254033462949998,14.7,12.6,22.475249999999999,14.63079899228182,15,18.254033462949998]
[39,23.128696279329191,16.190087395530433,14.7,12.6,23.464000000000002,13.524710373586363,15,16.190087395530433]
[40,19.161461678190477,13.413023174733334,9.7999999999999989,8.3999999999999986,18.613,5.7303174028590913,13,13.413023174733334]
[41,17.237476837457141,12.06623378622,9.7999999999999989,8.3999999999999986,17.209499999999998,3.9311690681818177,13,12.06623378622]
[42,14.997021876739499,10.497915313717648,9.7999999999999989,8.3999999999999986,15.102499999999999,3.8597391363636366,13,10.497915313717648]
[43,15.056100159581629,10.53927011170714,9.7999999999999989,8.3999999999999986,15.47,1.5128363636363635,13,10.53927011170714]
[44,11.034608376916669,7.7242258638416672,4.8999999999999995,4.1999999999999993,8.4350000000000005,0.31545454545454549,12,7.7242258638416672]
[45,11.050358269480521,7.7352507886363639,4.8999999999999995,4.1999999999999993,1.115,0,12,7.7352507886363639]
[46,9.880531666666668,6.9163721666666671,4.8999999999999995,4.1999999999999993,0,null,12,6.9163721666666671]
[47,7.1842085238095237,5.028945966666666,4.8999999999999995,4.1999999999999993,0,null,12,5.028945966666666]
[48,8.6779285714285717,6.0745500000000003,4.8999999999999995,4.1999999999999993,0,null,12,6.0745500000000003]
[49,3.2736734693877558,2.2915714285714288,4.8999999999999995,4.1999999999999993,0,null,12,2.2915714285714288]
[50,6.1862244897959169,4.3303571428571423,4.8999999999999995,4.1999999999999993,0,null,12,4.3303571428571423]
[51,6.588010204081634,4.6116071428571432,4.8999999999999995,4.1999999999999993,2.5750000000000002,null,12,4.6116071428571432]
[52,0,0,4.8999999999999995,4.1999999999999993,3.0222499999999997,null,12]
[53,0,0,null,null,3.7566666666666668,null,null,0]
[]
[null,{"$f":"SUM(B19:B71)","v":1208.1708095008805},{"$f":"SUM(C19:C71)","v":845.719566650616},837.89999999999964,718.20000000000039,885.21591666666666,606.91471565769541,791,{"$f":"SUM(I71:I71)","v":0},0]